{"text_format":"1","workbook":"xlsx","n_sheets":4,"sheets":["dashboard","data","control","calculation"],"not_rendered":{"charts":1,"images":6,"macros":1,"external_links":0,"defined_names":5,"comments":0,"pivot_tables":0},"unopened":[],"bounds":{"document_bytes":16777216,"sheet_cells":100000,"rows_first":2000,"rows_last":500,"rows_between":2000,"halvings":0,"cell_chars":16384,"cell_head_chars":4096},"cells_cut":0,"cells_raw":0,"read":"whole","date_system":"1900"}

{"sheet":"dashboard","index":0,"n_rows":34,"n_cols":18,"rows_kept":34,"cut":false,"hidden":false,"merged":[[16,15,17,15],[16,16,17,16],[16,17,17,17]]}
[]
[null,"Interactive and animated Motion Chart in Excel - Excel Replica of Gapminder",null,null,null,null,null,null,null,null,null,null,null,null,null,null,null,"www.cs-analytics.de"]
[null,null,null,null,null,null,null,null,null,null,"click on a rectangle to select a year"]
[null,null,null,null,null,null,null,null,null,null,null,null,"Play"]
[]
[]
[null,null,null,null,null,null,null,null,null,null,null,null,"Loop playback"]
[]
[null,null,null,null,null,null,null,null,null,null,null,null,"Highlight ",null,"Trail","Fertility rate","Life expect.","Populat. in mn"]
[]
[null,null,null,null,null,null,null,null,null,null,null,null,null,null,null,{"$f":"IFERROR(calculation!H7,\"---\")","v":2.0699999999999998},{"$f":"IFERROR(calculation!I7,\"---\")","v":66.775999999999996},{"$f":"IFERROR(calculation!J7,\"---\")","v":68376002}]
[null,null,null,null,null,null,null,null,null,null,null,null,null,null,null,{"$f":"IFERROR(calculation!H8,\"---\")","v":6.6150000000000002},{"$f":"IFERROR(calculation!I8,\"---\")","v":48.555999999999997},{"$f":"IFERROR(calculation!J8,\"---\")","v":27865814}]
[null,null,null,null,null,null,null,null,null,null,null,null,null,null,null,{"$f":"IFERROR(calculation!H9,\"---\")","v":6.3529999999999998},{"$f":"IFERROR(calculation!I9,\"---\")","v":43.546999999999997},{"$f":"IFERROR(calculation!J9,\"---\")","v":13683162}]
[]
[null,null,null,null,null,null,null,null,null,null,null,null,"Show highlighted countries only"]
[]
[null,null,null,null,null,null,null,null,null,null,null,null,null,null,null,"Fertility rate (weighted avg.)","Life expect. (weighted avg.)","Population (sum) in mn"]
[null,null,null,null,null,null,null,null,null,null,null,null,"Filter by region"]
[null,null,null,null,null,null,null,null,null,null,null,null,"Africa",null,null,{"$f":"IFERROR(calculation!H418,\"---\")","v":6.5947920656801013},{"$f":"IFERROR(calculation!I418,\"---\")","v":36.905676372247932},{"$f":"IFERROR(calculation!J418,\"---\")","v":229371871}]
[null,null,null,null,null,null,null,null,null,null,null,null,"Asia + Pacific",null,null,{"$f":"IFERROR(calculation!H419,\"---\")","v":5.4576565015204173},{"$f":"IFERROR(calculation!I419,\"---\")","v":40.302801670709279},{"$f":"IFERROR(calculation!J419,\"---\")","v":1365443435}]
[null,null,null,null,null,null,null,null,null,null,null,null,"Europe",null,null,{"$f":"IFERROR(calculation!H420,\"---\")","v":2.834827472902862},{"$f":"IFERROR(calculation!I420,\"---\")","v":62.59142913449304},{"$f":"IFERROR(calculation!J420,\"---\")","v":577893213}]
[null,null,null,null,null,null,null,null,null,null,null,null,"Latin America + Caribbean",null,null,{"$f":"IFERROR(calculation!H421,\"---\")","v":5.9071577479291468},{"$f":"IFERROR(calculation!I421,\"---\")","v":50.788964567229726},{"$f":"IFERROR(calculation!J421,\"---\")","v":167158169}]
[null,null,null,null,null,null,null,null,null,null,null,null,"North America",null,null,{"$f":"IFERROR(calculation!H422,\"---\")","v":3.0532129177364453},{"$f":"IFERROR(calculation!I422,\"---\")","v":68.128278066576271},{"$f":"IFERROR(calculation!J422,\"---\")","v":171623133}]
[null,null,null,null,null,null,null,null,null,null,null,null,"West Asia",null,null,{"$f":"IFERROR(calculation!H423,\"---\")","v":7.3904497133211828},{"$f":"IFERROR(calculation!I423,\"---\")","v":38.187004041540753},{"$f":"IFERROR(calculation!J423,\"---\")","v":20212341}]
[null,null,null,null,null,null,null,null,null,null,null,null,"Total",null,null,{"$f":"IFERROR(calculation!H425,\"---\")","v":4.8441000310717532},{"$f":"IFERROR(calculation!I425,\"---\")","v":47.644431280378605},{"$f":"IFERROR(calculation!J425,\"---\")","v":2531702162}]
[]
[]
[]
[]
[]
[]
[]
[]
[null,"Source:","www.gapminder.org",null,null,null,null,null,null,null,"size of bubbles = population"]

{"sheet":"data","index":1,"n_rows":12868,"n_cols":8,"rows_kept":4500,"cut":true,"hidden":false,"merged":[],"bounds":{"rows_first":2000,"rows_last":500,"rows_between":2000,"halvings":0}}
[]
[null,"Data",null,null,null,"source:","www.gapminder.org"]
[]
[null,"Country","Region","Year","ID (Country/Year)","Fertility","Life Expectancy","Population"]
[null,"Afghanistan","Asia + Pacific",1950,"Afghanistan/1950",7.6710000000000003,26.673999999999999,8151455]
[null,"Afghanistan","Asia + Pacific",1951,"Afghanistan/1951",7.6710000000000003,26.931999999999999,8276820]
[null,"Afghanistan","Asia + Pacific",1952,"Afghanistan/1952",7.6710000000000003,27.448,8407148]
[null,"Afghanistan","Asia + Pacific",1953,"Afghanistan/1953",7.6710000000000003,27.963999999999999,8542906]
[null,"Afghanistan","Asia + Pacific",1954,"Afghanistan/1954",7.6710000000000003,28.48,8684494]
[null,"Afghanistan","Asia + Pacific",1955,"Afghanistan/1955",7.6710000000000003,28.995000000000001,8832253]
[null,"Afghanistan","Asia + Pacific",1956,"Afghanistan/1956",7.6710000000000003,29.510999999999999,8986449]
[null,"Afghanistan","Asia + Pacific",1957,"Afghanistan/1957",7.6710000000000003,30.027000000000001,9147286]
[null,"Afghanistan","Asia + Pacific",1958,"Afghanistan/1958",7.6710000000000003,30.542999999999999,9314915]
[null,"Afghanistan","Asia + Pacific",1959,"Afghanistan/1959",7.6710000000000003,31.059000000000001,9489453]
[null,"Afghanistan","Asia + Pacific",1960,"Afghanistan/1960",7.6710000000000003,31.574999999999999,9671046]
[null,"Afghanistan","Asia + Pacific",1961,"Afghanistan/1961",7.6710000000000003,32.091000000000001,9859928]
[null,"Afghanistan","Asia + Pacific",1962,"Afghanistan/1962",7.6710000000000003,32.607999999999997,10056480]
[null,"Afghanistan","Asia + Pacific",1963,"Afghanistan/1963",7.6710000000000003,33.124000000000002,10261254]
[null,"Afghanistan","Asia + Pacific",1964,"Afghanistan/1964",7.6710000000000003,33.639000000000003,10474903]
[null,"Afghanistan","Asia + Pacific",1965,"Afghanistan/1965",7.6710000000000003,34.152000000000001,10697983]
[null,"Afghanistan","Asia + Pacific",1966,"Afghanistan/1966",7.6710000000000003,34.661999999999999,10927724]
[null,"Afghanistan","Asia + Pacific",1967,"Afghanistan/1967",7.6710000000000003,35.17,11163656]
[null,"Afghanistan","Asia + Pacific",1968,"Afghanistan/1968",7.6710000000000003,35.673999999999999,11411022]
[null,"Afghanistan","Asia + Pacific",1969,"Afghanistan/1969",7.6710000000000003,36.171999999999997,11676990]
[null,"Afghanistan","Asia + Pacific",1970,"Afghanistan/1970",7.6710000000000003,36.662999999999997,11964906]
[null,"Afghanistan","Asia + Pacific",1971,"Afghanistan/1971",7.6710000000000003,37.143000000000001,12273101]
[null,"Afghanistan","Asia + Pacific",1972,"Afghanistan/1972",7.6710000000000003,37.613999999999997,12593688]
[null,"Afghanistan","Asia + Pacific",1973,"Afghanistan/1973",7.6710000000000003,38.075000000000003,12915499]
[null,"Afghanistan","Asia + Pacific",1974,"Afghanistan/1974",7.6710000000000003,38.529000000000003,13223928]
[null,"Afghanistan","Asia + Pacific",1975,"Afghanistan/1975",7.6710000000000003,38.976999999999997,13505544]
[null,"Afghanistan","Asia + Pacific",1976,"Afghanistan/1976",7.67,39.417000000000002,13766792]
[null,"Afghanistan","Asia + Pacific",1977,"Afghanistan/1977",7.67,39.854999999999997,14003408]
[null,"Afghanistan","Asia + Pacific",1978,"Afghanistan/1978",7.67,40.298000000000002,14179656]
[null,"Afghanistan","Asia + Pacific",1979,"Afghanistan/1979",7.6689999999999996,40.756,14249493]
[null,"Afghanistan","Asia + Pacific",1980,"Afghanistan/1980",7.6689999999999996,41.241999999999997,14185729]
[null,"Afghanistan","Asia + Pacific",1981,"Afghanistan/1981",7.67,41.77,13984092]
[null,"Afghanistan","Asia + Pacific",1982,"Afghanistan/1982",7.6710000000000003,42.347000000000001,13672870]
[null,"Afghanistan","Asia + Pacific",1983,"Afghanistan/1983",7.673,42.976999999999997,13300056]
[null,"Afghanistan","Asia + Pacific",1984,"Afghanistan/1984",7.6760000000000002,43.661000000000001,12931791]
[null,"Afghanistan","Asia + Pacific",1985,"Afghanistan/1985",7.6790000000000003,44.4,12625292]
[null,"Afghanistan","Asia + Pacific",1986,"Afghanistan/1986",7.681,45.192,12372113]
[null,"Afghanistan","Asia + Pacific",1987,"Afghanistan/1987",7.6820000000000004,46.024000000000001,12183387]
[null,"Afghanistan","Asia + Pacific",1988,"Afghanistan/1988",7.6820000000000004,46.88,12156685]
[null,"Afghanistan","Asia + Pacific",1989,"Afghanistan/1989",7.6820000000000004,47.744,12414686]
[null,"Afghanistan","Asia + Pacific",1990,"Afghanistan/1990",7.6870000000000003,48.600999999999999,13032161]
[null,"Afghanistan","Asia + Pacific",1991,"Afghanistan/1991",7.7,49.439,14069854]
[null,"Afghanistan","Asia + Pacific",1992,"Afghanistan/1992",7.7249999999999996,50.247,15472076]
[null,"Afghanistan","Asia + Pacific",1993,"Afghanistan/1993",7.758,51.017000000000003,17053213]
[null,"Afghanistan","Asia + Pacific",1994,"Afghanistan/1994",7.7960000000000003,51.738,18553819]
[null,"Afghanistan","Asia + Pacific",1995,"Afghanistan/1995",7.8319999999999999,52.4,19789880]
[null,"Afghanistan","Asia + Pacific",1996,"Afghanistan/1996",7.859,52.994999999999997,20684982]
[null,"Afghanistan","Asia + Pacific",1997,"Afghanistan/1997",7.8689999999999998,53.527000000000001,21299350]
[null,"Afghanistan","Asia + Pacific",1998,"Afghanistan/1998",7.8540000000000001,54.009,21752257]
[null,"Afghanistan","Asia + Pacific",1999,"Afghanistan/1999",7.8090000000000002,54.448999999999998,22227543]
[null,"Afghanistan","Asia + Pacific",2000,"Afghanistan/2000",7.7329999999999997,54.863,22856302]
[null,"Afghanistan","Asia + Pacific",2001,"Afghanistan/2001",7.6230000000000002,55.271000000000001,23677385]
[null,"Afghanistan","Asia + Pacific",2002,"Afghanistan/2002",7.484,55.686999999999998,24639841]
[null,"Afghanistan","Asia + Pacific",2003,"Afghanistan/2003",7.3209999999999997,56.122,25678639]
[null,"Afghanistan","Asia + Pacific",2004,"Afghanistan/2004",7.1360000000000001,56.582999999999998,26693486]
[null,"Afghanistan","Asia + Pacific",2005,"Afghanistan/2005",6.93,57.070999999999998,27614718]
[null,"Afghanistan","Asia + Pacific",2006,"Afghanistan/2006",6.702,57.582000000000001,28420974]
[null,"Afghanistan","Asia + Pacific",2007,"Afghanistan/2007",6.4560000000000004,58.101999999999997,29145841]
[null,"Afghanistan","Asia + Pacific",2008,"Afghanistan/2008",6.1959999999999997,58.618000000000002,29839994]
[null,"Afghanistan","Asia + Pacific",2009,"Afghanistan/2009",5.9279999999999999,59.124000000000002,30577756]
[null,"Afghanistan","Asia + Pacific",2010,"Afghanistan/2010",5.6589999999999998,59.612000000000002,31411743]
[null,"Afghanistan","Asia + Pacific",2011,"Afghanistan/2011",5.3949999999999996,60.079000000000001,32358260]
[null,"Afghanistan","Asia + Pacific",2012,"Afghanistan/2012",5.141,60.524000000000001,33397058]
[null,"Afghanistan","Asia + Pacific",2013,"Afghanistan/2013",4.9000000000000004,60.947000000000003,34499915]
[null,"Albania","Europe",1950,"Albania/1950",5.7990000000000004,54.191000000000003,1215002]
[null,"Albania","Europe",1951,"Albania/1951",5.8959999999999999,54.399000000000001,1239971]
[null,"Albania","Europe",1952,"Albania/1952",6.0709999999999997,54.875999999999998,1269302]
[null,"Albania","Europe",1953,"Albania/1953",6.2089999999999996,55.470999999999997,1302536]
[null,"Albania","Europe",1954,"Albania/1954",6.3090000000000002,56.183999999999997,1339240]
[null,"Albania","Europe",1955,"Albania/1955",6.3719999999999999,57.012,1378998]
[null,"Albania","Europe",1956,"Albania/1956",6.3979999999999997,57.947000000000003,1421417]
[null,"Albania","Europe",1957,"Albania/1957",6.3890000000000002,58.975999999999999,1466124]
[null,"Albania","Europe",1958,"Albania/1958",6.3479999999999999,60.073,1512765]
[null,"Albania","Europe",1959,"Albania/1959",6.2779999999999996,61.195999999999998,1561012]
[null,"Albania","Europe",1960,"Albania/1960",6.1859999999999999,62.292999999999999,1610565]
[null,"Albania","Europe",1961,"Albania/1961",6.0759999999999996,63.313000000000002,1661158]
[null,"Albania","Europe",1962,"Albania/1962",5.9560000000000004,64.201999999999998,1712563]
[null,"Albania","Europe",1963,"Albania/1963",5.8330000000000002,64.926000000000002,1764593]
[null,"Albania","Europe",1964,"Albania/1964",5.7110000000000003,65.474999999999994,1817098]
[null,"Albania","Europe",1965,"Albania/1965",5.5940000000000003,65.863,1869942]
[null,"Albania","Europe",1966,"Albania/1966",5.4829999999999997,66.122,1922993]
[null,"Albania","Europe",1967,"Albania/1967",5.3760000000000003,66.316000000000003,1976140]
[null,"Albania","Europe",1968,"Albania/1968",5.2679999999999998,66.5,2029314]
[null,"Albania","Europe",1969,"Albania/1969",5.16,66.701999999999998,2082474]
[null,"Albania","Europe",1970,"Albania/1970",5.05,66.947999999999993,2135599]
[null,"Albania","Europe",1971,"Albania/1971",4.9329999999999998,67.251000000000005,2188650]
[null,"Albania","Europe",1972,"Albania/1972",4.8090000000000002,67.594999999999999,2241623]
[null,"Albania","Europe",1973,"Albania/1973",4.6769999999999996,67.965999999999994,2294578]
[null,"Albania","Europe",1974,"Albania/1974",4.5380000000000003,68.355999999999995,2347607]
[null,"Albania","Europe",1975,"Albania/1975",4.3929999999999998,68.748000000000005,2400801]
[null,"Albania","Europe",1976,"Albania/1976",4.2439999999999998,69.120999999999995,2454255]
[null,"Albania","Europe",1977,"Albania/1977",4.0940000000000003,69.459000000000003,2508026]
[null,"Albania","Europe",1978,"Albania/1978",3.9470000000000001,69.753,2562121]
[null,"Albania","Europe",1979,"Albania/1979",3.8069999999999999,70.001000000000005,2616530]
[null,"Albania","Europe",1980,"Albania/1980",3.6779999999999999,70.218000000000004,2671300]
[null,"Albania","Europe",1981,"Albania/1981",3.5619999999999998,70.426000000000002,2725029]
[null,"Albania","Europe",1982,"Albania/1982",3.46,70.646000000000001,2777592]
[null,"Albania","Europe",1983,"Albania/1983",3.3719999999999999,70.885999999999996,2831682]
[null,"Albania","Europe",1984,"Albania/1984",3.2970000000000002,71.144000000000005,2891004]
[null,"Albania","Europe",1985,"Albania/1985",3.2330000000000001,71.397999999999996,2957390]
[null,"Albania","Europe",1986,"Albania/1986",3.177,71.614999999999995,3033393]
[null,"Albania","Europe",1987,"Albania/1987",3.1259999999999999,71.77,3116009]
[null,"Albania","Europe",1988,"Albania/1988",3.0750000000000002,71.852999999999994,3194854]
[null,"Albania","Europe",1989,"Albania/1989",3.0230000000000001,71.87,3255859]
[null,"Albania","Europe",1990,"Albania/1990",2.97,71.841999999999999,3289483]
[null,"Albania","Europe",1991,"Albania/1991",2.9169999999999998,71.799000000000007,3291695]
[null,"Albania","Europe",1992,"Albania/1992",2.867,71.778999999999996,3266983]
[null,"Albania","Europe",1993,"Albania/1993",2.819,71.813000000000002,3224901]
[null,"Albania","Europe",1994,"Albania/1994",2.7719999999999998,71.92,3179442]
[null,"Albania","Europe",1995,"Albania/1995",2.7229999999999999,72.117000000000004,3141102]
[null,"Albania","Europe",1996,"Albania/1996",2.67,72.415000000000006,3112597]
[null,"Albania","Europe",1997,"Albania/1997",2.6110000000000002,72.796000000000006,3091902]
[null,"Albania","Europe",1998,"Albania/1998",2.5430000000000001,73.234999999999999,3079037]
[null,"Albania","Europe",1999,"Albania/1999",2.4670000000000001,73.712999999999994,3072725]
[null,"Albania","Europe",2000,"Albania/2000",2.383,74.2,3071856]
[null,"Albania","Europe",2001,"Albania/2001",2.2909999999999999,74.664000000000001,3077378]
[null,"Albania","Europe",2002,"Albania/2002",2.1949999999999998,75.081000000000003,3089778]
[null,"Albania","Europe",2003,"Albania/2003",2.097,75.436999999999998,3106701]
[null,"Albania","Europe",2004,"Albania/2004",2.004,75.724999999999994,3124861]
[null,"Albania","Europe",2005,"Albania/2005",1.919,75.948999999999998,3141800]
[null,"Albania","Europe",2006,"Albania/2006",1.849,76.123999999999995,3156607]
[null,"Albania","Europe",2007,"Albania/2007",1.796,76.278000000000006,3169665]
[null,"Albania","Europe",2008,"Albania/2008",1.7609999999999999,76.433000000000007,3181397]
[null,"Albania","Europe",2009,"Albania/2009",1.744,76.597999999999999,3192723]
[null,"Albania","Europe",2010,"Albania/2010",1.7410000000000001,76.78,3204284]
[null,"Albania","Europe",2011,"Albania/2011",1.748,76.978999999999999,3215988]
[null,"Albania","Europe",2012,"Albania/2012",1.76,77.185000000000002,3227373]
[null,"Albania","Europe",2013,"Albania/2013",1.7709999999999999,77.391999999999996,3238316]
[null,"Algeria","Africa",1950,"Algeria/1950",7.6470000000000002,42.088999999999999,8752997]
[null,"Algeria","Africa",1951,"Algeria/1951",7.6470000000000002,42.283000000000001,8953373]
[null,"Algeria","Africa",1952,"Algeria/1952",7.6479999999999997,42.677999999999997,9140990]
[null,"Algeria","Africa",1953,"Algeria/1953",7.6479999999999997,43.081000000000003,9326099]
[null,"Algeria","Africa",1954,"Algeria/1954",7.6479999999999997,43.493000000000002,9515990]
[null,"Algeria","Africa",1955,"Algeria/1955",7.6479999999999997,43.914000000000001,9715002]
[null,"Algeria","Africa",1956,"Algeria/1956",7.6479999999999997,44.344999999999999,9924347]
[null,"Algeria","Africa",1957,"Algeria/1957",7.6479999999999997,44.783000000000001,10142284]
[null,"Algeria","Africa",1958,"Algeria/1958",7.6479999999999997,45.228999999999999,10364614]
[null,"Algeria","Africa",1959,"Algeria/1959",7.6479999999999997,45.680999999999997,10585506]
[null,"Algeria","Africa",1960,"Algeria/1960",7.6479999999999997,46.136000000000003,10799997]
[null,"Algeria","Africa",1961,"Algeria/1961",7.649,46.594000000000001,11006643]
[null,"Algeria","Africa",1962,"Algeria/1962",7.65,47.051000000000002,11209845]
[null,"Algeria","Africa",1963,"Algeria/1963",7.6520000000000001,47.505000000000003,11420845]
[null,"Algeria","Africa",1964,"Algeria/1964",7.6529999999999996,47.953000000000003,11654905]
[null,"Algeria","Africa",1965,"Algeria/1965",7.6550000000000002,48.389000000000003,11923002]
[null,"Algeria","Africa",1966,"Algeria/1966",7.657,48.805999999999997,12229853]
[null,"Algeria","Africa",1967,"Algeria/1967",7.6580000000000004,49.204999999999998,12572629]
[null,"Algeria","Africa",1968,"Algeria/1968",7.657,49.591999999999999,12945462]
[null,"Algeria","Africa",1969,"Algeria/1969",7.6520000000000001,49.975999999999999,13338918]
[null,"Algeria","Africa",1970,"Algeria/1970",7.641,50.366,13746185]
[null,"Algeria","Africa",1971,"Algeria/1971",7.6219999999999999,50.767000000000003,14165889]
[null,"Algeria","Africa",1972,"Algeria/1972",7.5910000000000002,51.195,14600659]
[null,"Algeria","Africa",1973,"Algeria/1973",7.548,51.67,15052371]
[null,"Algeria","Africa",1974,"Algeria/1974",7.492,52.213000000000001,15524137]
[null,"Algeria","Africa",1975,"Algeria/1975",7.4219999999999997,52.860999999999997,16018195]
[null,"Algeria","Africa",1976,"Algeria/1976",7.3390000000000004,53.655999999999999,16533323]
[null,"Algeria","Africa",1977,"Algeria/1977",7.2439999999999998,54.604999999999997,17068212]
[null,"Algeria","Africa",1978,"Algeria/1978",7.1379999999999999,55.697000000000003,17624756]
[null,"Algeria","Africa",1979,"Algeria/1979",7.0209999999999999,56.906999999999996,18205468]
[null,"Algeria","Africa",1980,"Algeria/1980",6.8890000000000002,58.198,18811199]
[null,"Algeria","Africa",1981,"Algeria/1981",6.7409999999999997,59.524000000000001,19442423]
[null,"Algeria","Africa",1982,"Algeria/1982",6.5759999999999996,60.826000000000001,20095648]
[null,"Algeria","Africa",1983,"Algeria/1983",6.3920000000000003,62.051000000000002,20762767]
[null,"Algeria","Africa",1984,"Algeria/1984",6.1920000000000002,63.16,21433070]
[null,"Algeria","Africa",1985,"Algeria/1985",5.976,64.12,22098298]
[null,"Algeria","Africa",1986,"Algeria/1986",5.7469999999999999,64.911000000000001,22753511]
[null,"Algeria","Africa",1987,"Algeria/1987",5.508,65.554000000000002,23398470]
[null,"Algeria","Africa",1988,"Algeria/1988",5.2629999999999999,66.072000000000003,24035237]
[null,"Algeria","Africa",1989,"Algeria/1989",5.0140000000000002,66.478999999999999,24668100]
[null,"Algeria","Africa",1990,"Algeria/1990",4.7610000000000001,66.796000000000006,25299182]
[null,"Algeria","Africa",1991,"Algeria/1991",4.5030000000000001,67.049000000000007,25930560]
[null,"Algeria","Africa",1992,"Algeria/1992",4.2380000000000004,67.265000000000001,26557969]
[null,"Algeria","Africa",1993,"Algeria/1993",3.9710000000000001,67.468000000000004,27169903]
[null,"Algeria","Africa",1994,"Algeria/1994",3.7050000000000001,67.674000000000007,27751086]
[null,"Algeria","Africa",1995,"Algeria/1995",3.4489999999999998,67.893000000000001,28291591]
[null,"Algeria","Africa",1996,"Algeria/1996",3.2069999999999999,68.123000000000005,28786855]
[null,"Algeria","Africa",1997,"Algeria/1997",2.9870000000000001,68.349999999999994,29242917]
[null,"Algeria","Africa",1998,"Algeria/1998",2.794,68.564999999999998,29673694]
[null,"Algeria","Africa",1999,"Algeria/1999",2.6339999999999999,68.769000000000005,30099010]
[null,"Algeria","Africa",2000,"Algeria/2000",2.5139999999999998,68.962999999999994,30533827]
[null,"Algeria","Africa",2001,"Algeria/2001",2.4390000000000001,69.149000000000001,30982214]
[null,"Algeria","Africa",2002,"Algeria/2002",2.407,69.33,31441848]
[null,"Algeria","Africa",2003,"Algeria/2003",2.4119999999999999,69.507999999999996,31913462]
[null,"Algeria","Africa",2004,"Algeria/2004",2.448,69.682000000000002,32396048]
[null,"Algeria","Africa",2005,"Algeria/2005",2.5070000000000001,69.853999999999999,32888449]
[null,"Algeria","Africa",2006,"Algeria/2006",2.58,70.02,33391954]
[null,"Algeria","Africa",2007,"Algeria/2007",2.6560000000000001,70.180000000000007,33906605]
[null,"Algeria","Africa",2008,"Algeria/2008",2.7250000000000001,70.331999999999994,34428028]
[null,"Algeria","Africa",2009,"Algeria/2009",2.7810000000000001,70.477000000000004,34950168]
[null,"Algeria","Africa",2010,"Algeria/2010",2.8170000000000002,70.614999999999995,35468208]
[null,"Algeria","Africa",2011,"Algeria/2011",2.8290000000000002,70.747,35980193]
[null,"Algeria","Africa",2012,"Algeria/2012",2.82,70.873999999999995,36485828]
[null,"Algeria","Africa",2013,"Algeria/2013",2.7949999999999999,71,36983924]
[null,"Angola","Africa",1950,"Angola/1950",6.9249999999999998,29.209,4147509]
[null,"Angola","Africa",1951,"Angola/1951",6.9429999999999996,29.407,4219332]
[null,"Angola","Africa",1952,"Angola/1952",6.98,29.803999999999998,4296534]
[null,"Angola","Africa",1953,"Angola/1953",7.0179999999999998,30.201000000000001,4376947]
[null,"Angola","Africa",1954,"Angola/1954",7.0579999999999998,30.599,4458962]
[null,"Angola","Africa",1955,"Angola/1955",7.0990000000000002,30.997,4541519]
[null,"Angola","Africa",1956,"Angola/1956",7.1420000000000003,31.396000000000001,4624143]
[null,"Angola","Africa",1957,"Angola/1957",7.1870000000000003,31.795999999999999,4706909]
[null,"Angola","Africa",1958,"Angola/1958",7.2309999999999999,32.195999999999998,4790376]
[null,"Angola","Africa",1959,"Angola/1959",7.2750000000000004,32.597000000000001,4875462]
[null,"Angola","Africa",1960,"Angola/1960",7.3159999999999998,32.997999999999998,4963068]
[null,"Angola","Africa",1961,"Angola/1961",7.3540000000000001,33.399000000000001,5053693]
[null,"Angola","Africa",1962,"Angola/1962",7.3849999999999998,33.801000000000002,5147083]
[null,"Angola","Africa",1963,"Angola/1963",7.41,34.203000000000003,5242084]
[null,"Angola","Africa",1964,"Angola/1964",7.4249999999999998,34.603999999999999,5337063]
[null,"Angola","Africa",1965,"Angola/1965",7.43,35.006999999999998,5431135]
[null,"Angola","Africa",1966,"Angola/1966",7.4219999999999997,35.409999999999997,5524090]
[null,"Angola","Africa",1967,"Angola/1967",7.4029999999999996,35.816000000000003,5617242]
[null,"Angola","Africa",1968,"Angola/1968",7.375,36.222000000000001,5713156]
[null,"Angola","Africa",1969,"Angola/1969",7.3390000000000004,36.627000000000002,5815282]
[null,"Angola","Africa",1970,"Angola/1970",7.3010000000000002,37.031999999999996,5926333]
[null,"Angola","Africa",1971,"Angola/1971",7.2640000000000002,37.439,6047736]
[null,"Angola","Africa",1972,"Angola/1972",7.2320000000000002,37.845999999999997,6179685]
[null,"Angola","Africa",1973,"Angola/1973",7.2080000000000002,38.247,6322194]
[null,"Angola","Africa",1974,"Angola/1974",7.1920000000000002,38.634999999999998,6474796]
[null,"Angola","Africa",1975,"Angola/1975",7.1849999999999996,38.997999999999998,6637419]
[null,"Angola","Africa",1976,"Angola/1976",7.1859999999999999,39.323999999999998,6808850]
[null,"Angola","Africa",1977,"Angola/1977",7.1890000000000001,39.604999999999997,6989988]
[null,"Angola","Africa",1978,"Angola/1978",7.194,39.840000000000003,7185188]
[null,"Angola","Africa",1979,"Angola/1979",7.1970000000000001,40.029000000000003,7400231]
[null,"Angola","Africa",1980,"Angola/1980",7.2,40.182000000000002,7638420]
[null,"Angola","Africa",1981,"Angola/1981",7.2009999999999996,40.311,7903368]
[null,"Angola","Africa",1982,"Angola/1982",7.2030000000000003,40.429000000000002,8191774]
[null,"Angola","Africa",1983,"Angola/1983",7.2050000000000001,40.546999999999997,8491682]
[null,"Angola","Africa",1984,"Angola/1984",7.2069999999999999,40.670999999999999,8786652]
[null,"Angola","Africa",1985,"Angola/1985",7.2080000000000002,40.793999999999997,9065562]
[null,"Angola","Africa",1986,"Angola/1986",7.2060000000000004,40.902000000000001,9322550]
[null,"Angola","Africa",1987,"Angola/1987",7.202,40.988,9562796]
[null,"Angola","Africa",1988,"Angola/1988",7.194,41.05,9799680]
[null,"Angola","Africa",1989,"Angola/1989",7.1820000000000004,41.1,10052567]
[null,"Angola","Africa",1990,"Angola/1990",7.165,41.151000000000003,10335052]
[null,"Angola","Africa",1991,"Angola/1991",7.1429999999999998,41.220999999999997,10653515]
[null,"Angola","Africa",1992,"Angola/1992",7.1159999999999997,41.329000000000001,11002910]
[null,"Angola","Africa",1993,"Angola/1993",7.0869999999999997,41.494999999999997,11371750]
[null,"Angola","Africa",1994,"Angola/1994",7.0540000000000003,41.735999999999997,11742960]
[null,"Angola","Africa",1995,"Angola/1995",7.0190000000000001,42.073,12105105]
[null,"Angola","Africa",1996,"Angola/1996",6.984,42.526000000000003,12452725]
[null,"Angola","Africa",1997,"Angola/1997",6.9489999999999998,43.088000000000001,12792237]
[null,"Angola","Africa",1998,"Angola/1998",6.9130000000000003,43.741999999999997,13138265]
[null,"Angola","Africa",1999,"Angola/1999",6.8780000000000001,44.468000000000004,13511575]
[null,"Angola","Africa",2000,"Angola/2000",6.8440000000000003,45.234000000000002,13926373]
[null,"Angola","Africa",2001,"Angola/2001",6.8109999999999999,46.003999999999998,14388244]
[null,"Angola","Africa",2002,"Angola/2002",6.7779999999999996,46.743000000000002,14890474]
[null,"Angola","Africa",2003,"Angola/2003",6.7430000000000003,47.424999999999997,15419943]
[null,"Angola","Africa",2004,"Angola/2004",6.7039999999999997,48.036000000000001,15957460]
[null,"Angola","Africa",2005,"Angola/2005",6.657,48.572000000000003,16489021]
[null,"Angola","Africa",2006,"Angola/2006",6.5979999999999999,49.040999999999997,17010366]
[null,"Angola","Africa",2007,"Angola/2007",6.5229999999999997,49.470999999999997,17525367]
[null,"Angola","Africa",2008,"Angola/2008",6.4340000000000002,49.881999999999998,18037964]
[null,"Angola","Africa",2009,"Angola/2009",6.3310000000000004,50.286000000000001,18555115]
[null,"Angola","Africa",2010,"Angola/2010",6.218,50.689,19081912]
[null,"Angola","Africa",2011,"Angola/2011",6.0990000000000002,51.094000000000001,19618432]
[null,"Angola","Africa",2012,"Angola/2012",5.9790000000000001,51.497999999999998,20162517]
[null,"Angola","Africa",2013,"Angola/2013",5.8630000000000004,51.899000000000001,20714494]
[null,"Antigua and Barbuda","North America",1950,"Antigua and Barbuda/1950",4.4459999999999997,57.536000000000001,46301]
[null,"Antigua and Barbuda","North America",1951,"Antigua and Barbuda/1951",4.4640000000000004,57.786000000000001,48316]
[null,"Antigua and Barbuda","North America",1952,"Antigua and Barbuda/1952",4.4960000000000004,58.283999999999999,49906]
[null,"Antigua and Barbuda","North America",1953,"Antigua and Barbuda/1953",4.5179999999999998,58.779000000000003,51117]
[null,"Antigua and Barbuda","North America",1954,"Antigua and Barbuda/1954",4.5309999999999997,59.271000000000001,52002]
[null,"Antigua and Barbuda","North America",1955,"Antigua and Barbuda/1955",4.5339999999999998,59.759,52625]
[null,"Antigua and Barbuda","North America",1956,"Antigua and Barbuda/1956",4.5279999999999996,60.243000000000002,53061]
[null,"Antigua and Barbuda","North America",1957,"Antigua and Barbuda/1957",4.5129999999999999,60.722000000000001,53393]
[null,"Antigua and Barbuda","North America",1958,"Antigua and Barbuda/1958",4.49,61.195999999999998,53711]
[null,"Antigua and Barbuda","North America",1959,"Antigua and Barbuda/1959",4.46,61.661000000000001,54107]
[null,"Antigua and Barbuda","North America",1960,"Antigua and Barbuda/1960",4.4249999999999998,62.113999999999997,54657]
[null,"Antigua and Barbuda","North America",1961,"Antigua and Barbuda/1961",4.3860000000000001,62.555,55408]
[null,"Antigua and Barbuda","North America",1962,"Antigua and Barbuda/1962",4.3440000000000003,62.978999999999999,56362]
[null,"Antigua and Barbuda","North America",1963,"Antigua and Barbuda/1963",4.2990000000000004,63.386000000000003,57472]
[null,"Antigua and Barbuda","North America",1964,"Antigua and Barbuda/1964",4.25,63.774999999999999,58653]
[null,"Antigua and Barbuda","North America",1965,"Antigua and Barbuda/1965",4.1929999999999996,64.149000000000001,59844]
[null,"Antigua and Barbuda","North America",1966,"Antigua and Barbuda/1966",4.125,64.510999999999996,61032]
[null,"Antigua and Barbuda","North America",1967,"Antigua and Barbuda/1967",4.0419999999999998,64.864999999999995,62226]
[null,"Antigua and Barbuda","North America",1968,"Antigua and Barbuda/1968",3.9420000000000002,65.212999999999994,63401]
[null,"Antigua and Barbuda","North America",1969,"Antigua and Barbuda/1969",3.8239999999999998,65.558000000000007,64528]
[null,"Antigua and Barbuda","North America",1970,"Antigua and Barbuda/1970",3.6840000000000002,65.897999999999996,65587]
[null,"Antigua and Barbuda","North America",1971,"Antigua and Barbuda/1971",3.5169999999999999,66.231999999999999,66554]
[null,"Antigua and Barbuda","North America",1972,"Antigua and Barbuda/1972",3.3279999999999998,66.558000000000007,67419]
[null,"Antigua and Barbuda","North America",1973,"Antigua and Barbuda/1973",3.1219999999999999,66.875,68182]
[null,"Antigua and Barbuda","North America",1974,"Antigua and Barbuda/1974",2.9079999999999999,67.180999999999997,68848]
[null,"Antigua and Barbuda","North America",1975,"Antigua and Barbuda/1975",2.7010000000000001,67.478999999999999,69420]
[null,"Antigua and Barbuda","North America",1976,"Antigua and Barbuda/1976",2.5139999999999998,67.768000000000001,69910]
[null,"Antigua and Barbuda","North America",1977,"Antigua and Barbuda/1977",2.3580000000000001,68.051000000000002,70301]
[null,"Antigua and Barbuda","North America",1978,"Antigua and Barbuda/1978",2.2389999999999999,68.328000000000003,70533]
[null,"Antigua and Barbuda","North America",1979,"Antigua and Barbuda/1979",2.1589999999999998,68.602000000000004,70525]
[null,"Antigua and Barbuda","North America",1980,"Antigua and Barbuda/1980",2.1150000000000002,68.873000000000005,70228]
[null,"Antigua and Barbuda","North America",1981,"Antigua and Barbuda/1981",2.0979999999999999,69.141000000000005,69639]
[null,"Antigua and Barbuda","North America",1982,"Antigua and Barbuda/1982",2.0960000000000001,69.408000000000001,68803]
[null,"Antigua and Barbuda","North America",1983,"Antigua and Barbuda/1983",2.0979999999999999,69.671000000000006,67792]
[null,"Antigua and Barbuda","North America",1984,"Antigua and Barbuda/1984",2.0979999999999999,69.930999999999997,66701]
[null,"Antigua and Barbuda","North America",1985,"Antigua and Barbuda/1985",2.0920000000000001,70.186000000000007,65614]
[null,"Antigua and Barbuda","North America",1986,"Antigua and Barbuda/1986",2.0819999999999999,70.435000000000002,64539]
[null,"Antigua and Barbuda","North America",1987,"Antigua and Barbuda/1987",2.0699999999999998,70.674999999999997,63510]
[null,"Antigua and Barbuda","North America",1988,"Antigua and Barbuda/1988",2.0619999999999998,70.906999999999996,62669]
[null,"Antigua and Barbuda","North America",1989,"Antigua and Barbuda/1989",2.0579999999999998,71.132000000000005,62192]
[null,"Antigua and Barbuda","North America",1990,"Antigua and Barbuda/1990",2.0609999999999999,71.350999999999999,62202]
[null,"Antigua and Barbuda","North America",1991,"Antigua and Barbuda/1991",2.073,71.567999999999998,62754]
[null,"Antigua and Barbuda","North America",1992,"Antigua and Barbuda/1992",2.0960000000000001,71.783000000000001,63802]
[null,"Antigua and Barbuda","North America",1993,"Antigua and Barbuda/1993",2.1280000000000001,72,65238]
[null,"Antigua and Barbuda","North America",1994,"Antigua and Barbuda/1994",2.1659999999999999,72.218999999999994,66895]
[null,"Antigua and Barbuda","North America",1995,"Antigua and Barbuda/1995",2.2080000000000002,72.441000000000003,68642]
[null,"Antigua and Barbuda","North America",1996,"Antigua and Barbuda/1996",2.2480000000000002,72.664000000000001,70450]
[null,"Antigua and Barbuda","North America",1997,"Antigua and Barbuda/1997",2.2810000000000001,72.888000000000005,72322]
[null,"Antigua and Barbuda","North America",1998,"Antigua and Barbuda/1998",2.3039999999999998,73.11,74190]
[null,"Antigua and Barbuda","North America",1999,"Antigua and Barbuda/1999",2.3159999999999998,73.328999999999994,75985]
[null,"Antigua and Barbuda","North America",2000,"Antigua and Barbuda/2000",2.3159999999999998,73.543999999999997,77656]
[null,"Antigua and Barbuda","North America",2001,"Antigua and Barbuda/2001",2.3050000000000002,73.754999999999995,79165]
[null,"Antigua and Barbuda","North America",2002,"Antigua and Barbuda/2002",2.2879999999999998,73.959999999999994,80507]
[null,"Antigua and Barbuda","North America",2003,"Antigua and Barbuda/2003",2.2679999999999998,74.16,81716]
[null,"Antigua and Barbuda","North America",2004,"Antigua and Barbuda/2004",2.246,74.355000000000004,82838]
[null,"Antigua and Barbuda","North America",2005,"Antigua and Barbuda/2005",2.2240000000000002,74.543999999999997,83916]
[null,"Antigua and Barbuda","North America",2006,"Antigua and Barbuda/2006",2.2029999999999998,74.728999999999999,84952]
[null,"Antigua and Barbuda","North America",2007,"Antigua and Barbuda/2007",2.1829999999999998,74.91,85935]
[null,"Antigua and Barbuda","North America",2008,"Antigua and Barbuda/2008",2.1640000000000001,75.087000000000003,86881]
[null,"Antigua and Barbuda","North America",2009,"Antigua and Barbuda/2009",2.1459999999999999,75.263000000000005,87802]
[null,"Antigua and Barbuda","North America",2010,"Antigua and Barbuda/2010",2.13,75.436999999999998,88710]
[null,"Antigua and Barbuda","North America",2011,"Antigua and Barbuda/2011",2.1150000000000002,75.61,89612]
[null,"Antigua and Barbuda","North America",2012,"Antigua and Barbuda/2012",2.1019999999999999,75.783000000000001,90510]
[null,"Antigua and Barbuda","North America",2013,"Antigua and Barbuda/2013",2.089,75.953999999999994,91404]
[null,"Argentina","Latin America + Caribbean",1950,"Argentina/1950",3.1640000000000001,61.417999999999999,17150335]
[null,"Argentina","Latin America + Caribbean",1951,"Argentina/1951",3.1619999999999999,61.728000000000002,17506378]
[null,"Argentina","Latin America + Caribbean",1952,"Argentina/1952",3.157,62.32,17865382]
[null,"Argentina","Latin America + Caribbean",1953,"Argentina/1953",3.1520000000000001,62.854999999999997,18223955]
[null,"Argentina","Latin America + Caribbean",1954,"Argentina/1954",3.1459999999999999,63.331000000000003,18579614]
[null,"Argentina","Latin America + Caribbean",1955,"Argentina/1955",3.141,63.749000000000002,18930778]
[null,"Argentina","Latin America + Caribbean",1956,"Argentina/1956",3.1360000000000001,64.11,19276813]
[null,"Argentina","Latin America + Caribbean",1957,"Argentina/1957",3.13,64.414000000000001,19617988]
[null,"Argentina","Latin America + Caribbean",1958,"Argentina/1958",3.1240000000000001,64.665000000000006,19955368]
[null,"Argentina","Latin America + Caribbean",1959,"Argentina/1959",3.117,64.866,20290620]
[null,"Argentina","Latin America + Caribbean",1960,"Argentina/1960",3.109,65.022000000000006,20625451]
[null,"Argentina","Latin America + Caribbean",1961,"Argentina/1961",3.1,65.141999999999996,20961000]
[null,"Argentina","Latin America + Caribbean",1962,"Argentina/1962",3.089,65.233999999999995,21297317]
[null,"Argentina","Latin America + Caribbean",1963,"Argentina/1963",3.0779999999999998,65.311000000000007,21633126]
[null,"Argentina","Latin America + Caribbean",1964,"Argentina/1964",3.0680000000000001,65.388000000000005,21966478]
[null,"Argentina","Latin America + Caribbean",1965,"Argentina/1965",3.0579999999999998,65.480999999999995,22296628]
[null,"Argentina","Latin America + Caribbean",1966,"Argentina/1966",3.0510000000000002,65.602999999999994,22622012]
[null,"Argentina","Latin America + Caribbean",1967,"Argentina/1967",3.048,65.759,22944941]
[null,"Argentina","Latin America + Caribbean",1968,"Argentina/1968",3.0489999999999999,65.953000000000003,23273148]
[null,"Argentina","Latin America + Caribbean",1969,"Argentina/1969",3.056,66.183999999999997,23616971]
[null,"Argentina","Latin America + Caribbean",1970,"Argentina/1970",3.073,66.448999999999998,23983358]
[null,"Argentina","Latin America + Caribbean",1971,"Argentina/1971",3.1040000000000001,66.739999999999995,24376109]
[null,"Argentina","Latin America + Caribbean",1972,"Argentina/1972",3.1480000000000001,67.043999999999997,24791983]
[null,"Argentina","Latin America + Caribbean",1973,"Argentina/1973",3.2029999999999998,67.349000000000004,25222223]
[null,"Argentina","Latin America + Caribbean",1974,"Argentina/1974",3.2639999999999998,67.652000000000001,25654154]
[null,"Argentina","Latin America + Caribbean",1975,"Argentina/1975",3.3210000000000002,67.95,26078731]
[null,"Argentina","Latin America + Caribbean",1976,"Argentina/1976",3.3660000000000001,68.248000000000005,26492716]
[null,"Argentina","Latin America + Caribbean",1977,"Argentina/1977",3.391,68.549000000000007,26899177]
[null,"Argentina","Latin America + Caribbean",1978,"Argentina/1978",3.391,68.855999999999995,27303001]
[null,"Argentina","Latin America + Caribbean",1979,"Argentina/1979",3.3679999999999999,69.164000000000001,27711808]
[null,"Argentina","Latin America + Caribbean",1980,"Argentina/1980",3.3250000000000002,69.463999999999999,28131040]
[null,"Argentina","Latin America + Caribbean",1981,"Argentina/1981",3.27,69.745999999999995,28561561]
[null,"Argentina","Latin America + Caribbean",1982,"Argentina/1982",3.2130000000000001,70.004000000000005,29001060]
[null,"Argentina","Latin America + Caribbean",1983,"Argentina/1983",3.1629999999999998,70.234999999999999,29447973]
[null,"Argentina","Latin America + Caribbean",1984,"Argentina/1984",3.1230000000000002,70.438999999999993,29899743]
[null,"Argentina","Latin America + Caribbean",1985,"Argentina/1985",3.093,70.623999999999995,30354240]
[null,"Argentina","Latin America + Caribbean",1986,"Argentina/1986",3.073,70.798000000000002,30810984]
[null,"Argentina","Latin America + Caribbean",1987,"Argentina/1987",3.056,70.971999999999994,31269799]
[null,"Argentina","Latin America + Caribbean",1988,"Argentina/1988",3.0369999999999999,71.156000000000006,31729130]
[null,"Argentina","Latin America + Caribbean",1989,"Argentina/1989",3.016,71.352999999999994,32187173]
[null,"Argentina","Latin America + Caribbean",1990,"Argentina/1990",2.9889999999999999,71.566000000000003,32642442]
[null,"Argentina","Latin America + Caribbean",1991,"Argentina/1991",2.956,71.790999999999997,33093579]
[null,"Argentina","Latin America + Caribbean",1992,"Argentina/1992",2.9180000000000001,72.024000000000001,33540023]
[null,"Argentina","Latin America + Caribbean",1993,"Argentina/1993",2.875,72.257000000000005,33982035]
[null,"Argentina","Latin America + Caribbean",1994,"Argentina/1994",2.827,72.489000000000004,34420352]
[null,"Argentina","Latin America + Caribbean",1995,"Argentina/1995",2.774,72.718999999999994,34855160]
[null,"Argentina","Latin America + Caribbean",1996,"Argentina/1996",2.7170000000000001,72.944999999999993,35287113]
[null,"Argentina","Latin America + Caribbean",1997,"Argentina/1997",2.657,73.168999999999997,35714929]
[null,"Argentina","Latin America + Caribbean",1998,"Argentina/1998",2.5960000000000001,73.39,36134642]
[null,"Argentina","Latin America + Caribbean",1999,"Argentina/1999",2.5350000000000001,73.608000000000004,36541029]
[null,"Argentina","Latin America + Caribbean",2000,"Argentina/2000",2.4769999999999999,73.822000000000003,36930709]
[null,"Argentina","Latin America + Caribbean",2001,"Argentina/2001",2.4239999999999999,74.033000000000001,37302116]
[null,"Argentina","Latin America + Caribbean",2002,"Argentina/2002",2.379,74.239999999999995,37657340]
[null,"Argentina","Latin America + Caribbean",2003,"Argentina/2003",2.34,74.444000000000003,38001251]
[null,"Argentina","Latin America + Caribbean",2004,"Argentina/2004",2.31,74.644999999999996,38340778]
[null,"Argentina","Latin America + Caribbean",2005,"Argentina/2005",2.286,74.843000000000004,38681174]
[null,"Argentina","Latin America + Caribbean",2006,"Argentina/2006",2.2679999999999998,75.036000000000001,39023850]
[null,"Argentina","Latin America + Caribbean",2007,"Argentina/2007",2.254,75.224999999999994,39368066]
[null,"Argentina","Latin America + Caribbean",2008,"Argentina/2008",2.2410000000000001,75.41,39714298]
[null,"Argentina","Latin America + Caribbean",2009,"Argentina/2009",2.2280000000000002,75.591999999999999,40062470]
[null,"Argentina","Latin America + Caribbean",2010,"Argentina/2010",2.2149999999999999,75.772000000000006,40412376]
[null,"Argentina","Latin America + Caribbean",2011,"Argentina/2011",2.2010000000000001,75.95,40764561]
[null,"Argentina","Latin America + Caribbean",2012,"Argentina/2012",2.1880000000000002,76.128,41118986]
[null,"Argentina","Latin America + Caribbean",2013,"Argentina/2013",2.1749999999999998,76.305000000000007,41473982]
[null,"Armenia","Europe",1950,"Armenia/1950",4.5250000000000004,61.965000000000003,1353506]
[null,"Armenia","Europe",1951,"Armenia/1951",4.5119999999999996,62.177999999999997,1382982]
[null,"Armenia","Europe",1952,"Armenia/1952",4.492,62.601999999999997,1419913]
[null,"Armenia","Europe",1953,"Armenia/1953",4.4809999999999999,63.024000000000001,1463017]
[null,"Armenia","Europe",1954,"Armenia/1954",4.4809999999999999,63.445999999999998,1511188]
[null,"Armenia","Europe",1955,"Armenia/1955",4.49,63.866,1563508]
[null,"Armenia","Europe",1956,"Armenia/1956",4.5060000000000002,64.284999999999997,1619242]
[null,"Armenia","Europe",1957,"Armenia/1957",4.5270000000000001,64.703999999999994,1677837]
[null,"Armenia","Europe",1958,"Armenia/1958",4.548,65.123999999999995,1738902]
[null,"Armenia","Europe",1959,"Armenia/1959",4.5590000000000002,65.545000000000002,1802171]
[null,"Armenia","Europe",1960,"Armenia/1960",4.55,65.971000000000004,1867396]
[null,"Armenia","Europe",1961,"Armenia/1961",4.5119999999999996,66.400999999999996,1934239]
[null,"Armenia","Europe",1962,"Armenia/1962",4.4349999999999996,66.837000000000003,2002170]
[null,"Armenia","Europe",1963,"Armenia/1963",4.3170000000000002,67.275000000000006,2070427]
[null,"Armenia","Europe",1964,"Armenia/1964",4.1609999999999996,67.713999999999999,2138133]
[null,"Armenia","Europe",1965,"Armenia/1965",3.9790000000000001,68.150999999999996,2204650]
[null,"Armenia","Europe",1966,"Armenia/1966",3.7879999999999998,68.587000000000003,2269475]
[null,"Armenia","Europe",1967,"Armenia/1967",3.6059999999999999,69.015000000000001,2332624]
[null,"Armenia","Europe",1968,"Armenia/1968",3.4470000000000001,69.424999999999997,2394635]
[null,"Armenia","Europe",1969,"Armenia/1969",3.3140000000000001,69.808000000000007,2456370]
[null,"Armenia","Europe",1970,"Armenia/1970",3.2080000000000002,70.143000000000001,2518408]
[null,"Armenia","Europe",1971,"Armenia/1971",3.1179999999999999,70.411000000000001,2580894]
[null,"Armenia","Europe",1972,"Armenia/1972",3.032,70.603999999999999,2643464]
[null,"Armenia","Europe",1973,"Armenia/1973",2.9420000000000002,70.721999999999994,2705584]
[null,"Armenia","Europe",1974,"Armenia/1974",2.8460000000000001,70.774000000000001,2766495]
[null,"Armenia","Europe",1975,"Armenia/1975",2.7450000000000001,70.781999999999996,2825650]
[null,"Armenia","Europe",1976,"Armenia/1976",2.6459999999999999,70.781999999999996,2882831]
[null,"Armenia","Europe",1977,"Armenia/1977",2.5550000000000002,70.796999999999997,2938181]
[null,"Armenia","Europe",1978,"Armenia/1978",2.4790000000000001,70.837000000000003,2991954]
[null,"Armenia","Europe",1979,"Armenia/1979",2.4209999999999998,70.896000000000001,3044564]
[null,"Armenia","Europe",1980,"Armenia/1980",2.3849999999999998,70.936000000000007,3096298]
[null,"Armenia","Europe",1981,"Armenia/1981",2.3730000000000002,70.909000000000006,3145885]
[null,"Armenia","Europe",1982,"Armenia/1982",2.3809999999999998,70.775000000000006,3192877]
[null,"Armenia","Europe",1983,"Armenia/1983",2.4060000000000001,70.518000000000001,3239212]
[null,"Armenia","Europe",1984,"Armenia/1984",2.4409999999999998,70.149000000000001,3287588]
[null,"Armenia","Europe",1985,"Armenia/1985",2.4809999999999999,69.697000000000003,3339147]
[null,"Armenia","Europe",1986,"Armenia/1986",2.5190000000000001,69.203999999999994,3396511]
[null,"Armenia","Europe",1987,"Armenia/1987",2.5489999999999999,68.730999999999995,3457054]
[null,"Armenia","Europe",1988,"Armenia/1988",2.5659999999999998,68.331000000000003,3510439]
[null,"Armenia","Europe",1989,"Armenia/1989",2.5649999999999999,68.037000000000006,3542720]
[null,"Armenia","Europe",1990,"Armenia/1990",2.5379999999999998,67.876999999999995,3544695]
[null,"Armenia","Europe",1991,"Armenia/1991",2.4820000000000002,67.864000000000004,3512051]
[null,"Armenia","Europe",1992,"Armenia/1992",2.399,67.978999999999999,3449940]
[null,"Armenia","Europe",1993,"Armenia/1993",2.2949999999999999,68.198999999999998,3370373]
[null,"Armenia","Europe",1994,"Armenia/1994",2.1760000000000002,68.513000000000005,3290540]
[null,"Armenia","Europe",1995,"Armenia/1995",1.8,68.91,3223173]
[null,"Armenia","Europe",1996,"Armenia/1996",1.8,69.376000000000005,3172185]
[null,"Armenia","Europe",1997,"Armenia/1997",1.7,69.891000000000005,3134836]
[null,"Armenia","Europe",1998,"Armenia/1998",1.5,70.430000000000007,3109101]
[null,"Armenia","Europe",1999,"Armenia/1999",1.4,70.971000000000004,3090624]
[null,"Armenia","Europe",2000,"Armenia/2000",1.3,71.494,3076098]
[null,"Armenia","Europe",2001,"Armenia/2001",1.2,71.980999999999995,3065810]
[null,"Armenia","Europe",2002,"Armenia/2002",1.2,72.430000000000007,3061067]
[null,"Armenia","Europe",2003,"Armenia/2003",1.4,72.835999999999999,3060554]
[null,"Armenia","Europe",2004,"Armenia/2004",1.4,73.191999999999993,3062612]
[null,"Armenia","Europe",2005,"Armenia/2005",1.4,73.491,3065954]
[null,"Armenia","Europe",2006,"Armenia/2006",1.3,73.73,3069844]
[null,"Armenia","Europe",2007,"Armenia/2007",1.4,73.92,3074181]
[null,"Armenia","Europe",2008,"Armenia/2008",1.4,74.069999999999993,3079087]
[null,"Armenia","Europe",2009,"Armenia/2009",1.6,74.191000000000003,3084979]
[null,"Armenia","Europe",2010,"Armenia/2010",1.55,74.290999999999997,3092072]
[null,"Armenia","Europe",2011,"Armenia/2011",1.5,74.381,3100236]
[null,"Armenia","Europe",2012,"Armenia/2012",1.7390000000000001,74.468999999999994,3108972]
[null,"Armenia","Europe",2013,"Armenia/2013",1.74,74.561000000000007,3117722]
[null,"Aruba","Latin America + Caribbean",1950,"Aruba/1950",5.8010000000000002,58.418999999999997,38066]
[null,"Aruba","Latin America + Caribbean",1951,"Aruba/1951",5.7670000000000003,58.962000000000003,38263]
[null,"Aruba","Latin America + Caribbean",1952,"Aruba/1952",5.6950000000000003,60.01,38966]
[null,"Aruba","Latin America + Caribbean",1953,"Aruba/1953",5.6159999999999997,60.98,40151]
[null,"Aruba","Latin America + Caribbean",1954,"Aruba/1954",5.53,61.872999999999998,41765]
[null,"Aruba","Latin America + Caribbean",1955,"Aruba/1955",5.4359999999999999,62.686999999999998,43729]
[null,"Aruba","Latin America + Caribbean",1956,"Aruba/1956",5.3339999999999996,63.423999999999999,45935]
[null,"Aruba","Latin America + Caribbean",1957,"Aruba/1957",5.2229999999999999,64.085999999999999,48244]
[null,"Aruba","Latin America + Caribbean",1958,"Aruba/1958",5.1020000000000003,64.676000000000002,50500]
[null,"Aruba","Latin America + Caribbean",1959,"Aruba/1959",4.9690000000000003,65.198999999999998,52536]
[null,"Aruba","Latin America + Caribbean",1960,"Aruba/1960",4.82,65.662000000000006,54209]
[null,"Aruba","Latin America + Caribbean",1961,"Aruba/1961",4.6550000000000002,66.073999999999998,55436]
[null,"Aruba","Latin America + Caribbean",1962,"Aruba/1962",4.4710000000000001,66.444000000000003,56227]
[null,"Aruba","Latin America + Caribbean",1963,"Aruba/1963",4.2709999999999999,66.787000000000006,56698]
[null,"Aruba","Latin America + Caribbean",1964,"Aruba/1964",4.0590000000000002,67.113,57031]
[null,"Aruba","Latin America + Caribbean",1965,"Aruba/1965",3.8420000000000001,67.435000000000002,57362]
[null,"Aruba","Latin America + Caribbean",1966,"Aruba/1966",3.625,67.762,57714]
[null,"Aruba","Latin America + Caribbean",1967,"Aruba/1967",3.4169999999999998,68.094999999999999,58052]
[null,"Aruba","Latin America + Caribbean",1968,"Aruba/1968",3.226,68.436000000000007,58388]
[null,"Aruba","Latin America + Caribbean",1969,"Aruba/1969",3.0539999999999998,68.784000000000006,58725]
[null,"Aruba","Latin America + Caribbean",1970,"Aruba/1970",2.9079999999999999,69.14,59066]
[null,"Aruba","Latin America + Caribbean",1971,"Aruba/1971",2.7879999999999998,69.498000000000005,59439]
[null,"Aruba","Latin America + Caribbean",1972,"Aruba/1972",2.6909999999999998,69.850999999999999,59849]
[null,"Aruba","Latin America + Caribbean",1973,"Aruba/1973",2.613,70.191999999999993,60238]
[null,"Aruba","Latin America + Caribbean",1974,"Aruba/1974",2.552,70.519000000000005,60524]
[null,"Aruba","Latin America + Caribbean",1975,"Aruba/1975",2.5059999999999998,70.834000000000003,60654]
[null,"Aruba","Latin America + Caribbean",1976,"Aruba/1976",2.472,71.14,60589]
[null,"Aruba","Latin America + Caribbean",1977,"Aruba/1977",2.4460000000000002,71.441000000000003,60366]
[null,"Aruba","Latin America + Caribbean",1978,"Aruba/1978",2.4249999999999998,71.736999999999995,60108]
[null,"Aruba","Latin America + Caribbean",1979,"Aruba/1979",2.4079999999999999,72.022999999999996,59980]
[null,"Aruba","Latin America + Caribbean",1980,"Aruba/1980",2.3919999999999999,72.293999999999997,60099]
[null,"Aruba","Latin America + Caribbean",1981,"Aruba/1981",2.3769999999999998,72.539000000000001,60570]
[null,"Aruba","Latin America + Caribbean",1982,"Aruba/1982",2.3639999999999999,72.751999999999995,61347]
[null,"Aruba","Latin America + Caribbean",1983,"Aruba/1983",2.3530000000000002,72.929000000000002,62208]
[null,"Aruba","Latin America + Caribbean",1984,"Aruba/1984",2.3420000000000001,73.070999999999998,62833]
[null,"Aruba","Latin America + Caribbean",1985,"Aruba/1985",2.3319999999999999,73.180999999999997,63030]
[null,"Aruba","Latin America + Caribbean",1986,"Aruba/1986",2.3199999999999998,73.262,62645]
[null,"Aruba","Latin America + Caribbean",1987,"Aruba/1987",2.3069999999999999,73.325000000000003,61830]
[null,"Aruba","Latin America + Caribbean",1988,"Aruba/1988",2.2909999999999999,73.378,61069]
[null,"Aruba","Latin America + Caribbean",1989,"Aruba/1989",2.2719999999999998,73.424999999999997,61026]
[null,"Aruba","Latin America + Caribbean",1990,"Aruba/1990",2.2490000000000001,73.468000000000004,62147]
[null,"Aruba","Latin America + Caribbean",1991,"Aruba/1991",2.2210000000000001,73.509,64642]
[null,"Aruba","Latin America + Caribbean",1992,"Aruba/1992",2.1869999999999998,73.543999999999997,68286]
[null,"Aruba","Latin America + Caribbean",1993,"Aruba/1993",2.149,73.572999999999993,72573]
[null,"Aruba","Latin America + Caribbean",1994,"Aruba/1994",2.1080000000000001,73.597999999999999,76762]
[null,"Aruba","Latin America + Caribbean",1995,"Aruba/1995",2.0640000000000001,73.622,80323]
[null,"Aruba","Latin America + Caribbean",1996,"Aruba/1996",2.0209999999999999,73.644999999999996,83069]
[null,"Aruba","Latin America + Caribbean",1997,"Aruba/1997",1.9790000000000001,73.668999999999997,85161]
[null,"Aruba","Latin America + Caribbean",1998,"Aruba/1998",1.94,73.697000000000003,86827]
[null,"Aruba","Latin America + Caribbean",1999,"Aruba/1999",1.905,73.733999999999995,88442]
[null,"Aruba","Latin America + Caribbean",2000,"Aruba/2000",1.8740000000000001,73.783000000000001,90271]
[null,"Aruba","Latin America + Caribbean",2001,"Aruba/2001",1.8480000000000001,73.852000000000004,92363]
[null,"Aruba","Latin America + Caribbean",2002,"Aruba/2002",1.825,73.94,94596]
[null,"Aruba","Latin America + Caribbean",2003,"Aruba/2003",1.8049999999999999,74.048000000000002,96875]
[null,"Aruba","Latin America + Caribbean",2004,"Aruba/2004",1.786,74.174999999999997,99046]
[null,"Aruba","Latin America + Caribbean",2005,"Aruba/2005",1.7689999999999999,74.316000000000003,100996]
[null,"Aruba","Latin America + Caribbean",2006,"Aruba/2006",1.754,74.466999999999999,102711]
[null,"Aruba","Latin America + Caribbean",2007,"Aruba/2007",1.7390000000000001,74.620999999999995,104225]
[null,"Aruba","Latin America + Caribbean",2008,"Aruba/2008",1.726,74.772000000000006,105526]
[null,"Aruba","Latin America + Caribbean",2009,"Aruba/2009",1.7130000000000001,74.918999999999997,106612]
[null,"Aruba","Latin America + Caribbean",2010,"Aruba/2010",1.7010000000000001,75.058999999999997,107488]
[null,"Aruba","Latin America + Caribbean",2011,"Aruba/2011",1.69,75.192999999999998,108141]
[null,"Aruba","Latin America + Caribbean",2012,"Aruba/2012",1.681,75.323999999999998,108587]
[null,"Aruba","Latin America + Caribbean",2013,"Aruba/2013",1.673,75.454999999999998,108883]
[null,"Australia","Asia + Pacific",1950,"Australia/1950",3.0670000000000002,69.02,8177344]
[null,"Australia","Asia + Pacific",1951,"Australia/1951",3.0590000000000002,68.72,8398540]
[null,"Australia","Asia + Pacific",1952,"Australia/1952",3.181,69.12,8604679]
[null,"Australia","Asia + Pacific",1953,"Australia/1953",3.1930000000000001,69.7,8804552]
[null,"Australia","Asia + Pacific",1954,"Australia/1954",3.1909999999999998,69.849999999999994,9004634]
[null,"Australia","Asia + Pacific",1955,"Australia/1955",3.2749999999999999,70.17,9209085]
[null,"Australia","Asia + Pacific",1956,"Australia/1956",3.33,70.05,9419635]
[null,"Australia","Asia + Pacific",1957,"Australia/1957",3.4209999999999998,70.33,9635700]
[null,"Australia","Asia + Pacific",1958,"Australia/1958",3.4209999999999998,70.88,9854726]
[null,"Australia","Asia + Pacific",1959,"Australia/1959",3.44,70.45,10072762]
[null,"Australia","Asia + Pacific",1960,"Australia/1960",3.4510000000000001,70.89,10286184]
[null,"Australia","Asia + Pacific",1961,"Australia/1961",3.548,71.16,10493531]
[null,"Australia","Asia + Pacific",1962,"Australia/1962",3.431,70.930000000000007,10697112]
[null,"Australia","Asia + Pacific",1963,"Australia/1963",3.343,70.989999999999995,10903699]
[null,"Australia","Asia + Pacific",1964,"Australia/1964",3.1539999999999999,70.650000000000006,11122567]
[null,"Australia","Asia + Pacific",1965,"Australia/1965",2.9729999999999999,70.98,11359763]
[null,"Australia","Asia + Pacific",1966,"Australia/1966",2.8849999999999998,70.819999999999993,11617580]
[null,"Australia","Asia + Pacific",1967,"Australia/1967",2.847,71.099999999999994,11892163]
[null,"Australia","Asia + Pacific",1968,"Australia/1968",2.8860000000000001,70.73,12175746]
[null,"Australia","Asia + Pacific",1969,"Australia/1969",2.887,71.14,12457299]
[null,"Australia","Asia + Pacific",1970,"Australia/1970",2.859,70.81,12728362]
[null,"Australia","Asia + Pacific",1971,"Australia/1971",2.9449999999999998,71.41,12987847]
[null,"Australia","Asia + Pacific",1972,"Australia/1972",2.7429999999999999,71.930000000000007,13236895]
[null,"Australia","Asia + Pacific",1973,"Australia/1973",2.4910000000000001,72.14,13472175]
[null,"Australia","Asia + Pacific",1974,"Australia/1974",2.3210000000000002,71.89,13690285]
[null,"Australia","Asia + Pacific",1975,"Australia/1975",2.1480000000000001,72.84,13889696]
[null,"Australia","Asia + Pacific",1976,"Australia/1976",2.06,72.88,14067994]
[null,"Australia","Asia + Pacific",1977,"Australia/1977",2.0070000000000001,73.489999999999995,14227905]
[null,"Australia","Asia + Pacific",1978,"Australia/1978",1.9490000000000001,73.88,14379565]
[null,"Australia","Asia + Pacific",1979,"Australia/1979",1.907,74.44,14536839]
[null,"Australia","Asia + Pacific",1980,"Australia/1980",1.891,74.599999999999994,14709918]
[null,"Australia","Asia + Pacific",1981,"Australia/1981",1.9350000000000001,74.959999999999994,14901610]
[null,"Australia","Asia + Pacific",1982,"Australia/1982",1.929,74.739999999999995,15109659]
[null,"Australia","Asia + Pacific",1983,"Australia/1983",1.9239999999999999,75.55,15332790]
[null,"Australia","Asia + Pacific",1984,"Australia/1984",1.84,76.02,15567927]
[null,"Australia","Asia + Pacific",1985,"Australia/1985",1.923,75.45,15812088]
[null,"Australia","Asia + Pacific",1986,"Australia/1986",1.8680000000000001,76.13,16066496]
[null,"Australia","Asia + Pacific",1987,"Australia/1987",1.845,76.319999999999993,16330369]
[null,"Australia","Asia + Pacific",1988,"Australia/1988",1.831,76.349999999999994,16596096]
[null,"Australia","Asia + Pacific",1989,"Australia/1989",1.8380000000000001,76.45,16853690]
[null,"Australia","Asia + Pacific",1990,"Australia/1990",1.9019999999999999,77.05,17096153]
[null,"Australia","Asia + Pacific",1991,"Australia/1991",1.849,77.540000000000006,17320633]
[null,"Australia","Asia + Pacific",1992,"Australia/1992",1.8879999999999999,77.540000000000006,17529469]
[null,"Australia","Asia + Pacific",1993,"Australia/1993",1.859,78.069999999999993,17727413]
[null,"Australia","Asia + Pacific",1994,"Australia/1994",1.8420000000000001,78.069999999999993,17921818]
[null,"Australia","Asia + Pacific",1995,"Australia/1995",1.8220000000000001,78.45,18118416]
[null,"Australia","Asia + Pacific",1996,"Australia/1996",1.796,78.53,18319637]
[null,"Australia","Asia + Pacific",1997,"Australia/1997",1.778,78.790000000000006,18525153]
[null,"Australia","Asia + Pacific",1998,"Australia/1998",1.762,79.28,18734878]
[null,"Australia","Asia + Pacific",1999,"Australia/1999",1.7549999999999999,79.53,18947894]
[null,"Australia","Asia + Pacific",2000,"Australia/2000",1.756,79.930000000000007,19164351]
[null,"Australia","Asia + Pacific",2001,"Australia/2001",1.7290000000000001,80.27,19382188]
[null,"Australia","Asia + Pacific",2002,"Australia/2002",1.756,80.290000000000006,19604051]
[null,"Australia","Asia + Pacific",2003,"Australia/2003",1.748,80.69,19840120]
[null,"Australia","Asia + Pacific",2004,"Australia/2004",1.7629999999999999,81.040000000000006,20103822]
[null,"Australia","Asia + Pacific",2005,"Australia/2005",1.7909999999999999,81.44,20403520]
[null,"Australia","Asia + Pacific",2006,"Australia/2006",1.8169999999999999,81.63,20744295]
[null,"Australia","Asia + Pacific",2007,"Australia/2007",1.92,81.67,21119988]
[null,"Australia","Asia + Pacific",2008,"Australia/2008",1.956,81.566999999999993,21513817]
[null,"Australia","Asia + Pacific",2009,"Australia/2009",1.903,81.936999999999998,21902300]
[null,"Australia","Asia + Pacific",2010,"Australia/2010",1.8859999999999999,82.090999999999994,22268384]
[null,"Australia","Asia + Pacific",2011,"Australia/2011",1.8839999999999999,82.230999999999995,22605732]
[null,"Australia","Asia + Pacific",2012,"Australia/2012",1.887,82.364000000000004,22918688]
[null,"Australia","Asia + Pacific",2013,"Australia/2013",1.8819999999999999,82.495999999999995,23213944]
[null,"Austria","Europe",1950,"Austria/1950",1.8660000000000001,64.88,6936445]
[null,"Austria","Europe",1951,"Austria/1951",2.0209999999999999,65.260000000000005,6930746]
[null,"Austria","Europe",1952,"Austria/1952",2.0609999999999999,66.8,6929474]
[null,"Austria","Europe",1953,"Austria/1953",2.0939999999999999,67.290000000000006,6931618]
[null,"Austria","Europe",1954,"Austria/1954",2.1560000000000001,67.319999999999993,6936580]
[null,"Austria","Europe",1955,"Austria/1955",2.2890000000000001,67.599999999999994,6944174]
[null,"Austria","Europe",1956,"Austria/1956",2.4860000000000002,67.72,6954658]
[null,"Austria","Europe",1957,"Austria/1957",2.5720000000000001,67.48,6968701]
[null,"Austria","Europe",1958,"Austria/1958",2.6,68.489999999999995,6987299]
[null,"Austria","Europe",1959,"Austria/1959",2.6880000000000002,68.42,7011632]
[null,"Austria","Europe",1960,"Austria/1960",2.6960000000000002,68.78,7042634]
[null,"Austria","Europe",1961,"Austria/1961",2.786,69.75,7080528]
[null,"Austria","Europe",1962,"Austria/1962",2.8,69.540000000000006,7124432]
[null,"Austria","Europe",1963,"Austria/1963",2.8210000000000002,69.67,7172179]
[null,"Austria","Europe",1964,"Austria/1964",2.7949999999999999,70.16,7220812]
[null,"Austria","Europe",1965,"Austria/1965",2.7029999999999998,69.95,7268015]
[null,"Austria","Europe",1966,"Austria/1966",2.6629999999999998,70.260000000000005,7312775]
[null,"Austria","Europe",1967,"Austria/1967",2.621,70.14,7355039]
[null,"Austria","Europe",1968,"Austria/1968",2.5859999999999999,70.290000000000006,7394601]
[null,"Austria","Europe",1969,"Austria/1969",2.488,70.06,7431574]
[null,"Austria","Europe",1970,"Austria/1970",2.2919999999999998,70.11,7465908]
[null,"Austria","Europe",1971,"Austria/1971",2.2000000000000002,70.31,7497731]
[null,"Austria","Europe",1972,"Austria/1972",2.085,70.63,7526469]
[null,"Austria","Europe",1973,"Austria/1973",1.9379999999999999,71.209999999999994,7550638]
[null,"Austria","Europe",1974,"Austria/1974",1.9079999999999999,71.2,7568347]
[null,"Austria","Europe",1975,"Austria/1975",1.827,71.33,7578498]
[null,"Austria","Europe",1976,"Austria/1976",1.6879999999999999,71.819999999999993,7580564]
[null,"Austria","Europe",1977,"Austria/1977",1.631,72.17,7575669]
[null,"Austria","Europe",1978,"Austria/1978",1.6040000000000001,72.25,7566450]
[null,"Austria","Europe",1979,"Austria/1979",1.5980000000000001,72.56,7556551]
[null,"Austria","Europe",1980,"Austria/1980",1.6519999999999999,72.7,7548798]
[null,"Austria","Europe",1981,"Austria/1981",1.6739999999999999,73.02,7544359]
[null,"Austria","Europe",1982,"Austria/1982",1.661,73.180000000000007,7543194]
[null,"Austria","Europe",1983,"Austria/1983",1.5589999999999999,73.25,7545472]
[null,"Austria","Europe",1984,"Austria/1984",1.522,73.790000000000006,7550960]
[null,"Austria","Europe",1985,"Austria/1985",1.474,74.010000000000005,7559621]
[null,"Austria","Europe",1986,"Austria/1986",1.4490000000000001,74.489999999999995,7570906]
[null,"Austria","Europe",1987,"Austria/1987",1.4319999999999999,74.930000000000007,7585345]
[null,"Austria","Europe",1988,"Austria/1988",1.4470000000000001,75.41,7605095]
[null,"Austria","Europe",1989,"Austria/1989",1.446,75.5,7632984]
[null,"Austria","Europe",1990,"Austria/1990",1.4570000000000001,75.77,7670513]
[null,"Austria","Europe",1991,"Austria/1991",1.5069999999999999,75.83,7719577]
[null,"Austria","Europe",1992,"Austria/1992",1.5049999999999999,76.040000000000006,7778255]
[null,"Austria","Europe",1993,"Austria/1993",1.5009999999999999,76.27,7839625]
[null,"Austria","Europe",1994,"Austria/1994",1.4650000000000001,76.59,7894229]
[null,"Austria","Europe",1995,"Austria/1995",1.4239999999999999,76.83,7935624]
[null,"Austria","Europe",1996,"Austria/1996",1.446,77.099999999999994,7960464]
[null,"Austria","Europe",1997,"Austria/1997",1.393,77.5,7971553]
[null,"Austria","Europe",1998,"Austria/1998",1.37,77.87,7976117]
[null,"Austria","Europe",1999,"Austria/1999",1.34,78.05,7984694]
[null,"Austria","Europe",2000,"Austria/2000",1.365,78.33,8004712]
[null,"Austria","Europe",2001,"Austria/2001",1.33,78.83,8038480]
[null,"Austria","Europe",2002,"Austria/2002",1.393,78.959999999999994,8083059]
[null,"Austria","Europe",2003,"Austria/2003",1.3759999999999999,78.959999999999994,8134235]
[null,"Austria","Europe",2004,"Austria/2004",1.419,79.47,8185553]
[null,"Austria","Europe",2005,"Austria/2005",1.4059999999999999,79.64,8232196]
[null,"Austria","Europe",2006,"Austria/2006",1.405,80.099999999999994,8273208]
[null,"Austria","Europe",2007,"Austria/2007",1.379,80.3,8309783]
[null,"Austria","Europe",2008,"Austria/2008",1.411,80.510000000000005,8341806]
[null,"Austria","Europe",2009,"Austria/2009",1.391,80.391999999999996,8369639]
[null,"Austria","Europe",2010,"Austria/2010",1.4379999999999999,80.594999999999999,8393644]
[null,"Austria","Europe",2011,"Austria/2011",1.4430000000000001,80.784999999999997,8413429]
[null,"Austria","Europe",2012,"Austria/2012",1.4570000000000001,80.965000000000003,8428915]
[null,"Austria","Europe",2013,"Austria/2013",1.4710000000000001,81.137,8441263]
[null,"Azerbaijan","Europe",1950,"Azerbaijan/1950",5.6440000000000001,57.134999999999998,2895997]
[null,"Azerbaijan","Europe",1951,"Azerbaijan/1951",5.593,57.341999999999999,2964962]
[null,"Azerbaijan","Europe",1952,"Azerbaijan/1952",5.5049999999999999,57.753999999999998,3044695]
[null,"Azerbaijan","Europe",1953,"Azerbaijan/1953",5.4429999999999996,58.165999999999997,3132625]
[null,"Azerbaijan","Europe",1954,"Azerbaijan/1954",5.4050000000000002,58.576000000000001,3226823]
[null,"Azerbaijan","Europe",1955,"Azerbaijan/1955",5.3929999999999998,58.984999999999999,3326002]
[null,"Azerbaijan","Europe",1956,"Azerbaijan/1956",5.4029999999999996,59.393999999999998,3429548]
[null,"Azerbaijan","Europe",1957,"Azerbaijan/1957",5.4340000000000002,59.802,3537490]
[null,"Azerbaijan","Europe",1958,"Azerbaijan/1958",5.4790000000000001,60.21,3650388]
[null,"Azerbaijan","Europe",1959,"Azerbaijan/1959",5.5279999999999996,60.62,3769151]
[null,"Azerbaijan","Europe",1960,"Azerbaijan/1960",5.5709999999999997,61.031999999999996,3894494]
[null,"Azerbaijan","Europe",1961,"Azerbaijan/1961",5.5960000000000001,61.447000000000003,4026358]
[null,"Azerbaijan","Europe",1962,"Azerbaijan/1962",5.5910000000000002,61.865000000000002,4163396]
[null,"Azerbaijan","Europe",1963,"Azerbaijan/1963",5.5490000000000004,62.283999999999999,4302765]
[null,"Azerbaijan","Europe",1964,"Azerbaijan/1964",5.468,62.701000000000001,4440733]
[null,"Azerbaijan","Europe",1965,"Azerbaijan/1965",5.3520000000000003,63.116999999999997,4574500]
[null,"Azerbaijan","Europe",1966,"Azerbaijan/1966",5.21,63.533000000000001,4702919]
[null,"Azerbaijan","Europe",1967,"Azerbaijan/1967",5.056,63.945,4826262]
[null,"Azerbaijan","Europe",1968,"Azerbaijan/1968",4.9009999999999998,64.341999999999999,4944932]
[null,"Azerbaijan","Europe",1969,"Azerbaijan/1969",4.7530000000000001,64.712000000000003,5059921]
[null,"Azerbaijan","Europe",1970,"Azerbaijan/1970",4.6120000000000001,65.034999999999997,5172002]
[null,"Azerbaijan","Europe",1971,"Azerbaijan/1971",4.4790000000000001,65.287000000000006,5281238]
[null,"Azerbaijan","Europe",1972,"Azerbaijan/1972",4.3479999999999999,65.456999999999994,5387375]
[null,"Azerbaijan","Europe",1973,"Azerbaijan/1973",4.2160000000000002,65.545000000000002,5490572]
[null,"Azerbaijan","Europe",1974,"Azerbaijan/1974",4.0839999999999996,65.554000000000002,5591016]
[null,"Azerbaijan","Europe",1975,"Azerbaijan/1975",3.95,65.495999999999995,5688997]
[null,"Azerbaijan","Europe",1976,"Azerbaijan/1976",3.8140000000000001,65.387,5784587]
[null,"Azerbaijan","Europe",1977,"Azerbaijan/1977",3.6760000000000002,65.254000000000005,5878259]
[null,"Azerbaijan","Europe",1978,"Azerbaijan/1978",3.5390000000000001,65.123999999999995,5971198]
[null,"Azerbaijan","Europe",1979,"Azerbaijan/1979",3.407,65.016999999999996,6064905]
[null,"Azerbaijan","Europe",1980,"Azerbaijan/1980",3.286,64.963999999999999,6160502]
[null,"Azerbaijan","Europe",1981,"Azerbaijan/1981",3.1789999999999998,64.995999999999995,6258490]
[null,"Azerbaijan","Europe",1982,"Azerbaijan/1982",3.0920000000000001,65.108000000000004,6358780]
[null,"Azerbaijan","Europe",1983,"Azerbaijan/1983",3.0259999999999998,65.283000000000001,6461139]
[null,"Azerbaijan","Europe",1984,"Azerbaijan/1984",2.98,65.498999999999995,6565062]
[null,"Azerbaijan","Europe",1985,"Azerbaijan/1985",2.9540000000000002,65.694999999999993,6670151]
[null,"Azerbaijan","Europe",1986,"Azerbaijan/1986",2.9470000000000001,65.796000000000006,6775858]
[null,"Azerbaijan","Europe",1987,"Azerbaijan/1987",2.9529999999999998,65.757000000000005,6882160]
[null,"Azerbaijan","Europe",1988,"Azerbaijan/1988",2.964,65.566999999999993,6989708]
[null,"Azerbaijan","Europe",1989,"Azerbaijan/1989",2.9729999999999999,65.245999999999995,7099449]
[null,"Azerbaijan","Europe",1990,"Azerbaijan/1990",2.9689999999999999,64.858000000000004,7211692]
[null,"Azerbaijan","Europe",1991,"Azerbaijan/1991",2.94,64.494,7327570]
[null,"Azerbaijan","Europe",1992,"Azerbaijan/1992",2.883,64.245000000000005,7445925]
[null,"Azerbaijan","Europe",1993,"Azerbaijan/1993",2.7989999999999999,64.171000000000006,7562075]
[null,"Azerbaijan","Europe",1994,"Azerbaijan/1994",2.6880000000000002,64.290999999999997,7669735]
[null,"Azerbaijan","Europe",1995,"Azerbaijan/1995",2.5609999999999999,64.590999999999994,7764798]
[null,"Azerbaijan","Europe",1996,"Azerbaijan/1996",2.427,65.022999999999996,7845310]
[null,"Azerbaijan","Europe",1997,"Azerbaijan/1997",2.3010000000000002,65.510999999999996,7913692]
[null,"Azerbaijan","Europe",1998,"Azerbaijan/1998",2.1930000000000001,65.989999999999995,7975648]
[null,"Azerbaijan","Europe",1999,"Azerbaijan/1999",2.1080000000000001,66.438000000000002,8039312]
[null,"Azerbaijan","Europe",2000,"Azerbaijan/2000",2.0489999999999999,66.850999999999999,8110723]
[null,"Azerbaijan","Europe",2001,"Azerbaijan/2001",2.0139999999999998,67.248999999999995,8191464]
[null,"Azerbaijan","Europe",2002,"Azerbaijan/2002",1.9970000000000001,67.662000000000006,8280252]
[null,"Azerbaijan","Europe",2003,"Azerbaijan/2003",1.9890000000000001,68.105000000000004,8376733]
[null,"Azerbaijan","Europe",2004,"Azerbaijan/2004",1.9870000000000001,68.569999999999993,8479668]
[null,"Azerbaijan","Europe",2005,"Azerbaijan/2005",1.988,69.033000000000001,8587902]
[null,"Azerbaijan","Europe",2006,"Azerbaijan/2006",1.9890000000000001,69.465999999999994,8701719]
[null,"Azerbaijan","Europe",2007,"Azerbaijan/2007",1.9890000000000001,69.840999999999994,8821012]
[null,"Azerbaijan","Europe",2008,"Azerbaijan/2008",1.986,70.141999999999996,8943600]
[null,"Azerbaijan","Europe",2009,"Azerbaijan/2009",1.98,70.366,9066604]
[null,"Azerbaijan","Europe",2010,"Azerbaijan/2010",1.97,70.518000000000001,9187783]
[null,"Azerbaijan","Europe",2011,"Azerbaijan/2011",1.956,70.616,9306023]
[null,"Azerbaijan","Europe",2012,"Azerbaijan/2012",1.94,70.686000000000007,9421233]
[null,"Azerbaijan","Europe",2013,"Azerbaijan/2013",1.9239999999999999,70.753,9533445]
[null,"Bahamas","Latin America + Caribbean",1950,"Bahamas/1950",3.9780000000000002,59.179000000000002,79088]
[null,"Bahamas","Latin America + Caribbean",1951,"Bahamas/1951",3.9910000000000001,59.395000000000003,79982]
[null,"Bahamas","Latin America + Caribbean",1952,"Bahamas/1952",4.0209999999999999,59.823999999999998,81426]
[null,"Bahamas","Latin America + Caribbean",1953,"Bahamas/1953",4.0620000000000003,60.241999999999997,83368]
[null,"Bahamas","Latin America + Caribbean",1954,"Bahamas/1954",4.1150000000000002,60.649000000000001,85773]
[null,"Bahamas","Latin America + Caribbean",1955,"Bahamas/1955",4.1779999999999999,61.046999999999997,88616]
[null,"Bahamas","Latin America + Caribbean",1956,"Bahamas/1956",4.2480000000000002,61.433999999999997,91890]
[null,"Bahamas","Latin America + Caribbean",1957,"Bahamas/1957",4.3230000000000004,61.81,95601]
[null,"Bahamas","Latin America + Caribbean",1958,"Bahamas/1958",4.3970000000000002,62.177,99765]
[null,"Bahamas","Latin America + Caribbean",1959,"Bahamas/1959",4.4580000000000002,62.533999999999999,104405]
[null,"Bahamas","Latin America + Caribbean",1960,"Bahamas/1960",4.4950000000000001,62.881,109527]
[null,"Bahamas","Latin America + Caribbean",1961,"Bahamas/1961",4.4960000000000004,63.22,115112]
[null,"Bahamas","Latin America + Caribbean",1962,"Bahamas/1962",4.45,63.551000000000002,121090]
[null,"Bahamas","Latin America + Caribbean",1963,"Bahamas/1963",4.3559999999999999,63.872999999999998,127340]
[null,"Bahamas","Latin America + Caribbean",1964,"Bahamas/1964",4.22,64.188999999999993,133709]
[null,"Bahamas","Latin America + Caribbean",1965,"Bahamas/1965",4.0570000000000004,64.498000000000005,140063]
[null,"Bahamas","Latin America + Caribbean",1966,"Bahamas/1966",3.8929999999999998,64.8,146379]
[null,"Bahamas","Latin America + Caribbean",1967,"Bahamas/1967",3.75,65.094999999999999,152623]
[null,"Bahamas","Latin America + Caribbean",1968,"Bahamas/1968",3.641,65.382999999999996,158644]
[null,"Bahamas","Latin America + Caribbean",1969,"Bahamas/1969",3.5710000000000002,65.665000000000006,164263]
[null,"Bahamas","Latin America + Caribbean",1970,"Bahamas/1970",3.5310000000000001,65.942999999999998,169367]
[null,"Bahamas","Latin America + Caribbean",1971,"Bahamas/1971",3.504,66.218000000000004,173875]
[null,"Bahamas","Latin America + Caribbean",1972,"Bahamas/1972",3.4689999999999999,66.489999999999995,177849]
[null,"Bahamas","Latin America + Caribbean",1973,"Bahamas/1973",3.411,66.759,181490]
[null,"Bahamas","Latin America + Caribbean",1974,"Bahamas/1974",3.33,67.027000000000001,185091]
[null,"Bahamas","Latin America + Caribbean",1975,"Bahamas/1975",3.234,67.290999999999997,188870]
[null,"Bahamas","Latin America + Caribbean",1976,"Bahamas/1976",3.1389999999999998,67.55,192885]
[null,"Bahamas","Latin America + Caribbean",1977,"Bahamas/1977",3.0619999999999998,67.802999999999997,197090]
[null,"Bahamas","Latin America + Caribbean",1978,"Bahamas/1978",3.012,68.05,201474]
[null,"Bahamas","Latin America + Caribbean",1979,"Bahamas/1979",2.99,68.290000000000006,205990]
[null,"Bahamas","Latin America + Caribbean",1980,"Bahamas/1980",2.9889999999999999,68.524000000000001,210600]
[null,"Bahamas","Latin America + Caribbean",1981,"Bahamas/1981",2.9940000000000002,68.754999999999995,215330]
[null,"Bahamas","Latin America + Caribbean",1982,"Bahamas/1982",2.9889999999999999,68.983999999999995,220188]
[null,"Bahamas","Latin America + Caribbean",1983,"Bahamas/1983",2.9649999999999999,69.212000000000003,225083]
[null,"Bahamas","Latin America + Caribbean",1984,"Bahamas/1984",2.919,69.438000000000002,229899]
[null,"Bahamas","Latin America + Caribbean",1985,"Bahamas/1985",2.8570000000000002,69.662999999999997,234553]
[null,"Bahamas","Latin America + Caribbean",1986,"Bahamas/1986",2.7890000000000001,69.885999999999996,238989]
[null,"Bahamas","Latin America + Caribbean",1987,"Bahamas/1987",2.7280000000000002,70.103999999999999,243236]
[null,"Bahamas","Latin America + Caribbean",1988,"Bahamas/1988",2.6829999999999998,70.316000000000003,247409]
[null,"Bahamas","Latin America + Caribbean",1989,"Bahamas/1989",2.6539999999999999,70.518000000000001,251671]
[null,"Bahamas","Latin America + Caribbean",1990,"Bahamas/1990",2.6389999999999998,70.704999999999998,256128]
[null,"Bahamas","Latin America + Caribbean",1991,"Bahamas/1991",2.6309999999999998,70.869,260845]
[null,"Bahamas","Latin America + Caribbean",1992,"Bahamas/1992",2.621,71.010000000000005,265761]
[null,"Bahamas","Latin America + Caribbean",1993,"Bahamas/1993",2.601,71.131,270701]
[null,"Bahamas","Latin America + Caribbean",1994,"Bahamas/1994",2.5659999999999998,71.239000000000004,275426]
[null,"Bahamas","Latin America + Caribbean",1995,"Bahamas/1995",2.5139999999999998,71.350999999999999,279774]
[null,"Bahamas","Latin America + Caribbean",1996,"Bahamas/1996",2.4430000000000001,71.481999999999999,283677]
[null,"Bahamas","Latin America + Caribbean",1997,"Bahamas/1997",2.3570000000000002,71.646000000000001,287217]
[null,"Bahamas","Latin America + Caribbean",1998,"Bahamas/1998",2.2629999999999999,71.849999999999994,290571]
[null,"Bahamas","Latin America + Caribbean",1999,"Bahamas/1999",2.165,72.093000000000004,293988]
[null,"Bahamas","Latin America + Caribbean",2000,"Bahamas/2000",2.0710000000000002,72.37,297651]
[null,"Bahamas","Latin America + Caribbean",2001,"Bahamas/2001",1.9890000000000001,72.668000000000006,301606]
[null,"Bahamas","Latin America + Caribbean",2002,"Bahamas/2002",1.9239999999999999,72.971000000000004,305801]
[null,"Bahamas","Latin America + Caribbean",2003,"Bahamas/2003",1.88,73.263999999999996,310201]
[null,"Bahamas","Latin America + Caribbean",2004,"Bahamas/2004",1.857,73.537999999999997,314739]
[null,"Bahamas","Latin America + Caribbean",2005,"Bahamas/2005",1.853,73.787000000000006,319358]
[null,"Bahamas","Latin America + Caribbean",2006,"Bahamas/2006",1.8620000000000001,74.010999999999996,324066]
[null,"Bahamas","Latin America + Caribbean",2007,"Bahamas/2007",1.8759999999999999,74.215999999999994,328861]
[null,"Bahamas","Latin America + Caribbean",2008,"Bahamas/2008",1.889,74.406999999999996,333661]
[null,"Bahamas","Latin America + Caribbean",2009,"Bahamas/2009",1.8979999999999999,74.587000000000003,338358]
[null,"Bahamas","Latin America + Caribbean",2010,"Bahamas/2010",1.901,74.757000000000005,342877]
[null,"Bahamas","Latin America + Caribbean",2011,"Bahamas/2011",1.8979999999999999,74.92,347176]
[null,"Bahamas","Latin America + Caribbean",2012,"Bahamas/2012",1.893,75.078999999999994,351275]
[null,"Bahamas","Latin America + Caribbean",2013,"Bahamas/2013",1.8879999999999999,75.236999999999995,355233]
[null,"Bahrain","West Asia",1950,"Bahrain/1950",7.0309999999999997,41.164000000000001,115612]
[null,"Bahrain","West Asia",1951,"Bahrain/1951",7.0090000000000003,41.582999999999998,116860]
[null,"Bahrain","West Asia",1952,"Bahrain/1952",6.9729999999999999,42.459000000000003,119567]
[null,"Bahrain","West Asia",1953,"Bahrain/1953",6.9489999999999998,43.405999999999999,123402]
[null,"Bahrain","West Asia",1954,"Bahrain/1954",6.9370000000000003,44.424999999999997,128072]
[null,"Bahrain","West Asia",1955,"Bahrain/1955",6.9379999999999997,45.515000000000001,133321]
[null,"Bahrain","West Asia",1956,"Bahrain/1956",6.95,46.674999999999997,138929]
[null,"Bahrain","West Asia",1957,"Bahrain/1957",6.9740000000000002,47.9,144713]
[null,"Bahrain","West Asia",1958,"Bahrain/1958",7.0069999999999997,49.182000000000002,150526]
[null,"Bahrain","West Asia",1959,"Bahrain/1959",7.0469999999999997,50.509,156258]
[null,"Bahrain","West Asia",1960,"Bahrain/1960",7.09,51.866,161825]
[null,"Bahrain","West Asia",1961,"Bahrain/1961",7.1319999999999997,53.231999999999999,167179]
[null,"Bahrain","West Asia",1962,"Bahrain/1962",7.1680000000000001,54.588000000000001,172294]
[null,"Bahrain","West Asia",1963,"Bahrain/1963",7.19,55.91,177170]
[null,"Bahrain","West Asia",1964,"Bahrain/1964",7.1920000000000002,57.182000000000002,181833]
[null,"Bahrain","West Asia",1965,"Bahrain/1965",7.165,58.389000000000003,186351]
[null,"Bahrain","West Asia",1966,"Bahrain/1966",7.101,59.526000000000003,190734]
[null,"Bahrain","West Asia",1967,"Bahrain/1967",6.9980000000000002,60.598999999999997,195111]
[null,"Bahrain","West Asia",1968,"Bahrain/1968",6.86,61.610999999999997,199818]
[null,"Bahrain","West Asia",1969,"Bahrain/1969",6.69,62.561999999999998,205291]
[null,"Bahrain","West Asia",1970,"Bahrain/1970",6.4980000000000002,63.45,211878]
[null,"Bahrain","West Asia",1971,"Bahrain/1971",6.2930000000000001,64.275999999999996,219532]
[null,"Bahrain","West Asia",1972,"Bahrain/1972",6.0890000000000004,65.043000000000006,228255]
[null,"Bahrain","West Asia",1973,"Bahrain/1973",5.8949999999999996,65.757000000000005,238468]
[null,"Bahrain","West Asia",1974,"Bahrain/1974",5.7160000000000002,66.421000000000006,250683]
[null,"Bahrain","West Asia",1975,"Bahrain/1975",5.556,67.040000000000006,265160]
[null,"Bahrain","West Asia",1976,"Bahrain/1976",5.4139999999999997,67.614999999999995,282245]
[null,"Bahrain","West Asia",1977,"Bahrain/1977",5.2830000000000004,68.150999999999996,301559]
[null,"Bahrain","West Asia",1978,"Bahrain/1978",5.157,68.650000000000006,321751]
[null,"Bahrain","West Asia",1979,"Bahrain/1979",5.0359999999999996,69.116,340980]
[null,"Bahrain","West Asia",1980,"Bahrain/1980",4.9169999999999998,69.549000000000007,357957]
[null,"Bahrain","West Asia",1981,"Bahrain/1981",4.8019999999999996,69.95,372074]
[null,"Bahrain","West Asia",1982,"Bahrain/1982",4.6900000000000004,70.319000000000003,383785]
[null,"Bahrain","West Asia",1983,"Bahrain/1983",4.5810000000000004,70.656000000000006,394164]
[null,"Bahrain","West Asia",1984,"Bahrain/1984",4.4720000000000004,70.965000000000003,404829]
[null,"Bahrain","West Asia",1985,"Bahrain/1985",4.3620000000000001,71.248000000000005,416929]
[null,"Bahrain","West Asia",1986,"Bahrain/1986",4.2480000000000002,71.507000000000005,430845]
[null,"Bahrain","West Asia",1987,"Bahrain/1987",4.1280000000000001,71.745000000000005,446142]
[null,"Bahrain","West Asia",1988,"Bahrain/1988",4.0019999999999998,71.966999999999999,462184]
[null,"Bahrain","West Asia",1989,"Bahrain/1989",3.8719999999999999,72.177000000000007,477995]
[null,"Bahrain","West Asia",1990,"Bahrain/1990",3.738,72.382000000000005,492891]
[null,"Bahrain","West Asia",1991,"Bahrain/1991",3.601,72.587000000000003,506685]
[null,"Bahrain","West Asia",1992,"Bahrain/1992",3.4660000000000002,72.793999999999997,519696]
[null,"Bahrain","West Asia",1993,"Bahrain/1993",3.335,73.004000000000005,532362]
[null,"Bahrain","West Asia",1994,"Bahrain/1994",3.2120000000000002,73.22,545329]
[null,"Bahrain","West Asia",1995,"Bahrain/1995",3.1,73.438999999999993,559069]
[null,"Bahrain","West Asia",1996,"Bahrain/1996",3.0049999999999999,73.661000000000001,574914]
[null,"Bahrain","West Asia",1997,"Bahrain/1997",2.9260000000000002,73.879000000000005,592986]
[null,"Bahrain","West Asia",1998,"Bahrain/1998",2.8620000000000001,74.091999999999999,611237]
[null,"Bahrain","West Asia",1999,"Bahrain/1999",2.81,74.298000000000002,626765]
[null,"Bahrain","West Asia",2000,"Bahrain/2000",2.7650000000000001,74.497,638193]
[null,"Bahrain","West Asia",2001,"Bahrain/2001",2.718,74.69,642510]
[null,"Bahrain","West Asia",2002,"Bahrain/2002",2.665,74.879000000000005,642070]
[null,"Bahrain","West Asia",2003,"Bahrain/2003",2.6019999999999999,75.063999999999993,647164]
[null,"Bahrain","West Asia",2004,"Bahrain/2004",2.5289999999999999,75.247,671760]
[null,"Bahrain","West Asia",2005,"Bahrain/2005",2.4489999999999998,75.424000000000007,724807]
[null,"Bahrain","West Asia",2006,"Bahrain/2006",2.367,75.594999999999999,811410]
[null,"Bahrain","West Asia",2007,"Bahrain/2007",2.2919999999999998,75.759,925733]
[null,"Bahrain","West Asia",2008,"Bahrain/2008",2.2290000000000001,75.914000000000001,1052359]
[null,"Bahrain","West Asia",2009,"Bahrain/2009",2.1789999999999998,76.061999999999998,1169578]
[null,"Bahrain","West Asia",2010,"Bahrain/2010",2.1419999999999999,76.203000000000003,1261835]
[null,"Bahrain","West Asia",2011,"Bahrain/2011",2.1150000000000002,76.338999999999999,1323535]
[null,"Bahrain","West Asia",2012,"Bahrain/2012",2.0939999999999999,76.474000000000004,1359485]
[null,"Bahrain","West Asia",2013,"Bahrain/2013",2.0750000000000002,76.608000000000004,1377273]
[null,"Bangladesh","Asia + Pacific",1950,"Bangladesh/1950",6.2329999999999997,42.875,37894678]
[null,"Bangladesh","Asia + Pacific",1951,"Bangladesh/1951",6.266,43.037999999999997,39112507]
[null,"Bangladesh","Asia + Pacific",1952,"Bangladesh/1952",6.3310000000000004,43.375999999999998,40207573]
[null,"Bangladesh","Asia + Pacific",1953,"Bangladesh/1953",6.3920000000000003,43.738999999999997,41257838]
[null,"Bangladesh","Asia + Pacific",1954,"Bangladesh/1954",6.45,44.127000000000002,42322978]
[null,"Bangladesh","Asia + Pacific",1955,"Bangladesh/1955",6.5039999999999996,44.540999999999997,43444382]
[null,"Bangladesh","Asia + Pacific",1956,"Bangladesh/1956",6.5549999999999997,44.984000000000002,44644395]
[null,"Bangladesh","Asia + Pacific",1957,"Bangladesh/1957",6.6020000000000003,45.453000000000003,45927072]
[null,"Bangladesh","Asia + Pacific",1958,"Bangladesh/1958",6.6459999999999999,45.951000000000001,47280463]
[null,"Bangladesh","Asia + Pacific",1959,"Bangladesh/1959",6.6870000000000003,46.478999999999999,48680410]
[null,"Bangladesh","Asia + Pacific",1960,"Bangladesh/1960",6.7249999999999996,47.036999999999999,50101943]
[null,"Bangladesh","Asia + Pacific",1961,"Bangladesh/1961",6.7610000000000001,47.618000000000002,51531438]
[null,"Bangladesh","Asia + Pacific",1962,"Bangladesh/1962",6.7939999999999996,48.209000000000003,52977254]
[null,"Bangladesh","Asia + Pacific",1963,"Bangladesh/1963",6.8250000000000002,48.781999999999996,54474293]
[null,"Bangladesh","Asia + Pacific",1964,"Bangladesh/1964",6.8529999999999998,49.296999999999997,56071080]
[null,"Bangladesh","Asia + Pacific",1965,"Bangladesh/1965",6.8780000000000001,49.652000000000001,57791778]
[null,"Bangladesh","Asia + Pacific",1966,"Bangladesh/1966",6.9009999999999998,49.734000000000002,59681186]
[null,"Bangladesh","Asia + Pacific",1967,"Bangladesh/1967",6.92,49.509,61702785]
[null,"Bangladesh","Asia + Pacific",1968,"Bangladesh/1968",6.9349999999999996,49.008000000000003,63703327]
[null,"Bangladesh","Asia + Pacific",1969,"Bangladesh/1969",6.9450000000000003,48.307000000000002,65474474]
[null,"Bangladesh","Asia + Pacific",1970,"Bangladesh/1970",6.9470000000000001,47.58,66881158]
[null,"Bangladesh","Asia + Pacific",1971,"Bangladesh/1971",6.9420000000000002,47.045999999999999,67849312]
[null,"Bangladesh","Asia + Pacific",1972,"Bangladesh/1972",6.9279999999999999,46.874000000000002,68461849]
[null,"Bangladesh","Asia + Pacific",1973,"Bangladesh/1973",6.9039999999999999,47.161999999999999,68933357]
[null,"Bangladesh","Asia + Pacific",1974,"Bangladesh/1974",6.8689999999999998,47.917999999999999,69567500]
[null,"Bangladesh","Asia + Pacific",1975,"Bangladesh/1975",6.8209999999999997,49.061,70582168]
[null,"Bangladesh","Asia + Pacific",1976,"Bangladesh/1976",6.758,50.435000000000002,72053923]
[null,"Bangladesh","Asia + Pacific",1977,"Bangladesh/1977",6.68,51.828000000000003,73915723]
[null,"Bangladesh","Asia + Pacific",1978,"Bangladesh/1978",6.5869999999999997,53.070999999999998,76066342]
[null,"Bangladesh","Asia + Pacific",1979,"Bangladesh/1979",6.48,54.093000000000004,78342736]
[null,"Bangladesh","Asia + Pacific",1980,"Bangladesh/1980",6.3559999999999999,54.872,80624423]
[null,"Bangladesh","Asia + Pacific",1981,"Bangladesh/1981",6.2160000000000002,55.445999999999998,82883616]
[null,"Bangladesh","Asia + Pacific",1982,"Bangladesh/1982",6.06,55.920999999999999,85156396]
[null,"Bangladesh","Asia + Pacific",1983,"Bangladesh/1983",5.89,56.384,87459802]
[null,"Bangladesh","Asia + Pacific",1984,"Bangladesh/1984",5.71,56.860999999999997,89828434]
[null,"Bangladesh","Asia + Pacific",1985,"Bangladesh/1985",5.5220000000000002,57.368000000000002,92283598]
[null,"Bangladesh","Asia + Pacific",1986,"Bangladesh/1986",5.327,57.9,94825499]
[null,"Bangladesh","Asia + Pacific",1987,"Bangladesh/1987",5.13,58.439,97429290]
[null,"Bangladesh","Asia + Pacific",1988,"Bangladesh/1988",4.9320000000000004,58.97,100062322]
[null,"Bangladesh","Asia + Pacific",1989,"Bangladesh/1989",4.7380000000000004,59.493000000000002,102681627]
[null,"Bangladesh","Asia + Pacific",1990,"Bangladesh/1990",4.55,60.014000000000003,105256026]
[null,"Bangladesh","Asia + Pacific",1991,"Bangladesh/1991",4.37,60.536999999999999,107768749]
[null,"Bangladesh","Asia + Pacific",1992,"Bangladesh/1992",4.1970000000000001,61.066000000000003,110225555]
[null,"Bangladesh","Asia + Pacific",1993,"Bangladesh/1993",4.0330000000000004,61.601999999999997,112645460]
[null,"Bangladesh","Asia + Pacific",1994,"Bangladesh/1994",3.8780000000000001,62.146000000000001,115059015]
[null,"Bangladesh","Asia + Pacific",1995,"Bangladesh/1995",3.7320000000000002,62.692999999999998,117486952]
[null,"Bangladesh","Asia + Pacific",1996,"Bangladesh/1996",3.5960000000000001,63.24,119928682]
[null,"Bangladesh","Asia + Pacific",1997,"Bangladesh/1997",3.468,63.78,122370403]
[null,"Bangladesh","Asia + Pacific",1998,"Bangladesh/1998",3.3460000000000001,64.307000000000002,124803351]
[null,"Bangladesh","Asia + Pacific",1999,"Bangladesh/1999",3.2309999999999999,64.819000000000003,127214841]
[null,"Bangladesh","Asia + Pacific",2000,"Bangladesh/2000",3.12,65.308999999999997,129592275]
[null,"Bangladesh","Asia + Pacific",2001,"Bangladesh/2001",3.0110000000000001,65.777000000000001,131944584]
[null,"Bangladesh","Asia + Pacific",2002,"Bangladesh/2002",2.9049999999999998,66.222999999999999,134266428]
[null,"Bangladesh","Asia + Pacific",2003,"Bangladesh/2003",2.802,66.650999999999996,136514768]
[null,"Bangladesh","Asia + Pacific",2004,"Bangladesh/2004",2.702,67.063999999999993,138633401]
[null,"Bangladesh","Asia + Pacific",2005,"Bangladesh/2005",2.6070000000000002,67.465000000000003,140587922]
[null,"Bangladesh","Asia + Pacific",2006,"Bangladesh/2006",2.52,67.86,142353501]
[null,"Bangladesh","Asia + Pacific",2007,"Bangladesh/2007",2.4430000000000001,68.253,143956805]
[null,"Bangladesh","Asia + Pacific",2008,"Bangladesh/2008",2.3769999999999998,68.647999999999996,145478300]
[null,"Bangladesh","Asia + Pacific",2009,"Bangladesh/2009",2.3220000000000001,69.046000000000006,147030145]
[null,"Bangladesh","Asia + Pacific",2010,"Bangladesh/2010",2.2770000000000001,69.448999999999998,148692131]
[null,"Bangladesh","Asia + Pacific",2011,"Bangladesh/2011",2.2400000000000002,69.853999999999999,150493658]
[null,"Bangladesh","Asia + Pacific",2012,"Bangladesh/2012",2.2080000000000002,70.257999999999996,152408774]
[null,"Bangladesh","Asia + Pacific",2013,"Bangladesh/2013",2.177,70.656999999999996,154393847]
[null,"Barbados","Latin America + Caribbean",1950,"Barbados/1950",4.516,56.124000000000002,210995]
[null,"Barbados","Latin America + Caribbean",1951,"Barbados/1951",4.4850000000000003,56.4,215673]
[null,"Barbados","Latin America + Caribbean",1952,"Barbados/1952",4.4290000000000003,56.95,219587]
[null,"Barbados","Latin America + Caribbean",1953,"Barbados/1953",4.3860000000000001,57.491,222747]
[null,"Barbados","Latin America + Caribbean",1954,"Barbados/1954",4.3550000000000004,58.023000000000003,225194]
[null,"Barbados","Latin America + Caribbean",1955,"Barbados/1955",4.3360000000000003,58.546999999999997,226999]
[null,"Barbados","Latin America + Caribbean",1956,"Barbados/1956",4.327,59.061999999999998,228265]
[null,"Barbados","Latin America + Caribbean",1957,"Barbados/1957",4.3280000000000003,59.569000000000003,229123]
[null,"Barbados","Latin America + Caribbean",1958,"Barbados/1958",4.3330000000000002,60.066000000000003,229728]
[null,"Barbados","Latin America + Caribbean",1959,"Barbados/1959",4.3369999999999997,60.552999999999997,230248]
[null,"Barbados","Latin America + Caribbean",1960,"Barbados/1960",4.3330000000000002,61.03,230831]
[null,"Barbados","Latin America + Caribbean",1961,"Barbados/1961",4.3129999999999997,61.496000000000002,231574]
[null,"Barbados","Latin America + Caribbean",1962,"Barbados/1962",4.2690000000000001,61.948999999999998,232490]
[null,"Barbados","Latin America + Caribbean",1963,"Barbados/1963",4.1959999999999997,62.390999999999998,233496]
[null,"Barbados","Latin America + Caribbean",1964,"Barbados/1964",4.0940000000000003,62.819000000000003,234455]
[null,"Barbados","Latin America + Caribbean",1965,"Barbados/1965",3.9630000000000001,63.235999999999997,235271]
[null,"Barbados","Latin America + Caribbean",1966,"Barbados/1966",3.8069999999999999,63.640999999999998,235912]
[null,"Barbados","Latin America + Caribbean",1967,"Barbados/1967",3.637,64.036000000000001,236443]
[null,"Barbados","Latin America + Caribbean",1968,"Barbados/1968",3.46,64.421999999999997,236974]
[null,"Barbados","Latin America + Caribbean",1969,"Barbados/1969",3.2839999999999998,64.798000000000002,237657]
[null,"Barbados","Latin America + Caribbean",1970,"Barbados/1970",3.113,65.164000000000001,238593]
[null,"Barbados","Latin America + Caribbean",1971,"Barbados/1971",2.9489999999999998,65.519000000000005,239841]
[null,"Barbados","Latin America + Caribbean",1972,"Barbados/1972",2.794,65.863,241345]
[null,"Barbados","Latin America + Caribbean",1973,"Barbados/1973",2.6480000000000001,66.194999999999993,242949]
[null,"Barbados","Latin America + Caribbean",1974,"Barbados/1974",2.5129999999999999,66.519000000000005,244433]
[null,"Barbados","Latin America + Caribbean",1975,"Barbados/1975",2.3929999999999998,66.834000000000003,245646]
[null,"Barbados","Latin America + Caribbean",1976,"Barbados/1976",2.2879999999999998,67.144999999999996,246523]
[null,"Barbados","Latin America + Caribbean",1977,"Barbados/1977",2.198,67.453999999999994,247128]
[null,"Barbados","Latin America + Caribbean",1978,"Barbados/1978",2.121,67.762,247589]
[null,"Barbados","Latin America + Caribbean",1979,"Barbados/1979",2.0569999999999999,68.067999999999998,248101]
[null,"Barbados","Latin America + Caribbean",1980,"Barbados/1980",2.004,68.373999999999995,248796]
[null,"Barbados","Latin America + Caribbean",1981,"Barbados/1981",1.96,68.674999999999997,249716]
[null,"Barbados","Latin America + Caribbean",1982,"Barbados/1982",1.9219999999999999,68.971999999999994,250809]
[null,"Barbados","Latin America + Caribbean",1983,"Barbados/1983",1.889,69.260000000000005,252017]
[null,"Barbados","Latin America + Caribbean",1984,"Barbados/1984",1.8580000000000001,69.540000000000006,253244]
[null,"Barbados","Latin America + Caribbean",1985,"Barbados/1985",1.83,69.811999999999998,254419]
[null,"Barbados","Latin America + Caribbean",1986,"Barbados/1986",1.8049999999999999,70.076999999999998,255532]
[null,"Barbados","Latin America + Caribbean",1987,"Barbados/1987",1.782,70.334999999999994,256602]
[null,"Barbados","Latin America + Caribbean",1988,"Barbados/1988",1.7649999999999999,70.588999999999999,257621]
[null,"Barbados","Latin America + Caribbean",1989,"Barbados/1989",1.75,70.837000000000003,258588]
[null,"Barbados","Latin America + Caribbean",1990,"Barbados/1990",1.74,71.078999999999994,259501]
[null,"Barbados","Latin America + Caribbean",1991,"Barbados/1991",1.732,71.313999999999993,260351]
[null,"Barbados","Latin America + Caribbean",1992,"Barbados/1992",1.7270000000000001,71.542000000000002,261136]
[null,"Barbados","Latin America + Caribbean",1993,"Barbados/1993",1.7250000000000001,71.760999999999996,261885]
[null,"Barbados","Latin America + Caribbean",1994,"Barbados/1994",1.724,71.971999999999994,262637]
[null,"Barbados","Latin America + Caribbean",1995,"Barbados/1995",1.726,72.174999999999997,263416]
[null,"Barbados","Latin America + Caribbean",1996,"Barbados/1996",1.73,72.372,264237]
[null,"Barbados","Latin America + Caribbean",1997,"Barbados/1997",1.736,72.563000000000002,265088]
[null,"Barbados","Latin America + Caribbean",1998,"Barbados/1998",1.7450000000000001,72.751000000000005,265941]
[null,"Barbados","Latin America + Caribbean",1999,"Barbados/1999",1.756,72.935000000000002,266758]
[null,"Barbados","Latin America + Caribbean",2000,"Barbados/2000",1.768,73.117999999999995,267511]
[null,"Barbados","Latin America + Caribbean",2001,"Barbados/2001",1.78,73.3,268192]
[null,"Barbados","Latin America + Caribbean",2002,"Barbados/2002",1.7909999999999999,73.480999999999995,268813]
[null,"Barbados","Latin America + Caribbean",2003,"Barbados/2003",1.8009999999999999,73.661000000000001,269389]
[null,"Barbados","Latin America + Caribbean",2004,"Barbados/2004",1.81,73.84,269947]
[null,"Barbados","Latin America + Caribbean",2005,"Barbados/2005",1.8169999999999999,74.018000000000001,270503]
[null,"Barbados","Latin America + Caribbean",2006,"Barbados/2006",1.8220000000000001,74.194000000000003,271062]
[null,"Barbados","Latin America + Caribbean",2007,"Barbados/2007",1.827,74.367999999999995,271618]
[null,"Barbados","Latin America + Caribbean",2008,"Barbados/2008",1.831,74.539000000000001,272180]
[null,"Barbados","Latin America + Caribbean",2009,"Barbados/2009",1.835,74.707999999999998,272750]
[null,"Barbados","Latin America + Caribbean",2010,"Barbados/2010",1.839,74.875,273331]
[null,"Barbados","Latin America + Caribbean",2011,"Barbados/2011",1.8420000000000001,75.040999999999997,273925]
[null,"Barbados","Latin America + Caribbean",2012,"Barbados/2012",1.845,75.204999999999998,274530]
[null,"Barbados","Latin America + Caribbean",2013,"Barbados/2013",1.849,75.37,275141]
[null,"Belarus","Europe",1950,"Belarus/1950",2.5310000000000001,65.022000000000006,7745003]
[null,"Belarus","Europe",1951,"Belarus/1951",2.5529999999999999,65.247,7717670]
[null,"Belarus","Europe",1952,"Belarus/1952",2.5950000000000002,65.691999999999993,7710974]
[null,"Belarus","Europe",1953,"Belarus/1953",2.6320000000000001,66.125,7724055]
[null,"Belarus","Europe",1954,"Belarus/1954",2.665,66.548000000000002,7755530]
[null,"Belarus","Europe",1955,"Belarus/1955",2.6930000000000001,66.957999999999998,7803500]
[null,"Belarus","Europe",1956,"Belarus/1956",2.7160000000000002,67.356999999999999,7865511]
[null,"Belarus","Europe",1957,"Belarus/1957",2.734,67.742000000000004,7938588]
[null,"Belarus","Europe",1958,"Belarus/1958",2.746,68.111000000000004,8019355]
[null,"Belarus","Europe",1959,"Belarus/1959",2.75,69.06,8104231]
[null,"Belarus","Europe",1960,"Belarus/1960",2.7429999999999999,71.849999999999994,8190006]
[null,"Belarus","Europe",1961,"Belarus/1961",2.726,72.569999999999993,8274466]
[null,"Belarus","Europe",1962,"Belarus/1962",2.6949999999999998,71.290000000000006,8356938]
[null,"Belarus","Europe",1963,"Belarus/1963",2.653,71.95,8438517]
[null,"Belarus","Europe",1964,"Belarus/1964",2.601,73.48,8521413]
[null,"Belarus","Europe",1965,"Belarus/1965",2.5430000000000001,73.02,8607003]
[null,"Belarus","Europe",1966,"Belarus/1966",2.4830000000000001,73.38,8695396]
[null,"Belarus","Europe",1967,"Belarus/1967",2.427,73.13,8785093]
[null,"Belarus","Europe",1968,"Belarus/1968",2.3780000000000001,73.239999999999995,8874033]
[null,"Belarus","Europe",1969,"Belarus/1969",2.3370000000000002,72.84,8959479]
[null,"Belarus","Europe",1970,"Belarus/1970",2.3039999999999998,72.319999999999993,9039503]
[null,"Belarus","Europe",1971,"Belarus/1971",2.2749999999999999,72.959999999999994,9113454]
[null,"Belarus","Europe",1972,"Belarus/1972",2.2480000000000002,72.67,9181971]
[null,"Belarus","Europe",1973,"Belarus/1973",2.2200000000000002,72.709999999999994,9246050]
[null,"Belarus","Europe",1974,"Belarus/1974",2.19,73.010000000000005,9307285]
[null,"Belarus","Europe",1975,"Belarus/1975",2.16,72.08,9367004]
[null,"Belarus","Europe",1976,"Belarus/1976",2.1320000000000001,71.92,9425089]
[null,"Belarus","Europe",1977,"Belarus/1977",2.11,71.86,9481560]
[null,"Belarus","Europe",1978,"Belarus/1978",2.0939999999999999,71.72,9538046]
[null,"Belarus","Europe",1979,"Belarus/1979",2.0840000000000001,71.319999999999993,9596589]
[null,"Belarus","Europe",1980,"Belarus/1980",2.081,71.08,9658500]
[null,"Belarus","Europe",1981,"Belarus/1981",2.0840000000000001,71.36,9724106]
[null,"Belarus","Europe",1982,"Belarus/1982",2.09,71.489999999999995,9792555]
[null,"Belarus","Europe",1983,"Belarus/1983",2.0960000000000001,71.28,9862430]
[null,"Belarus","Europe",1984,"Belarus/1984",2.0990000000000002,70.650000000000006,9931687]
[null,"Belarus","Europe",1985,"Belarus/1985",2.0939999999999999,70.86,9998503]
[null,"Belarus","Europe",1986,"Belarus/1986",2.0779999999999998,72.25,10062440]
[null,"Belarus","Europe",1987,"Belarus/1987",2.0499999999999998,72.150000000000006,10122880]
[null,"Belarus","Europe",1988,"Belarus/1988",2.008,71.89,10177584]
[null,"Belarus","Europe",1989,"Belarus/1989",1.9530000000000001,71.680000000000007,10223861]
[null,"Belarus","Europe",1990,"Belarus/1990",1.885,71.14,10259700]
[null,"Belarus","Europe",1991,"Belarus/1991",1.8069999999999999,70.58,10284522]
[null,"Belarus","Europe",1992,"Belarus/1992",1.722,70.16,10298479]
[null,"Belarus","Europe",1993,"Belarus/1993",1.635,69.05,10301336]
[null,"Belarus","Europe",1994,"Belarus/1994",1.5489999999999999,68.81,10293127]
[null,"Belarus","Europe",1995,"Belarus/1995",1.47,68.42,10274231]
[null,"Belarus","Europe",1996,"Belarus/1996",1.399,68.56,10244354]
[null,"Belarus","Europe",1997,"Belarus/1997",1.3380000000000001,68.37,10204382]
[null,"Belarus","Europe",1998,"Belarus/1998",1.2889999999999999,68.37,10157409]
[null,"Belarus","Europe",1999,"Belarus/1999",1.252,67.97,10107518]
[null,"Belarus","Europe",2000,"Belarus/2000",1.23,68.989999999999995,10057810]
[null,"Belarus","Europe",2001,"Belarus/2001",1.224,68.61,10009810]
[null,"Belarus","Europe",2002,"Belarus/2002",1.232,68.17,9963383]
[null,"Belarus","Europe",2003,"Belarus/2003",1.252,68.709999999999994,9917927]
[null,"Belarus","Europe",2004,"Belarus/2004",1.2809999999999999,69.09,9872110]
[null,"Belarus","Europe",2005,"Belarus/2005",1.3149999999999999,68.84,9825102]
[null,"Belarus","Europe",2006,"Belarus/2006",1.351,69.510000000000005,9776823]
[null,"Belarus","Europe",2007,"Belarus/2007",1.3859999999999999,70.41,9728228]
[null,"Belarus","Europe",2008,"Belarus/2008",1.4159999999999999,69.194000000000003,9680690]
[null,"Belarus","Europe",2009,"Belarus/2009",1.4410000000000001,69.468000000000004,9636016]
[null,"Belarus","Europe",2010,"Belarus/2010",1.46,69.613,9595421]
[null,"Belarus","Europe",2011,"Belarus/2011",1.4730000000000001,69.727999999999994,9559441]
[null,"Belarus","Europe",2012,"Belarus/2012",1.484,69.828999999999994,9527498]
[null,"Belarus","Europe",2013,"Belarus/2013",1.494,69.927999999999997,9498290]
[null,"Belgium","Europe",1950,"Belgium/1950",2.2949999999999999,66.349999999999994,8628489]
[null,"Belgium","Europe",1951,"Belgium/1951",2.3050000000000002,66.8,8665736]
[null,"Belgium","Europe",1952,"Belgium/1952",2.327,68,8710135]
[null,"Belgium","Europe",1953,"Belgium/1953",2.3530000000000002,68.37,8759521]
[null,"Belgium","Europe",1954,"Belgium/1954",2.383,68.63,8812159]
[null,"Belgium","Europe",1955,"Belgium/1955",2.4169999999999998,68.58,8866744]
[null,"Belgium","Europe",1956,"Belgium/1956",2.4540000000000002,68.87,8922420]
[null,"Belgium","Europe",1957,"Belgium/1957",2.4940000000000002,69.239999999999995,8978760]
[null,"Belgium","Europe",1958,"Belgium/1958",2.5339999999999998,69.930000000000007,9035709]
[null,"Belgium","Europe",1959,"Belgium/1959",2.5720000000000001,70.33,9093483]
[null,"Belgium","Europe",1960,"Belgium/1960",2.6040000000000001,69.650000000000006,9152271]
[null,"Belgium","Europe",1961,"Belgium/1961",2.625,70.52,9211920]
[null,"Belgium","Europe",1962,"Belgium/1962",2.633,70.25,9271655]
[null,"Belgium","Europe",1963,"Belgium/1963",2.625,70.06,9329967]
[null,"Belgium","Europe",1964,"Belgium/1964",2.5990000000000002,70.73,9384939]
[null,"Belgium","Europe",1965,"Belgium/1965",2.5569999999999999,70.58,9435244]
[null,"Belgium","Europe",1966,"Belgium/1966",2.5009999999999999,70.650000000000006,9479970]
[null,"Belgium","Europe",1967,"Belgium/1967",2.4329999999999998,70.94,9519500]
[null,"Belgium","Europe",1968,"Belgium/1968",2.36,70.63,9555402]
[null,"Belgium","Europe",1969,"Belgium/1969",2.2829999999999999,70.709999999999994,9590007]
[null,"Belgium","Europe",1970,"Belgium/1970",2.206,70.97,9624908]
[null,"Belgium","Europe",1971,"Belgium/1971",2.129,71.099999999999994,9660688]
[null,"Belgium","Europe",1972,"Belgium/1972",2.052,71.44,9696539]
[null,"Belgium","Europe",1973,"Belgium/1973",1.9770000000000001,71.650000000000006,9730978]
[null,"Belgium","Europe",1974,"Belgium/1974",1.905,72.010000000000005,9761867]
[null,"Belgium","Europe",1975,"Belgium/1975",1.839,72,9787677]
[null,"Belgium","Europe",1976,"Belgium/1976",1.7809999999999999,72.150000000000006,9808403]
[null,"Belgium","Europe",1977,"Belgium/1977",1.7310000000000001,72.8,9824685]
[null,"Belgium","Europe",1978,"Belgium/1978",1.6890000000000001,72.75,9836487]
[null,"Belgium","Europe",1979,"Belgium/1979",1.655,73.239999999999995,9843898]
[null,"Belgium","Europe",1980,"Belgium/1980",1.629,73.290000000000006,9847297]
[null,"Belgium","Europe",1981,"Belgium/1981",1.609,73.7,9846320]
[null,"Belgium","Europe",1982,"Belgium/1982",1.5940000000000001,73.930000000000007,9841800]
[null,"Belgium","Europe",1983,"Belgium/1983",1.581,73.930000000000007,9836784]
[null,"Belgium","Europe",1984,"Belgium/1984",1.571,74.430000000000007,9835279]
[null,"Belgium","Europe",1985,"Belgium/1985",1.5640000000000001,74.540000000000006,9840123]
[null,"Belgium","Europe",1986,"Belgium/1986",1.56,74.739999999999995,9852488]
[null,"Belgium","Europe",1987,"Belgium/1987",1.5609999999999999,75.349999999999994,9871551]
[null,"Belgium","Europe",1988,"Belgium/1988",1.5649999999999999,75.66,9895654]
[null,"Belgium","Europe",1989,"Belgium/1989",1.573,75.73,9922158]
[null,"Belgium","Europe",1990,"Belgium/1990",1.5820000000000001,76.14,9949019]
[null,"Belgium","Europe",1991,"Belgium/1991",1.591,76.3,9976325]
[null,"Belgium","Europe",1992,"Belgium/1992",1.599,76.459999999999994,10004469]
[null,"Belgium","Europe",1993,"Belgium/1993",1.603,76.47,10032084]
[null,"Belgium","Europe",1994,"Belgium/1994",1.605,76.819999999999993,10057529]
[null,"Belgium","Europe",1995,"Belgium/1995",1.6060000000000001,76.97,10079873]
[null,"Belgium","Europe",1996,"Belgium/1996",1.605,77.31,10098192]
[null,"Belgium","Europe",1997,"Belgium/1997",1.607,77.53,10113392]
[null,"Belgium","Europe",1998,"Belgium/1998",1.6120000000000001,77.62,10128653]
[null,"Belgium","Europe",1999,"Belgium/1999",1.62,77.8,10148371]
[null,"Belgium","Europe",2000,"Belgium/2000",1.633,77.91,10175684]
[null,"Belgium","Europe",2001,"Belgium/2001",1.6519999999999999,78.22,10211264]
[null,"Belgium","Europe",2002,"Belgium/2002",1.675,78.319999999999993,10254025]
[null,"Belgium","Europe",2003,"Belgium/2003",1.7,78.47,10303108]
[null,"Belgium","Europe",2004,"Belgium/2004",1.7270000000000001,79.12,10356993]
[null,"Belgium","Europe",2005,"Belgium/2005",1.754,79.209999999999994,10414209]
[null,"Belgium","Europe",2006,"Belgium/2006",1.78,79.55,10474993]
[null,"Belgium","Europe",2007,"Belgium/2007",1.8009999999999999,79.489999999999995,10538758]
[null,"Belgium","Europe",2008,"Belgium/2008",1.819,79.777000000000001,10602167]
[null,"Belgium","Europe",2009,"Belgium/2009",1.833,79.807000000000002,10660938]
[null,"Belgium","Europe",2010,"Belgium/2010",1.8420000000000001,80.007000000000005,10712066]
[null,"Belgium","Europe",2011,"Belgium/2011",1.847,80.194000000000003,10754056]
[null,"Belgium","Europe",2012,"Belgium/2012",1.851,80.373000000000005,10787788]
[null,"Belgium","Europe",2013,"Belgium/2013",1.8540000000000001,80.548000000000002,10815599]
[null,"Belize","Latin America + Caribbean",1950,"Belize/1950",6.69,54.805999999999997,68918]
[null,"Belize","Latin America + Caribbean",1951,"Belize/1951",6.68,55.085999999999999,71147]
[null,"Belize","Latin America + Caribbean",1952,"Belize/1952",6.66,55.643999999999998,73295]
[null,"Belize","Latin America + Caribbean",1953,"Belize/1953",6.64,56.197000000000003,75437]
[null,"Belize","Latin America + Caribbean",1954,"Belize/1954",6.62,56.744999999999997,77630]
[null,"Belize","Latin America + Caribbean",1955,"Belize/1955",6.6,57.289000000000001,79909]
[null,"Belize","Latin America + Caribbean",1956,"Belize/1956",6.58,57.829000000000001,82294]
[null,"Belize","Latin America + Caribbean",1957,"Belize/1957",6.56,58.366,84781]
[null,"Belize","Latin America + Caribbean",1958,"Belize/1958",6.54,58.901000000000003,87354]
[null,"Belize","Latin America + Caribbean",1959,"Belize/1959",6.52,59.439,89981]
[null,"Belize","Latin America + Caribbean",1960,"Belize/1960",6.5,59.981000000000002,92633]
[null,"Belize","Latin America + Caribbean",1961,"Belize/1961",6.48,60.530999999999999,95294]
[null,"Belize","Latin America + Caribbean",1962,"Belize/1962",6.46,61.091999999999999,97972]
[null,"Belize","Latin America + Caribbean",1963,"Belize/1963",6.44,61.662999999999997,100707]
[null,"Belize","Latin America + Caribbean",1964,"Belize/1964",6.42,62.241,103555]
[null,"Belize","Latin America + Caribbean",1965,"Belize/1965",6.4,62.823,106546]
[null,"Belize","Latin America + Caribbean",1966,"Belize/1966",6.3789999999999996,63.402000000000001,109704]
[null,"Belize","Latin America + Caribbean",1967,"Belize/1967",6.3579999999999997,63.970999999999997,112987]
[null,"Belize","Latin America + Caribbean",1968,"Belize/1968",6.3369999999999997,64.525000000000006,116283]
[null,"Belize","Latin America + Caribbean",1969,"Belize/1969",6.3159999999999998,65.058000000000007,119435]
[null,"Belize","Latin America + Caribbean",1970,"Belize/1970",6.2990000000000004,65.566000000000003,122336]
[null,"Belize","Latin America + Caribbean",1971,"Belize/1971",6.2880000000000003,66.046999999999997,124973]
[null,"Belize","Latin America + Caribbean",1972,"Belize/1972",6.2839999999999998,66.504000000000005,127389]
[null,"Belize","Latin America + Caribbean",1973,"Belize/1973",6.2850000000000001,66.938999999999993,129600]
[null,"Belize","Latin America + Caribbean",1974,"Belize/1974",6.2859999999999996,67.353999999999999,131642]
[null,"Belize","Latin America + Caribbean",1975,"Belize/1975",6.2779999999999996,67.751000000000005,133562]
[null,"Belize","Latin America + Caribbean",1976,"Belize/1976",6.25,68.135000000000005,135334]
[null,"Belize","Latin America + Caribbean",1977,"Belize/1977",6.1950000000000003,68.509,137009]
[null,"Belize","Latin America + Caribbean",1978,"Belize/1978",6.109,68.873999999999995,138806]
[null,"Belize","Latin America + Caribbean",1979,"Belize/1979",5.992,69.228999999999999,141014]
[null,"Belize","Latin America + Caribbean",1980,"Belize/1980",5.8490000000000002,69.576999999999998,143829]
[null,"Belize","Latin America + Caribbean",1981,"Belize/1981",5.6840000000000002,69.921000000000006,147358]
[null,"Belize","Latin America + Caribbean",1982,"Belize/1982",5.51,70.257000000000005,151535]
[null,"Belize","Latin America + Caribbean",1983,"Belize/1983",5.3360000000000003,70.575000000000003,156171]
[null,"Belize","Latin America + Caribbean",1984,"Belize/1984",5.17,70.864999999999995,160991]
[null,"Belize","Latin America + Caribbean",1985,"Belize/1985",5.0190000000000001,71.105999999999995,165792]
[null,"Belize","Latin America + Caribbean",1986,"Belize/1986",4.8860000000000001,71.275999999999996,170504]
[null,"Belize","Latin America + Caribbean",1987,"Belize/1987",4.7709999999999999,71.364000000000004,175192]
[null,"Belize","Latin America + Caribbean",1988,"Belize/1988",4.6710000000000003,71.367999999999995,179952]
[null,"Belize","Latin America + Caribbean",1989,"Belize/1989",4.5839999999999996,71.293999999999997,184935]
[null,"Belize","Latin America + Caribbean",1990,"Belize/1990",4.508,71.147000000000006,190241]
[null,"Belize","Latin America + Caribbean",1991,"Belize/1991",4.4359999999999999,70.938999999999993,195895]
[null,"Belize","Latin America + Caribbean",1992,"Belize/1992",4.3630000000000004,70.695999999999998,201832]
[null,"Belize","Latin America + Caribbean",1993,"Belize/1993",4.2859999999999996,70.448999999999998,207962]
[null,"Belize","Latin America + Caribbean",1994,"Belize/1994",4.2009999999999996,70.224000000000004,214153]
[null,"Belize","Latin America + Caribbean",1995,"Belize/1995",4.1079999999999997,70.05,220311]
[null,"Belize","Latin America + Caribbean",1996,"Belize/1996",4.008,69.954999999999998,226403]
[null,"Belize","Latin America + Caribbean",1997,"Belize/1997",3.9049999999999998,69.945999999999998,232446]
[null,"Belize","Latin America + Caribbean",1998,"Belize/1998",3.8,70.024000000000001,238457]
[null,"Belize","Latin America + Caribbean",1999,"Belize/1999",3.6960000000000002,70.186999999999998,244471]
[null,"Belize","Latin America + Caribbean",2000,"Belize/2000",3.5939999999999999,70.424999999999997,250512]
[null,"Belize","Latin America + Caribbean",2001,"Belize/2001",3.4929999999999999,70.718999999999994,256582]
[null,"Belize","Latin America + Caribbean",2002,"Belize/2002",3.395,71.043000000000006,262667]
[null,"Belize","Latin America + Caribbean",2003,"Belize/2003",3.2989999999999999,71.372,268760]
[null,"Belize","Latin America + Caribbean",2004,"Belize/2004",3.2080000000000002,71.69,274855]
[null,"Belize","Latin America + Caribbean",2005,"Belize/2005",3.1219999999999999,71.989000000000004,280947]
[null,"Belize","Latin America + Caribbean",2006,"Belize/2006",3.0430000000000001,72.263999999999996,287035]
[null,"Belize","Latin America + Caribbean",2007,"Belize/2007",2.9710000000000001,72.522999999999996,293124]
[null,"Belize","Latin America + Caribbean",2008,"Belize/2008",2.907,72.772000000000006,299237]
[null,"Belize","Latin America + Caribbean",2009,"Belize/2009",2.851,73.010999999999996,305398]
[null,"Belize","Latin America + Caribbean",2010,"Belize/2010",2.8010000000000002,73.239999999999995,311627]
[null,"Belize","Latin America + Caribbean",2011,"Belize/2011",2.7559999999999998,73.459999999999994,317928]
[null,"Belize","Latin America + Caribbean",2012,"Belize/2012",2.7149999999999999,73.673000000000002,324292]
[null,"Belize","Latin America + Caribbean",2013,"Belize/2013",2.6760000000000002,73.882000000000005,330721]
[null,"Benin","Africa",1950,"Benin/1950",5.7510000000000003,32.695999999999998,2255222]
[null,"Benin","Africa",1951,"Benin/1951",5.7770000000000001,32.954999999999998,2258097]
[null,"Benin","Africa",1952,"Benin/1952",5.8289999999999997,33.466999999999999,2264492]
[null,"Benin","Africa",1953,"Benin/1953",5.883,33.970999999999997,2274125]
[null,"Benin","Africa",1954,"Benin/1954",5.9379999999999997,34.465000000000003,2286767]
[null,"Benin","Africa",1955,"Benin/1955",5.9930000000000003,34.948999999999998,2302243]
[null,"Benin","Africa",1956,"Benin/1956",6.05,35.423999999999999,2320433]
[null,"Benin","Africa",1957,"Benin/1957",6.1079999999999997,35.892000000000003,2341271]
[null,"Benin","Africa",1958,"Benin/1958",6.1660000000000004,36.351999999999997,2364737]
[null,"Benin","Africa",1959,"Benin/1959",6.2249999999999996,36.808,2390851]
[null,"Benin","Africa",1960,"Benin/1960",6.282,37.262999999999998,2419644]
[null,"Benin","Africa",1961,"Benin/1961",6.3390000000000004,37.720999999999997,2451123]
[null,"Benin","Africa",1962,"Benin/1962",6.3940000000000001,38.183999999999997,2485248]
[null,"Benin","Africa",1963,"Benin/1963",6.4470000000000001,38.656999999999996,2521922]
[null,"Benin","Africa",1964,"Benin/1964",6.4969999999999999,39.142000000000003,2561022]
[null,"Benin","Africa",1965,"Benin/1965",6.5439999999999996,39.643999999999998,2602490]
[null,"Benin","Africa",1966,"Benin/1966",6.5880000000000001,40.164000000000001,2646310]
[null,"Benin","Africa",1967,"Benin/1967",6.63,40.701999999999998,2692610]
[null,"Benin","Africa",1968,"Benin/1968",6.6710000000000003,41.252000000000002,2741672]
[null,"Benin","Africa",1969,"Benin/1969",6.71,41.813000000000002,2793872]
[null,"Benin","Africa",1970,"Benin/1970",6.7480000000000002,42.38,2849508]
[null,"Benin","Africa",1971,"Benin/1971",6.7859999999999996,42.948,2908713]
[null,"Benin","Africa",1972,"Benin/1972",6.8230000000000004,43.512999999999998,2971515]
[null,"Benin","Africa",1973,"Benin/1973",6.86,44.067999999999998,3037990]
[null,"Benin","Africa",1974,"Benin/1974",6.8959999999999999,44.607999999999997,3108179]
[null,"Benin","Africa",1975,"Benin/1975",6.9290000000000003,45.122999999999998,3182130]
[null,"Benin","Africa",1976,"Benin/1976",6.9589999999999996,45.603999999999999,3259918]
[null,"Benin","Africa",1977,"Benin/1977",6.984,46.051000000000002,3341618]
[null,"Benin","Africa",1978,"Benin/1978",7.0039999999999996,46.470999999999997,3427274]
[null,"Benin","Africa",1979,"Benin/1979",7.0179999999999998,46.874000000000002,3516917]
[null,"Benin","Africa",1980,"Benin/1980",7.0250000000000004,47.283000000000001,3610578]
[null,"Benin","Africa",1981,"Benin/1981",7.0250000000000004,47.722000000000001,3708675]
[null,"Benin","Africa",1982,"Benin/1982",7.0209999999999999,48.207999999999998,3811326]
[null,"Benin","Africa",1983,"Benin/1983",7.01,48.750999999999998,3917941]
[null,"Benin","Africa",1984,"Benin/1984",6.9939999999999998,49.351999999999997,4027682]
[null,"Benin","Africa",1985,"Benin/1985",6.9720000000000004,50.01,4140176]
[null,"Benin","Africa",1986,"Benin/1986",6.9420000000000002,50.72,4254522]
[null,"Benin","Africa",1987,"Benin/1987",6.9039999999999999,51.456000000000003,4371470]
[null,"Benin","Africa",1988,"Benin/1988",6.8579999999999997,52.188000000000002,4494242]
[null,"Benin","Africa",1989,"Benin/1989",6.8049999999999997,52.889000000000003,4627194]
[null,"Benin","Africa",1990,"Benin/1990",6.7439999999999998,53.517000000000003,4773137]
[null,"Benin","Africa",1991,"Benin/1991",6.6769999999999996,54.033000000000001,4934077]
[null,"Benin","Africa",1992,"Benin/1992",6.6029999999999998,54.423000000000002,5108335]
[null,"Benin","Africa",1993,"Benin/1993",6.5259999999999998,54.689,5290562]
[null,"Benin","Africa",1994,"Benin/1994",6.4459999999999997,54.84,5473217]
[null,"Benin","Africa",1995,"Benin/1995",6.3650000000000002,54.902999999999999,5651141]
[null,"Benin","Africa",1996,"Benin/1996",6.2839999999999998,54.914000000000001,5821985]
[null,"Benin","Africa",1997,"Benin/1997",6.2050000000000001,54.921999999999997,5988093]
[null,"Benin","Africa",1998,"Benin/1998",6.1280000000000001,54.966999999999999,6154708]
[null,"Benin","Africa",1999,"Benin/1999",6.0510000000000002,55.073,6329476]
[null,"Benin","Africa",2000,"Benin/2000",5.9749999999999996,55.261000000000003,6517810]
[null,"Benin","Africa",2001,"Benin/2001",5.8979999999999997,55.537999999999997,6721337]
[null,"Benin","Africa",2002,"Benin/2002",5.8179999999999996,55.884,6937985]
[null,"Benin","Africa",2003,"Benin/2003",5.7329999999999997,56.277000000000001,7164976]
[null,"Benin","Africa",2004,"Benin/2004",5.6449999999999996,56.7,7397985]
[null,"Benin","Africa",2005,"Benin/2005",5.5529999999999999,57.131,7633757]
[null,"Benin","Africa",2006,"Benin/2006",5.4589999999999996,57.548999999999999,7871707]
[null,"Benin","Africa",2007,"Benin/2007",5.3650000000000002,57.933,8112573]
[null,"Benin","Africa",2008,"Benin/2008",5.2729999999999997,58.271999999999998,8355980]
[null,"Benin","Africa",2009,"Benin/2009",5.1820000000000004,58.56,8601771]
[null,"Benin","Africa",2010,"Benin/2010",5.0949999999999998,58.796999999999997,8849892]
[null,"Benin","Africa",2011,"Benin/2011",5.01,58.991999999999997,9099922]
[null,"Benin","Africa",2012,"Benin/2012",4.9269999999999996,59.164999999999999,9351838]
[null,"Benin","Africa",2013,"Benin/2013",4.8449999999999998,59.33,9606534]
[null,"Bhutan","Asia + Pacific",1950,"Bhutan/1950",6.67,28.798999999999999,168377]
[null,"Bhutan","Asia + Pacific",1951,"Bhutan/1951",6.67,28.975000000000001,174400]
[null,"Bhutan","Asia + Pacific",1952,"Bhutan/1952",6.67,29.331,180287]
[null,"Bhutan","Asia + Pacific",1953,"Bhutan/1953",6.67,29.693999999999999,186067]
[null,"Bhutan","Asia + Pacific",1954,"Bhutan/1954",6.67,30.064,191769]
[null,"Bhutan","Asia + Pacific",1955,"Bhutan/1955",6.67,30.440999999999999,197421]
[null,"Bhutan","Asia + Pacific",1956,"Bhutan/1956",6.67,30.823,203054]
[null,"Bhutan","Asia + Pacific",1957,"Bhutan/1957",6.67,31.21,208696]
[null,"Bhutan","Asia + Pacific",1958,"Bhutan/1958",6.67,31.6,214379]
[null,"Bhutan","Asia + Pacific",1959,"Bhutan/1959",6.67,31.986999999999998,220133]
[null,"Bhutan","Asia + Pacific",1960,"Bhutan/1960",6.67,32.369,225993]
[null,"Bhutan","Asia + Pacific",1961,"Bhutan/1961",6.67,32.741999999999997,232000]
[null,"Bhutan","Asia + Pacific",1962,"Bhutan/1962",6.67,33.104999999999997,238201]
[null,"Bhutan","Asia + Pacific",1963,"Bhutan/1963",6.67,33.463999999999999,244653]
[null,"Bhutan","Asia + Pacific",1964,"Bhutan/1964",6.67,33.826999999999998,251419]
[null,"Bhutan","Asia + Pacific",1965,"Bhutan/1965",6.67,34.212000000000003,258559]
[null,"Bhutan","Asia + Pacific",1966,"Bhutan/1966",6.67,34.636000000000003,266072]
[null,"Bhutan","Asia + Pacific",1967,"Bhutan/1967",6.67,35.115000000000002,274000]
[null,"Bhutan","Asia + Pacific",1968,"Bhutan/1968",6.67,35.658000000000001,282495]
[null,"Bhutan","Asia + Pacific",1969,"Bhutan/1969",6.67,36.268999999999998,291747]
[null,"Bhutan","Asia + Pacific",1970,"Bhutan/1970",6.6710000000000003,36.947000000000003,301879]
[null,"Bhutan","Asia + Pacific",1971,"Bhutan/1971",6.6740000000000004,37.688000000000002,312929]
[null,"Bhutan","Asia + Pacific",1972,"Bhutan/1972",6.6790000000000003,38.475999999999999,324815]
[null,"Bhutan","Asia + Pacific",1973,"Bhutan/1973",6.6849999999999996,39.292000000000002,337370]
[null,"Bhutan","Asia + Pacific",1974,"Bhutan/1974",6.69,40.125999999999998,350365]
[null,"Bhutan","Asia + Pacific",1975,"Bhutan/1975",6.6920000000000002,40.963000000000001,363603]
[null,"Bhutan","Asia + Pacific",1976,"Bhutan/1976",6.6849999999999996,41.793999999999997,377068]
[null,"Bhutan","Asia + Pacific",1977,"Bhutan/1977",6.6680000000000001,42.613999999999997,390732]
[null,"Bhutan","Asia + Pacific",1978,"Bhutan/1978",6.64,43.42,404375]
[null,"Bhutan","Asia + Pacific",1979,"Bhutan/1979",6.601,44.209000000000003,417734]
[null,"Bhutan","Asia + Pacific",1980,"Bhutan/1980",6.5529999999999999,44.976999999999997,430633]
[null,"Bhutan","Asia + Pacific",1981,"Bhutan/1981",6.5039999999999996,45.725999999999999,442648]
[null,"Bhutan","Asia + Pacific",1982,"Bhutan/1982",6.4560000000000004,46.462000000000003,453793]
[null,"Bhutan","Asia + Pacific",1983,"Bhutan/1983",6.41,47.192,464831]
[null,"Bhutan","Asia + Pacific",1984,"Bhutan/1984",6.3620000000000001,47.92,476846]
[null,"Bhutan","Asia + Pacific",1985,"Bhutan/1985",6.306,48.652000000000001,490438]
[null,"Bhutan","Asia + Pacific",1986,"Bhutan/1986",6.23,49.393000000000001,506423]
[null,"Bhutan","Asia + Pacific",1987,"Bhutan/1987",6.1269999999999998,50.145000000000003,524133]
[null,"Bhutan","Asia + Pacific",1988,"Bhutan/1988",5.9939999999999998,50.908999999999999,540918]
[null,"Bhutan","Asia + Pacific",1989,"Bhutan/1989",5.8289999999999997,51.685000000000002,553157]
[null,"Bhutan","Asia + Pacific",1990,"Bhutan/1990",5.6390000000000002,52.472999999999999,558500]
[null,"Bhutan","Asia + Pacific",1991,"Bhutan/1991",5.431,53.27,555747]
[null,"Bhutan","Asia + Pacific",1992,"Bhutan/1992",5.2160000000000002,54.070999999999998,546356]
[null,"Bhutan","Asia + Pacific",1993,"Bhutan/1993",5.0030000000000001,54.872,533895]
[null,"Bhutan","Asia + Pacific",1994,"Bhutan/1994",4.7960000000000003,55.670999999999999,523417]
[null,"Bhutan","Asia + Pacific",1995,"Bhutan/1995",4.5970000000000004,56.463000000000001,518584]
[null,"Bhutan","Asia + Pacific",1996,"Bhutan/1996",4.4009999999999998,57.247,520529]
[null,"Bhutan","Asia + Pacific",1997,"Bhutan/1997",4.2050000000000001,58.023000000000003,528222]
[null,"Bhutan","Asia + Pacific",1998,"Bhutan/1998",4.0060000000000002,58.792000000000002,540507]
[null,"Bhutan","Asia + Pacific",1999,"Bhutan/1999",3.806,59.552,555377]
[null,"Bhutan","Asia + Pacific",2000,"Bhutan/2000",3.6080000000000001,60.307000000000002,571262]
[null,"Bhutan","Asia + Pacific",2001,"Bhutan/2001",3.4169999999999998,61.063000000000002,588050]
[null,"Bhutan","Asia + Pacific",2002,"Bhutan/2002",3.2370000000000001,61.82,606024]
[null,"Bhutan","Asia + Pacific",2003,"Bhutan/2003",3.0710000000000002,62.576000000000001,624431]
[null,"Bhutan","Asia + Pacific",2004,"Bhutan/2004",2.923,63.323,642400]
[null,"Bhutan","Asia + Pacific",2005,"Bhutan/2005",2.7930000000000001,64.05,659293]
[null,"Bhutan","Asia + Pacific",2006,"Bhutan/2006",2.6819999999999999,64.741,674681]
[null,"Bhutan","Asia + Pacific",2007,"Bhutan/2007",2.5870000000000002,65.387,688581]
[null,"Bhutan","Asia + Pacific",2008,"Bhutan/2008",2.5059999999999998,65.980999999999995,701363]
[null,"Bhutan","Asia + Pacific",2009,"Bhutan/2009",2.4359999999999999,66.522999999999996,713665]
[null,"Bhutan","Asia + Pacific",2010,"Bhutan/2010",2.375,67.015000000000001,725940]
[null,"Bhutan","Asia + Pacific",2011,"Bhutan/2011",2.3220000000000001,67.465000000000003,738267]
[null,"Bhutan","Asia + Pacific",2012,"Bhutan/2012",2.2749999999999999,67.888000000000005,750443]
[null,"Bhutan","Asia + Pacific",2013,"Bhutan/2013",2.2320000000000002,68.293999999999997,762313]
[null,"Bolivia","Latin America + Caribbean",1950,"Bolivia/1950",6.7160000000000002,39.844999999999999,2713630]
[null,"Bolivia","Latin America + Caribbean",1951,"Bolivia/1951",6.7279999999999998,39.988,2767960]
[null,"Bolivia","Latin America + Caribbean",1952,"Bolivia/1952",6.7480000000000002,40.274000000000001,2824538]
[null,"Bolivia","Latin America + Caribbean",1953,"Bolivia/1953",6.7619999999999996,40.564,2883362]
[null,"Bolivia","Latin America + Caribbean",1954,"Bolivia/1954",6.7690000000000001,40.856000000000002,2944416]
[null,"Bolivia","Latin America + Caribbean",1955,"Bolivia/1955",6.77,41.15,3007667]
[null,"Bolivia","Latin America + Caribbean",1956,"Bolivia/1956",6.7649999999999997,41.447000000000003,3073070]
[null,"Bolivia","Latin America + Caribbean",1957,"Bolivia/1957",6.7539999999999996,41.746000000000002,3140563]
[null,"Bolivia","Latin America + Caribbean",1958,"Bolivia/1958",6.7380000000000004,42.048000000000002,3210075]
[null,"Bolivia","Latin America + Caribbean",1959,"Bolivia/1959",6.718,42.351999999999997,3281534]
[null,"Bolivia","Latin America + Caribbean",1960,"Bolivia/1960",6.6959999999999997,42.658999999999999,3354895]
[null,"Bolivia","Latin America + Caribbean",1961,"Bolivia/1961",6.6719999999999997,42.968000000000004,3430160]
[null,"Bolivia","Latin America + Caribbean",1962,"Bolivia/1962",6.6479999999999997,43.28,3507408]
[null,"Bolivia","Latin America + Caribbean",1963,"Bolivia/1963",6.6269999999999998,43.594999999999999,3586804]
[null,"Bolivia","Latin America + Caribbean",1964,"Bolivia/1964",6.6070000000000002,43.912999999999997,3668568]
[null,"Bolivia","Latin America + Caribbean",1965,"Bolivia/1965",6.593,44.228999999999999,3752892]
[null,"Bolivia","Latin America + Caribbean",1966,"Bolivia/1966",6.5860000000000003,44.536000000000001,3839751]
[null,"Bolivia","Latin America + Caribbean",1967,"Bolivia/1967",6.585,44.835000000000001,3929192]
[null,"Bolivia","Latin America + Caribbean",1968,"Bolivia/1968",6.5869999999999997,45.131999999999998,4021551]
[null,"Bolivia","Latin America + Caribbean",1969,"Bolivia/1969",6.5869999999999997,45.436,4117259]
[null,"Bolivia","Latin America + Caribbean",1970,"Bolivia/1970",6.5780000000000003,45.765000000000001,4216572]
[null,"Bolivia","Latin America + Caribbean",1971,"Bolivia/1971",6.5490000000000004,46.134999999999998,4319564]
[null,"Bolivia","Latin America + Caribbean",1972,"Bolivia/1972",6.4960000000000004,46.563000000000002,4426012]
[null,"Bolivia","Latin America + Caribbean",1973,"Bolivia/1973",6.415,47.055,4535500]
[null,"Bolivia","Latin America + Caribbean",1974,"Bolivia/1974",6.31,47.613999999999997,4647442]
[null,"Bolivia","Latin America + Caribbean",1975,"Bolivia/1975",6.1829999999999998,48.241999999999997,4761344]
[null,"Bolivia","Latin America + Caribbean",1976,"Bolivia/1976",6.0430000000000001,48.930999999999997,4877275]
[null,"Bolivia","Latin America + Caribbean",1977,"Bolivia/1977",5.899,49.665999999999997,4995172]
[null,"Bolivia","Latin America + Caribbean",1978,"Bolivia/1978",5.7610000000000001,50.429000000000002,5114274]
[null,"Bolivia","Latin America + Caribbean",1979,"Bolivia/1979",5.6340000000000003,51.206000000000003,5233624]
[null,"Bolivia","Latin America + Caribbean",1980,"Bolivia/1980",5.5209999999999999,51.987000000000002,5352649]
[null,"Bolivia","Latin America + Caribbean",1981,"Bolivia/1981",5.423,52.762999999999998,5471025]
[null,"Bolivia","Latin America + Caribbean",1982,"Bolivia/1982",5.3369999999999997,53.530999999999999,5589245]
[null,"Bolivia","Latin America + Caribbean",1983,"Bolivia/1983",5.2590000000000003,54.283999999999999,5708585]
[null,"Bolivia","Latin America + Caribbean",1984,"Bolivia/1984",5.1890000000000001,55.015999999999998,5830816]
[null,"Bolivia","Latin America + Caribbean",1985,"Bolivia/1985",5.1269999999999998,55.72,5957291]
[null,"Bolivia","Latin America + Caribbean",1986,"Bolivia/1986",5.0739999999999998,56.395000000000003,6088253]
[null,"Bolivia","Latin America + Caribbean",1987,"Bolivia/1987",5.0289999999999999,57.042999999999999,6223523]
[null,"Bolivia","Latin America + Caribbean",1988,"Bolivia/1988",4.9889999999999999,57.664000000000001,6363470]
[null,"Bolivia","Latin America + Caribbean",1989,"Bolivia/1989",4.952,58.256,6508417]
[null,"Bolivia","Latin America + Caribbean",1990,"Bolivia/1990",4.9130000000000003,58.816000000000003,6658462]
[null,"Bolivia","Latin America + Caribbean",1991,"Bolivia/1991",4.8659999999999997,59.341000000000001,6813834]
[null,"Bolivia","Latin America + Caribbean",1992,"Bolivia/1992",4.8099999999999996,59.832000000000001,6974168]
[null,"Bolivia","Latin America + Caribbean",1993,"Bolivia/1993",4.742,60.292000000000002,7138204]
[null,"Bolivia","Latin America + Caribbean",1994,"Bolivia/1994",4.6630000000000003,60.722999999999999,7304230]
[null,"Bolivia","Latin America + Caribbean",1995,"Bolivia/1995",4.5750000000000002,61.13,7470925]
[null,"Bolivia","Latin America + Caribbean",1996,"Bolivia/1996",4.4820000000000002,61.52,7637622]
[null,"Bolivia","Latin America + Caribbean",1997,"Bolivia/1997",4.3899999999999997,61.896999999999998,7804333]
[null,"Bolivia","Latin America + Caribbean",1998,"Bolivia/1998",4.3019999999999996,62.265999999999998,7971237]
[null,"Bolivia","Latin America + Caribbean",1999,"Bolivia/1999",4.2190000000000003,62.631,8138802]
[null,"Bolivia","Latin America + Caribbean",2000,"Bolivia/2000",4.1399999999999997,62.994,8307248]
[null,"Bolivia","Latin America + Caribbean",2001,"Bolivia/2001",4.0620000000000003,63.354999999999997,8476709]
[null,"Bolivia","Latin America + Caribbean",2002,"Bolivia/2002",3.9820000000000002,63.710999999999999,8646659]
[null,"Bolivia","Latin America + Caribbean",2003,"Bolivia/2003",3.8969999999999998,64.06,8815911]
[null,"Bolivia","Latin America + Caribbean",2004,"Bolivia/2004",3.8090000000000002,64.403999999999996,8982917]
[null,"Bolivia","Latin America + Caribbean",2005,"Bolivia/2005",3.72,64.742000000000004,9146655]
[null,"Bolivia","Latin America + Caribbean",2006,"Bolivia/2006",3.633,65.075000000000003,9306660]
[null,"Bolivia","Latin America + Caribbean",2007,"Bolivia/2007",3.5510000000000002,65.403999999999996,9463497]
[null,"Bolivia","Latin America + Caribbean",2008,"Bolivia/2008",3.4769999999999999,65.727999999999994,9618466]
[null,"Bolivia","Latin America + Caribbean",2009,"Bolivia/2009",3.4129999999999998,66.048000000000002,9773441]
[null,"Bolivia","Latin America + Caribbean",2010,"Bolivia/2010",3.3570000000000002,66.361999999999995,9929849]
[null,"Bolivia","Latin America + Caribbean",2011,"Bolivia/2011",3.3079999999999998,66.668999999999997,10088108]
[null,"Bolivia","Latin America + Caribbean",2012,"Bolivia/2012",3.2639999999999998,66.968999999999994,10248042]
[null,"Bolivia","Latin America + Caribbean",2013,"Bolivia/2013",3.2210000000000001,67.260000000000005,10409761]
[null,"Bosnia and Herzegovina","Europe",1950,"Bosnia and Herzegovina/1950",5.0620000000000003,51.421999999999997,2661293]
[null,"Bosnia and Herzegovina","Europe",1951,"Bosnia and Herzegovina/1951",4.9989999999999997,52.012999999999998,2720515]
[null,"Bosnia and Herzegovina","Europe",1952,"Bosnia and Herzegovina/1952",4.875,53.164999999999999,2779107]
[null,"Bosnia and Herzegovina","Europe",1953,"Bosnia and Herzegovina/1953",4.7569999999999997,54.259,2836208]
[null,"Bosnia and Herzegovina","Europe",1954,"Bosnia and Herzegovina/1954",4.6440000000000001,55.296999999999997,2891241]
[null,"Bosnia and Herzegovina","Europe",1955,"Bosnia and Herzegovina/1955",4.5369999999999999,56.277000000000001,2943905]
[null,"Bosnia and Herzegovina","Europe",1956,"Bosnia and Herzegovina/1956",4.4340000000000002,57.2,2994194]
[null,"Bosnia and Herzegovina","Europe",1957,"Bosnia and Herzegovina/1957",4.3360000000000003,58.067,3042383]
[null,"Bosnia and Herzegovina","Europe",1958,"Bosnia and Herzegovina/1958",4.2409999999999997,58.88,3088980]
[null,"Bosnia and Herzegovina","Europe",1959,"Bosnia and Herzegovina/1959",4.1470000000000002,59.64,3134654]
[null,"Bosnia and Herzegovina","Europe",1960,"Bosnia and Herzegovina/1960",4.0519999999999996,60.35,3180020]
[null,"Bosnia and Herzegovina","Europe",1961,"Bosnia and Herzegovina/1961",3.9540000000000002,61.015999999999998,3225391]
[null,"Bosnia and Herzegovina","Europe",1962,"Bosnia and Herzegovina/1962",3.8490000000000002,61.643999999999998,3270585]
[null,"Bosnia and Herzegovina","Europe",1963,"Bosnia and Herzegovina/1963",3.7370000000000001,62.24,3314827]
[null,"Bosnia and Herzegovina","Europe",1964,"Bosnia and Herzegovina/1964",3.6190000000000002,62.814,3357005]
[null,"Bosnia and Herzegovina","Europe",1965,"Bosnia and Herzegovina/1965",3.4950000000000001,63.377000000000002,3396402]
[null,"Bosnia and Herzegovina","Europe",1966,"Bosnia and Herzegovina/1966",3.367,63.935000000000002,3432671]
[null,"Bosnia and Herzegovina","Europe",1967,"Bosnia and Herzegovina/1967",3.2389999999999999,64.494,3466307]
[null,"Bosnia and Herzegovina","Europe",1968,"Bosnia and Herzegovina/1968",3.1139999999999999,65.054000000000002,3498470]
[null,"Bosnia and Herzegovina","Europe",1969,"Bosnia and Herzegovina/1969",2.9940000000000002,65.616,3530780]
[null,"Bosnia and Herzegovina","Europe",1970,"Bosnia and Herzegovina/1970",2.8809999999999998,66.180999999999997,3564389]
[null,"Bosnia and Herzegovina","Europe",1971,"Bosnia and Herzegovina/1971",2.7749999999999999,66.748000000000005,3599885]
[null,"Bosnia and Herzegovina","Europe",1972,"Bosnia and Herzegovina/1972",2.6749999999999998,67.308000000000007,3636930]
[null,"Bosnia and Herzegovina","Europe",1973,"Bosnia and Herzegovina/1973",2.581,67.852000000000004,3674638]
[null,"Bosnia and Herzegovina","Europe",1974,"Bosnia and Herzegovina/1974",2.4929999999999999,68.370999999999995,3711662]
[null,"Bosnia and Herzegovina","Europe",1975,"Bosnia and Herzegovina/1975",2.4119999999999999,68.847999999999999,3747109]
[null,"Bosnia and Herzegovina","Europe",1976,"Bosnia and Herzegovina/1976",2.3359999999999999,69.269000000000005,3780559]
[null,"Bosnia and Herzegovina","Europe",1977,"Bosnia and Herzegovina/1977",2.2669999999999999,69.626999999999995,3812557]
[null,"Bosnia and Herzegovina","Europe",1978,"Bosnia and Herzegovina/1978",2.202,69.924000000000007,3844329]
[null,"Bosnia and Herzegovina","Europe",1979,"Bosnia and Herzegovina/1979",2.1440000000000001,70.165999999999997,3877598]
[null,"Bosnia and Herzegovina","Europe",1980,"Bosnia and Herzegovina/1980",2.0920000000000001,70.394999999999996,3913536]
[null,"Bosnia and Herzegovina","Europe",1981,"Bosnia and Herzegovina/1981",2.0499999999999998,70.671000000000006,3949509]
[null,"Bosnia and Herzegovina","Europe",1982,"Bosnia and Herzegovina/1982",2.0169999999999999,71.010999999999996,3984259]
[null,"Bosnia and Herzegovina","Europe",1983,"Bosnia and Herzegovina/1983",1.992,71.394999999999996,4021590]
[null,"Bosnia and Herzegovina","Europe",1984,"Bosnia and Herzegovina/1984",1.9730000000000001,71.774000000000001,4066739]
[null,"Bosnia and Herzegovina","Europe",1985,"Bosnia and Herzegovina/1985",1.9530000000000001,71.980999999999995,4121595]
[null,"Bosnia and Herzegovina","Europe",1986,"Bosnia and Herzegovina/1986",1.925,71.811000000000007,4194370]
[null,"Bosnia and Herzegovina","Europe",1987,"Bosnia and Herzegovina/1987",1.887,71.174999999999997,4279632]
[null,"Bosnia and Herzegovina","Europe",1988,"Bosnia and Herzegovina/1988",1.8360000000000001,70.087999999999994,4349682]
[null,"Bosnia and Herzegovina","Europe",1989,"Bosnia and Herzegovina/1989",1.7749999999999999,68.662999999999997,4367069]
[null,"Bosnia and Herzegovina","Europe",1990,"Bosnia and Herzegovina/1990",1.708,67.179000000000002,4308197]
[null,"Bosnia and Herzegovina","Europe",1991,"Bosnia and Herzegovina/1991",1.645,65.997,4157485]
[null,"Bosnia and Herzegovina","Europe",1992,"Bosnia and Herzegovina/1992",1.5940000000000001,65.403000000000006,3931372]
[null,"Bosnia and Herzegovina","Europe",1993,"Bosnia and Herzegovina/1993",1.5580000000000001,65.557000000000002,3677379]
[null,"Bosnia and Herzegovina","Europe",1994,"Bosnia and Herzegovina/1994",1.538,66.462000000000003,3462032]
[null,"Bosnia and Herzegovina","Europe",1995,"Bosnia and Herzegovina/1995",1.528,67.972999999999999,3332098]
[null,"Bosnia and Herzegovina","Europe",1996,"Bosnia and Herzegovina/1996",1.5189999999999999,69.817999999999998,3305672]
[null,"Bosnia and Herzegovina","Europe",1997,"Bosnia and Herzegovina/1997",1.5029999999999999,71.638999999999996,3365616]
[null,"Bosnia and Herzegovina","Europe",1998,"Bosnia and Herzegovina/1998",1.474,73.155000000000001,3480285]
[null,"Bosnia and Herzegovina","Europe",1999,"Bosnia and Herzegovina/1999",1.4330000000000001,74.247,3601438]
[null,"Bosnia and Herzegovina","Europe",2000,"Bosnia and Herzegovina/2000",1.381,74.882000000000005,3693698]
[null,"Bosnia and Herzegovina","Europe",2001,"Bosnia and Herzegovina/2001",1.325,75.123999999999995,3748370]
[null,"Bosnia and Herzegovina","Europe",2002,"Bosnia and Herzegovina/2002",1.2749999999999999,75.165000000000006,3775883]
[null,"Bosnia and Herzegovina","Europe",2003,"Bosnia and Herzegovina/2003",1.236,75.162000000000006,3782717]
[null,"Bosnia and Herzegovina","Europe",2004,"Bosnia and Herzegovina/2004",1.21,75.17,3781358]
[null,"Bosnia and Herzegovina","Europe",2005,"Bosnia and Herzegovina/2005",1.1990000000000001,75.225999999999999,3781001]
[null,"Bosnia and Herzegovina","Europe",2006,"Bosnia and Herzegovina/2006",1.1990000000000001,75.337000000000003,3781588]
[null,"Bosnia and Herzegovina","Europe",2007,"Bosnia and Herzegovina/2007",1.2070000000000001,75.471000000000004,3779034]
[null,"Bosnia and Herzegovina","Europe",2008,"Bosnia and Herzegovina/2008",1.218,75.608000000000004,3774164]
[null,"Bosnia and Herzegovina","Europe",2009,"Bosnia and Herzegovina/2009",1.23,75.75,3767683]
[null,"Bosnia and Herzegovina","Europe",2010,"Bosnia and Herzegovina/2010",1.242,75.897999999999996,3760149]
[null,"Bosnia and Herzegovina","Europe",2011,"Bosnia and Herzegovina/2011",1.2549999999999999,76.052999999999997,3752228]
[null,"Bosnia and Herzegovina","Europe",2012,"Bosnia and Herzegovina/2012",1.268,76.210999999999999,3744235]
[null,"Bosnia and Herzegovina","Europe",2013,"Bosnia and Herzegovina/2013",1.2829999999999999,76.37,3735880]
[null,"Botswana","Africa",1950,"Botswana/1950",6.4690000000000003,46.829000000000001,412533]
[null,"Botswana","Africa",1951,"Botswana/1951",6.4770000000000003,47.036999999999999,425268]
[null,"Botswana","Africa",1952,"Botswana/1952",6.492,47.451000000000001,437177]
[null,"Botswana","Africa",1953,"Botswana/1953",6.508,47.863,448428]
[null,"Botswana","Africa",1954,"Botswana/1954",6.5229999999999997,48.274000000000001,459195]
[null,"Botswana","Africa",1955,"Botswana/1955",6.5380000000000003,48.683999999999997,469656]
[null,"Botswana","Africa",1956,"Botswana/1956",6.5529999999999999,49.09,479998]
[null,"Botswana","Africa",1957,"Botswana/1957",6.5679999999999996,49.491999999999997,490411]
[null,"Botswana","Africa",1958,"Botswana/1958",6.5830000000000002,49.889000000000003,501090]
[null,"Botswana","Africa",1959,"Botswana/1959",6.5990000000000002,50.277999999999999,512228]
[null,"Botswana","Africa",1960,"Botswana/1960",6.6150000000000002,50.654000000000003,523997]
[null,"Botswana","Africa",1961,"Botswana/1961",6.6319999999999997,51.015000000000001,536540]
[null,"Botswana","Africa",1962,"Botswana/1962",6.649,51.363,549953]
[null,"Botswana","Africa",1963,"Botswana/1963",6.6660000000000004,51.7,564277]
[null,"Botswana","Africa",1964,"Botswana/1964",6.681,52.034999999999997,579518]
[null,"Botswana","Africa",1965,"Botswana/1965",6.6929999999999996,52.384,595697]
[null,"Botswana","Africa",1966,"Botswana/1966",6.6980000000000004,52.764000000000003,612903]
[null,"Botswana","Africa",1967,"Botswana/1967",6.6959999999999997,53.186,631226]
[null,"Botswana","Africa",1968,"Botswana/1968",6.6859999999999999,53.658999999999999,650676]
[null,"Botswana","Africa",1969,"Botswana/1969",6.6669999999999998,54.183999999999997,671247]
[null,"Botswana","Africa",1970,"Botswana/1970",6.641,54.759,692959]
[null,"Botswana","Africa",1971,"Botswana/1971",6.6109999999999998,55.378999999999998,715745]
[null,"Botswana","Africa",1972,"Botswana/1972",6.5789999999999997,56.027000000000001,739683]
[null,"Botswana","Africa",1973,"Botswana/1973",6.5460000000000003,56.686,765101]
[null,"Botswana","Africa",1974,"Botswana/1974",6.5119999999999996,57.344000000000001,792432]
[null,"Botswana","Africa",1975,"Botswana/1975",6.4770000000000003,57.99,821942]
[null,"Botswana","Africa",1976,"Botswana/1976",6.44,58.616,853774]
[null,"Botswana","Africa",1977,"Botswana/1977",6.399,59.219000000000001,887716]
[null,"Botswana","Africa",1978,"Botswana/1978",6.35,59.795999999999999,923234]
[null,"Botswana","Africa",1979,"Botswana/1979",6.2910000000000004,60.341000000000001,959584]
[null,"Botswana","Africa",1980,"Botswana/1980",6.2169999999999996,60.859000000000002,996211]
[null,"Botswana","Africa",1981,"Botswana/1981",6.125,61.363999999999997,1032889]
[null,"Botswana","Africa",1982,"Botswana/1982",6.0119999999999996,61.857999999999997,1069707]
[null,"Botswana","Africa",1983,"Botswana/1983",5.88,62.331000000000003,1106802]
[null,"Botswana","Africa",1984,"Botswana/1984",5.7309999999999999,62.762,1144442]
[null,"Botswana","Africa",1985,"Botswana/1985",5.5670000000000002,63.13,1182803]
[null,"Botswana","Africa",1986,"Botswana/1986",5.3929999999999998,63.41,1221790]
[null,"Botswana","Africa",1987,"Botswana/1987",5.2140000000000004,63.573,1261235]
[null,"Botswana","Africa",1988,"Botswana/1988",5.0359999999999996,63.591000000000001,1301146]
[null,"Botswana","Africa",1989,"Botswana/1989",4.8630000000000004,63.436999999999998,1341540]
[null,"Botswana","Africa",1990,"Botswana/1990",4.6980000000000004,63.067999999999998,1382371]
[null,"Botswana","Africa",1991,"Botswana/1991",4.5419999999999998,62.444000000000003,1423570]
[null,"Botswana","Africa",1992,"Botswana/1992",4.3940000000000001,61.572000000000003,1464924]
[null,"Botswana","Africa",1993,"Botswana/1993",4.2519999999999998,60.476999999999997,1506037]
[null,"Botswana","Africa",1994,"Botswana/1994",4.117,59.195,1546414]
[null,"Botswana","Africa",1995,"Botswana/1995",3.9889999999999999,57.771000000000001,1585637]
[null,"Botswana","Africa",1996,"Botswana/1996",3.8660000000000001,56.256,1623704]
[null,"Botswana","Africa",1997,"Botswana/1997",3.746,54.715000000000003,1660538]
[null,"Botswana","Africa",1998,"Botswana/1998",3.6309999999999998,53.216999999999999,1695587]
[null,"Botswana","Africa",1999,"Botswana/1999",3.5190000000000001,51.817999999999998,1728179]
[null,"Botswana","Africa",2000,"Botswana/2000",3.4129999999999998,50.567,1757925]
[null,"Botswana","Africa",2001,"Botswana/2001",3.3159999999999998,49.491999999999997,1784449]
[null,"Botswana","Africa",2002,"Botswana/2002",3.2269999999999999,48.585999999999999,1808103]
[null,"Botswana","Africa",2003,"Botswana/2003",3.1480000000000001,47.838999999999999,1830127]
[null,"Botswana","Africa",2004,"Botswana/2004",3.0790000000000002,47.256999999999998,1852243]
[null,"Botswana","Africa",2005,"Botswana/2005",3.0169999999999999,46.835999999999999,1875673]
[null,"Botswana","Africa",2006,"Botswana/2006",2.9620000000000002,46.564999999999998,1900905]
[null,"Botswana","Africa",2007,"Botswana/2007",2.91,46.421999999999997,1927540]
[null,"Botswana","Africa",2008,"Botswana/2008",2.86,46.384,1954822]
[null,"Botswana","Africa",2009,"Botswana/2009",2.8109999999999999,46.441000000000003,1981576]
[null,"Botswana","Africa",2010,"Botswana/2010",2.7610000000000001,46.588000000000001,2006945]
[null,"Botswana","Africa",2011,"Botswana/2011",2.7120000000000002,46.823999999999998,2030738]
[null,"Botswana","Africa",2012,"Botswana/2012",2.665,47.152000000000001,2053237]
[null,"Botswana","Africa",2013,"Botswana/2013",2.6190000000000002,47.572000000000003,2074616]
[null,"Brazil","Latin America + Caribbean",1950,"Brazil/1950",6.18,50.04,53974725]
[null,"Brazil","Latin America + Caribbean",1951,"Brazil/1951",6.1680000000000001,50.28,55669001]
[null,"Brazil","Latin America + Caribbean",1952,"Brazil/1952",6.149,50.762999999999998,57422674]
[null,"Brazil","Latin America + Caribbean",1953,"Brazil/1953",6.1390000000000002,51.247999999999998,59215974]
[null,"Brazil","Latin America + Caribbean",1954,"Brazil/1954",6.1369999999999996,51.737000000000002,61036582]
[null,"Brazil","Latin America + Caribbean",1955,"Brazil/1955",6.1440000000000001,52.23,62879616]
[null,"Brazil","Latin America + Caribbean",1956,"Brazil/1956",6.157,52.725000000000001,64748101]
[null,"Brazil","Latin America + Caribbean",1957,"Brazil/1957",6.1760000000000002,53.222000000000001,66652501]
[null,"Brazil","Latin America + Caribbean",1958,"Brazil/1958",6.1950000000000003,53.72,68609363]
[null,"Brazil","Latin America + Caribbean",1959,"Brazil/1959",6.2089999999999996,54.213999999999999,70639029]
[null,"Brazil","Latin America + Caribbean",1960,"Brazil/1960",6.21,54.701999999999998,72758801]
[null,"Brazil","Latin America + Caribbean",1961,"Brazil/1961",6.19,55.179000000000002,74975656]
[null,"Brazil","Latin America + Caribbean",1962,"Brazil/1962",6.1429999999999998,55.643000000000001,77279855]
[null,"Brazil","Latin America + Caribbean",1963,"Brazil/1963",6.0629999999999997,56.091000000000001,79642214]
[null,"Brazil","Latin America + Caribbean",1964,"Brazil/1964",5.9530000000000003,56.521000000000001,82021855]
[null,"Brazil","Latin America + Caribbean",1965,"Brazil/1965",5.8150000000000004,56.935000000000002,84388983]
[null,"Brazil","Latin America + Caribbean",1966,"Brazil/1966",5.6580000000000004,57.334000000000003,86735163]
[null,"Brazil","Latin America + Caribbean",1967,"Brazil/1967",5.4909999999999997,57.722000000000001,89068235]
[null,"Brazil","Latin America + Caribbean",1968,"Brazil/1968",5.3259999999999996,58.104999999999997,91394916]
[null,"Brazil","Latin America + Caribbean",1969,"Brazil/1969",5.1680000000000001,58.484000000000002,93727990]
[null,"Brazil","Latin America + Caribbean",1970,"Brazil/1970",5.024,58.865000000000002,96078304]
[null,"Brazil","Latin America + Caribbean",1971,"Brazil/1971",4.8959999999999999,59.250999999999998,98445131]
[null,"Brazil","Latin America + Caribbean",1972,"Brazil/1972",4.782,59.643999999999998,100828667]
[null,"Brazil","Latin America + Caribbean",1973,"Brazil/1973",4.6790000000000003,60.042000000000002,103242395]
[null,"Brazil","Latin America + Caribbean",1974,"Brazil/1974",4.585,60.442999999999998,105703409]
[null,"Brazil","Latin America + Caribbean",1975,"Brazil/1975",4.4989999999999997,60.844000000000001,108224080]
[null,"Brazil","Latin America + Caribbean",1976,"Brazil/1976",4.4180000000000001,61.235999999999997,110804816]
[null,"Brazil","Latin America + Caribbean",1977,"Brazil/1977",4.3390000000000004,61.615000000000002,113442106]
[null,"Brazil","Latin America + Caribbean",1978,"Brazil/1978",4.2560000000000002,61.978000000000002,116138507]
[null,"Brazil","Latin America + Caribbean",1979,"Brazil/1979",4.1689999999999996,62.328000000000003,118895875]
[null,"Brazil","Latin America + Caribbean",1980,"Brazil/1980",4.0730000000000004,62.668999999999997,121711864]
[null,"Brazil","Latin America + Caribbean",1981,"Brazil/1981",3.9660000000000002,63.008000000000003,124588432]
[null,"Brazil","Latin America + Caribbean",1982,"Brazil/1982",3.8479999999999999,63.353000000000002,127514673]
[null,"Brazil","Latin America + Caribbean",1983,"Brazil/1983",3.7210000000000001,63.71,130459023]
[null,"Brazil","Latin America + Caribbean",1984,"Brazil/1984",3.5870000000000002,64.081000000000003,133380123]
[null,"Brazil","Latin America + Caribbean",1985,"Brazil/1985",3.4489999999999998,64.465999999999994,136246764]
[null,"Brazil","Latin America + Caribbean",1986,"Brazil/1986",3.3079999999999998,64.861999999999995,139049440]
[null,"Brazil","Latin America + Caribbean",1987,"Brazil/1987",3.17,65.263999999999996,141791325]
[null,"Brazil","Latin America + Caribbean",1988,"Brazil/1988",3.0390000000000001,65.667000000000002,144470377]
[null,"Brazil","Latin America + Caribbean",1989,"Brazil/1989",2.9169999999999998,66.067999999999998,147088677]
[null,"Brazil","Latin America + Caribbean",1990,"Brazil/1990",2.8090000000000002,66.468000000000004,149650206]
[null,"Brazil","Latin America + Caribbean",1991,"Brazil/1991",2.7170000000000001,66.867000000000004,152146887]
[null,"Brazil","Latin America + Caribbean",1992,"Brazil/1992",2.6429999999999998,67.266999999999996,154582103]
[null,"Brazil","Latin America + Caribbean",1993,"Brazil/1993",2.5830000000000002,67.668000000000006,156985824]
[null,"Brazil","Latin America + Caribbean",1994,"Brazil/1994",2.5369999999999999,68.066000000000003,159398558]
[null,"Brazil","Latin America + Caribbean",1995,"Brazil/1995",2.5019999999999998,68.459999999999994,161848162]
[null,"Brazil","Latin America + Caribbean",1996,"Brazil/1996",2.4740000000000002,68.846000000000004,164342524]
[null,"Brazil","Latin America + Caribbean",1997,"Brazil/1997",2.4510000000000001,69.221000000000004,166869168]
[null,"Brazil","Latin America + Caribbean",1998,"Brazil/1998",2.427,69.581999999999994,169409713]
[null,"Brazil","Latin America + Caribbean",1999,"Brazil/1999",2.399,69.929000000000002,171936271]
[null,"Brazil","Latin America + Caribbean",2000,"Brazil/2000",2.3639999999999999,70.260999999999996,174425387]
[null,"Brazil","Latin America + Caribbean",2001,"Brazil/2001",2.3180000000000001,70.578000000000003,176877135]
[null,"Brazil","Latin America + Caribbean",2002,"Brazil/2002",2.2639999999999998,70.882000000000005,179289227]
[null,"Brazil","Latin America + Caribbean",2003,"Brazil/2003",2.202,71.177000000000007,181633074]
[null,"Brazil","Latin America + Caribbean",2004,"Brazil/2004",2.1349999999999998,71.462999999999994,183873377]
[null,"Brazil","Latin America + Caribbean",2005,"Brazil/2005",2.0659999999999998,71.745000000000005,185986964]
[null,"Brazil","Latin America + Caribbean",2006,"Brazil/2006",2.0009999999999999,72.022000000000006,187958211]
[null,"Brazil","Latin America + Caribbean",2007,"Brazil/2007",1.944,72.298000000000002,189798070]
[null,"Brazil","Latin America + Caribbean",2008,"Brazil/2008",1.897,72.572000000000003,191543237]
[null,"Brazil","Latin America + Caribbean",2009,"Brazil/2009",1.8620000000000001,72.846000000000004,193246610]
[null,"Brazil","Latin America + Caribbean",2010,"Brazil/2010",1.8380000000000001,73.120999999999995,194946470]
[null,"Brazil","Latin America + Caribbean",2011,"Brazil/2011",1.8220000000000001,73.394999999999996,196655014]
[null,"Brazil","Latin America + Caribbean",2012,"Brazil/2012",1.8109999999999999,73.667000000000002,198360943]
[null,"Brazil","Latin America + Caribbean",2013,"Brazil/2013",1.8009999999999999,73.936999999999998,200050487]
[null,"Brunei","Asia + Pacific",1950,"Brunei/1950",7.5179999999999998,56.631999999999998,48001]
[null,"Brunei","Asia + Pacific",1951,"Brunei/1951",7.3609999999999998,56.933999999999997,51070]
[null,"Brunei","Asia + Pacific",1952,"Brunei/1952",7.0739999999999998,57.54,54083]
[null,"Brunei","Asia + Pacific",1953,"Brunei/1953",6.8419999999999996,58.148000000000003,57085]
[null,"Brunei","Asia + Pacific",1954,"Brunei/1954",6.6639999999999997,58.76,60113]
[null,"Brunei","Asia + Pacific",1955,"Brunei/1955",6.54,59.372999999999998,63194]
[null,"Brunei","Asia + Pacific",1956,"Brunei/1956",6.4660000000000002,59.988999999999997,66348]
[null,"Brunei","Asia + Pacific",1957,"Brunei/1957",6.4370000000000003,60.604999999999997,69587]
[null,"Brunei","Asia + Pacific",1958,"Brunei/1958",6.4420000000000002,61.219000000000001,72916]
[null,"Brunei","Asia + Pacific",1959,"Brunei/1959",6.4649999999999999,61.826000000000001,76335]
[null,"Brunei","Asia + Pacific",1960,"Brunei/1960",6.4870000000000001,62.421999999999997,79846]
[null,"Brunei","Asia + Pacific",1961,"Brunei/1961",6.4870000000000001,63.002000000000002,83458]
[null,"Brunei","Asia + Pacific",1962,"Brunei/1962",6.4480000000000004,63.56,87192]
[null,"Brunei","Asia + Pacific",1963,"Brunei/1963",6.36,64.093000000000004,91088]
[null,"Brunei","Asia + Pacific",1964,"Brunei/1964",6.2270000000000003,64.599000000000004,95191]
[null,"Brunei","Asia + Pacific",1965,"Brunei/1965",6.0679999999999996,65.078000000000003,99536]
[null,"Brunei","Asia + Pacific",1966,"Brunei/1966",5.9180000000000001,65.536000000000001,104130]
[null,"Brunei","Asia + Pacific",1967,"Brunei/1967",5.8040000000000003,65.974999999999994,108968]
[null,"Brunei","Asia + Pacific",1968,"Brunei/1968",5.742,66.403000000000006,114068]
[null,"Brunei","Asia + Pacific",1969,"Brunei/1969",5.7309999999999999,66.820999999999998,119440]
[null,"Brunei","Asia + Pacific",1970,"Brunei/1970",5.7510000000000003,67.230999999999995,125088]
[null,"Brunei","Asia + Pacific",1971,"Brunei/1971",5.7709999999999999,67.632000000000005,131010]
[null,"Brunei","Asia + Pacific",1972,"Brunei/1972",5.758,68.025000000000006,137181]
[null,"Brunei","Asia + Pacific",1973,"Brunei/1973",5.6870000000000003,68.406999999999996,143548]
[null,"Brunei","Asia + Pacific",1974,"Brunei/1974",5.5549999999999997,68.778999999999996,150039]
[null,"Brunei","Asia + Pacific",1975,"Brunei/1975",5.3650000000000002,69.138999999999996,156595]
[null,"Brunei","Asia + Pacific",1976,"Brunei/1976",5.1319999999999997,69.486000000000004,163208]
[null,"Brunei","Asia + Pacific",1977,"Brunei/1977",4.8840000000000003,69.819999999999993,169865]
[null,"Brunei","Asia + Pacific",1978,"Brunei/1978",4.6449999999999996,70.141000000000005,176488]
[null,"Brunei","Asia + Pacific",1979,"Brunei/1979",4.4290000000000003,70.450999999999993,182986]
[null,"Brunei","Asia + Pacific",1980,"Brunei/1980",4.2460000000000004,70.751000000000005,189300]
[null,"Brunei","Asia + Pacific",1981,"Brunei/1981",4.1029999999999998,71.043999999999997,195394]
[null,"Brunei","Asia + Pacific",1982,"Brunei/1982",3.992,71.331999999999994,201301]
[null,"Brunei","Asia + Pacific",1983,"Brunei/1983",3.9060000000000001,71.616,207122]
[null,"Brunei","Asia + Pacific",1984,"Brunei/1984",3.843,71.897999999999996,213002]
[null,"Brunei","Asia + Pacific",1985,"Brunei/1985",3.794,72.180000000000007,219050]
[null,"Brunei","Asia + Pacific",1986,"Brunei/1986",3.7549999999999999,72.460999999999999,225288]
[null,"Brunei","Asia + Pacific",1987,"Brunei/1987",3.7149999999999999,72.739999999999995,231700]
[null,"Brunei","Asia + Pacific",1988,"Brunei/1988",3.6680000000000001,73.015000000000001,238305]
[null,"Brunei","Asia + Pacific",1989,"Brunei/1989",3.6080000000000001,73.287000000000006,245112]
[null,"Brunei","Asia + Pacific",1990,"Brunei/1990",3.532,73.554000000000002,252125]
[null,"Brunei","Asia + Pacific",1991,"Brunei/1991",3.4350000000000001,73.813999999999993,259357]
[null,"Brunei","Asia + Pacific",1992,"Brunei/1992",3.3210000000000002,74.066999999999993,266794]
[null,"Brunei","Asia + Pacific",1993,"Brunei/1993",3.1970000000000001,74.313000000000002,274371]
[null,"Brunei","Asia + Pacific",1994,"Brunei/1994",3.0640000000000001,74.552000000000007,282000]
[null,"Brunei","Asia + Pacific",1995,"Brunei/1995",2.9289999999999998,74.786000000000001,289614]
[null,"Brunei","Asia + Pacific",1996,"Brunei/1996",2.798,75.016000000000005,297188]
[null,"Brunei","Asia + Pacific",1997,"Brunei/1997",2.677,75.245000000000005,304726]
[null,"Brunei","Asia + Pacific",1998,"Brunei/1998",2.569,75.472999999999999,312216]
[null,"Brunei","Asia + Pacific",1999,"Brunei/1999",2.4769999999999999,75.700999999999993,319654]
[null,"Brunei","Asia + Pacific",2000,"Brunei/2000",2.4009999999999998,75.927000000000007,327036]
[null,"Brunei","Asia + Pacific",2001,"Brunei/2001",2.3410000000000002,76.150000000000006,334348]
[null,"Brunei","Asia + Pacific",2002,"Brunei/2002",2.2919999999999998,76.367000000000004,341585]
[null,"Brunei","Asia + Pacific",2003,"Brunei/2003",2.2490000000000001,76.578000000000003,348771]
[null,"Brunei","Asia + Pacific",2004,"Brunei/2004",2.2109999999999999,76.783000000000001,355943]
[null,"Brunei","Asia + Pacific",2005,"Brunei/2005",2.177,76.981999999999999,363123]
[null,"Brunei","Asia + Pacific",2006,"Brunei/2006",2.1469999999999998,77.177999999999997,370317]
[null,"Brunei","Asia + Pacific",2007,"Brunei/2007",2.1190000000000002,77.372,377513]
[null,"Brunei","Asia + Pacific",2008,"Brunei/2008",2.0950000000000002,77.566000000000003,384695]
[null,"Brunei","Asia + Pacific",2009,"Brunei/2009",2.0720000000000001,77.760000000000005,391837]
[null,"Brunei","Asia + Pacific",2010,"Brunei/2010",2.0510000000000002,77.956000000000003,398920]
[null,"Brunei","Asia + Pacific",2011,"Brunei/2011",2.0310000000000001,78.153000000000006,405938]
[null,"Brunei","Asia + Pacific",2012,"Brunei/2012",2.012,78.349999999999994,412892]
[null,"Brunei","Asia + Pacific",2013,"Brunei/2013",1.994,78.546999999999997,419772]
[null,"Bulgaria","Europe",1950,"Bulgaria/1950",2.66,61.39,7250999]
[null,"Bulgaria","Europe",1951,"Bulgaria/1951",2.6219999999999999,60.63,7282560]
[null,"Bulgaria","Europe",1952,"Bulgaria/1952",2.552,59.6,7324411]
[null,"Bulgaria","Europe",1953,"Bulgaria/1953",2.4889999999999999,64.14,7375320]
[null,"Bulgaria","Europe",1954,"Bulgaria/1954",2.4340000000000002,64.400000000000006,7433978]
[null,"Bulgaria","Europe",1955,"Bulgaria/1955",2.387,64.81,7499009]
[null,"Bulgaria","Europe",1956,"Bulgaria/1956",2.3460000000000001,65.209999999999994,7568951]
[null,"Bulgaria","Europe",1957,"Bulgaria/1957",2.3130000000000002,66.61,7642268]
[null,"Bulgaria","Europe",1958,"Bulgaria/1958",2.286,68.709999999999994,7717389]
[null,"Bulgaria","Europe",1959,"Bulgaria/1959",2.2639999999999998,66.569999999999993,7792759]
[null,"Bulgaria","Europe",1960,"Bulgaria/1960",2.2450000000000001,69.180000000000007,7867008]
[null,"Bulgaria","Europe",1961,"Bulgaria/1961",2.2290000000000001,70.22,7939132]
[null,"Bulgaria","Europe",1962,"Bulgaria/1962",2.2130000000000001,69.510000000000005,8008652]
[null,"Bulgaria","Europe",1963,"Bulgaria/1963",2.198,70.34,8075674]
[null,"Bulgaria","Europe",1964,"Bulgaria/1964",2.181,71.14,8140705]
[null,"Bulgaria","Europe",1965,"Bulgaria/1965",2.165,71.3,8204095]
[null,"Bulgaria","Europe",1966,"Bulgaria/1966",2.1509999999999998,71.23,8265527]
[null,"Bulgaria","Europe",1967,"Bulgaria/1967",2.14,70.42,8324589]
[null,"Bulgaria","Europe",1968,"Bulgaria/1968",2.133,71.25,8381450]
[null,"Bulgaria","Europe",1969,"Bulgaria/1969",2.1320000000000001,70.430000000000007,8436396]
[null,"Bulgaria","Europe",1970,"Bulgaria/1970",2.1349999999999998,71.27,8489572]
[null,"Bulgaria","Europe",1971,"Bulgaria/1971",2.1440000000000001,70.87,8541136]
[null,"Bulgaria","Europe",1972,"Bulgaria/1972",2.1549999999999998,70.900000000000006,8590839]
[null,"Bulgaria","Europe",1973,"Bulgaria/1973",2.169,71.34,8637941]
[null,"Bulgaria","Europe",1974,"Bulgaria/1974",2.181,71.2,8681449]
[null,"Bulgaria","Europe",1975,"Bulgaria/1975",2.19,71.05,8720706]
[null,"Bulgaria","Europe",1976,"Bulgaria/1976",2.1909999999999998,71.38,8754869]
[null,"Bulgaria","Europe",1977,"Bulgaria/1977",2.1840000000000002,70.81,8784175]
[null,"Bulgaria","Europe",1978,"Bulgaria/1978",2.1680000000000001,71.17,8810299]
[null,"Bulgaria","Europe",1979,"Bulgaria/1979",2.1429999999999998,71.27,8835614]
[null,"Bulgaria","Europe",1980,"Bulgaria/1980",2.113,71.099999999999994,8861536]
[null,"Bulgaria","Europe",1981,"Bulgaria/1981",2.0819999999999999,71.489999999999995,8888449]
[null,"Bulgaria","Europe",1982,"Bulgaria/1982",2.0550000000000002,71.08,8914880]
[null,"Bulgaria","Europe",1983,"Bulgaria/1983",2.0329999999999999,71.25,8938068]
[null,"Bulgaria","Europe",1984,"Bulgaria/1984",2.0150000000000001,71.349999999999994,8954236]
[null,"Bulgaria","Europe",1985,"Bulgaria/1985",1.9970000000000001,71.069999999999993,8960417]
[null,"Bulgaria","Europe",1986,"Bulgaria/1986",1.976,71.55,8956687]
[null,"Bulgaria","Europe",1987,"Bulgaria/1987",1.944,71.34,8943245]
[null,"Bulgaria","Europe",1988,"Bulgaria/1988",1.899,71.400000000000006,8917563]
[null,"Bulgaria","Europe",1989,"Bulgaria/1989",1.841,71.459999999999994,8876627]
[null,"Bulgaria","Europe",1990,"Bulgaria/1990",1.7689999999999999,71.31,8818915]
[null,"Bulgaria","Europe",1991,"Bulgaria/1991",1.6859999999999999,71.19,8743034]
[null,"Bulgaria","Europe",1992,"Bulgaria/1992",1.597,71.19,8651284]
[null,"Bulgaria","Europe",1993,"Bulgaria/1993",1.5069999999999999,71.180000000000007,8550495]
[null,"Bulgaria","Europe",1994,"Bulgaria/1994",1.421,70.849999999999994,8449971]
[null,"Bulgaria","Europe",1995,"Bulgaria/1995",1.3440000000000001,70.95,8356624]
[null,"Bulgaria","Europe",1996,"Bulgaria/1996",1.28,70.849999999999994,8273011]
[null,"Bulgaria","Europe",1997,"Bulgaria/1997",1.2310000000000001,70.319999999999993,8198008]
[null,"Bulgaria","Europe",1998,"Bulgaria/1998",1.198,70.91,8130284]
[null,"Bulgaria","Europe",1999,"Bulgaria/1999",1.181,71.569999999999993,8067041]
[null,"Bulgaria","Europe",2000,"Bulgaria/2000",1.181,71.59,8006158]
[null,"Bulgaria","Europe",2001,"Bulgaria/2001",1.1950000000000001,71.900000000000006,7947761]
[null,"Bulgaria","Europe",2002,"Bulgaria/2002",1.2210000000000001,72.14,7892666]
[null,"Bulgaria","Europe",2003,"Bulgaria/2003",1.254,72.349999999999994,7840117]
[null,"Bulgaria","Europe",2004,"Bulgaria/2004",1.29,72.540000000000006,7789180]
[null,"Bulgaria","Europe",2005,"Bulgaria/2005",1.3280000000000001,72.53,7739115]
[null,"Bulgaria","Europe",2006,"Bulgaria/2006",1.365,72.64,7689520]
[null,"Bulgaria","Europe",2007,"Bulgaria/2007",1.4,72.95,7640283]
[null,"Bulgaria","Europe",2008,"Bulgaria/2008",1.4330000000000001,73.316999999999993,7591322]
[null,"Bulgaria","Europe",2009,"Bulgaria/2009",1.4610000000000001,73.132000000000005,7542674]
[null,"Bulgaria","Europe",2010,"Bulgaria/2010",1.4850000000000001,73.242999999999995,7494332]
[null,"Bulgaria","Europe",2011,"Bulgaria/2011",1.506,73.346999999999994,7446135]
[null,"Bulgaria","Europe",2012,"Bulgaria/2012",1.524,73.447999999999993,7397873]
[null,"Bulgaria","Europe",2013,"Bulgaria/2013",1.5409999999999999,73.549000000000007,7349462]
[null,"Burkina Faso","Africa",1950,"Burkina Faso/1950",6.0339999999999998,29.981999999999999,4284459]
[null,"Burkina Faso","Africa",1951,"Burkina Faso/1951",6.0529999999999999,30.224,4326475]
[null,"Burkina Faso","Africa",1952,"Burkina Faso/1952",6.0890000000000004,30.707000000000001,4371948]
[null,"Burkina Faso","Africa",1953,"Burkina Faso/1953",6.1219999999999999,31.184000000000001,4421583]
[null,"Burkina Faso","Africa",1954,"Burkina Faso/1954",6.1520000000000001,31.658000000000001,4475785]
[null,"Burkina Faso","Africa",1955,"Burkina Faso/1955",6.18,32.127000000000002,4534650]
[null,"Burkina Faso","Africa",1956,"Burkina Faso/1956",6.2050000000000001,32.591000000000001,4597951]
[null,"Burkina Faso","Africa",1957,"Burkina Faso/1957",6.2270000000000003,33.052999999999997,4665157]
[null,"Burkina Faso","Africa",1958,"Burkina Faso/1958",6.2480000000000002,33.512,4735491]
[null,"Burkina Faso","Africa",1959,"Burkina Faso/1959",6.2690000000000001,33.970999999999997,4808018]
[null,"Burkina Faso","Africa",1960,"Burkina Faso/1960",6.2910000000000004,34.432000000000002,4881947]
[null,"Burkina Faso","Africa",1961,"Burkina Faso/1961",6.3159999999999998,34.896999999999998,4956921]
[null,"Burkina Faso","Africa",1962,"Burkina Faso/1962",6.3440000000000003,35.369,5033296]
[null,"Burkina Faso","Africa",1963,"Burkina Faso/1963",6.3769999999999998,35.847000000000001,5112252]
[null,"Burkina Faso","Africa",1964,"Burkina Faso/1964",6.4139999999999997,36.331000000000003,5195464]
[null,"Burkina Faso","Africa",1965,"Burkina Faso/1965",6.4539999999999997,36.814999999999998,5284154]
[null,"Burkina Faso","Africa",1966,"Burkina Faso/1966",6.4930000000000003,37.290999999999997,5378861]
[null,"Burkina Faso","Africa",1967,"Burkina Faso/1967",6.53,37.753999999999998,5479285]
[null,"Burkina Faso","Africa",1968,"Burkina Faso/1968",6.5629999999999997,38.207000000000001,5584807]
[null,"Burkina Faso","Africa",1969,"Burkina Faso/1969",6.593,38.652000000000001,5694428]
[null,"Burkina Faso","Africa",1970,"Burkina Faso/1970",6.6230000000000002,39.094999999999999,5807492]
[null,"Burkina Faso","Africa",1971,"Burkina Faso/1971",6.657,39.542000000000002,5923949]
[null,"Burkina Faso","Africa",1972,"Burkina Faso/1972",6.6970000000000001,40.003,6044303]
[null,"Burkina Faso","Africa",1973,"Burkina Faso/1973",6.7439999999999998,40.493000000000002,6169133]
[null,"Burkina Faso","Africa",1974,"Burkina Faso/1974",6.7990000000000004,41.024999999999999,6299238]
[null,"Burkina Faso","Africa",1975,"Burkina Faso/1975",6.859,41.63,6435274]
[null,"Burkina Faso","Africa",1976,"Burkina Faso/1976",6.9219999999999997,42.343000000000004,6577502]
[null,"Burkina Faso","Africa",1977,"Burkina Faso/1977",6.984,43.165999999999997,6726016]
[null,"Burkina Faso","Africa",1978,"Burkina Faso/1978",7.0410000000000004,44.081000000000003,6881106]
[null,"Burkina Faso","Africa",1979,"Burkina Faso/1979",7.09,45.06,7043049]
[null,"Burkina Faso","Africa",1980,"Burkina Faso/1980",7.1269999999999998,46.048999999999999,7212088]
[null,"Burkina Faso","Africa",1981,"Burkina Faso/1981",7.1520000000000001,46.984000000000002,7388473]
[null,"Burkina Faso","Africa",1982,"Burkina Faso/1982",7.165,47.81,7572382]
[null,"Burkina Faso","Africa",1983,"Burkina Faso/1983",7.1669999999999998,48.485999999999997,7763888]
[null,"Burkina Faso","Africa",1984,"Burkina Faso/1984",7.1589999999999998,48.991999999999997,7963009]
[null,"Burkina Faso","Africa",1985,"Burkina Faso/1985",7.1420000000000003,49.323,8169792]
[null,"Burkina Faso","Africa",1986,"Burkina Faso/1986",7.1189999999999998,49.491999999999997,8384383]
[null,"Burkina Faso","Africa",1987,"Burkina Faso/1987",7.0919999999999996,49.55,8606963]
[null,"Burkina Faso","Africa",1988,"Burkina Faso/1988",7.0640000000000001,49.545000000000002,8837666]
[null,"Burkina Faso","Africa",1989,"Burkina Faso/1989",7.0359999999999996,49.505000000000003,9076631]
[null,"Burkina Faso","Africa",1990,"Burkina Faso/1990",7.0069999999999997,49.454000000000001,9323996]
[null,"Burkina Faso","Africa",1991,"Burkina Faso/1991",6.9790000000000001,49.408999999999999,9580035]
[null,"Burkina Faso","Africa",1992,"Burkina Faso/1992",6.95,49.374000000000002,9844931]
[null,"Burkina Faso","Africa",1993,"Burkina Faso/1993",6.9169999999999998,49.36,10118634]
[null,"Burkina Faso","Africa",1994,"Burkina Faso/1994",6.8819999999999997,49.38,10401025]
[null,"Burkina Faso","Africa",1995,"Burkina Faso/1995",6.8440000000000003,49.448999999999998,10692138]
[null,"Burkina Faso","Africa",1996,"Burkina Faso/1996",6.8010000000000002,49.576000000000001,10992170]
[null,"Burkina Faso","Africa",1997,"Burkina Faso/1997",6.7539999999999996,49.755000000000003,11301608]
[null,"Burkina Faso","Africa",1998,"Burkina Faso/1998",6.7039999999999997,49.984000000000002,11621159]
[null,"Burkina Faso","Africa",1999,"Burkina Faso/1999",6.65,50.262,11951701]
[null,"Burkina Faso","Africa",2000,"Burkina Faso/2000",6.5919999999999996,50.588999999999999,12294012]
[null,"Burkina Faso","Africa",2001,"Burkina Faso/2001",6.5309999999999997,50.963000000000001,12648474]
[null,"Burkina Faso","Africa",2002,"Burkina Faso/2002",6.468,51.375,13015435]
[null,"Burkina Faso","Africa",2003,"Burkina Faso/2003",6.4029999999999996,51.816000000000003,13395599]
[null,"Burkina Faso","Africa",2004,"Burkina Faso/2004",6.335,52.277999999999999,13789736]
[null,"Burkina Faso","Africa",2005,"Burkina Faso/2005",6.2649999999999997,52.75,14198463]
[null,"Burkina Faso","Africa",2006,"Burkina Faso/2006",6.1929999999999996,53.226999999999997,14622202]
[null,"Burkina Faso","Africa",2007,"Burkina Faso/2007",6.1159999999999997,53.703000000000003,15061127]
[null,"Burkina Faso","Africa",2008,"Burkina Faso/2008",6.0369999999999999,54.173999999999999,15515258]
[null,"Burkina Faso","Africa",2009,"Burkina Faso/2009",5.9539999999999997,54.634,15984479]
[null,"Burkina Faso","Africa",2010,"Burkina Faso/2010",5.8689999999999998,55.081000000000003,16468714]
[null,"Burkina Faso","Africa",2011,"Burkina Faso/2011",5.7809999999999997,55.512999999999998,16967845]
[null,"Burkina Faso","Africa",2012,"Burkina Faso/2012",5.6929999999999996,55.932000000000002,17481984]
[null,"Burkina Faso","Africa",2013,"Burkina Faso/2013",5.6050000000000004,56.344000000000001,18011507]
[null,"Burundi","Africa",1950,"Burundi/1950",6.82,38.426000000000002,2456300]
[null,"Burundi","Africa",1951,"Burundi/1951",6.8109999999999999,38.578000000000003,2504993]
[null,"Burundi","Africa",1952,"Burundi/1952",6.798,38.881,2550737]
[null,"Burundi","Africa",1953,"Burundi/1953",6.7919999999999998,39.183,2595383]
[null,"Burundi","Africa",1954,"Burundi/1954",6.7939999999999996,39.482999999999997,2640339]
[null,"Burundi","Africa",1955,"Burundi/1955",6.8040000000000003,39.783000000000001,2686568]
[null,"Burundi","Africa",1956,"Burundi/1956",6.8209999999999997,40.081000000000003,2734574]
[null,"Burundi","Africa",1957,"Burundi/1957",6.8449999999999998,40.378999999999998,2784417]
[null,"Burundi","Africa",1958,"Burundi/1958",6.875,40.677999999999997,2835768]
[null,"Burundi","Africa",1959,"Burundi/1959",6.9119999999999999,40.978999999999999,2888007]
[null,"Burundi","Africa",1960,"Burundi/1960",6.9530000000000003,41.284999999999997,2940498]
[null,"Burundi","Africa",1961,"Burundi/1961",6.9980000000000002,41.594999999999999,2992893]
[null,"Burundi","Africa",1962,"Burundi/1962",7.0449999999999999,41.91,3045392]
[null,"Burundi","Africa",1963,"Burundi/1963",7.0919999999999996,42.228000000000002,3098852]
[null,"Burundi","Africa",1964,"Burundi/1964",7.1379999999999999,42.542999999999999,3154474]
[null,"Burundi","Africa",1965,"Burundi/1965",7.1790000000000003,42.841000000000001,3212864]
[null,"Burundi","Africa",1966,"Burundi/1966",7.2160000000000002,43.106000000000002,3275465]
[null,"Burundi","Africa",1967,"Burundi/1967",7.2469999999999999,43.332000000000001,3341476]
[null,"Burundi","Africa",1968,"Burundi/1968",7.2720000000000002,43.518999999999998,3406650]
[null,"Burundi","Africa",1969,"Burundi/1969",7.2930000000000001,43.679000000000002,3465190]
[null,"Burundi","Africa",1970,"Burundi/1970",7.3109999999999999,43.832999999999998,3513499]
[null,"Burundi","Africa",1971,"Burundi/1971",7.3289999999999997,44.011000000000003,3549864]
[null,"Burundi","Africa",1972,"Burundi/1972",7.3479999999999999,44.235999999999997,3577187]
[null,"Burundi","Africa",1973,"Burundi/1973",7.37,44.521999999999998,3602204]
[null,"Burundi","Africa",1974,"Burundi/1974",7.3949999999999996,44.87,3634284]
[null,"Burundi","Africa",1975,"Burundi/1975",7.4189999999999996,45.271999999999998,3680401]
[null,"Burundi","Africa",1976,"Burundi/1976",7.4390000000000001,45.71,3742452]
[null,"Burundi","Africa",1977,"Burundi/1977",7.452,46.158000000000001,3819115]
[null,"Burundi","Africa",1978,"Burundi/1978",7.4569999999999999,46.587000000000003,3910124]
[null,"Burundi","Africa",1979,"Burundi/1979",7.4550000000000001,46.984999999999999,4014190]
[null,"Burundi","Africa",1980,"Burundi/1980",7.45,47.347000000000001,4129997]
[null,"Burundi","Africa",1981,"Burundi/1981",7.4489999999999998,47.680999999999997,4257303]
[null,"Burundi","Africa",1982,"Burundi/1982",7.4539999999999997,47.993000000000002,4395560]
[null,"Burundi","Africa",1983,"Burundi/1983",7.4690000000000003,48.277999999999999,4542467]
[null,"Burundi","Africa",1984,"Burundi/1984",7.492,48.52,4695065]
[null,"Burundi","Africa",1985,"Burundi/1985",7.52,48.674999999999997,4850597]
[null,"Burundi","Africa",1986,"Burundi/1986",7.5460000000000003,48.69,5008201]
[null,"Burundi","Africa",1987,"Burundi/1987",7.5650000000000004,48.545999999999999,5166403]
[null,"Burundi","Africa",1988,"Burundi/1988",7.5720000000000001,48.253999999999998,5321108]
[null,"Burundi","Africa",1989,"Burundi/1989",7.5640000000000001,47.843000000000004,5467413]
[null,"Burundi","Africa",1990,"Burundi/1990",7.5419999999999998,47.381,5601720]
[null,"Burundi","Africa",1991,"Burundi/1991",7.508,46.951000000000001,5724030]
[null,"Burundi","Africa",1992,"Burundi/1992",7.4649999999999999,46.628,5835071]
[null,"Burundi","Africa",1993,"Burundi/1993",7.4180000000000001,46.463999999999999,5933293]
[null,"Burundi","Africa",1994,"Burundi/1994",7.3680000000000003,46.476999999999997,6017127]
[null,"Burundi","Africa",1995,"Burundi/1995",7.3179999999999996,46.654000000000003,6086751]
[null,"Burundi","Africa",1996,"Burundi/1996",7.2670000000000003,46.951000000000001,6140258]
[null,"Burundi","Africa",1997,"Burundi/1997",7.2169999999999996,47.298000000000002,6181493]
[null,"Burundi","Africa",1998,"Burundi/1998",7.165,47.64,6223515]
[null,"Burundi","Africa",1999,"Burundi/1999",7.1120000000000001,47.957999999999998,6283662]
[null,"Burundi","Africa",2000,"Burundi/2000",7.0570000000000004,48.250999999999998,6374347]
[null,"Burundi","Africa",2001,"Burundi/2001",7,48.533999999999999,6499653]
[null,"Burundi","Africa",2002,"Burundi/2002",6.9390000000000001,48.84,6656071]
[null,"Burundi","Africa",2003,"Burundi/2003",6.8730000000000002,49.191000000000003,6838764]
[null,"Burundi","Africa",2004,"Burundi/2004",6.8029999999999999,49.588999999999999,7039534]
[null,"Burundi","Africa",2005,"Burundi/2005",6.7290000000000001,50.036000000000001,7251424]
[null,"Burundi","Africa",2006,"Burundi/2006",6.65,50.526000000000003,7474363]
[null,"Burundi","Africa",2007,"Burundi/2007",6.5670000000000002,51.045000000000002,7707781]
[null,"Burundi","Africa",2008,"Burundi/2008",6.4809999999999999,51.578000000000003,7943385]
[null,"Burundi","Africa",2009,"Burundi/2009",6.3929999999999998,52.112000000000002,8170853]
[null,"Burundi","Africa",2010,"Burundi/2010",6.3040000000000003,52.637999999999998,8382849]
[null,"Burundi","Africa",2011,"Burundi/2011",6.2140000000000004,53.148000000000003,8575172]
[null,"Burundi","Africa",2012,"Burundi/2012",6.1230000000000002,53.637,8749387]
[null,"Burundi","Africa",2013,"Burundi/2013",6.0330000000000004,54.103999999999999,8911183]
[null,"Cambodia","Asia + Pacific",1950,"Cambodia/1950",6.9530000000000003,39.779000000000003,4345800]
[null,"Cambodia","Asia + Pacific",1951,"Cambodia/1951",6.95,39.911999999999999,4457418]
[null,"Cambodia","Asia + Pacific",1952,"Cambodia/1952",6.9459999999999997,40.161000000000001,4555803]
[null,"Cambodia","Asia + Pacific",1953,"Cambodia/1953",6.9450000000000003,40.377000000000002,4648644]
[null,"Cambodia","Asia + Pacific",1954,"Cambodia/1954",6.9450000000000003,40.56,4741920]
[null,"Cambodia","Asia + Pacific",1955,"Cambodia/1955",6.9470000000000001,40.710999999999999,4839899]
[null,"Cambodia","Asia + Pacific",1956,"Cambodia/1956",6.95,40.835000000000001,4945074]
[null,"Cambodia","Asia + Pacific",1957,"Cambodia/1957",6.9550000000000001,40.936,5058226]
[null,"Cambodia","Asia + Pacific",1958,"Cambodia/1958",6.96,41.021000000000001,5178625]
[null,"Cambodia","Asia + Pacific",1959,"Cambodia/1959",6.9649999999999999,41.107999999999997,5304357]
[null,"Cambodia","Asia + Pacific",1960,"Cambodia/1960",6.9669999999999996,41.210999999999999,5433306]
[null,"Cambodia","Asia + Pacific",1961,"Cambodia/1961",6.9640000000000004,41.344000000000001,5564215]
[null,"Cambodia","Asia + Pacific",1962,"Cambodia/1962",6.9550000000000001,41.512,5697598]
[null,"Cambodia","Asia + Pacific",1963,"Cambodia/1963",6.9370000000000003,41.707000000000001,5836139]
[null,"Cambodia","Asia + Pacific",1964,"Cambodia/1964",6.9089999999999998,41.9,5983575]
[null,"Cambodia","Asia + Pacific",1965,"Cambodia/1965",6.8680000000000003,42.103000000000002,6141404]
[null,"Cambodia","Asia + Pacific",1966,"Cambodia/1966",6.8150000000000004,42.332000000000001,6310320]
[null,"Cambodia","Asia + Pacific",1967,"Cambodia/1967",6.7489999999999997,42.537999999999997,6485769]
[null,"Cambodia","Asia + Pacific",1968,"Cambodia/1968",6.6719999999999997,42.621000000000002,6657435]
[null,"Cambodia","Asia + Pacific",1969,"Cambodia/1969",6.5830000000000002,42.46,6811663]
[null,"Cambodia","Asia + Pacific",1970,"Cambodia/1970",6.4749999999999996,41.661999999999999,6937996]
[null,"Cambodia","Asia + Pacific",1971,"Cambodia/1971",6.3380000000000001,39.767000000000003,7039481]
[null,"Cambodia","Asia + Pacific",1972,"Cambodia/1972",6.173,36.682000000000002,7118136]
[null,"Cambodia","Asia + Pacific",1973,"Cambodia/1973",5.9880000000000004,32.591000000000001,7162333]
[null,"Cambodia","Asia + Pacific",1974,"Cambodia/1974",5.7949999999999999,27.882999999999999,7157572]
[null,"Cambodia","Asia + Pacific",1975,"Cambodia/1975",5.6219999999999999,23.419,7097800]
[null,"Cambodia","Asia + Pacific",1976,"Cambodia/1976",5.4980000000000002,20.260000000000002,6972559]
[null,"Cambodia","Asia + Pacific",1977,"Cambodia/1977",5.4409999999999998,19.138000000000002,6796368]
[null,"Cambodia","Asia + Pacific",1978,"Cambodia/1978",5.4589999999999996,20.411999999999999,6618684]
[null,"Cambodia","Asia + Pacific",1979,"Cambodia/1979",5.5449999999999999,24.018999999999998,6506208]
[null,"Cambodia","Asia + Pacific",1980,"Cambodia/1980",5.6849999999999996,29.437999999999999,6505693]
[null,"Cambodia","Asia + Pacific",1981,"Cambodia/1981",5.85,35.787999999999997,6636869]
[null,"Cambodia","Asia + Pacific",1982,"Cambodia/1982",6.008,41.965000000000003,6883519]
[null,"Cambodia","Asia + Pacific",1983,"Cambodia/1983",6.13,47.104999999999997,7211815]
[null,"Cambodia","Asia + Pacific",1984,"Cambodia/1984",6.2,50.841000000000001,7570081]
[null,"Cambodia","Asia + Pacific",1985,"Cambodia/1985",6.21,53.067,7919802]
[null,"Cambodia","Asia + Pacific",1986,"Cambodia/1986",6.16,54.006,8250479]
[null,"Cambodia","Asia + Pacific",1987,"Cambodia/1987",6.0650000000000004,54.277999999999999,8571130]
[null,"Cambodia","Asia + Pacific",1988,"Cambodia/1988",5.9409999999999998,54.404000000000003,8885701]
[null,"Cambodia","Asia + Pacific",1989,"Cambodia/1989",5.7919999999999998,54.570999999999998,9203893]
[null,"Cambodia","Asia + Pacific",1990,"Cambodia/1990",5.6230000000000002,54.896000000000001,9531928]
[null,"Cambodia","Asia + Pacific",1991,"Cambodia/1991",5.4379999999999997,55.404000000000003,9868226]
[null,"Cambodia","Asia + Pacific",1992,"Cambodia/1992",5.24,55.993000000000002,10205755]
[null,"Cambodia","Asia + Pacific",1993,"Cambodia/1993",5.0330000000000004,56.591999999999999,10539239]
[null,"Cambodia","Asia + Pacific",1994,"Cambodia/1994",4.8250000000000002,57.219000000000001,10862069]
[null,"Cambodia","Asia + Pacific",1995,"Cambodia/1995",4.62,57.89,11169233]
[null,"Cambodia","Asia + Pacific",1996,"Cambodia/1996",4.423,58.616,11458858]
[null,"Cambodia","Asia + Pacific",1997,"Cambodia/1997",4.2359999999999998,59.395000000000003,11731187]
[null,"Cambodia","Asia + Pacific",1998,"Cambodia/1998",4.0590000000000002,60.223999999999997,11986128]
[null,"Cambodia","Asia + Pacific",1999,"Cambodia/1999",3.8959999999999999,61.1,12224414]
[null,"Cambodia","Asia + Pacific",2000,"Cambodia/2000",3.75,62.03,12446949]
[null,"Cambodia","Asia + Pacific",2001,"Cambodia/2001",3.6190000000000002,63.018999999999998,12653684]
[null,"Cambodia","Asia + Pacific",2002,"Cambodia/2002",3.504,64.055000000000007,12845222]
[null,"Cambodia","Asia + Pacific",2003,"Cambodia/2003",3.4009999999999998,65.116,13024171]
[null,"Cambodia","Asia + Pacific",2004,"Cambodia/2004",3.31,66.177000000000007,13193961]
[null,"Cambodia","Asia + Pacific",2005,"Cambodia/2005",3.23,67.198999999999998,13357574]
[null,"Cambodia","Asia + Pacific",2006,"Cambodia/2006",3.1619999999999999,68.143000000000001,13515884]
[null,"Cambodia","Asia + Pacific",2007,"Cambodia/2007",3.1019999999999999,68.983999999999995,13669857]
[null,"Cambodia","Asia + Pacific",2008,"Cambodia/2008",3.0510000000000002,69.709999999999994,13822644]
[null,"Cambodia","Asia + Pacific",2009,"Cambodia/2009",3.0070000000000001,70.314999999999998,13977903]
[null,"Cambodia","Asia + Pacific",2010,"Cambodia/2010",2.9660000000000002,70.811000000000007,14138255]
[null,"Cambodia","Asia + Pacific",2011,"Cambodia/2011",2.9289999999999998,71.22,14305183]
[null,"Cambodia","Asia + Pacific",2012,"Cambodia/2012",2.8940000000000001,71.576999999999998,14478320]
[null,"Cambodia","Asia + Pacific",2013,"Cambodia/2013",2.8610000000000002,71.915999999999997,14656016]
[null,"Cameroon","Africa",1950,"Cameroon/1950",5.5369999999999999,37.869,4466497]
[null,"Cameroon","Africa",1951,"Cameroon/1951",5.5190000000000001,38.029000000000003,4549464]
[null,"Cameroon","Africa",1952,"Cameroon/1952",5.49,38.357999999999997,4634190]
[null,"Cameroon","Africa",1953,"Cameroon/1953",5.4710000000000001,38.703000000000003,4720787]
[null,"Cameroon","Africa",1954,"Cameroon/1954",5.4649999999999999,39.064999999999998,4809464]
[null,"Cameroon","Africa",1955,"Cameroon/1955",5.4690000000000003,39.444000000000003,4900528]
[null,"Cameroon","Africa",1956,"Cameroon/1956",5.4850000000000003,39.840000000000003,4994394]
[null,"Cameroon","Africa",1957,"Cameroon/1957",5.5119999999999996,40.25,5091573]
[null,"Cameroon","Africa",1958,"Cameroon/1958",5.5490000000000004,40.673000000000002,5192659]
[null,"Cameroon","Africa",1959,"Cameroon/1959",5.5940000000000003,41.106000000000002,5298296]
[null,"Cameroon","Africa",1960,"Cameroon/1960",5.6470000000000002,41.545999999999999,5409083]
[null,"Cameroon","Africa",1961,"Cameroon/1961",5.7050000000000001,41.987000000000002,5525481]
[null,"Cameroon","Africa",1962,"Cameroon/1962",5.766,42.429000000000002,5647721]
[null,"Cameroon","Africa",1963,"Cameroon/1963",5.8280000000000003,42.866999999999997,5775774]
[null,"Cameroon","Africa",1964,"Cameroon/1964",5.89,43.302999999999997,5909450]
[null,"Cameroon","Africa",1965,"Cameroon/1965",5.9489999999999998,43.74,6048706]
[null,"Cameroon","Africa",1966,"Cameroon/1966",6.0049999999999999,44.183999999999997,6193834]
[null,"Cameroon","Africa",1967,"Cameroon/1967",6.0579999999999998,44.639000000000003,6345309]
[null,"Cameroon","Africa",1968,"Cameroon/1968",6.11,45.110999999999997,6503500]
[null,"Cameroon","Africa",1969,"Cameroon/1969",6.1589999999999998,45.597999999999999,6668834]
[null,"Cameroon","Africa",1970,"Cameroon/1970",6.2050000000000001,46.103000000000002,6841763]
[null,"Cameroon","Africa",1971,"Cameroon/1971",6.2469999999999999,46.625,7022124]
[null,"Cameroon","Africa",1972,"Cameroon/1972",6.2859999999999996,47.158999999999999,7210272]
[null,"Cameroon","Africa",1973,"Cameroon/1973",6.3220000000000001,47.698999999999998,7407756]
[null,"Cameroon","Africa",1974,"Cameroon/1974",6.3559999999999999,48.24,7616558]
[null,"Cameroon","Africa",1975,"Cameroon/1975",6.391,48.774999999999999,7837926]
[null,"Cameroon","Africa",1976,"Cameroon/1976",6.4290000000000003,49.304000000000002,8072879]
[null,"Cameroon","Africa",1977,"Cameroon/1977",6.47,49.82,8320635]
[null,"Cameroon","Africa",1978,"Cameroon/1978",6.516,50.319000000000003,8578425]
[null,"Cameroon","Africa",1979,"Cameroon/1979",6.5629999999999997,50.792999999999999,8842355]
[null,"Cameroon","Africa",1980,"Cameroon/1980",6.609,51.235999999999997,9109727]
[null,"Cameroon","Africa",1981,"Cameroon/1981",6.6509999999999998,51.642000000000003,9379109]
[null,"Cameroon","Africa",1982,"Cameroon/1982",6.6829999999999998,52.01,9651552]
[null,"Cameroon","Africa",1983,"Cameroon/1983",6.7030000000000003,52.337000000000003,9929831]
[null,"Cameroon","Africa",1984,"Cameroon/1984",6.7080000000000002,52.624000000000002,10218016]
[null,"Cameroon","Africa",1985,"Cameroon/1985",6.6970000000000001,52.87,10518855]
[null,"Cameroon","Africa",1986,"Cameroon/1986",6.6689999999999996,53.082000000000001,10832919]
[null,"Cameroon","Africa",1987,"Cameroon/1987",6.6269999999999998,53.262999999999998,11158600]
[null,"Cameroon","Africa",1988,"Cameroon/1988",6.5720000000000001,53.414999999999999,11493770]
[null,"Cameroon","Africa",1989,"Cameroon/1989",6.508,53.536000000000001,11835344]
[null,"Cameroon","Africa",1990,"Cameroon/1990",6.4340000000000002,53.619,12180819]
[null,"Cameroon","Africa",1991,"Cameroon/1991",6.3520000000000003,53.652000000000001,12529904]
[null,"Cameroon","Africa",1992,"Cameroon/1992",6.2640000000000002,53.631,12882506]
[null,"Cameroon","Africa",1993,"Cameroon/1993",6.173,53.554000000000002,13236573]
[null,"Cameroon","Africa",1994,"Cameroon/1994",6.08,53.426000000000002,13589699]
[null,"Cameroon","Africa",1995,"Cameroon/1995",5.9889999999999999,53.246000000000002,13940337]
[null,"Cameroon","Africa",1996,"Cameroon/1996",5.9029999999999996,53.017000000000003,14287475]
[null,"Cameroon","Africa",1997,"Cameroon/1997",5.8230000000000004,52.753,14631908]
[null,"Cameroon","Africa",1998,"Cameroon/1998",5.7489999999999997,52.472000000000001,14976200]
[null,"Cameroon","Africa",1999,"Cameroon/1999",5.6820000000000004,52.198999999999998,15324051]
[null,"Cameroon","Africa",2000,"Cameroon/2000",5.6210000000000004,51.96,15678269]
[null,"Cameroon","Africa",2001,"Cameroon/2001",5.5670000000000002,51.781999999999996,16039737]
[null,"Cameroon","Africa",2002,"Cameroon/2002",5.5149999999999997,51.679000000000002,16408085]
[null,"Cameroon","Africa",2003,"Cameroon/2003",5.4640000000000004,51.662999999999997,16783366]
[null,"Cameroon","Africa",2004,"Cameroon/2004",5.4130000000000003,51.74,17165267]
[null,"Cameroon","Africa",2005,"Cameroon/2005",5.3579999999999997,51.911999999999999,17553589]
[null,"Cameroon","Africa",2006,"Cameroon/2006",5.2990000000000004,52.173000000000002,17948395]
[null,"Cameroon","Africa",2007,"Cameroon/2007",5.2350000000000003,52.502000000000002,18350022]
[null,"Cameroon","Africa",2008,"Cameroon/2008",5.1669999999999998,52.878,18758778]
[null,"Cameroon","Africa",2009,"Cameroon/2009",5.0940000000000003,53.287999999999997,19175028]
[null,"Cameroon","Africa",2010,"Cameroon/2010",5.0170000000000003,53.718000000000004,19598889]
[null,"Cameroon","Africa",2011,"Cameroon/2011",4.9390000000000001,54.16,20030362]
[null,"Cameroon","Africa",2012,"Cameroon/2012",4.859,54.61,20468943]
[null,"Cameroon","Africa",2013,"Cameroon/2013",4.78,55.064999999999998,20913595]
[null,"Canada","North America",1950,"Canada/1950",3.4260000000000002,68.28,13736997]
[null,"Canada","North America",1951,"Canada/1951",3.472,68.55,14132558]
[null,"Canada","North America",1952,"Canada/1952",3.617,68.75,14518772]
[null,"Canada","North America",1953,"Canada/1953",3.6960000000000002,69.13,14909614]
[null,"Canada","North America",1954,"Canada/1954",3.8079999999999998,69.989999999999995,15314040]
[null,"Canada","North America",1955,"Canada/1955",3.8130000000000002,70.05,15735988]
[null,"Canada","North America",1956,"Canada/1956",3.8410000000000002,70.040000000000006,16174093]
[null,"Canada","North America",1957,"Canada/1957",3.93,69.959999999999994,16621974]
[null,"Canada","North America",1958,"Canada/1958",3.8929999999999998,70.62,17069068]
[null,"Canada","North America",1959,"Canada/1959",3.9430000000000001,70.66,17502043]
[null,"Canada","North America",1960,"Canada/1960",3.9089999999999998,71.040000000000006,17909009]
[null,"Canada","North America",1961,"Canada/1961",3.8530000000000002,71.27,18284009]
[null,"Canada","North America",1962,"Canada/1962",3.7709999999999999,71.3,18630957]
[null,"Canada","North America",1963,"Canada/1963",3.681,71.31,18965320]
[null,"Canada","North America",1964,"Canada/1964",3.5129999999999999,71.69,19309343]
[null,"Canada","North America",1965,"Canada/1965",3.149,71.790000000000006,19678005]
[null,"Canada","North America",1966,"Canada/1966",2.8140000000000001,71.92,20078135]
[null,"Canada","North America",1967,"Canada/1967",2.5960000000000001,72.13,20501867]
[null,"Canada","North America",1968,"Canada/1968",2.456,72.290000000000006,20931716]
[null,"Canada","North America",1969,"Canada/1969",2.4049999999999998,72.45,21342600]
[null,"Canada","North America",1970,"Canada/1970",2.3109999999999999,72.650000000000006,21716855]
[null,"Canada","North America",1971,"Canada/1971",2.137,72.98,22048431]
[null,"Canada","North America",1972,"Canada/1972",1.9650000000000001,72.88,22344104]
[null,"Canada","North America",1973,"Canada/1973",1.875,73.11,22614673]
[null,"Canada","North America",1974,"Canada/1974",1.83,73.19,22876657]
[null,"Canada","North America",1975,"Canada/1975",1.831,73.489999999999995,23142272]
[null,"Canada","North America",1976,"Canada/1976",1.782,73.92,23416090]
[null,"Canada","North America",1977,"Canada/1977",1.75,74.209999999999994,23695198]
[null,"Canada","North America",1978,"Canada/1978",1.6970000000000001,74.540000000000006,23975639]
[null,"Canada","North America",1979,"Canada/1979",1.6950000000000001,74.900000000000006,24250641]
[null,"Canada","North America",1980,"Canada/1980",1.68,75.14,24516277]
[null,"Canada","North America",1981,"Canada/1981",1.6519999999999999,75.55,24769849]
[null,"Canada","North America",1982,"Canada/1982",1.6359999999999999,75.760000000000005,25016047]
[null,"Canada","North America",1983,"Canada/1983",1.62,76.13,25266950]
[null,"Canada","North America",1984,"Canada/1984",1.6240000000000001,76.430000000000007,25538860]
[null,"Canada","North America",1985,"Canada/1985",1.61,76.41,25842588]
[null,"Canada","North America",1986,"Canada/1986",1.5940000000000001,76.56,26183106]
[null,"Canada","North America",1987,"Canada/1987",1.5760000000000001,76.86,26554540]
[null,"Canada","North America",1988,"Canada/1988",1.599,76.930000000000007,26943398]
[null,"Canada","North America",1989,"Canada/1989",1.6579999999999999,77.2,27330298]
[null,"Canada","North America",1990,"Canada/1990",1.7150000000000001,77.510000000000005,27700854]
[null,"Canada","North America",1991,"Canada/1991",1.714,77.69,28051725]
[null,"Canada","North America",1992,"Canada/1992",1.7110000000000001,77.95,28386162]
[null,"Canada","North America",1993,"Canada/1993",1.6819999999999999,77.83,28704519]
[null,"Canada","North America",1994,"Canada/1994",1.6850000000000001,78.010000000000005,29009032]
[null,"Canada","North America",1995,"Canada/1995",1.67,78.13,29302092]
[null,"Canada","North America",1996,"Canada/1996",1.631,78.400000000000006,29582222]
[null,"Canada","North America",1997,"Canada/1997",1.5669999999999999,78.61,29850242]
[null,"Canada","North America",1998,"Canada/1998",1.556,78.83,30113972]
[null,"Canada","North America",1999,"Canada/1999",1.544,79.05,30383823]
[null,"Canada","North America",2000,"Canada/2000",1.5069999999999999,79.41,30667365]
[null,"Canada","North America",2001,"Canada/2001",1.536,79.650000000000006,30967236]
[null,"Canada","North America",2002,"Canada/2002",1.5129999999999999,79.77,31281727]
[null,"Canada","North America",2003,"Canada/2003",1.542,79.95,31608562]
[null,"Canada","North America",2004,"Canada/2004",1.548,80.25,31943605]
[null,"Canada","North America",2005,"Canada/2005",1.5660000000000001,80.36,32283413]
[null,"Canada","North America",2006,"Canada/2006",1.613,80.78,32627978]
[null,"Canada","North America",2007,"Canada/2007",1.657,80.591999999999999,32977334]
[null,"Canada","North America",2008,"Canada/2008",1.6808000000000001,80.742999999999995,33327954]
[null,"Canada","North America",2009,"Canada/2009",1.6679999999999999,80.813999999999993,33675448]
[null,"Canada","North America",2010,"Canada/2010",1.6269,80.986000000000004,34016593]
[null,"Canada","North America",2011,"Canada/2011",1.61,81.156999999999996,34349561]
[null,"Canada","North America",2012,"Canada/2012",1.6639999999999999,81.322999999999993,34674708]
[null,"Canada","North America",2013,"Canada/2013",1.67,81.481999999999999,34993747]
[null,"Cape Verde","Africa",1950,"Cape Verde/1950",6.4969999999999999,47.801000000000002,178064]
[null,"Cape Verde","Africa",1951,"Cape Verde/1951",6.5129999999999999,47.865000000000002,181974]
[null,"Cape Verde","Africa",1952,"Cape Verde/1952",6.5460000000000003,47.996000000000002,185568]
[null,"Cape Verde","Africa",1953,"Cape Verde/1953",6.5819999999999999,48.13,188848]
[null,"Cape Verde","Africa",1954,"Cape Verde/1954",6.6210000000000004,48.265999999999998,191854]
[null,"Cape Verde","Africa",1955,"Cape Verde/1955",6.6619999999999999,48.404000000000003,194664]
[null,"Cape Verde","Africa",1956,"Cape Verde/1956",6.7060000000000004,48.542000000000002,197395]
[null,"Cape Verde","Africa",1957,"Cape Verde/1957",6.7510000000000003,48.680999999999997,200202]
[null,"Cape Verde","Africa",1958,"Cape Verde/1958",6.7969999999999997,48.817,203267]
[null,"Cape Verde","Africa",1959,"Cape Verde/1959",6.8419999999999996,48.945999999999998,206789]
[null,"Cape Verde","Africa",1960,"Cape Verde/1960",6.8849999999999998,49.064999999999998,210933]
[null,"Cape Verde","Africa",1961,"Cape Verde/1961",6.9219999999999997,49.173999999999999,215792]
[null,"Cape Verde","Africa",1962,"Cape Verde/1962",6.9530000000000003,49.274999999999999,221343]
[null,"Cape Verde","Africa",1968,"Cape Verde/1968",6.97,50.850999999999999,259610]
[null,"Cape Verde","Africa",1973,"Cape Verde/1973",6.8550000000000004,54.765999999999998,300922]
[null,"Cape Verde","Africa",1979,"Cape Verde/1979",6.4729999999999999,59.579000000000001,300726]
[null,"Cape Verde","Africa",1984,"Cape Verde/1984",5.9790000000000001,63.116,322560]
[null,"Cape Verde","Africa",1989,"Cape Verde/1989",5.4409999999999998,65.727000000000004,342646]
[null,"Cape Verde","Africa",1996,"Cape Verde/1996",4.3879999999999999,68.099999999999994,404166]
[null,"Cape Verde","Africa",2001,"Cape Verde/2001",3.5270000000000001,70.296000000000006,445096]
[null,"Cape Verde","Africa",2007,"Cape Verde/2007",2.66,72.959000000000003,483023]
[null,"Cape Verde","Africa",2012,"Cape Verde/2012",2.331,74.771000000000001,505335]
[null,"Central African Republic","Africa",1950,"Central African Republic/1950",5.4029999999999996,32.61,1326653]
[null,"Central African Republic","Africa",1955,"Central African Republic/1955",5.6459999999999999,34.465000000000003,1399497]
[null,"Central African Republic","Africa",1960,"Central African Republic/1960",5.84,36.488999999999997,1503509]
[null,"Central African Republic","Africa",1965,"Central African Republic/1965",5.9370000000000003,38.734999999999999,1648838]
[null,"Central African Republic","Africa",1971,"Central African Republic/1971",5.9539999999999997,42.728000000000002,1864764]
[null,"Central African Republic","Africa",1976,"Central African Republic/1976",5.9509999999999996,46.671999999999997,2061466]
[null,"Central African Republic","Africa",1981,"Central African Republic/1981",5.9550000000000001,48.93,2339759]
[null,"Central African Republic","Africa",1988,"Central African Republic/1988",5.8680000000000003,47.082000000000001,2807768]
[null,"Central African Republic","Africa",1993,"Central African Republic/1993",5.6529999999999996,44.75,3165869]
[null,"Central African Republic","Africa",1999,"Central African Republic/1999",5.4880000000000004,43.703000000000003,3632287]
[null,"Central African Republic","Africa",2004,"Central African Republic/2004",5.1760000000000002,44.606999999999999,3952281]
[null,"Central African Republic","Africa",2006,"Central African Republic/2006",4.9969999999999999,45.546999999999997,4087534]
[null,"Chad","Africa",1952,"Chad/1952",6.09,35.932000000000002,2519184]
[null,"Chad","Africa",1957,"Chad/1957",6.19,37.229999999999997,2778716]
[null,"Chad","Africa",1958,"Chad/1958",6.21,37.496000000000002,2835038]
[null,"Chad","Africa",1963,"Chad/1963",6.3010000000000002,38.799999999999997,3150606]
[null,"Chad","Africa",1968,"Chad/1968",6.4320000000000004,40.435000000000002,3499681]
[null,"Chad","Africa",1975,"Chad/1975",6.78,43.325000000000003,4114094]
[null,"Chad","Africa",1980,"Chad/1980",6.9580000000000002,44.698999999999998,4554089]
[null,"Chad","Africa",1986,"Chad/1986",7.1609999999999996,46.084000000000003,5304490]
[null,"Chad","Africa",1991,"Chad/1991",7.3460000000000001,46.381999999999998,6197766]
[null,"Chad","Africa",1996,"Chad/1996",7.4260000000000002,46.499000000000002,7219081]
[null,"Chad","Africa",2000,"Chad/2000",7.3540000000000001,46.707999999999998,8222327]
[null,"Chad","Africa",2008,"Chad/2008",6.8049999999999997,48.881,10653762]
[null,"Chad","Africa",2013,"Chad/2013",6.2629999999999999,51.182000000000002,12141876]
[null,"Channel Islands","Europe",1955,"Channel Islands/1955",2.1080000000000001,69.974000000000004,105559]
[null,"Channel Islands","Europe",1960,"Channel Islands/1960",2.4209999999999998,70.739000000000004,109396]
[null,"Channel Islands","Europe",1961,"Channel Islands/1961",2.4809999999999999,70.832999999999998,110381]
[null,"Channel Islands","Europe",1969,"Channel Islands/1969",2.222,71.725999999999999,119910]
[null,"Channel Islands","Europe",1972,"Channel Islands/1972",1.9179999999999999,72.02,123534]
[null,"Channel Islands","Europe",1978,"Channel Islands/1978",1.5049999999999999,72.983000000000004,127299]
[null,"Channel Islands","Europe",1983,"Channel Islands/1983",1.4330000000000001,74.100999999999999,130905]
[null,"Channel Islands","Europe",1989,"Channel Islands/1989",1.4570000000000001,75.287000000000006,139136]
[null,"Channel Islands","Europe",1994,"Channel Islands/1994",1.4410000000000001,76.337999999999994,141594]
[null,"Channel Islands","Europe",2000,"Channel Islands/2000",1.4019999999999999,77.611999999999995,145330]
[null,"Channel Islands","Europe",2006,"Channel Islands/2006",1.417,79.16,149682]
[null,"Channel Islands","Europe",2011,"Channel Islands/2011",1.444,80.046999999999997,153876]
[null,"Chile","Latin America + Caribbean",1952,"Chile/1952",4.8840000000000003,54.668999999999997,6321806]
[null,"Chile","Latin America + Caribbean",1955,"Chile/1955",5.3040000000000003,55.430999999999997,6767613]
[null,"Chile","Latin America + Caribbean",1964,"Chile/1964",5.1849999999999996,58.756,8457066]
[null,"Chile","Latin America + Caribbean",1965,"Chile/1965",5,59.258000000000003,8655738]
[null,"Chile","Latin America + Caribbean",1970,"Chile/1970",4.0229999999999997,62.024000000000001,9577572]
[null,"Chile","Latin America + Caribbean",1975,"Chile/1975",3.1629999999999998,65.338999999999999,10418880]
[null,"Chile","Latin America + Caribbean",1981,"Chile/1981",2.6560000000000001,69.742000000000004,11348442]
[null,"Chile","Latin America + Caribbean",1988,"Chile/1988",2.649,72.909000000000006,12733409]
[null,"Chile","Latin America + Caribbean",1993,"Chile/1993",2.5099999999999998,74.64,13929390]
[null,"Chile","Latin America + Caribbean",1998,"Chile/1998",2.1920000000000002,76.05,15039162]
[null,"Chile","Latin America + Caribbean",2003,"Chile/2003",1.9850000000000001,77.48,15959793]
[null,"Chile","Latin America + Caribbean",2009,"Chile/2009",1.873,78.936000000000007,16955737]
[null,"Chile","Latin America + Caribbean",2013,"Chile/2013",1.82,79.954999999999998,17574464]
[null,"China","Asia + Pacific",1956,"China/1956",5.6050000000000004,50.445279999999997,618226224]
[null,"China","Asia + Pacific",1962,"China/1962",5.9690000000000003,44.501359999999998,675641408]
[null,"China","Asia + Pacific",1967,"China/1967",5.2519999999999998,58.381120000000003,747678772]
[null,"China","Asia + Pacific",1968,"China/1968",6.37,59.405200000000001,769666505]
[null,"China","Asia + Pacific",1973,"China/1973",4.5060000000000002,62.780799999999999,878305091]
[null,"China","Asia + Pacific",1982,"China/1982",2.6179999999999999,67.587999999999994,1010574797]
[null,"China","Asia + Pacific",1985,"China/1985",2.8109999999999999,68.343999999999994,1056579219]
[null,"China","Asia + Pacific",1990,"China/1990",2.5059999999999998,69.451999999999998,1145195229]
[null,"China","Asia + Pacific",1995,"China/1995",1.746,70.295000000000002,1213986610]
[null,"China","Asia + Pacific",2001,"China/2001",1.514,72.608999999999995,1277903627]
[null,"China","Asia + Pacific",2007,"China/2007",1.617,74.418000000000006,1321481935]
[null,"China","Asia + Pacific",2013,"China/2013",1.6679999999999999,75.331000000000003,1359368470]
[null,"Colombia","Latin America + Caribbean",1954,"Colombia/1954",6.7539999999999996,52.256,13436142]
[null,"Colombia","Latin America + Caribbean",1959,"Colombia/1959",6.8019999999999996,56.164999999999999,15537230]
[null,"Colombia","Latin America + Caribbean",1965,"Colombia/1965",6.5590000000000002,59.094000000000001,18555731]
[null,"Colombia","Latin America + Caribbean",1970,"Colombia/1970",5.5990000000000002,60.902999999999999,21329811]
[null,"Colombia","Latin America + Caribbean",1974,"Colombia/1974",4.782,62.353000000000002,23421644]
[null,"Colombia","Latin America + Caribbean",1977,"Colombia/1977",4.3719999999999999,63.79,25089511]
[null,"Colombia","Latin America + Caribbean",1982,"Colombia/1982",3.7440000000000002,66.536000000000001,28104254]
[null,"Colombia","Latin America + Caribbean",1988,"Colombia/1988",3.2109999999999999,68.058000000000007,31913250]
[null,"Colombia","Latin America + Caribbean",1993,"Colombia/1993",2.9660000000000002,68.86,35146220]
[null,"Colombia","Latin America + Caribbean",2001,"Colombia/2001",2.6030000000000002,71.3,40422597]
[null,"Colombia","Latin America + Caribbean",2005,"Colombia/2005",2.496,72.308999999999997,43040558]
[null,"Colombia","Latin America + Caribbean",2010,"Colombia/2010",2.3759999999999999,73.424000000000007,46294841]
[null,"Comoros","Africa",1952,"Comoros/1952",5.9340000000000002,40.552999999999997,164338]
[null,"Comoros","Africa",1957,"Comoros/1957",6.56,42.280999999999999,182359]
[null,"Comoros","Africa",1962,"Comoros/1962",6.8970000000000002,44.244,200199]
[null,"Comoros","Africa",1969,"Comoros/1969",7.06,47.23,232529]
[null,"Comoros","Africa",1974,"Comoros/1974",7.0519999999999996,49.576000000000001,262030]
[null,"Comoros","Africa",1979,"Comoros/1979",7.1260000000000003,51.569000000000003,316582]
[null,"Comoros","Africa",1980,"Comoros/1980",7.1289999999999996,51.966999999999999,328861]
[null,"Comoros","Africa",1985,"Comoros/1985",6.5759999999999996,54.029000000000003,385740]
[null,"Comoros","Africa",1993,"Comoros/1993",5.2930000000000001,56.281999999999996,470765]
[null,"Comoros","Africa",1997,"Comoros/1997",5.27,57.195999999999998,520151]
[null,"Comoros","Africa",2002,"Comoros/2002",5.3029999999999999,58.37,593170]
[null,"Comoros","Africa",2008,"Comoros/2008",5.0510000000000002,59.771000000000001,697034]
[null,"Comoros","Africa",2013,"Comoros/2013",4.7140000000000004,60.874000000000002,792913]
[null,"Congo, Dem. Republic","Africa",1954,"Congo, Dem. Republic/1954",5.9720000000000004,39.567999999999998,13273008]
[null,"Congo, Dem. Republic","Africa",1961,"Congo, Dem. Republic/1961",6.0149999999999997,41.311999999999998,15767376]
[null,"Congo, Dem. Republic","Africa",1966,"Congo, Dem. Republic/1966",6.1109999999999998,42.548999999999999,18048341]
[null,"Congo, Dem. Republic","Africa",1972,"Congo, Dem. Republic/1972",6.2709999999999999,44.561,21431338]
[null,"Congo, Dem. Republic","Africa",1977,"Congo, Dem. Republic/1977",6.4429999999999996,45.606999999999999,24740389]
[null,"Congo, Dem. Republic","Africa",1982,"Congo, Dem. Republic/1982",6.6890000000000001,46.518999999999998,28551259]
[null,"Congo, Dem. Republic","Africa",1987,"Congo, Dem. Republic/1987",6.96,47.22,32927332]
[null,"Congo, Dem. Republic","Africa",1989,"Congo, Dem. Republic/1989",7.077,47.435000000000002,35117790]
[null,"Congo, Dem. Republic","Africa",1995,"Congo, Dem. Republic/1995",7.2670000000000003,46.478000000000002,44067369]
[null,"Congo, Dem. Republic","Africa",2000,"Congo, Dem. Republic/2000",7.0890000000000004,46.387,49626200]
[null,"Congo, Dem. Republic","Africa",2005,"Congo, Dem. Republic/2005",6.7279999999999998,47.85,57420522]
[null,"Congo, Dem. Republic","Africa",2012,"Congo, Dem. Republic/2012",6.0389999999999997,49.643000000000001,69575394]
[null,"Congo, Republic","Africa",1953,"Congo, Republic/1953",5.6849999999999996,43.548000000000002,859753]
[null,"Congo, Republic","Africa",1959,"Congo, Republic/1959",5.84,47.935000000000002,988430]
[null,"Congo, Republic","Africa",1964,"Congo, Republic/1964",6.056,50.98,1126584]
[null,"Congo, Republic","Africa",1969,"Congo, Republic/1969",6.2350000000000003,53.058999999999997,1296244]
[null,"Congo, Republic","Africa",1975,"Congo, Republic/1975",6.3250000000000002,54.825000000000003,1554793]
[null,"Congo, Republic","Africa",1981,"Congo, Republic/1981",6.1120000000000001,56.387999999999998,1851889]
[null,"Congo, Republic","Africa",1986,"Congo, Republic/1986",5.6820000000000004,56.622999999999998,2140687]
[null,"Congo, Republic","Africa",1987,"Congo, Republic/1987",5.5910000000000002,56.393000000000001,2201097]
[null,"Congo, Republic","Africa",1992,"Congo, Republic/1992",5.2359999999999998,54.207000000000001,2520196]
[null,"Congo, Republic","Africa",1998,"Congo, Republic/1998",5.1390000000000002,52.356999999999999,2973329]
[null,"Congo, Republic","Africa",2006,"Congo, Republic/2006",5.1139999999999999,54.658000000000001,3628561]
[null,"Congo, Republic","Africa",2009,"Congo, Republic/2009",5.0890000000000004,56.609000000000002,3941454]
[null,"Costa Rica","Latin America + Caribbean",1951,"Costa Rica/1951",6.5919999999999996,56.4,994255]
[null,"Costa Rica","Latin America + Caribbean",1956,"Costa Rica/1956",7.0469999999999997,59.28,1166887]
[null,"Costa Rica","Latin America + Caribbean",1961,"Costa Rica/1961",7.2949999999999999,62.167999999999999,1381414]
[null,"Costa Rica","Latin America + Caribbean",1967,"Costa Rica/1967",5.9969999999999999,65.344999999999999,1680257]
[null,"Costa Rica","Latin America + Caribbean",1973,"Costa Rica/1973",4.2779999999999996,68.343999999999994,1953184]
[null,"Costa Rica","Latin America + Caribbean",1979,"Costa Rica/1979",3.665,71.897999999999996,2279362]
[null,"Costa Rica","Latin America + Caribbean",1984,"Costa Rica/1984",3.4910000000000001,74.230999999999995,2619058]
[null,"Costa Rica","Latin America + Caribbean",1989,"Costa Rica/1989",3.254,75.474000000000004,2993136]
[null,"Costa Rica","Latin America + Caribbean",1990,"Costa Rica/1990",3.1749999999999998,75.683000000000007,3070240]
[null,"Costa Rica","Latin America + Caribbean",2000,"Costa Rica/2000",2.4140000000000001,77.721000000000004,3919180]
[null,"Costa Rica","Latin America + Caribbean",2002,"Costa Rica/2002",2.2749999999999999,78.033000000000001,4083197]
[null,"Costa Rica","Latin America + Caribbean",2007,"Costa Rica/2007",1.9530000000000001,78.727999999999994,4452608]
[null,"Costa Rica","Latin America + Caribbean",2012,"Costa Rica/2012",1.81,79.712000000000003,4793725]
[null,"Cote d'Ivoire","Africa",1954,"Cote d'Ivoire/1954",6.8879999999999999,32.920999999999999,2975083]
[null,"Cote d'Ivoire","Africa",1961,"Cote d'Ivoire/1961",7.4269999999999996,37.555,3777543]
[null,"Cote d'Ivoire","Africa",1965,"Cote d'Ivoire/1965",7.7009999999999996,40.103999999999999,4423736]
[null,"Cote d'Ivoire","Africa",1971,"Cote d'Ivoire/1971",7.9269999999999996,44.521000000000001,5655462]
[null,"Cote d'Ivoire","Africa",1976,"Cote d'Ivoire/1976",7.8840000000000003,48.338999999999999,7086257]
[null,"Cote d'Ivoire","Africa",1982,"Cote d'Ivoire/1982",7.383,51.497,9281593]
[null,"Cote d'Ivoire","Africa",1987,"Cote d'Ivoire/1987",6.7519999999999998,52.780999999999999,11294791]
[null,"Cote d'Ivoire","Africa",1988,"Cote d'Ivoire/1988",6.6189999999999998,52.792999999999999,11694318]
[null,"Cote d'Ivoire","Africa",1994,"Cote d'Ivoire/1994",5.9039999999999999,50.290999999999997,14253952]
[null,"Cote d'Ivoire","Africa",1999,"Cote d'Ivoire/1999",5.46,46.811999999999998,16242889]
[null,"Cote d'Ivoire","Africa",2005,"Cote d'Ivoire/2005",5,47.192999999999998,18020946]
[null,"Cote d'Ivoire","Africa",2010,"Cote d'Ivoire/2010",4.91,49.642000000000003,19737800]
[null,"Croatia","Europe",1955,"Croatia/1955",2.5590000000000002,62.5,3966497]
[null,"Croatia","Europe",1958,"Croatia/1958",2.4020000000000001,63.877000000000002,4015489]
[null,"Croatia","Europe",1963,"Croatia/1963",2.2429999999999999,65.927999999999997,4093890]
[null,"Croatia","Europe",1968,"Croatia/1968",2.0680000000000001,67.715999999999994,4148285]
[null,"Croatia","Europe",1974,"Croatia/1974",1.976,69.447000000000003,4241669]
[null,"Croatia","Europe",1979,"Croatia/1979",2.0099999999999998,70.210999999999999,4354275]
[null,"Croatia","Europe",1986,"Croatia/1986",1.8859999999999999,71.531999999999996,4480137]
[null,"Croatia","Europe",1991,"Croatia/1991",1.615,72.540000000000006,4548076]
[null,"Croatia","Europe",1996,"Croatia/1996",1.514,74.040999999999997,4656706]
[null,"Croatia","Europe",1997,"Croatia/1997",1.508,74.313999999999993,4625390]
[null,"Croatia","Europe",2002,"Croatia/2002",1.391,74.986000000000004,4466013]
[null,"Croatia","Europe",2007,"Croatia/2007",1.413,75.930000000000007,4425995]
[null,"Cuba","Latin America + Caribbean",1950,"Cuba/1950",4.758,58.225000000000001,5919997]
[null,"Cuba","Latin America + Caribbean",1955,"Cuba/1955",3.6819999999999999,60.87,6534381]
[null,"Cuba","Latin America + Caribbean",1961,"Cuba/1961",4.3600000000000003,64.444999999999993,7281821]
[null,"Cuba","Latin America + Caribbean",1966,"Cuba/1966",4.54,67.572999999999993,8099779]
[null,"Cuba","Latin America + Caribbean",1971,"Cuba/1971",3.8570000000000002,70.308999999999997,8855989]
[null,"Cuba","Latin America + Caribbean",1974,"Cuba/1974",3.1269999999999998,71.710999999999999,9298895]
[null,"Cuba","Latin America + Caribbean",1983,"Cuba/1983",1.825,74.322999999999993,9949046]
[null,"Cuba","Latin America + Caribbean",1989,"Cuba/1989",1.7849999999999999,74.623000000000005,10473701]
[null,"Cuba","Latin America + Caribbean",1994,"Cuba/1994",1.6279999999999999,75.171000000000006,10847842]
[null,"Cuba","Latin America + Caribbean",1999,"Cuba/1999",1.621,76.465000000000003,11068382]
[null,"Cuba","Latin America + Caribbean",2005,"Cuba/2005",1.57,77.724999999999994,11254242]
[null,"Cuba","Latin America + Caribbean",2006,"Cuba/2006",1.5449999999999999,77.941999999999993,11265124]
[null,"Cuba","Latin America + Caribbean",2011,"Cuba/2011",1.4590000000000001,78.914000000000001,11253665]
[null,"Cyprus","Europe",1953,"Cyprus/1953",3.661,66.956000000000003,513440]
[null,"Cyprus","Europe",1958,"Cyprus/1958",3.5219999999999998,68.924000000000007,558946]
[null,"Cyprus","Europe",1966,"Cyprus/1966",3.01,71.491,585400]
[null,"Cyprus","Europe",1970,"Cyprus/1970",2.61,72.575999999999993,613735]
[null,"Cyprus","Europe",1975,"Cyprus/1975",2.3519999999999999,73.753,649918]
[null,"Cyprus","Europe",1981,"Cyprus/1981",2.3849999999999998,74.983999999999995,689265]
[null,"Cyprus","Europe",1986,"Cyprus/1986",2.456,75.891999999999996,712396]
[null,"Cyprus","Europe",1991,"Cyprus/1991",2.3809999999999998,76.710999999999999,783189]
[null,"Cyprus","Europe",1993,"Cyprus/1993",2.278,77.016999999999996,818858]
[null,"Cyprus","Europe",2003,"Cyprus/2003",1.577,78.394999999999996,998134]
[null,"Cyprus","Europe",2004,"Cyprus/2004",1.5489999999999999,78.518000000000001,1015806]
[null,"Cyprus","Europe",2009,"Cyprus/2009",1.4850000000000001,79.192999999999998,1090473]
[null,"Czech Republic","Europe",1950,"Czech Republic/1950",2.8540000000000001,64.430000000000007,8876260]
[null,"Czech Republic","Europe",1960,"Czech Republic/1960",2.3039999999999998,70.459999999999994,9521854]
[null,"Czech Republic","Europe",1962,"Czech Republic/1962",2.2269999999999999,69.900000000000006,9599284]
[null,"Czech Republic","Europe",1968,"Czech Republic/1968",1.994,69.94,9743100]
[null,"Czech Republic","Europe",1973,"Czech Republic/1973",2.21,70.13,9896416]
[null,"Czech Republic","Europe",1978,"Czech Republic/1978",2.2749999999999999,70.78,10169747]
[null,"Czech Republic","Europe",1984,"Czech Republic/1984",1.99,70.989999999999995,10301798]
[null,"Czech Republic","Europe",1987,"Czech Republic/1987",1.931,71.58,10299854]
[null,"Czech Republic","Europe",1995,"Czech Republic/1995",1.3939999999999999,73.260000000000005,10319337]
[null,"Czech Republic","Europe",2001,"Czech Republic/2001",1.1379999999999999,75.38,10225701]
[null,"Czech Republic","Europe",2006,"Czech Republic/2006",1.3460000000000001,76.78,10258796]
[null,"Czech Republic","Europe",2007,"Czech Republic/2007",1.3919999999999999,76.989999999999995,10313525]
[null,"Czech Republic","Europe",2012,"Czech Republic/2012",1.546,77.552000000000007,10565678]
[null,"Denmark","Europe",1954,"Denmark/1954",2.5419999999999998,71.349999999999994,4409858]
[null,"Denmark","Europe",1960,"Denmark/1960",2.5430000000000001,72.209999999999994,4579770]
[null,"Denmark","Europe",1965,"Denmark/1965",2.61,72.400000000000006,4759095]
[null,"Denmark","Europe",1971,"Denmark/1971",2.0430000000000001,73.44,4959083]
[null,"Denmark","Europe",1976,"Denmark/1976",1.7470000000000001,73.78,5079015]
[null,"Denmark","Europe",1981,"Denmark/1981",1.4370000000000001,74.290000000000006,5124545]
[null,"Denmark","Europe",1988,"Denmark/1988",1.5589999999999999,74.89,5122098]
[null,"Denmark","Europe",1993,"Denmark/1993",1.7490000000000001,75.25,5191370]
[null,"Denmark","Europe",1998,"Denmark/1998",1.724,76.510000000000005,5299649]
[null,"Denmark","Europe",2004,"Denmark/2004",1.784,77.58,5400280]
[null,"Denmark","Europe",2006,"Denmark/2006",1.85,78.319999999999993,5442644]
[null,"Denmark","Europe",2011,"Denmark/2011",1.7556,79.114000000000004,5572594]
[null,"Djibouti","Africa",1952,"Djibouti/1952",6.306,40.853000000000002,65022]
[null,"Djibouti","Africa",1957,"Djibouti/1957",6.3760000000000003,42.744,74539]
[null,"Djibouti","Africa",1963,"Djibouti/1963",6.5609999999999999,45.308999999999997,102165]
[null,"Djibouti","Africa",1967,"Djibouti/1967",6.702,47.203000000000003,133253]
[null,"Djibouti","Africa",1974,"Djibouti/1974",6.8170000000000002,51.442,206763]
[null,"Djibouti","Africa",1980,"Djibouti/1980",6.4429999999999996,53.639000000000003,340133]
[null,"Djibouti","Africa",1985,"Djibouti/1985",6.218,55.488,403221]
[null,"Djibouti","Africa",1991,"Djibouti/1991",6,56.831000000000003,581641]
[null,"Djibouti","Africa",1996,"Djibouti/1996",5.1479999999999997,57.05,644434]
[null,"Djibouti","Africa",2000,"Djibouti/2000",4.4690000000000003,57.023000000000003,731930]
[null,"Djibouti","Africa",2008,"Djibouti/2008",3.7549999999999999,59.292000000000002,855636]
[null,"Djibouti","Africa",2013,"Djibouti/2013",3.387,61.801000000000002,940090]
[null,"Dominican Republic","Latin America + Caribbean",1950,"Dominican Republic/1950",7.508,44.311,2380116]
[null,"Dominican Republic","Latin America + Caribbean",1955,"Dominican Republic/1955",7.6719999999999997,47.966000000000001,2794531]
[null,"Dominican Republic","Latin America + Caribbean",1961,"Dominican Republic/1961",7.4880000000000004,52.517000000000003,3421385]
[null,"Dominican Republic","Latin America + Caribbean",1967,"Dominican Republic/1967",6.7389999999999999,56.622999999999998,4137994]
[null,"Dominican Republic","Latin America + Caribbean",1972,"Dominican Republic/1972",5.782,59.564999999999998,4764319]
[null,"Dominican Republic","Latin America + Caribbean",1977,"Dominican Republic/1977",4.8479999999999999,61.811,5402683]
[null,"Dominican Republic","Latin America + Caribbean",1983,"Dominican Republic/1983",4.0819999999999999,64.239000000000004,6202698]
[null,"Dominican Republic","Latin America + Caribbean",1988,"Dominican Republic/1988",3.613,66.802999999999997,6907171]
[null,"Dominican Republic","Latin America + Caribbean",1992,"Dominican Republic/1992",3.33,68.738,7485619]
[null,"Dominican Republic","Latin America + Caribbean",2000,"Dominican Republic/2000",2.8919999999999999,70.552999999999997,8591967]
[null,"Dominican Republic","Latin America + Caribbean",2005,"Dominican Republic/2005",2.7509999999999999,71.619,9264267]
[null,"Dominican Republic","Latin America + Caribbean",2011,"Dominican Republic/2011",2.5510000000000002,72.957999999999998,10056181]
[null,"Ecuador","Latin America + Caribbean",1952,"Ecuador/1952",6.7060000000000004,48.064999999999998,3566804]
[null,"Ecuador","Latin America + Caribbean",1955,"Ecuador/1955",6.7229999999999999,49.826999999999998,3861808]
[null,"Ecuador","Latin America + Caribbean",1959,"Ecuador/1959",6.7030000000000003,52.481000000000002,4313726]
[null,"Ecuador","Latin America + Caribbean",1964,"Ecuador/1964",6.5890000000000004,55.404000000000003,4994917]
[null,"Ecuador","Latin America + Caribbean",1970,"Ecuador/1970",6.1280000000000001,57.790999999999997,5972464]
[null,"Ecuador","Latin America + Caribbean",1975,"Ecuador/1975",5.4489999999999998,60.075000000000003,6907740]
[null,"Ecuador","Latin America + Caribbean",1980,"Ecuador/1980",4.742,62.927,7957811]
[null,"Ecuador","Latin America + Caribbean",1986,"Ecuador/1986",4.1310000000000002,66.659000000000006,9323745]
[null,"Ecuador","Latin America + Caribbean",1992,"Ecuador/1992",3.5760000000000001,69.822000000000003,10725281]
[null,"Ecuador","Latin America + Caribbean",1998,"Ecuador/1998",3.161,72.558000000000007,11959586]
[null,"Ecuador","Latin America + Caribbean",2003,"Ecuador/2003",2.94,74.233000000000004,12987992]
[null,"Ecuador","Latin America + Caribbean",2008,"Ecuador/2008",2.7280000000000002,75.171999999999997,14056740]
[null,"Ecuador","Latin America + Caribbean",2011,"Ecuador/2011",2.6219999999999999,75.917000000000002,14666055]
[null,"Egypt","Africa",1956,"Egypt/1956",6.6609999999999996,45.095999999999997,25086028]
[null,"Egypt","Africa",1961,"Egypt/1961",6.6050000000000004,48.642000000000003,28648825]
[null,"Egypt","Africa",1962,"Egypt/1962",6.57,49.165999999999997,29408697]
[null,"Egypt","Africa",1967,"Egypt/1967",6.2380000000000004,51.325000000000003,33415926]
[null,"Egypt","Africa",1972,"Egypt/1972",5.7629999999999999,52.926000000000002,37577248]
[null,"Egypt","Africa",1979,"Egypt/1979",5.4180000000000001,57.692,43917526]
[null,"Egypt","Africa",1984,"Egypt/1984",5.1230000000000002,61.124000000000002,49453054]
[null,"Egypt","Africa",1990,"Egypt/1990",4.3499999999999996,64.600999999999999,56843275]
[null,"Egypt","Africa",1995,"Egypt/1995",3.6589999999999998,66.805999999999997,62063810]
[null,"Egypt","Africa",2001,"Egypt/2001",3.242,68.825999999999993,68888032]
[null,"Egypt","Africa",2005,"Egypt/2005",3.0529999999999999,69.463999999999999,74203215]
[null,"Egypt","Africa",2012,"Egypt/2012",2.8069999999999999,70.933000000000007,83958369]
[null,"El Salvador","Latin America + Caribbean",1954,"El Salvador/1954",6.4020000000000001,46.398000000000003,2376483]
[null,"El Salvador","Latin America + Caribbean",1959,"El Salvador/1959",6.6920000000000002,50.536999999999999,2693432]
[null,"El Salvador","Latin America + Caribbean",1964,"El Salvador/1964",6.6989999999999998,53.953000000000003,3146076]
[null,"El Salvador","Latin America + Caribbean",1966,"El Salvador/1966",6.5709999999999997,54.994999999999997,3342957]
[null,"El Salvador","Latin America + Caribbean",1971,"El Salvador/1971",6.1059999999999999,56.738,3836884]
[null,"El Salvador","Latin America + Caribbean",1977,"El Salvador/1977",5.5060000000000002,56.9,4412237]
[null,"El Salvador","Latin America + Caribbean",1982,"El Salvador/1982",4.87,57.024999999999999,4798918]
[null,"El Salvador","Latin America + Caribbean",1987,"El Salvador/1987",4.2549999999999999,62.234000000000002,5124240]
[null,"El Salvador","Latin America + Caribbean",1993,"El Salvador/1993",3.6949999999999998,68.158000000000001,5584047]
[null,"El Salvador","Latin America + Caribbean",1999,"El Salvador/1999",3.07,69.539000000000001,5911094]
[null,"El Salvador","Latin America + Caribbean",2004,"El Salvador/2004",2.496,70.543000000000006,6028792]
[null,"El Salvador","Latin America + Caribbean",2010,"El Salvador/2010",2.2629999999999999,71.88,6192993]
[null,"Equatorial Guinea","Africa",1951,"Equatorial Guinea/1951",5.5039999999999996,34.031999999999996,230057]
[null,"Equatorial Guinea","Africa",1957,"Equatorial Guinea/1957",5.4950000000000001,35.837000000000003,242510]
[null,"Equatorial Guinea","Africa",1960,"Equatorial Guinea/1960",5.5049999999999999,36.74,252115]
[null,"Equatorial Guinea","Africa",1968,"Equatorial Guinea/1968",5.6580000000000004,39.149000000000001,288703]
[null,"Equatorial Guinea","Africa",1969,"Equatorial Guinea/1969",5.6710000000000003,39.451000000000001,292015]
[null,"Equatorial Guinea","Africa",1974,"Equatorial Guinea/1974",5.6749999999999998,40.948999999999998,249569]
[null,"Equatorial Guinea","Africa",1980,"Equatorial Guinea/1980",5.7279999999999998,42.953000000000003,220582]
[null,"Equatorial Guinea","Africa",1985,"Equatorial Guinea/1985",5.8479999999999999,44.786999999999999,312634]
[null,"Equatorial Guinea","Africa",1993,"Equatorial Guinea/1993",5.9020000000000001,47.292999999999999,413730]
[null,"Equatorial Guinea","Africa",1997,"Equatorial Guinea/1997",5.8719999999999999,47.686,472486]
[null,"Equatorial Guinea","Africa",2002,"Equatorial Guinea/2002",5.6779999999999999,47.933999999999997,554429]
[null,"Equatorial Guinea","Africa",2007,"Equatorial Guinea/2007",5.39,49.795999999999999,643936]
[null,"Equatorial Guinea","Africa",2013,"Equatorial Guinea/2013",4.8449999999999998,53.061999999999998,761050]
[null,"Eritrea","Africa",1954,"Eritrea/1954",6.9880000000000004,36.131999999999998,1236248]
[null,"Eritrea","Africa",1961,"Eritrea/1961",6.8680000000000003,37.606999999999999,1459988]
[null,"Eritrea","Africa",1966,"Eritrea/1966",6.7279999999999998,39.064,1662247]
[null,"Eritrea","Africa",1971,"Eritrea/1971",6.6369999999999996,40.9,1896028]
[null,"Eritrea","Africa",1972,"Eritrea/1972",6.6260000000000003,41.26,1946213]
[null,"Eritrea","Africa",1977,"Eritrea/1977",6.6189999999999998,42.726999999999997,2251397]
[null,"Eritrea","Africa",1985,"Eritrea/1985",6.5720000000000001,45.026000000000003,2806456]
[null,"Eritrea","Africa",1989,"Eritrea/1989",6.5039999999999996,47.51,3112654]
[null,"Eritrea","Africa",1994,"Eritrea/1994",6.351,51.597000000000001,3186063]
[null,"Eritrea","Africa",2000,"Eritrea/2000",5.94,56.131,3667576]
[null,"Eritrea","Africa",2005,"Eritrea/2005",5.4779999999999998,58.722999999999999,4486155]
[null,"Eritrea","Africa",2012,"Eritrea/2012",4.7850000000000001,62.329000000000001,5580862]
[null,"Estonia","Europe",1953,"Estonia/1953",2.0529999999999999,65.570999999999998,1138038]
[null,"Estonia","Europe",1958,"Estonia/1958",1.9770000000000001,68.001999999999995,1191912]
[null,"Estonia","Europe",1964,"Estonia/1964",1.9530000000000001,70.64,1275487]
[null,"Estonia","Europe",1969,"Estonia/1969",2.0699999999999998,70.28,1350454]
[null,"Estonia","Europe",1973,"Estonia/1973",2.1320000000000001,70.7,1407932]
[null,"Estonia","Europe",1976,"Estonia/1976",2.0950000000000002,69.739999999999995,1441551]
[null,"Estonia","Europe",1981,"Estonia/1981",2.0779999999999998,69.459999999999994,1482176]
[null,"Estonia","Europe",1986,"Estonia/1986",2.1930000000000001,70.930000000000007,1539549]
[null,"Estonia","Europe",1992,"Estonia/1992",1.7110000000000001,69.14,1527660]
[null,"Estonia","Europe",1997,"Estonia/1997",1.3420000000000001,70.13,1403188]
[null,"Estonia","Europe",2004,"Estonia/2004",1.472,72.290000000000006,1348449]
[null,"Estonia","Europe",2009,"Estonia/2009",1.6279999999999999,73.915000000000006,1341629]
[null,"Ethiopia","Africa",1950,"Ethiopia/1950",7.35,33.299999999999997,18433866]
[null,"Ethiopia","Africa",1956,"Ethiopia/1956",6.9480000000000004,35.807000000000002,20706078]
[null,"Ethiopia","Africa",1961,"Ethiopia/1961",6.8769999999999998,39.082000000000001,23084406]
[null,"Ethiopia","Africa",1965,"Ethiopia/1965",6.8639999999999999,41.265999999999998,25480202]
[null,"Ethiopia","Africa",1973,"Ethiopia/1973",7.0940000000000003,43.698999999999998,31503206]
[null,"Ethiopia","Africa",1978,"Ethiopia/1978",7.23,44.02,34294030]
[null,"Ethiopia","Africa",1979,"Ethiopia/1979",7.2709999999999999,43.886000000000003,34773640]
[null,"Ethiopia","Africa",1984,"Ethiopia/1984",7.4370000000000003,44.174999999999997,39768079]
[null,"Ethiopia","Africa",1989,"Ethiopia/1989",7.298,46.530999999999999,46747612]
[null,"Ethiopia","Africa",1998,"Ethiopia/1998",6.7690000000000001,50.997,62174171]
[null,"Ethiopia","Africa",2001,"Ethiopia/2001",6.38,52.951999999999998,67303731]
[null,"Ethiopia","Africa",2007,"Ethiopia/2007",5.3529999999999998,58.67,77718436]
[null,"Ethiopia","Africa",2012,"Ethiopia/2012",4.6420000000000003,62.982999999999997,86538534]
[null,"Fiji","Asia + Pacific",1953,"Fiji/1953",6.7309999999999999,52.488,314345]
[null,"Fiji","Asia + Pacific",1959,"Fiji/1959",6.6159999999999997,55.417999999999999,380434]
[null,"Fiji","Asia + Pacific",1965,"Fiji/1965",5.4749999999999996,57.95,463885]
[null,"Fiji","Asia + Pacific",1970,"Fiji/1970",4.5430000000000001,59.856999999999999,520555]
[null,"Fiji","Asia + Pacific",1976,"Fiji/1976",4.0179999999999998,61.802999999999997,587565]
[null,"Fiji","Asia + Pacific",1981,"Fiji/1981",3.8639999999999999,63.262,651006]
[null,"Fiji","Asia + Pacific",1982,"Fiji/1982",3.8130000000000002,63.54,668259]
[null,"Fiji","Asia + Pacific",1992,"Fiji/1992",3.3519999999999999,65.947999999999993,744396]
[null,"Fiji","Asia + Pacific",1993,"Fiji/1993",3.33,66.161000000000001,754981]
[null,"Fiji","Asia + Pacific",1999,"Fiji/1999",3.1320000000000001,67.364999999999995,806927]
[null,"Fiji","Asia + Pacific",2004,"Fiji/2004",2.907,68.242999999999995,819102]
[null,"Fiji","Asia + Pacific",2010,"Fiji/2010",2.67,69.257999999999996,860623]
[null,"Finland","Europe",1953,"Finland/1953",2.96,66.61,4142102]
[null,"Finland","Europe",1957,"Finland/1957",2.86,67.489999999999995,4319898]
[null,"Finland","Europe",1963,"Finland/1963",2.66,69.16,4522251]
[null,"Finland","Europe",1968,"Finland/1968",2.15,69.790000000000006,4588404]
[null,"Finland","Europe",1973,"Finland/1973",1.5,71.38,4668510]
[null,"Finland","Europe",1978,"Finland/1978",1.65,73.08,4750001]
[null,"Finland","Europe",1985,"Finland/1985",1.64,74.44,4902206]
[null,"Finland","Europe",1986,"Finland/1986",1.6,74.8,4921232]
[null,"Finland","Europe",1991,"Finland/1991",1.8,75.45,5009160]
[null,"Finland","Europe",1996,"Finland/1996",1.76,76.94,5125177]
[null,"Finland","Europe",2002,"Finland/2002",1.72,78.37,5197305]
[null,"Finland","Europe",2011,"Finland/2011",1.83,80.180000000000007,5384770]
[null,"France","Europe",1950,"France/1950",2.8340000000000001,66.39,41831805]
[null,"France","Europe",1955,"France/1955",2.6840000000000002,68.47,43433879]
[null,"France","Europe",1960,"France/1960",2.7709999999999999,70.400000000000006,45688594]
[null,"France","Europe",1966,"France/1966",2.73,71.56,49238715]
[null,"France","Europe",1972,"France/1972",2.327,72.38,51572812]
[null,"France","Europe",1977,"France/1977",1.915,73.83,53214788]
[null,"France","Europe",1983,"France/1983",1.8460000000000001,74.87,54695692]
[null,"France","Europe",1988,"France/1988",1.7909999999999999,76.569999999999993,56162822]
[null,"France","Europe",1989,"France/1989",1.7709999999999999,76.69,56443567]
[null,"France","Europe",1994,"France/1994",1.7170000000000001,77.94,57628904]
[null,"France","Europe",1999,"France/1999",1.7949999999999999,78.92,58751572]
[null,"France","Europe",2006,"France/2006",1.952,80.88,61378065]
[null,"France","Europe",2011,"France/2011",1.9810000000000001,81.512,63125894]
[null,"French Guiana","Latin America + Caribbean",1952,"French Guiana/1952",5.0110000000000001,53.048000000000002,26867]
[null,"French Guiana","Latin America + Caribbean",1958,"French Guiana/1958",4.93,56.371000000000002,30534]
[null,"French Guiana","Latin America + Caribbean",1966,"French Guiana/1966",5.0590000000000002,63.000999999999998,41100]
[null,"French Guiana","Latin America + Caribbean",1970,"French Guiana/1970",4.6529999999999996,65.337000000000003,48561]
[null,"French Guiana","Latin America + Caribbean",1975,"French Guiana/1975",3.6589999999999998,66.037000000000006,56949]
[null,"French Guiana","Latin America + Caribbean",1980,"French Guiana/1980",3.3610000000000002,67.786000000000001,67799]
[null,"French Guiana","Latin America + Caribbean",1986,"French Guiana/1986",3.6909999999999998,70.572999999999993,93019]
[null,"French Guiana","Latin America + Caribbean",1991,"French Guiana/1991",3.9670000000000001,72.274000000000001,121979]
[null,"French Guiana","Latin America + Caribbean",1997,"French Guiana/1997",3.9670000000000001,74.100999999999999,148169]
[null,"French Guiana","Latin America + Caribbean",1998,"French Guiana/1998",3.923,74.34,153227]
[null,"French Guiana","Latin America + Caribbean",2003,"French Guiana/2003",3.6269999999999998,75.212000000000003,187247]
[null,"French Guiana","Latin America + Caribbean",2009,"French Guiana/2009",3.2040000000000002,76.209999999999994,225451]
[null,"French Polynesia","Asia + Pacific",1950,"French Polynesia/1950",5.9720000000000004,45.597999999999999,60696]
[null,"French Polynesia","Asia + Pacific",1954,"French Polynesia/1954",6.0049999999999999,51.267000000000003,67690]
[null,"French Polynesia","Asia + Pacific",1962,"French Polynesia/1962",5.5,57.093000000000004,84206]
[null,"French Polynesia","Asia + Pacific",1967,"French Polynesia/1967",5.2220000000000004,59.061,99708]
[null,"French Polynesia","Asia + Pacific",1973,"French Polynesia/1973",4.7850000000000001,61.146999999999998,122041]
[null,"French Polynesia","Asia + Pacific",1978,"French Polynesia/1978",4.1849999999999996,63.277999999999999,142290]
[null,"French Polynesia","Asia + Pacific",1985,"French Polynesia/1985",3.738,67.266999999999996,174024]
[null,"French Polynesia","Asia + Pacific",1990,"French Polynesia/1990",3.4,68.7,195383]
[null,"French Polynesia","Asia + Pacific",1995,"French Polynesia/1995",2.8410000000000002,70.430000000000007,215798]
[null,"French Polynesia","Asia + Pacific",1996,"French Polynesia/1996",2.7450000000000001,70.820999999999998,220172]
[null,"French Polynesia","Asia + Pacific",2001,"French Polynesia/2001",2.4140000000000001,72.668999999999997,241448]
[null,"French Polynesia","Asia + Pacific",2006,"French Polynesia/2006",2.2160000000000002,74.483999999999995,258119]
[null,"Gabon","Africa",1952,"Gabon/1952",3.9689999999999999,36.79,470676]
[null,"Gabon","Africa",1954,"Gabon/1954",4.0250000000000004,37.713999999999999,473845]
[null,"Gabon","Africa",1959,"Gabon/1959",4.3079999999999998,39.273000000000003,483379]
[null,"Gabon","Africa",1965,"Gabon/1965",4.766,42.347000000000001,501880]
[null,"Gabon","Africa",1970,"Gabon/1970",5.0810000000000004,46.67,529526]
[null,"Gabon","Africa",1977,"Gabon/1977",5.5430000000000001,52.392000000000003,627846]
[null,"Gabon","Africa",1982,"Gabon/1982",5.7220000000000004,56.628,724185]
[null,"Gabon","Africa",1987,"Gabon/1987",5.609,60.329000000000001,844775]
[null,"Gabon","Africa",1993,"Gabon/1993",5.17,61.426000000000002,1023531]
[null,"Gabon","Africa",1998,"Gabon/1998",4.7350000000000003,60.348999999999997,1177936]
[null,"Gabon","Africa",2003,"Gabon/2003",4.4489999999999998,59.533999999999999,1317484]
[null,"Gabon","Africa",2004,"Gabon/2004",4.4080000000000004,59.731999999999999,1344171]
[null,"Gabon","Africa",2010,"Gabon/2010",4.2140000000000004,62.332999999999998,1505463]
[null,"Gambia","Africa",1952,"Gambia/1952",5.2709999999999999,30.129000000000001,277411]
[null,"Gambia","Africa",1957,"Gambia/1957",5.4429999999999996,31.35,333635]
[null,"Gambia","Africa",1962,"Gambia/1962",5.6719999999999997,32.651000000000003,389768]
[null,"Gambia","Africa",1971,"Gambia/1971",6.141,38.685000000000002,472432]
[null,"Gambia","Africa",1974,"Gambia/1974",6.2619999999999996,41.292999999999999,521186]
[null,"Gambia","Africa",1980,"Gambia/1980",6.3369999999999997,46.292999999999999,629786]
[null,"Gambia","Africa",1985,"Gambia/1985",6.2190000000000003,49.97,768460]
[null,"Gambia","Africa",1990,"Gambia/1990",6.1070000000000002,52.145000000000003,966151]
[null,"Gambia","Africa",1996,"Gambia/1996",6.0179999999999998,53.801000000000002,1158308]
[null,"Gambia","Africa",1998,"Gambia/1998",5.97,54.454999999999998,1225044]
[null,"Gambia","Africa",2007,"Gambia/2007",5.7990000000000004,57.31,1591357]
[null,"Gambia","Africa",2008,"Gambia/2008",5.798,57.588000000000001,1636107]
[null,"Gambia","Africa",2013,"Gambia/2013",5.7510000000000003,58.817999999999998,1874360]
[null,"Georgia","Europe",1955,"Georgia/1955",2.923,61.646999999999998,3839498]
[null,"Georgia","Europe",1959,"Georgia/1959",2.9529999999999998,63.247,4094586]
[null,"Georgia","Europe",1966,"Georgia/1966",2.7370000000000001,66.085999999999999,4530176]
[null,"Georgia","Europe",1972,"Georgia/1972",2.5790000000000002,68.085999999999999,4791473]
[null,"Georgia","Europe",1977,"Georgia/1977",2.419,69.460999999999999,4973247]
[null,"Georgia","Europe",1982,"Georgia/1982",2.2839999999999998,69.766000000000005,5151606]
[null,"Georgia","Europe",1988,"Georgia/1988",2.2429999999999999,70.320999999999998,5441216]
[null,"Georgia","Europe",1992,"Georgia/1992",2.0760000000000001,70.191999999999993,5346229]
[null,"Georgia","Europe",2000,"Georgia/2000",1.609,71.838999999999999,4745765]
[null,"Georgia","Europe",2005,"Georgia/2005",1.6779999999999999,73.111999999999995,4477006]
[null,"Georgia","Europe",2010,"Georgia/2010",1.82,73.882999999999996,4352244]
[null,"Georgia","Europe",2011,"Georgia/2011",1.8220000000000001,74.022999999999996,4329026]
[null,"Germany","Europe",1953,"Germany/1953",2.141,67.686999999999998,69483349]
[null,"Germany","Europe",1959,"Germany/1959",2.3679999999999999,69.539000000000001,72247225]
[null,"Germany","Europe",1964,"Germany/1964",2.4940000000000002,70.515000000000001,75363329]
[null,"Germany","Europe",1969,"Germany/1969",2.165,70.792000000000002,77860668]
[null,"Germany","Europe",1975,"Germany/1975",1.5629999999999999,71.667000000000002,78673559]
[null,"Germany","Europe",1978,"Germany/1978",1.4890000000000001,72.600999999999999,78526576]
[null,"Germany","Europe",1986,"Germany/1986",1.4410000000000001,74.540999999999997,77783439]
[null,"Germany","Europe",1992,"Germany/1992",1.321,76.069999999999993,80282985]
[null,"Germany","Europe",1997,"Germany/1997",1.331,77.349999999999994,82326019]
[null,"Germany","Europe",2003,"Germany/2003",1.351,78.75,82484111]
[null,"Germany","Europe",2008,"Germany/2008",1.3680000000000001,80.06,82475271]
[null,"Germany","Europe",2011,"Germany/2011",1.397,80.41,82162512]
[null,"Ghana","Africa",1951,"Ghana/1951",6.3849999999999998,41.387999999999998,5088932]
[null,"Ghana","Africa",1956,"Ghana/1956",6.58,43.956000000000003,5943367]
[null,"Ghana","Africa",1962,"Ghana/1962",6.827,46.697000000000003,7179577]
[null,"Ghana","Africa",1967,"Ghana/1967",6.95,48.469000000000001,8150359]
[null,"Ghana","Africa",1972,"Ghana/1972",6.915,49.911000000000001,9167822]
[null,"Ghana","Africa",1979,"Ghana/1979",6.6050000000000004,51.976999999999997,10664342]
[null,"Ghana","Africa",1984,"Ghana/1984",6.2229999999999999,53.67,12462279]
[null,"Ghana","Africa",1989,"Ghana/1989",5.7249999999999996,56.250999999999998,14392619]
[null,"Ghana","Africa",1995,"Ghana/1995",5.0579999999999998,57.506999999999998,16996901]
[null,"Ghana","Africa",2000,"Ghana/2000",4.6689999999999996,56.996000000000002,19165490]
[null,"Ghana","Africa",2003,"Ghana/2003",4.5119999999999996,57.796999999999997,20610897]
[null,"Ghana","Africa",2012,"Ghana/2012",3.92,60.978999999999999,25545939]
[null,"Greece","Europe",1953,"Greece/1953",2.2970000000000002,65.805999999999997,7805207]
[null,"Greece","Europe",1954,"Greece/1954",2.2970000000000002,66.043000000000006,7885213]
[null,"Greece","Europe",1959,"Greece/1959",2.2330000000000001,67.831000000000003,8271724]
[null,"Greece","Europe",1966,"Greece/1966",2.3199999999999998,69.894999999999996,8596595]
[null,"Greece","Europe",1971,"Greece/1971",2.3570000000000002,71.269000000000005,8833582]
[null,"Greece","Europe",1976,"Greece/1976",2.3359999999999999,72.554000000000002,9149987]
[null,"Greece","Europe",1982,"Greece/1982",2.0059999999999998,74.290999999999997,9795461]
[null,"Greece","Europe",1987,"Greece/1987",1.575,75.619,10007304]
[null,"Greece","Europe",1992,"Greece/1992",1.37,77.186999999999998,10351229]
[null,"Greece","Europe",1997,"Greece/1997",1.2929999999999999,78.02,10824894]
[null,"Greece","Europe",2004,"Greece/2004",1.3320000000000001,79.287999999999997,11147261]
[null,"Greece","Europe",2010,"Greece/2010",1.4990000000000001,80.23,11359346]
[null,"Grenada","Latin America + Caribbean",1951,"Grenada/1951",5.3579999999999997,55.515999999999998,76619]
[null,"Grenada","Latin America + Caribbean",1956,"Grenada/1956",6.59,58.186,82778]
[null,"Grenada","Latin America + Caribbean",1958,"Grenada/1958",6.7779999999999996,59.155000000000001,86476]
[null,"Grenada","Latin America + Caribbean",1963,"Grenada/1963",6.1959999999999997,61.331000000000003,93338]
[null,"Grenada","Latin America + Caribbean",1968,"Grenada/1968",4.835,63.180999999999997,94846]
[null,"Grenada","Latin America + Caribbean",1974,"Grenada/1974",4.4790000000000001,65.037999999999997,93108]
[null,"Grenada","Latin America + Caribbean",1979,"Grenada/1979",4.2690000000000001,66.322000000000003,88508]
[null,"Grenada","Latin America + Caribbean",1983,"Grenada/1983",4.2450000000000001,67.233000000000004,95903]
[null,"Grenada","Latin America + Caribbean",1991,"Grenada/1991",3.7010000000000001,68.765000000000001,96368]
[null,"Grenada","Latin America + Caribbean",1996,"Grenada/1996",2.988,69.570999999999998,100707]
[null,"Grenada","Latin America + Caribbean",2002,"Grenada/2002",2.4550000000000001,70.787000000000006,101954]
[null,"Grenada","Latin America + Caribbean",2007,"Grenada/2007",2.3010000000000002,71.884,103368]
[null,"Grenada","Latin America + Caribbean",2012,"Grenada/2012",2.194,72.64,105303]
[null,"Guadeloupe","Latin America + Caribbean",1952,"Guadeloupe/1952",5.609,52.94,217331]
[null,"Guadeloupe","Latin America + Caribbean",1960,"Guadeloupe/1960",5.641,58.912999999999997,275526]
[null,"Guadeloupe","Latin America + Caribbean",1961,"Guadeloupe/1961",5.6360000000000001,59.576000000000001,281800]
[null,"Guadeloupe","Latin America + Caribbean",1966,"Guadeloupe/1966",5.3929999999999998,62.747999999999998,305052]
[null,"Guadeloupe","Latin America + Caribbean",1971,"Guadeloupe/1971",4.758,65.492999999999995,322773]
[null,"Guadeloupe","Latin America + Caribbean",1977,"Guadeloupe/1977",3.2320000000000002,68.400999999999996,326826]
[null,"Guadeloupe","Latin America + Caribbean",1983,"Guadeloupe/1983",2.5259999999999998,71.010999999999996,341489]
[null,"Guadeloupe","Latin America + Caribbean",1989,"Guadeloupe/1989",2.3260000000000001,73.349000000000004,381130]
[null,"Guadeloupe","Latin America + Caribbean",1994,"Guadeloupe/1994",2.085,75.135000000000005,401061]
[null,"Guadeloupe","Latin America + Caribbean",1999,"Guadeloupe/1999",2.0760000000000001,76.798000000000002,422791]
[null,"Guadeloupe","Latin America + Caribbean",2005,"Guadeloupe/2005",2.1030000000000002,78.646000000000001,445814]
[null,"Guadeloupe","Latin America + Caribbean",2010,"Guadeloupe/2010",2.1230000000000002,80.141000000000005,460666]
[null,"Guam","Asia + Pacific",1952,"Guam/1952",5.4930000000000003,56.878999999999998,61068]
[null,"Guam","Asia + Pacific",1958,"Guam/1958",5.9390000000000001,59.939,65272]
[null,"Guam","Asia + Pacific",1963,"Guam/1963",5.8570000000000002,62.481000000000002,72202]
[null,"Guam","Asia + Pacific",1964,"Guam/1964",5.67,62.966999999999999,74044]
[null,"Guam","Asia + Pacific",1971,"Guam/1971",4.2480000000000002,66.072999999999993,87402]
[null,"Guam","Asia + Pacific",1975,"Guam/1975",3.8010000000000002,67.599000000000004,95380]
[null,"Guam","Asia + Pacific",1981,"Guam/1981",3.177,69.567999999999998,109001]
[null,"Guam","Asia + Pacific",1986,"Guam/1986",3.0990000000000002,70.959999999999994,122333]
[null,"Guam","Asia + Pacific",1992,"Guam/1992",2.9289999999999998,72.42,138981]
[null,"Guam","Asia + Pacific",1997,"Guam/1997",2.867,73.930000000000007,149279]
[null,"Guam","Asia + Pacific",2004,"Guam/2004",2.6789999999999998,76.370999999999995,165918]
[null,"Guam","Asia + Pacific",2009,"Guam/2009",2.4990000000000001,77.775999999999996,177707]
[null,"Guatemala","Latin America + Caribbean",1950,"Guatemala/1950",7.2450000000000001,41.371000000000002,3146073]
[null,"Guatemala","Latin America + Caribbean",1955,"Guatemala/1955",6.75,43.003999999999998,3627032]
[null,"Guatemala","Latin America + Caribbean",1961,"Guatemala/1961",6.5119999999999996,46.103999999999999,4273585]
[null,"Guatemala","Latin America + Caribbean",1965,"Guatemala/1965",6.399,48.505000000000003,4762956]
[null,"Guatemala","Latin America + Caribbean",1968,"Guatemala/1968",6.2880000000000003,50.561,5162058]
[null,"Guatemala","Latin America + Caribbean",1973,"Guatemala/1973",6.2030000000000003,54.055999999999997,5910205]
[null,"Guatemala","Latin America + Caribbean",1978,"Guatemala/1978",6.2030000000000003,56.366,6703955]
[null,"Guatemala","Latin America + Caribbean",1984,"Guatemala/1984",5.9870000000000001,59.01,7766291]
[null,"Guatemala","Latin America + Caribbean",1990,"Guatemala/1990",5.58,62.162999999999997,8923131]
[null,"Guatemala","Latin America + Caribbean",1995,"Guatemala/1995",5.2370000000000001,64.908000000000001,10015675]
[null,"Guatemala","Latin America + Caribbean",2001,"Guatemala/2001",4.718,68.262,11512637]
[null,"Guatemala","Latin America + Caribbean",2006,"Guatemala/2006",4.2830000000000004,69.954999999999998,13034904]
[null,"Guatemala","Latin America + Caribbean",2012,"Guatemala/2012",3.8439999999999999,71.77,15137569]
[null,"Guinea","Africa",1953,"Guinea/1953",6.0049999999999999,33.212000000000003,3220178]
[null,"Guinea","Africa",1959,"Guinea/1959",6.0890000000000004,34.679000000000002,3489211]
[null,"Guinea","Africa",1965,"Guinea/1965",6.1349999999999998,35.74,3822583]
[null,"Guinea","Africa",1970,"Guinea/1970",6.1950000000000003,36.655999999999999,4153653]
[null,"Guinea","Africa",1971,"Guinea/1971",6.2210000000000001,36.933,4195876]
[null,"Guinea","Africa",1976,"Guinea/1976",6.391,38.993000000000002,4300114]
[null,"Guinea","Africa",1984,"Guinea/1984",6.63,44.521999999999998,4799450]
[null,"Guinea","Africa",1988,"Guinea/1988",6.6289999999999996,48.359000000000002,5315182]
[null,"Guinea","Africa",1993,"Guinea/1993",6.4359999999999999,51.381999999999998,6871525]
[null,"Guinea","Africa",1998,"Guinea/1998",6.0890000000000004,51.487000000000002,8112650]
[null,"Guinea","Africa",2004,"Guinea/2004",5.649,52.203000000000003,8889321]
[null,"Guinea","Africa",2009,"Guinea/2009",5.26,54.95,9761217]
[null,"Guinea-Bissau","Africa",1951,"Guinea-Bissau/1951"]
[null,"Guinea-Bissau","Africa",1957,"Guinea-Bissau/1957"]
[null,"Guinea-Bissau","Africa",1962,"Guinea-Bissau/1962",5.67,42.579000000000001,597352]
[null,"Guinea-Bissau","Africa",1968,"Guinea-Bissau/1968",5.2960000000000003,43.728000000000002,594145]
[null,"Guinea-Bissau","Africa",1973,"Guinea-Bissau/1973",6.984,44.518000000000001,647703]
[null,"Guinea-Bissau","Africa",1976,"Guinea-Bissau/1976",6.6619999999999999,45.031999999999996,721220]
[null,"Guinea-Bissau","Africa",1980,"Guinea-Bissau/1980",6.3220000000000001,45.890999999999998,834611]
[null,"Guinea-Bissau","Africa",1985,"Guinea-Bissau/1985",6.7430000000000003,47.313000000000002,921889]
[null,"Guinea-Bissau","Africa",1991,"Guinea-Bissau/1991",6.6079999999999997,49.427999999999997,1037431]
[null,"Guinea-Bissau","Africa",1996,"Guinea-Bissau/1996",6.2140000000000004,50.793999999999997,1147908]
[null,"Guinea-Bissau","Africa",2001,"Guinea-Bissau/2001",5.766,51.628999999999998,1264855]
[null,"Guinea-Bissau","Africa",2009,"Guinea-Bissau/2009",5.18,53.34,1484120]
[null,"Guinea-Bissau","Africa",2013,"Guinea-Bissau/2013",4.9269999999999996,54.290999999999997,1612913]
[null,"Guyana","Latin America + Caribbean",1955,"Guyana/1955",5.8630000000000004,57.558999999999997,483310]
[null,"Guyana","Latin America + Caribbean",1960,"Guyana/1960",5.6710000000000003,58.204999999999998,560184]
[null,"Guyana","Latin America + Caribbean",1965,"Guyana/1965",5.2720000000000002,58.834000000000003,640447]
[null,"Guyana","Latin America + Caribbean",1970,"Guyana/1970",5.0679999999999996,59.447000000000003,720738]
[null,"Guyana","Latin America + Caribbean",1977,"Guyana/1977",4.4349999999999996,60.268999999999998,762481]
[null,"Guyana","Latin America + Caribbean",1982,"Guyana/1982",3.0990000000000002,60.844999999999999,771521]
[null,"Guyana","Latin America + Caribbean",1983,"Guyana/1983",2.8809999999999998,60.975999999999999,765434]
[null,"Guyana","Latin America + Caribbean",1988,"Guyana/1988",2.48,61.722999999999999,732806]
[null,"Guyana","Latin America + Caribbean",1994,"Guyana/1994",2.4820000000000002,62.581000000000003,726552]
[null,"Guyana","Latin America + Caribbean",2003,"Guyana/2003",2.6779999999999999,63.902000000000001,740925]
[null,"Guyana","Latin America + Caribbean",2005,"Guyana/2005",2.7349999999999999,64.460999999999999,746235]
[null,"Guyana","Latin America + Caribbean",2011,"Guyana/2011",2.6379999999999999,65.963999999999999,756040]
[null,"Haiti","Latin America + Caribbean",1952,"Haiti/1952",6.2990000000000004,37.26,3331968]
[null,"Haiti","Latin America + Caribbean",1958,"Haiti/1958",6.3170000000000002,40.993000000000002,3719485]
[null,"Haiti","Latin America + Caribbean",1964,"Haiti/1964",6.2329999999999997,44.463999999999999,4188276]
[null,"Haiti","Latin America + Caribbean",1969,"Haiti/1969",5.8470000000000004,46.831000000000003,4623315]
[null,"Haiti","Latin America + Caribbean",1975,"Haiti/1975",5.6420000000000003,49.023000000000003,5141143]
[null,"Haiti","Latin America + Caribbean",1980,"Haiti/1980",6.0579999999999998,50.756,5687812]
[null,"Haiti","Latin America + Caribbean",1985,"Haiti/1985",6.0279999999999996,52.566000000000003,6395193]
[null,"Haiti","Latin America + Caribbean",1989,"Haiti/1989",5.5490000000000004,54.115000000000002,6977397]
[null,"Haiti","Latin America + Caribbean",1992,"Haiti/1992",5.21,55.137,7422881]
[null,"Haiti","Latin America + Caribbean",1998,"Haiti/1998",4.5469999999999997,56.972000000000001,8342233]
[null,"Haiti","Latin America + Caribbean",2003,"Haiti/2003",3.9529999999999998,58.418999999999997,9075399]
[null,"Haiti","Latin America + Caribbean",2008,"Haiti/2008",3.5,60.911000000000001,9736332]
[null,"Honduras","Latin America + Caribbean",1950,"Honduras/1950",7.4690000000000003,40.847000000000001,1487235]
[null,"Honduras","Latin America + Caribbean",1958,"Honduras/1958",7.4850000000000003,44.932000000000002,1878095]
[null,"Honduras","Latin America + Caribbean",1961,"Honduras/1961",7.4480000000000004,46.95,2066098]
[null,"Honduras","Latin America + Caribbean",1967,"Honduras/1967",7.4169999999999998,50.734000000000002,2483231]
[null,"Honduras","Latin America + Caribbean",1972,"Honduras/1972",7.1109999999999998,53.762999999999998,2841609]
[null,"Honduras","Latin America + Caribbean",1978,"Honduras/1978",6.5430000000000001,58.055999999999997,3406539]
[null,"Honduras","Latin America + Caribbean",1983,"Honduras/1983",5.9320000000000004,62.02,3978080]
[null,"Honduras","Latin America + Caribbean",1989,"Honduras/1989",5.2359999999999998,66.194000000000003,4753109]
[null,"Honduras","Latin America + Caribbean",1990,"Honduras/1990",5.1420000000000003,66.688000000000002,4889311]
[null,"Honduras","Latin America + Caribbean",1995,"Honduras/1995",4.617,68.855999999999995,5575099]
[null,"Honduras","Latin America + Caribbean",2001,"Honduras/2001",3.883,70.695999999999998,6347272]
[null,"Honduras","Latin America + Caribbean",2006,"Honduras/2006",3.4129999999999998,71.701999999999998,7017769]
[null,"Honduras","Latin America + Caribbean",2010,"Honduras/2010",3.1539999999999999,72.853999999999999,7600524]
[null,"Hong Kong, China","Asia + Pacific",1954,"Hong Kong, China/1954",4.4320000000000004,63.978999999999999,2370729]
[null,"Hong Kong, China","Asia + Pacific",1959,"Hong Kong, China/1959",5.05,66.87,2941712]
[null,"Hong Kong, China","Asia + Pacific",1964,"Hong Kong, China/1964",4.8330000000000002,69.52,3694996]
[null,"Hong Kong, China","Asia + Pacific",1970,"Hong Kong, China/1970",3.4209999999999998,71.891999999999996,3958092]
[null,"Hong Kong, China","Asia + Pacific",1977,"Hong Kong, China/1977",2.4359999999999999,74.061000000000007,4633225]
[null,"Hong Kong, China","Asia + Pacific",1982,"Hong Kong, China/1982",1.7470000000000001,75.497,5228670]
[null,"Hong Kong, China","Asia + Pacific",1987,"Hong Kong, China/1987",1.3879999999999999,76.775999999999996,5564427]
[null,"Hong Kong, China","Asia + Pacific",1992,"Hong Kong, China/1992",1.222,78.010000000000005,5914114]
[null,"Hong Kong, China","Asia + Pacific",1993,"Hong Kong, China/1993",1.169,78.245000000000005,5973754]
[null,"Hong Kong, China","Asia + Pacific",1998,"Hong Kong, China/1998",0.89100000000000001,79.626999999999995,6563860]
[null,"Hong Kong, China","Asia + Pacific",2008,"Hong Kong, China/2008",1.0369999999999999,82.488,6926368]
[null,"Hong Kong, China","Asia + Pacific",2010,"Hong Kong, China/2010",1.075,82.84,7053189]
[null,"Hungary","Europe",1951,"Hungary/1951",2.7669999999999999,62.46,9478369]
[null,"Hungary","Europe",1957,"Hungary/1957",2.34,66.41,9903650]
[null,"Hungary","Europe",1962,"Hungary/1962",1.917,67.959999999999994,10040803]
[null,"Hungary","Europe",1965,"Hungary/1965",1.8879999999999999,69.17,10140871]
[null,"Hungary","Europe",1974,"Hungary/1974",2.1080000000000001,69.349999999999994,10476458]
[null,"Hungary","Europe",1979,"Hungary/1979",2.0339999999999998,69.7,10686489]
[null,"Hungary","Europe",1985,"Hungary/1985",1.827,68.930000000000007,10542504]
[null,"Hungary","Europe",1990,"Hungary/1990",1.8260000000000001,69.41,10376320]
[null,"Hungary","Europe",1996,"Hungary/1996",1.488,70.67,10313993]
[null,"Hungary","Europe",1997,"Hungary/1997",1.425,71.069999999999993,10291342]
[null,"Hungary","Europe",2002,"Hungary/2002",1.288,72.61,10159273]
[null,"Hungary","Europe",2007,"Hungary/2007",1.32,73.45,10042572]
[null,"Hungary","Europe",2013,"Hungary/2013",1.411,74.62,9933795]
[null,"Iceland","Europe",1954,"Iceland/1954",4.024,73.36,154496]
[null,"Iceland","Europe",1963,"Iceland/1963",3.8639999999999999,72.98,186092]
[null,"Iceland","Europe",1966,"Iceland/1966",3.4630000000000001,73.23,194608]
[null,"Iceland","Europe",1971,"Iceland/1971",2.9540000000000002,73.55,206821]
[null,"Iceland","Europe",1977,"Iceland/1977",2.4889999999999999,76.11,222238]
[null,"Iceland","Europe",1982,"Iceland/1982",2.2320000000000002,76.989999999999995,233131]
[null,"Iceland","Europe",1988,"Iceland/1988",2.1349999999999998,77.08,249526]
[null,"Iceland","Europe",1994,"Iceland/1994",2.1539999999999999,79.239999999999995,264909]
[null,"Iceland","Europe",1999,"Iceland/1999",2.0219999999999998,79.459999999999994,278403]
[null,"Iceland","Europe",2000,"Iceland/2000",2.0049999999999999,79.72,281210]
[null,"Iceland","Europe",2005,"Iceland/2005",2.0609999999999999,81.430000000000007,296743]
[null,"Iceland","Europe",2010,"Iceland/2010",2.1190000000000002,81.706999999999994,320136]
[null,"India","Asia + Pacific",1951,"India/1951",5.8929999999999998,35.167000000000002,378201181]
[null,"India","Asia + Pacific",1958,"India/1958",5.8929999999999998,39.969000000000001,430442283]
[null,"India","Asia + Pacific",1964,"India/1964",5.8070000000000004,44.375,486038945]
[null,"India","Asia + Pacific",1969,"India/1969",5.5730000000000004,48.119,541544619]
[null,"India","Asia + Pacific",1974,"India/1974",5.1559999999999997,51.75,607606569]
[null,"India","Asia + Pacific",1982,"India/1982",4.5149999999999997,56.131,733151769]
[null,"India","Asia + Pacific",1986,"India/1986",4.2030000000000003,57.4,802051806]
[null,"India","Asia + Pacific",1991,"India/1991",3.7930000000000001,58.81,891910180]
[null,"India","Asia + Pacific",1997,"India/1997",3.3340000000000001,60.941000000000003,1000558144]
[null,"India","Asia + Pacific",2002,"India/2002",3.0179999999999998,62.912999999999997,1088694080]
[null,"India","Asia + Pacific",2003,"India/2003",2.952,63.302,1105885689]
[null,"India","Asia + Pacific",2009,"India/2009",2.6,65.369,1207740408]
[null,"Indonesia","Asia + Pacific",1950,"Indonesia/1950",5.3460000000000001,36.396999999999998,74837310]
[null,"Indonesia","Asia + Pacific",1956,"Indonesia/1956",5.6470000000000002,41.404000000000003,83701632]
[null,"Indonesia","Asia + Pacific",1961,"Indonesia/1961",5.6559999999999997,45.612000000000002,94225771]
[null,"Indonesia","Asia + Pacific",1967,"Indonesia/1967",5.5819999999999999,50.246000000000002,109612753]
[null,"Indonesia","Asia + Pacific",1970,"Indonesia/1970",5.4740000000000002,52.387999999999998,118361740]
[null,"Indonesia","Asia + Pacific",1978,"Indonesia/1978",4.6820000000000004,57.466999999999999,144026720]
[null,"Indonesia","Asia + Pacific",1984,"Indonesia/1984",3.887,60.688000000000002,164706919]
[null,"Indonesia","Asia + Pacific",1989,"Indonesia/1989",3.2290000000000001,63.033000000000001,181197879]
[null,"Indonesia","Asia + Pacific",1994,"Indonesia/1994",2.7639999999999998,65.108000000000004,196488446]
[null,"Indonesia","Asia + Pacific",2001,"Indonesia/2001",2.4750000000000001,67.623999999999995,216203499]
[null,"Indonesia","Asia + Pacific",2006,"Indonesia/2006",2.4950000000000001,69.171000000000006,229918547]
[null,"Indonesia","Asia + Pacific",2007,"Indonesia/2007",2.4900000000000002,69.444999999999993,232461746]
[null,"Indonesia","Asia + Pacific",2012,"Indonesia/2012",2.37,70.623999999999995,244769110]
[null,"Iran","Asia + Pacific",1953,"Iran/1953",6.9059999999999997,40.878,18557412]
[null,"Iran","Asia + Pacific",1959,"Iran/1959",6.9249999999999998,44.375,21445515]
[null,"Iran","Asia + Pacific",1964,"Iran/1964",6.8680000000000003,47.173000000000002,24408927]
[null,"Iran","Asia + Pacific",1971,"Iran/1971",6.359,51.661999999999999,29421198]
[null,"Iran","Asia + Pacific",1976,"Iran/1976",6.2380000000000004,55.75,33788867]
[null,"Iran","Asia + Pacific",1981,"Iran/1981",6.516,53.468000000000004,40012129]
[null,"Iran","Asia + Pacific",1987,"Iran/1987",5.7590000000000003,58.365000000000002,50052662]
[null,"Iran","Asia + Pacific",1989,"Iran/1989",5.1520000000000001,61.856999999999999,53437770]
[null,"Iran","Asia + Pacific",1998,"Iran/1998",2.512,68.896000000000001,63133032]
[null,"Iran","Asia + Pacific",2004,"Iran/2004",1.895,71.126000000000005,68893323]
[null,"Iran","Asia + Pacific",2009,"Iran/2009",1.893,72.769000000000005,73137148]
[null,"Iran","Asia + Pacific",2010,"Iran/2010",1.9039999999999999,73.093999999999994,73973630]
[null,"Iraq","West Asia",1951,"Iraq/1951",7.875,35.658000000000001,5915805]
[null,"Iraq","West Asia",1958,"Iraq/1958",6.1779999999999999,45.558999999999997,7031285]
[null,"Iraq","West Asia",1963,"Iraq/1963",6.6890000000000001,51.58,7991619]
[null,"Iraq","West Asia",1968,"Iraq/1968",7.3620000000000001,56.722999999999999,9367055]
[null,"Iraq","West Asia",1973,"Iraq/1973",7.1529999999999996,60.061999999999998,11049889]
[null,"Iraq","West Asia",1979,"Iraq/1979",6.6580000000000004,60.506999999999998,13364514]
[null,"Iraq","West Asia",1983,"Iraq/1983",6.3380000000000001,59.962000000000003,14799456]
[null,"Iraq","West Asia",1991,"Iraq/1991",5.7919999999999998,69.222999999999999,17871623]
[null,"Iraq","West Asia",1996,"Iraq/1996",5.3239999999999998,71.043000000000006,20972915]
[null,"Iraq","West Asia",2001,"Iraq/2001",4.8789999999999996,70.680000000000007,24552000]
[null,"Iraq","West Asia",2007,"Iraq/2007",4.4119999999999999,68.792000000000002,28960581]
[null,"Iraq","West Asia",2012,"Iraq/2012",4.0860000000000003,69.180999999999997,33703068]
[null,"Ireland","Europe",1950,"Ireland/1950",3.4750000000000001,65.61,2913093]
[null,"Ireland","Europe",1955,"Ireland/1955",3.4390000000000001,68.06,2901135]
[null,"Ireland","Europe",1960,"Ireland/1960",3.8570000000000002,70.23,2828866]
[null,"Ireland","Europe",1966,"Ireland/1966",3.9020000000000001,70.2,2887470]
[null,"Ireland","Europe",1971,"Ireland/1971",3.8069999999999999,71.680000000000007,2997907]
[null,"Ireland","Europe",1977,"Ireland/1977",3.3380000000000001,72,3284081]
[null,"Ireland","Europe",1983,"Ireland/1983",2.6779999999999999,73.260000000000005,3505714]
[null,"Ireland","Europe",1988,"Ireland/1988",2.14,74.55,3533181]
[null,"Ireland","Europe",1994,"Ireland/1994",1.895,75.91,3586685]
[null,"Ireland","Europe",1999,"Ireland/1999",1.9430000000000001,76.2,3750945]
[null,"Ireland","Europe",2004,"Ireland/2004",1.9790000000000001,78.64,4085676]
[null,"Ireland","Europe",2008,"Ireland/2008",2.0019999999999998,79.94,4352866]
[null,"Israel","Europe",1952,"Israel/1952",4.3220000000000001,65.128,1451533]
[null,"Israel","Europe",1953,"Israel/1953",4.2069999999999999,65.715999999999994,1546309]
[null,"Israel","Europe",1958,"Israel/1958",3.88,68.027000000000001,1939534]
[null,"Israel","Europe",1963,"Israel/1963",3.8239999999999998,69.578999999999994,2356045]
[null,"Israel","Europe",1969,"Israel/1969",3.8119999999999998,71.003,2775091]
[null,"Israel","Europe",1975,"Israel/1975",3.6619999999999999,72.308000000000007,3336984]
[null,"Israel","Europe",1980,"Israel/1980",3.28,73.774000000000001,3745797]
[null,"Israel","Europe",1986,"Israel/1986",3.0720000000000001,75.27,4149457]
[null,"Israel","Europe",1991,"Israel/1991",2.9729999999999999,76.930000000000007,4642324]
[null,"Israel","Europe",1994,"Israel/1994",2.9279999999999999,77.64,5164345]
[null,"Israel","Europe",2003,"Israel/2003",2.9119999999999999,79.5,6352106]
[null,"Israel","Europe",2008,"Israel/2008",2.9159999999999999,80.835999999999999,7092324]
[null,"Italy","Europe",1950,"Italy/1950",2.4470000000000001,65.77,46366767]
[null,"Italy","Europe",1955,"Italy/1955",2.2829999999999999,68.25,48131479]
[null,"Italy","Europe",1960,"Italy/1960",2.3690000000000002,69.209999999999994,49519312]
[null,"Italy","Europe",1963,"Italy/1963",2.4740000000000002,69.349999999999994,50647763]
[null,"Italy","Europe",1967,"Italy/1967",2.524,71.06,52215095]
[null,"Italy","Europe",1973,"Italy/1973",2.3149999999999999,72.13,54438147]
[null,"Italy","Europe",1978,"Italy/1978",1.897,73.83,55849349]
[null,"Italy","Europe",1983,"Italy/1983",1.51,74.8,56622072]
[null,"Italy","Europe",1988,"Italy/1988",1.33,76.599999999999994,56824700]
[null,"Italy","Europe",1995,"Italy/1995",1.24,78.19,56968039]
[null,"Italy","Europe",2001,"Italy/2001",1.23,80.010000000000005,57199219]
[null,"Italy","Europe",2006,"Italy/2006",1.341,81.59,59082100]
[null,"Italy","Europe",2011,"Italy/2011",1.454,82.082999999999998,60788694]
[null,"Jamaica","Latin America + Caribbean",1953,"Jamaica/1953",4.3310000000000004,59.003,1496181]
[null,"Jamaica","Latin America + Caribbean",1957,"Jamaica/1957",5.0220000000000002,62.273000000000003,1576146]
[null,"Jamaica","Latin America + Caribbean",1964,"Jamaica/1964",5.7750000000000004,66.281999999999996,1734820]
[null,"Jamaica","Latin America + Caribbean",1965,"Jamaica/1965",5.8150000000000004,66.677999999999997,1760400]
[null,"Jamaica","Latin America + Caribbean",1970,"Jamaica/1970",5.4770000000000003,68.259,1869031]
[null,"Jamaica","Latin America + Caribbean",1976,"Jamaica/1976",4.2859999999999996,69.634,2036770]
[null,"Jamaica","Latin America + Caribbean",1982,"Jamaica/1982",3.5590000000000002,70.903999999999996,2200377]
[null,"Jamaica","Latin America + Caribbean",1987,"Jamaica/1987",3.1429999999999998,71.004000000000005,2331427]
[null,"Jamaica","Latin America + Caribbean",1993,"Jamaica/1993",2.8149999999999999,70.418000000000006,2418080]
[null,"Jamaica","Latin America + Caribbean",1998,"Jamaica/1998",2.6549999999999998,70.335999999999999,2533550]
[null,"Jamaica","Latin America + Caribbean",2003,"Jamaica/2003",2.5249999999999999,70.980999999999995,2646269]
[null,"Jamaica","Latin America + Caribbean",2009,"Jamaica/2009",2.36,72.638000000000005,2730774]
[null,"Japan","Asia + Pacific",1951,"Japan/1951",3.367,60.99,83794117]
[null,"Japan","Asia + Pacific",1957,"Japan/1957",2.2010000000000001,65.5,90084066]
[null,"Japan","Asia + Pacific",1962,"Japan/1962",1.9650000000000001,68.73,94263847]
[null,"Japan","Asia + Pacific",1967,"Japan/1967",2.02,71.430000000000007,99712724]
[null,"Japan","Asia + Pacific",1968,"Japan/1968",2.048,71.75,100990902]
[null,"Japan","Asia + Pacific",1976,"Japan/1976",1.94,74.81,111996339]
[null,"Japan","Asia + Pacific",1980,"Japan/1980",1.7769999999999999,76.19,115914688]
[null,"Japan","Asia + Pacific",1985,"Japan/1985",1.7150000000000001,77.84,119990547]
[null,"Japan","Asia + Pacific",1990,"Japan/1990",1.571,79.040000000000006,122251184]
[null,"Japan","Asia + Pacific",1996,"Japan/1996",1.3919999999999999,80.459999999999994,124814986]
[null,"Japan","Asia + Pacific",2001,"Japan/2001",1.31,81.7,125893623]
[null,"Japan","Asia + Pacific",2007,"Japan/2007",1.329,82.87,126515486]
[null,"Japan","Asia + Pacific",2013,"Japan/2013",1.419,83.58,126345235]
[null,"Jordan","West Asia",1954,"Jordan/1954",7.2779999999999996,47.767000000000003,610705]
[null,"Jordan","West Asia",1960,"Jordan/1960",7.6870000000000003,52.651000000000003,895357]
[null,"Jordan","West Asia",1965,"Jordan/1965",8.0570000000000004,56.526000000000003,1129219]
[null,"Jordan","West Asia",1970,"Jordan/1970",7.9260000000000002,60.170999999999999,1666920]
[null,"Jordan","West Asia",1972,"Jordan/1972",7.8179999999999996,61.545000000000002,1825322]
[null,"Jordan","West Asia",1977,"Jordan/1977",7.4550000000000001,64.683000000000007,2108538]
[null,"Jordan","West Asia",1983,"Jordan/1983",6.9349999999999996,67.498000000000005,2584859]
[null,"Jordan","West Asia",1988,"Jordan/1988",5.9429999999999996,69.308999999999997,3129651]
[null,"Jordan","West Asia",1995,"Jordan/1995",4.6769999999999996,70.882999999999996,4382005]
[null,"Jordan","West Asia",2000,"Jordan/2000",4.0529999999999999,71.724000000000004,4827096]
[null,"Jordan","West Asia",2005,"Jordan/2005",3.734,72.587999999999994,5342002]
[null,"Jordan","West Asia",2010,"Jordan/2010",3.4580000000000002,73.39,6187227]
[null,"Kazakhstan","Asia + Pacific",1952,"Kazakhstan/1952",4.3849999999999998,54.859000000000002,7041605]
[null,"Kazakhstan","Asia + Pacific",1957,"Kazakhstan/1957",4.5739999999999998,57.101999999999997,8764961]
[null,"Kazakhstan","Asia + Pacific",1962,"Kazakhstan/1962",4.4370000000000003,59.308999999999997,10819503]
[null,"Kazakhstan","Asia + Pacific",1969,"Kazakhstan/1969",3.6,62.21,12897025]
[null,"Kazakhstan","Asia + Pacific",1974,"Kazakhstan/1974",3.32,63.570999999999998,13950987]
[null,"Kazakhstan","Asia + Pacific",1975,"Kazakhstan/1975",3.2490000000000001,63.784999999999997,14136006]
[null,"Kazakhstan","Asia + Pacific",1980,"Kazakhstan/1980",2.9740000000000002,65.067999999999998,14918991]
[null,"Kazakhstan","Asia + Pacific",1989,"Kazakhstan/1989",2.92,67.113,16471823]
[null,"Kazakhstan","Asia + Pacific",1992,"Kazakhstan/1992",2.61,65.718999999999994,16430903]
[null,"Kazakhstan","Asia + Pacific",1997,"Kazakhstan/1997",2.0449999999999999,63.280999999999999,15484686]
[null,"Kazakhstan","Asia + Pacific",2003,"Kazakhstan/2003",2.0779999999999998,64.599999999999994,14959072]
[null,"Kazakhstan","Asia + Pacific",2008,"Kazakhstan/2008",2.5099999999999998,65.801000000000002,15655345]
[null,"Kazakhstan","Asia + Pacific",2013,"Kazakhstan/2013",2.4550000000000001,66.536000000000001,16550975]
[null,"Kenya","Africa",1956,"Kenya/1956",7.7,43.893999999999998,7186225]
[null,"Kenya","Africa",1961,"Kenya/1961",7.9980000000000002,46.997,8361428]
[null,"Kenya","Africa",1967,"Kenya/1967",8.125,50.512999999999998,10154382]
[null,"Kenya","Africa",1972,"Kenya/1972",8.0120000000000005,53.363999999999997,12082989]
[null,"Kenya","Africa",1977,"Kenya/1977",7.6950000000000003,56.124000000000002,14527391]
[null,"Kenya","Africa",1981,"Kenya/1981",7.3659999999999997,58.323999999999998,16899958]
[null,"Kenya","Africa",1984,"Kenya/1984",7.0490000000000004,59.383000000000003,18937969]
[null,"Kenya","Africa",1989,"Kenya/1989",6.2309999999999999,59.374000000000002,22665447]
[null,"Kenya","Africa",1995,"Kenya/1995",5.2510000000000003,55.969000000000001,27425720]
[null,"Kenya","Africa",2000,"Kenya/2000",5.0119999999999996,52.863999999999997,31253701]
[null,"Kenya","Africa",2006,"Kenya/2006",4.8789999999999996,55.634999999999998,36540948]
[null,"Kenya","Africa",2012,"Kenya/2012",4.4589999999999996,61.115000000000002,42749418]
[null,"Kiribati","Asia + Pacific",1953,"Kiribati/1953",6.2229999999999999,43.741,27706]
[null,"Kiribati","Asia + Pacific",1959,"Kiribati/1959",6.8949999999999996,46.456000000000003,32090]
[null,"Kiribati","Asia + Pacific",1964,"Kiribati/1964",7.2009999999999996,48.716000000000001,36801]
[null,"Kiribati","Asia + Pacific",1970,"Kiribati/1970",6.0510000000000002,51.421999999999997,43891]
[null,"Kiribati","Asia + Pacific",1975,"Kiribati/1975",4.9039999999999999,53.674999999999997,48491]
[null,"Kiribati","Asia + Pacific",1981,"Kiribati/1981",5.0529999999999999,56.363999999999997,56180]
[null,"Kiribati","Asia + Pacific",1982,"Kiribati/1982",5.0149999999999997,56.857999999999997,57668]
[null,"Kiribati","Asia + Pacific",1987,"Kiribati/1987",4.7480000000000002,59.444000000000003,66457]
[null,"Kiribati","Asia + Pacific",1992,"Kiribati/1992",4.5679999999999996,61.393999999999998,74263]
[null,"Kiribati","Asia + Pacific",2000,"Kiribati/2000",3.8809999999999998,64.641999999999996,84010]
[null,"Kiribati","Asia + Pacific",2004,"Kiribati/2004",3.4129999999999998,66.001000000000005,90398]
[null,"Kiribati","Asia + Pacific",2010,"Kiribati/2010",3.048,67.944999999999993,99546]
[null,"Korea, Dem. Republic","Asia + Pacific",1951,"Korea, Dem. Republic/1951",2.407,31.963000000000001,9559286]
[null,"Korea, Dem. Republic","Asia + Pacific",1956,"Korea, Dem. Republic/1956",4.9809999999999999,47.505000000000003,9830947]
[null,"Korea, Dem. Republic","Asia + Pacific",1962,"Korea, Dem. Republic/1962",4.173,52.076000000000001,11478046]
[null,"Korea, Dem. Republic","Asia + Pacific",1969,"Korea, Dem. Republic/1969",4.3639999999999999,58.680999999999997,13847248]
[null,"Korea, Dem. Republic","Asia + Pacific",1973,"Korea, Dem. Republic/1973",3.8159999999999998,62.161000000000001,15411302]
[null,"Korea, Dem. Republic","Asia + Pacific",1979,"Korea, Dem. Republic/1979",2.6930000000000001,65.762,17000252]
[null,"Korea, Dem. Republic","Asia + Pacific",1984,"Korea, Dem. Republic/1984",2.6539999999999999,67.569000000000003,18421195]
[null,"Korea, Dem. Republic","Asia + Pacific",1985,"Korea, Dem. Republic/1985",2.593,67.900000000000006,18720888]
[null,"Korea, Dem. Republic","Asia + Pacific",1994,"Korea, Dem. Republic/1994",2.1629999999999998,67.697999999999993,21471407]
[null,"Korea, Dem. Republic","Asia + Pacific",1996,"Korea, Dem. Republic/1996",2.0790000000000002,65.495000000000005,22038893]
[null,"Korea, Dem. Republic","Asia + Pacific",2002,"Korea, Dem. Republic/2002",1.996,66.953000000000003,23264576]
[null,"Korea, Dem. Republic","Asia + Pacific",2007,"Korea, Dem. Republic/2007",2.0049999999999999,68.638999999999996,24008606]
[null,"Korea, Dem. Republic","Asia + Pacific",2013,"Korea, Dem. Republic/2013",1.988,69.998999999999995,24654358]
[null,"Korea, Republic","Asia + Pacific",1954,"Korea, Republic/1954",5.7279999999999998,48.872,20520266]
[null,"Korea, Republic","Asia + Pacific",1957,"Korea, Republic/1957",6.3049999999999997,50.874000000000002,22680855]
[null,"Korea, Republic","Asia + Pacific",1966,"Korea, Republic/1966",4.9870000000000001,57.634,29009251]
[null,"Korea, Republic","Asia + Pacific",1971,"Korea, Republic/1971",4.4139999999999997,61.973999999999997,32094421]
[null,"Korea, Republic","Asia + Pacific",1976,"Korea, Republic/1976",3.3580000000000001,64.555000000000007,35299344]
[null,"Korea, Republic","Asia + Pacific",1982,"Korea, Republic/1982",2.2429999999999999,67.137,38674216]
[null,"Korea, Republic","Asia + Pacific",1988,"Korea, Republic/1988",1.6279999999999999,70.665999999999997,42089874]
[null,"Korea, Republic","Asia + Pacific",1989,"Korea, Republic/1989",1.61,71.209000000000003,42552039]
[null,"Korea, Republic","Asia + Pacific",1994,"Korea, Republic/1994",1.6539999999999999,73.498000000000005,44365820]
[null,"Korea, Republic","Asia + Pacific",1999,"Korea, Republic/1999",1.413,75.637,45749004]
[null,"Korea, Republic","Asia + Pacific",2005,"Korea, Republic/2005",1.1950000000000001,78.748999999999995,47044126]
[null,"Korea, Republic","Asia + Pacific",2010,"Korea, Republic/2010",1.266,80.772000000000006,48183584]
[null,"Kuwait","West Asia",1951,"Kuwait/1951",7.22,51.820999999999998,164017]
[null,"Kuwait","West Asia",1958,"Kuwait/1958",7.2130000000000001,58.536999999999999,221984]
[null,"Kuwait","West Asia",1963,"Kuwait/1963",7.3479999999999999,62.165999999999997,383526]
[null,"Kuwait","West Asia",1969,"Kuwait/1969",7.327,65.406000000000006,696610]
[null,"Kuwait","West Asia",1974,"Kuwait/1974",6.6219999999999999,67.450999999999993,991885]
[null,"Kuwait","West Asia",1976,"Kuwait/1976",6.234,68.155000000000001,1116083]
[null,"Kuwait","West Asia",1986,"Kuwait/1986",3.7040000000000002,71.242999999999995,1835819]
[null,"Kuwait","West Asia",1991,"Kuwait/1991",2.2000000000000002,72.233999999999995,2031004]
[null,"Kuwait","West Asia",1992,"Kuwait/1992",2.1440000000000001,72.37,1924077]
[null,"Kuwait","West Asia",1997,"Kuwait/1997",2.7879999999999998,72.873999999999995,1678812]
[null,"Kuwait","West Asia",2007,"Kuwait/2007",2.6669999999999998,73.725999999999999,2447818]
[null,"Kuwait","West Asia",2009,"Kuwait/2009",2.6829999999999998,73.900999999999996,2646286]
[null,"Kyrgyzstan","Asia + Pacific",1950,"Kyrgyzstan/1950",4.476,51.911000000000001,1740000]
[null,"Kyrgyzstan","Asia + Pacific",1955,"Kyrgyzstan/1955",4.6260000000000003,53.963000000000001,1902499]
[null,"Kyrgyzstan","Asia + Pacific",1961,"Kyrgyzstan/1961",5.2549999999999999,56.682000000000002,2245062]
[null,"Kyrgyzstan","Asia + Pacific",1966,"Kyrgyzstan/1966",5.1929999999999996,58.942,2655349]
[null,"Kyrgyzstan","Asia + Pacific",1974,"Kyrgyzstan/1974",4.492,61.604999999999997,3234611]
[null,"Kyrgyzstan","Asia + Pacific",1978,"Kyrgyzstan/1978",4.0819999999999999,62.561,3491143]
[null,"Kyrgyzstan","Asia + Pacific",1983,"Kyrgyzstan/1983",4.0860000000000003,64.325000000000003,3853514]
[null,"Kyrgyzstan","Asia + Pacific",1989,"Kyrgyzstan/1989",3.9319999999999999,66.260000000000005,4333114]
[null,"Kyrgyzstan","Asia + Pacific",1994,"Kyrgyzstan/1994",3.43,66.141000000000005,4542747]
[null,"Kyrgyzstan","Asia + Pacific",1999,"Kyrgyzstan/1999",2.78,66.126999999999995,4898865]
[null,"Kyrgyzstan","Asia + Pacific",2001,"Kyrgyzstan/2001",2.5939999999999999,66.346999999999994,4987944]
[null,"Kyrgyzstan","Asia + Pacific",2006,"Kyrgyzstan/2006",2.6459999999999999,66.686000000000007,5083724]
[null,"Kyrgyzstan","Asia + Pacific",2012,"Kyrgyzstan/2012",3.0619999999999998,67.37,5448085]
[null,"Laos","Asia + Pacific",1953,"Laos/1953",5.944,41.061999999999998,1809151]
[null,"Laos","Asia + Pacific",1958,"Laos/1958",5.9560000000000004,42.575000000000003,2033789]
[null,"Laos","Asia + Pacific",1962,"Laos/1962",5.9660000000000002,43.805,2230493]
[null,"Laos","Asia + Pacific",1970,"Laos/1970",5.9740000000000002,46.256,2691207]
[null,"Laos","Asia + Pacific",1976,"Laos/1976",6.0960000000000001,47.972999999999999,3086518]
[null,"Laos","Asia + Pacific",1981,"Laos/1981",6.3150000000000004,49.347000000000001,3296978]
[null,"Laos","Asia + Pacific",1986,"Laos/1986",6.3419999999999996,51.465000000000003,3748525]
[null,"Laos","Asia + Pacific",1993,"Laos/1993",5.782,56.543999999999997,4557216]
[null,"Laos","Asia + Pacific",1998,"Laos/1998",4.6689999999999996,60.341000000000001,5120845]
[null,"Laos","Asia + Pacific",2003,"Laos/2003",3.706,63.482999999999997,5582028]
[null,"Laos","Asia + Pacific",2004,"Laos/2004",3.6190000000000002,64.028999999999996,5667055]
[null,"Laos","Asia + Pacific",2009,"Laos/2009",3.3679999999999999,66.494,6112143]
[null,"Latvia","Europe",1951,"Latvia/1951",2.0070000000000001,60.445,1954910]
[null,"Latvia","Europe",1956,"Latvia/1956",1.97,66.396000000000001,2035877]
[null,"Latvia","Europe",1962,"Latvia/1962",1.8560000000000001,69.91,2184569]
[null,"Latvia","Europe",1968,"Latvia/1968",1.845,70.48,2326027]
[null,"Latvia","Europe",1973,"Latvia/1973",1.9630000000000001,70.2,2424107]
[null,"Latvia","Europe",1979,"Latvia/1979",1.9139999999999999,68.819999999999993,2502245]
[null,"Latvia","Europe",1981,"Latvia/1981",1.974,69.069999999999993,2524804]
[null,"Latvia","Europe",1990,"Latvia/1990",1.923,69.459999999999994,2663905]
[null,"Latvia","Europe",1996,"Latvia/1996",1.2749999999999999,68.599999999999994,2462617]
[null,"Latvia","Europe",2001,"Latvia/2001",1.2070000000000001,69.88,2367302]
[null,"Latvia","Europe",2006,"Latvia/2006",1.43,70.53,2293080]
[null,"Latvia","Europe",2012,"Latvia/2012",1.591,72.045000000000002,2234572]
[null,"Latvia","Europe",2013,"Latvia/2013",1.607,72.150000000000006,2226260]
[null,"Lebanon","West Asia",1955,"Lebanon/1955",5.7290000000000001,61.506999999999998,1632254]
[null,"Lebanon","West Asia",1960,"Lebanon/1960",5.7389999999999999,63.267000000000003,1907573]
[null,"Lebanon","West Asia",1965,"Lebanon/1965",5.5010000000000003,64.709000000000003,2203902]
[null,"Lebanon","West Asia",1971,"Lebanon/1971",4.8360000000000003,66.322999999999993,2528423]
[null,"Lebanon","West Asia",1975,"Lebanon/1975",4.444,67.182000000000002,2765289]
[null,"Lebanon","West Asia",1982,"Lebanon/1982",3.7959999999999998,68.286000000000001,2827767]
[null,"Lebanon","West Asia",1988,"Lebanon/1988",3.1819999999999999,69.656000000000006,2884840]
[null,"Lebanon","West Asia",1993,"Lebanon/1993",2.7650000000000001,71.248000000000005,3249799]
[null,"Lebanon","West Asia",1999,"Lebanon/1999",2.31,73.923000000000002,3690033]
[null,"Lebanon","West Asia",2000,"Lebanon/2000",2.226,74.409000000000006,3742329]
[null,"Lebanon","West Asia",2010,"Lebanon/2010",1.5129999999999999,79.11,4227597]
[null,"Lebanon","West Asia",2011,"Lebanon/2011",1.502,79.421000000000006,4259405]
[null,"Lesotho","Africa",1952,"Lesotho/1952",5.8369999999999997,41.863999999999997,754883]
[null,"Lesotho","Africa",1958,"Lesotho/1958",5.8559999999999999,45.470999999999997,824201]
[null,"Lesotho","Africa",1963,"Lesotho/1963",5.8120000000000003,47.826999999999998,898637]
[null,"Lesotho","Africa",1969,"Lesotho/1969",5.8070000000000004,48.817,1012087]
[null,"Lesotho","Africa",1975,"Lesotho/1975",5.7610000000000001,50.887,1149797]
[null,"Lesotho","Africa",1980,"Lesotho/1980",5.5890000000000004,53.795000000000002,1309981]
[null,"Lesotho","Africa",1985,"Lesotho/1985",5.3129999999999997,56.363,1487079]
[null,"Lesotho","Africa",1991,"Lesotho/1991",4.8369999999999997,59.75,1669190]
[null,"Lesotho","Africa",1994,"Lesotho/1994",4.617,58.302,1761558]
[null,"Lesotho","Africa",2003,"Lesotho/2003",3.754,43.889000000000003,2028976]
[null,"Lesotho","Africa",2008,"Lesotho/2008",3.335,45.825000000000003,2127412]
[null,"Lesotho","Africa",2013,"Lesotho/2013",3.0379999999999998,49.445999999999998,2240126]
[null,"Liberia","Africa",1950,"Liberia/1950",6.2510000000000003,32.69,911140]
[null,"Liberia","Africa",1955,"Liberia/1955",6.3040000000000003,33.637,996880]
[null,"Liberia","Africa",1961,"Liberia/1961",6.4290000000000003,34.941000000000003,1142713]
[null,"Liberia","Africa",1967,"Liberia/1967",6.5830000000000002,37.564,1328506]
[null,"Liberia","Africa",1972,"Liberia/1972",6.7770000000000001,40.521999999999998,1521565]
[null,"Liberia","Africa",1978,"Liberia/1978",6.95,44.838000000000001,1807164]
[null,"Liberia","Africa",1983,"Liberia/1983",6.9459999999999997,47.031999999999996,2126455]
[null,"Liberia","Africa",1988,"Liberia/1988",6.673,47.189,2189831]
[null,"Liberia","Africa",1995,"Liberia/1995",6.1559999999999997,50.162999999999997,2094591]
[null,"Liberia","Africa",2000,"Liberia/2000",5.88,52.423999999999999,2847290]
[null,"Liberia","Africa",2006,"Liberia/2006",5.3659999999999997,56.164000000000001,3313718]
[null,"Liberia","Africa",2011,"Liberia/2011",4.9450000000000003,59.884999999999998,4128572]
[null,"Liberia","Africa",2013,"Liberia/2013",4.7919999999999998,60.555999999999997,4348740]
[null,"Libya","Africa",1954,"Libya/1954",7.3209999999999997,36.506,1093883]
[null,"Libya","Africa",1959,"Libya/1959",7.5,41.091999999999999,1299425]
[null,"Libya","Africa",1964,"Libya/1964",7.6760000000000002,48.914000000000001,1561744]
[null,"Libya","Africa",1970,"Libya/1970",7.867,56.052,1994000]
[null,"Libya","Africa",1975,"Libya/1975",7.992,60.6,2466000]
[null,"Libya","Africa",1980,"Libya/1980",7.7690000000000001,64.183999999999997,3063000]
[null,"Libya","Africa",1987,"Libya/1987",5.9130000000000003,67.385000000000005,4074021]
[null,"Libya","Africa",1992,"Libya/1992",4.4260000000000002,69.168000000000006,4509970]
[null,"Libya","Africa",1998,"Libya/1998",3.2480000000000002,71.195999999999998,5041233]
[null,"Libya","Africa",2003,"Libya/2003",2.8820000000000001,72.873000000000005,5541062]
[null,"Libya","Africa",2005,"Libya/2005",2.79,73.494,5769709]
[null,"Lithuania","Europe",1951,"Lithuania/1951",2.6909999999999998,63.871000000000002,2569619]
[null,"Lithuania","Europe",1956,"Lithuania/1956",2.6970000000000001,66.950999999999993,2651564]
[null,"Lithuania","Europe",1957,"Lithuania/1957",2.67,67.554000000000002,2676930]
[null,"Lithuania","Europe",1962,"Lithuania/1962",2.4569999999999999,69.400000000000006,2846474]
[null,"Lithuania","Europe",1967,"Lithuania/1967",2.3159999999999998,71.92,3037887]
[null,"Lithuania","Europe",1974,"Lithuania/1974",2.2429999999999999,71.540000000000006,3268867]
[null,"Lithuania","Europe",1979,"Lithuania/1979",2.0739999999999998,70.7,3404630]
[null,"Lithuania","Europe",1985,"Lithuania/1985",2.06,70.66,3561668]
[null,"Lithuania","Europe",1990,"Lithuania/1990",1.9630000000000001,71.37,3695890]
[null,"Lithuania","Europe",1995,"Lithuania/1995",1.64,69.02,3629104]
[null,"Lithuania","Europe",1999,"Lithuania/1999",1.383,71.709999999999994,3523732]
[null,"Lithuania","Europe",2007,"Lithuania/2007",1.3859999999999999,71.39,3379043]
[null,"Lithuania","Europe",2013,"Lithuania/2013",1.5189999999999999,72.11,3278337]
[null,"Luxembourg","Europe",1954,"Luxembourg/1954",2.0630000000000002,66.415000000000006,303172]
[null,"Luxembourg","Europe",1959,"Luxembourg/1959",2.3119999999999998,67.903000000000006,311508]
[null,"Luxembourg","Europe",1960,"Luxembourg/1960",2.3490000000000002,69.069999999999993,314002]
[null,"Luxembourg","Europe",1968,"Luxembourg/1968",2.1429999999999998,70.28,335573]
[null,"Luxembourg","Europe",1971,"Luxembourg/1971",1.867,69.47,342560]
[null,"Luxembourg","Europe",1977,"Luxembourg/1977",1.4970000000000001,71.75,362669]
[null,"Luxembourg","Europe",1982,"Luxembourg/1982",1.45,72.47,364589]
[null,"Luxembourg","Europe",1988,"Luxembourg/1988",1.496,74.75,373733]
[null,"Luxembourg","Europe",1993,"Luxembourg/1993",1.669,75.739999999999995,396179]
[null,"Luxembourg","Europe",1999,"Luxembourg/1999",1.7070000000000001,77.67,430650]
[null,"Luxembourg","Europe",2005,"Luxembourg/2005",1.629,79.56,457197]
[null,"Luxembourg","Europe",2010,"Luxembourg/2010",1.64,80.004000000000005,507448]
[null,"Macao, China","Asia + Pacific",1951,"Macao, China/1951",3.9460000000000002,60.253999999999998,195949]
[null,"Macao, China","Asia + Pacific",1957,"Macao, China/1957",5.1349999999999998,63.408000000000001,173324]
[null,"Macao, China","Asia + Pacific",1962,"Macao, China/1962",4.5250000000000004,65.899000000000001,181020]
[null,"Macao, China","Asia + Pacific",1964,"Macao, China/1964",3.9260000000000002,66.811999999999998,197519]
[null,"Macao, China","Asia + Pacific",1969,"Macao, China/1969",2.3879999999999999,68.828999999999994,245308]
[null,"Macao, China","Asia + Pacific",1974,"Macao, China/1974",1.5680000000000001,70.61,250548]
[null,"Macao, China","Asia + Pacific",1980,"Macao, China/1980",1.665,72.570999999999998,246230]
[null,"Macao, China","Asia + Pacific",1987,"Macao, China/1987",1.966,74.575999999999993,322637]
[null,"Macao, China","Asia + Pacific",1992,"Macao, China/1992",1.4870000000000001,75.856999999999999,377886]
[null,"Macao, China","Asia + Pacific",1997,"Macao, China/1997",1.119,76.998999999999995,411050]
[null,"Macao, China","Asia + Pacific",2002,"Macao, China/2002",0.85599999999999998,78.040000000000006,449472]
[null,"Macao, China","Asia + Pacific",2008,"Macao, China/2008",0.93899999999999995,79.319999999999993,518463]
[null,"Macao, China","Asia + Pacific",2012,"Macao, China/2012",1.0580000000000001,80.186000000000007,567441]
[null,"Macedonia, FYR","Europe",1955,"Macedonia, FYR/1955",3.9159999999999999,57.076000000000001,1353798]
[null,"Macedonia, FYR","Europe",1961,"Macedonia, FYR/1961",3.6659999999999999,61.259,1405483]
[null,"Macedonia, FYR","Europe",1966,"Macedonia, FYR/1966",3.27,64.215999999999994,1498995]
[null,"Macedonia, FYR","Europe",1967,"Macedonia, FYR/1967",3.1850000000000001,64.775000000000006,1515804]
[null,"Macedonia, FYR","Europe",1972,"Macedonia, FYR/1972",2.88,67.128,1607799]
[null,"Macedonia, FYR","Europe",1981,"Macedonia, FYR/1981",2.5369999999999999,68.763000000000005,1806228]
[null,"Macedonia, FYR","Europe",1984,"Macedonia, FYR/1984",2.44,69.44,1820117]
[null,"Macedonia, FYR","Europe",1989,"Macedonia, FYR/1989",2.2749999999999999,70.94,1893409]
[null,"Macedonia, FYR","Europe",1994,"Macedonia, FYR/1994",2.0539999999999998,71.867000000000004,1953874]
[null,"Macedonia, FYR","Europe",2000,"Macedonia, FYR/2000",1.6779999999999999,73.244,2009091]
[null,"Macedonia, FYR","Europe",2006,"Macedonia, FYR/2006",1.5009999999999999,74.206000000000003,2043091]
[null,"Macedonia, FYR","Europe",2012,"Macedonia, FYR/2012",1.4359999999999999,75.040999999999997,2066785]
[null,"Madagascar","Africa",1953,"Madagascar/1953",7.3,36.561,4351132]
[null,"Madagascar","Africa",1958,"Madagascar/1958",7.3,38.993000000000002,4869698]
[null,"Madagascar","Africa",1964,"Madagascar/1964",7.3,41.875999999999998,5623161]
[null,"Madagascar","Africa",1969,"Madagascar/1969",7.3220000000000001,44.283000000000001,6379309]
[null,"Madagascar","Africa",1973,"Madagascar/1973",7.3,46.203000000000003,7100076]
[null,"Madagascar","Africa",1976,"Madagascar/1976",7.1289999999999996,47.517000000000003,7713983]
[null,"Madagascar","Africa",1981,"Madagascar/1981",6.359,49.26,8833875]
[null,"Madagascar","Africa",1987,"Madagascar/1987",6.2249999999999996,49.932000000000002,10339739]
[null,"Madagascar","Africa",1992,"Madagascar/1992",6.1790000000000003,52.277999999999999,11974724]
[null,"Madagascar","Africa",2000,"Madagascar/2000",5.548,58.484999999999999,15364272]
[null,"Madagascar","Africa",2004,"Madagascar/2004",5.133,60.752000000000002,17357913]
[null,"Madagascar","Africa",2009,"Madagascar/2009",4.7220000000000004,62.936999999999998,20124150]
[null,"Malawi","Africa",1951,"Malawi/1951",6.782,36.091000000000001,2930156]
[null,"Malawi","Africa",1956,"Malawi/1956",6.8120000000000003,36.954999999999998,3232162]
[null,"Malawi","Africa",1961,"Malawi/1961",6.9459999999999997,38.081000000000003,3607612]
[null,"Malawi","Africa",1967,"Malawi/1967",7.1820000000000004,39.475000000000001,4178378]
[null,"Malawi","Africa",1973,"Malawi/1973",7.4329999999999998,41.918999999999997,4969175]
[null,"Malawi","Africa",1974,"Malawi/1974",7.4770000000000003,42.298000000000002,5132087]
[null,"Malawi","Africa",1979,"Malawi/1979",7.617,44.043999999999997,6055046]
[null,"Malawi","Africa",1984,"Malawi/1984",7.5830000000000002,45.832999999999998,6967388]
[null,"Malawi","Africa",1992,"Malawi/1992",6.7190000000000003,47.182000000000002,9681728]
[null,"Malawi","Africa",1996,"Malawi/1996",6.4459999999999997,46.430999999999997,10070605]
[null,"Malawi","Africa",2001,"Malawi/2001",6.1859999999999999,46.292000000000002,11529337]
[null,"Malawi","Africa",2007,"Malawi/2007",5.843,50.92,13589404]
[null,"Malawi","Africa",2012,"Malawi/2012",5.4710000000000001,54.798000000000002,15882815]
[null,"Malaysia","Asia + Pacific",1953,"Malaysia/1953",6.2389999999999999,55.122,6618149]
[null,"Malaysia","Asia + Pacific",1960,"Malaysia/1960",6.194,59.465000000000003,8160113]
[null,"Malaysia","Asia + Pacific",1965,"Malaysia/1965",5.6550000000000002,62.174999999999997,9569499]
[null,"Malaysia","Asia + Pacific",1971,"Malaysia/1971",4.7370000000000001,64.858000000000004,11182967]
[null,"Malaysia","Asia + Pacific",1976,"Malaysia/1976",4.0919999999999996,66.739000000000004,12600292]
[null,"Malaysia","Asia + Pacific",1981,"Malaysia/1981",3.7530000000000001,68.356999999999999,14178739]
[null,"Malaysia","Asia + Pacific",1986,"Malaysia/1986",3.63,69.763000000000005,16220169]
[null,"Malaysia","Asia + Pacific",1988,"Malaysia/1988",3.5760000000000001,70.269000000000005,17200067]
[null,"Malaysia","Asia + Pacific",1994,"Malaysia/1994",3.3849999999999998,71.628,20205446]
[null,"Malaysia","Asia + Pacific",1999,"Malaysia/1999",2.9609999999999999,72.625,22867698]
[null,"Malaysia","Asia + Pacific",2004,"Malaysia/2004",2.3069999999999999,73.491,25590453]
[null,"Malaysia","Asia + Pacific",2011,"Malaysia/2011",1.986,74.656000000000006,28859154]
[null,"Maldives","Asia + Pacific",1952,"Maldives/1952",5.9429999999999996,32.887,77940]
[null,"Maldives","Asia + Pacific",1958,"Maldives/1958",6.867,34.847000000000001,85523]
[null,"Maldives","Asia + Pacific",1963,"Maldives/1963",7.1520000000000001,38.067999999999998,97757]
[null,"Maldives","Asia + Pacific",1968,"Maldives/1968",7.2370000000000001,42.478999999999999,110056]
[null,"Maldives","Asia + Pacific",1974,"Maldives/1974",7.04,47.179000000000002,131752]
[null,"Maldives","Asia + Pacific",1980,"Maldives/1980",7.0709999999999997,52.284999999999997,156626]
[null,"Maldives","Asia + Pacific",1985,"Maldives/1985",7.1829999999999998,56.69,186720]
[null,"Maldives","Asia + Pacific",1986,"Maldives/1986",7.0640000000000001,57.476999999999997,193275]
[null,"Maldives","Asia + Pacific",1991,"Maldives/1991",5.7830000000000004,61.442999999999998,225709]
[null,"Maldives","Asia + Pacific",1997,"Maldives/1997",4.024,66.39,259002]
[null,"Maldives","Asia + Pacific",2005,"Maldives/2005",2.508,73.870999999999995,295240]
[null,"Maldives","Asia + Pacific",2008,"Maldives/2008",2.3820000000000001,75.813000000000002,307632]
[null,"Mali","Africa",1950,"Mali/1950",6.4009999999999998,26.408000000000001,4637633]
[null,"Mali","Africa",1955,"Mali/1955",6.5739999999999998,27.54,4928400]
[null,"Mali","Africa",1961,"Mali/1961",6.7249999999999996,28.344999999999999,5314146]
[null,"Mali","Africa",1966,"Mali/1966",6.8380000000000001,29.959,5675700]
[null,"Mali","Africa",1968,"Mali/1968",6.875,31.085999999999999,5844286]
[null,"Mali","Africa",1978,"Mali/1978",7.016,38.106000000000002,6974443]
[null,"Mali","Africa",1983,"Mali/1983",7.08,41.981000000000002,7712392]
[null,"Mali","Africa",1988,"Mali/1988",7.0860000000000003,45.466999999999999,8378673]
[null,"Mali","Africa",1989,"Mali/1989",7.0759999999999996,46.006999999999998,8513337]
[null,"Mali","Africa",1999,"Mali/1999",6.8529999999999998,48.65,10969725]
[null,"Mali","Africa",2001,"Mali/2001",6.8220000000000001,49.53,11639798]
[null,"Mali","Africa",2006,"Mali/2006",6.7990000000000004,52.006,13592796]
[null,"Mali","Africa",2011,"Mali/2011",6.85,54.207999999999998,15839538]
[null,"Malta","Europe",1953,"Malta/1953",4.1219999999999999,65.882999999999996,313903]
[null,"Malta","Europe",1960,"Malta/1960",3.5270000000000001,67.597999999999999,312905]
[null,"Malta","Europe",1964,"Malta/1964",2.798,68.838999999999999,307119]
[null,"Malta","Europe",1970,"Malta/1970",1.9750000000000001,70.515000000000001,303607]
[null,"Malta","Europe",1975,"Malta/1975",2.056,71.808999999999997,305898]
[null,"Malta","Europe",1981,"Malta/1981",2.0750000000000002,73.263999999999996,331406]
[null,"Malta","Europe",1986,"Malta/1986",2.0590000000000002,74.418000000000006,353069]
[null,"Malta","Europe",1987,"Malta/1987",2.0640000000000001,74.641999999999996,356736]
[null,"Malta","Europe",1993,"Malta/1993",1.998,75.938999999999993,379574]
[null,"Malta","Europe",1998,"Malta/1998",1.748,76.962999999999994,393429]
[null,"Malta","Europe",2004,"Malta/2004",1.3879999999999999,78.141000000000005,407183]
[null,"Malta","Europe",2009,"Malta/2009",1.377,79.05,415220]
[null,"Martinique","Latin America + Caribbean",1954,"Martinique/1954",5.7489999999999997,56.610999999999997,239254]
[null,"Martinique","Latin America + Caribbean",1957,"Martinique/1957",5.7290000000000001,58.573,260053]
[null,"Martinique","Latin America + Caribbean",1962,"Martinique/1962",5.5039999999999996,61.584000000000003,295246]
[null,"Martinique","Latin America + Caribbean",1967,"Martinique/1967",5.069,64.385999999999996,318932]
[null,"Martinique","Latin America + Caribbean",1973,"Martinique/1973",3.9,67.525000000000006,328542]
[null,"Martinique","Latin America + Caribbean",1978,"Martinique/1978",2.593,69.927999999999997,326056]
[null,"Martinique","Latin America + Caribbean",1985,"Martinique/1985",2.1110000000000002,72.894999999999996,340749]
[null,"Martinique","Latin America + Caribbean",1990,"Martinique/1990",2.0539999999999998,74.789000000000001,359377]
[null,"Martinique","Latin America + Caribbean",1995,"Martinique/1995",1.9119999999999999,76.542000000000002,369709]
[null,"Martinique","Latin America + Caribbean",1996,"Martinique/1996",1.905,76.881,372461]
[null,"Martinique","Latin America + Caribbean",2001,"Martinique/2001",1.952,78.495000000000005,388133]
[null,"Martinique","Latin America + Caribbean",2006,"Martinique/2006",1.9410000000000001,79.784000000000006,399262]
[null,"Martinique","Latin America + Caribbean",2013,"Martinique/2013",1.827,81.41,409366]
[null,"Mauritania","Africa",1954,"Mauritania/1954",6.49,39.47,724485]
[null,"Mauritania","Africa",1960,"Mauritania/1960",6.7750000000000004,43.488,854167]
[null,"Mauritania","Africa",1965,"Mauritania/1965",6.7990000000000004,46.648000000000003,983773]
[null,"Mauritania","Africa",1970,"Mauritania/1970",6.7839999999999998,49.13,1133539]
[null,"Mauritania","Africa",1973,"Mauritania/1973",6.7389999999999999,50.503999999999998,1237242]
[null,"Mauritania","Africa",1982,"Mauritania/1982",6.3140000000000001,55.45,1607553]
[null,"Mauritania","Africa",1988,"Mauritania/1988",6.0650000000000004,57.938000000000002,1892328]
[null,"Mauritania","Africa",1993,"Mauritania/1993",5.8179999999999996,58.981999999999999,2166948]
[null,"Mauritania","Africa",1998,"Mauritania/1998",5.5049999999999999,59.548999999999999,2495316]
[null,"Mauritania","Africa",2004,"Mauritania/2004",5.15,60.16,2964526]
[null,"Mauritania","Africa",2005,"Mauritania/2005",5.0949999999999998,60.292000000000002,3047249]
[null,"Mauritania","Africa",2010,"Mauritania/2010",4.8369999999999997,61.064,3459773]
[null,"Mauritius","Africa",1952,"Mauritius/1952",5.8970000000000002,49.636000000000003,521087]
[null,"Mauritius","Africa",1957,"Mauritius/1957",5.9420000000000002,55.320999999999998,604913]
[null,"Mauritius","Africa",1963,"Mauritius/1963",5.9930000000000003,61.439,716944]
[null,"Mauritius","Africa",1967,"Mauritius/1967",4.8470000000000004,62.923999999999999,784833]
[null,"Mauritius","Africa",1974,"Mauritius/1974",3.3410000000000002,64.081000000000003,878870]
[null,"Mauritius","Africa",1980,"Mauritius/1980",2.6720000000000002,67.016999999999996,964023]
[null,"Mauritius","Africa",1985,"Mauritius/1985",2.2519999999999998,68.381,1014450]
[null,"Mauritius","Africa",1991,"Mauritius/1991",2.278,69.721000000000004,1073250]
[null,"Mauritius","Africa",1992,"Mauritius/1992",2.2530000000000001,69.971999999999994,1088939]
[null,"Mauritius","Africa",2002,"Mauritius/2002",1.927,71.825000000000003,1220935]
[null,"Mauritius","Africa",2003,"Mauritius/2003",1.877,72.094999999999999,1233594]
[null,"Mauritius","Africa",2008,"Mauritius/2008",1.579,72.870999999999995,1283849]
[null,"Mauritius","Africa",2013,"Mauritius/2013",1.5009999999999999,73.613,1320785]
[null,"Mayotte","Africa",1959,"Mayotte/1959",7.91,54.218000000000004,22932]
[null,"Mayotte","Africa",1961,"Mayotte/1961",7.91,55.923000000000002,25262]
[null,"Mayotte","Africa",1967,"Mayotte/1967",7.91,60.392000000000003,32881]
[null,"Mayotte","Africa",1972,"Mayotte/1972",7.9279999999999999,63.588000000000001,39955]
[null,"Mayotte","Africa",1977,"Mayotte/1977",7.9089999999999998,66.364000000000004,48777]
[null,"Mayotte","Africa",1983,"Mayotte/1983",7.36,69.248999999999995,63844]
[null,"Mayotte","Africa",1986,"Mayotte/1986",6.9550000000000001,70.536000000000001,74685]
[null,"Mayotte","Africa",1994,"Mayotte/1994",4.9279999999999999,73.641999999999996,116028]
[null,"Mayotte","Africa",2000,"Mayotte/2000",4.5869999999999997,75.686999999999998,148753]
[null,"Mayotte","Africa",2005,"Mayotte/2005",4.3840000000000003,77.244,174681]
[null,"Mayotte","Africa",2006,"Mayotte/2006",4.3470000000000004,77.528999999999996,180217]
[null,"Mayotte","Africa",2011,"Mayotte/2011",3.9889999999999999,78.742000000000004,210552]
[null,"Mexico","Latin America + Caribbean",1953,"Mexico/1953",6.7249999999999996,51.253999999999998,30402868]
[null,"Mexico","Latin America + Caribbean",1959,"Mexico/1959",6.79,56.423999999999999,37173800]
[null,"Mexico","Latin America + Caribbean",1964,"Mexico/1964",6.7670000000000003,59.076000000000001,43574687]
[null,"Mexico","Latin America + Caribbean",1970,"Mexico/1970",6.72,61.369,51868335]
[null,"Mexico","Latin America + Caribbean",1975,"Mexico/1975",5.9320000000000004,63.927999999999997,60224601]
[null,"Mexico","Latin America + Caribbean",1980,"Mexico/1980",4.7050000000000001,66.563000000000002,68776411]
[null,"Mexico","Latin America + Caribbean",1987,"Mexico/1987",3.669,69.637,79358780]
[null,"Mexico","Latin America + Caribbean",1992,"Mexico/1992",3.1989999999999998,71.64,87523328]
[null,"Mexico","Latin America + Caribbean",1997,"Mexico/1997",2.831,73.52,95441345]
[null,"Mexico","Latin America + Caribbean",2003,"Mexico/2003",2.5230000000000001,75.116,103902569]
[null,"Mexico","Latin America + Caribbean",2005,"Mexico/2005",2.448,75.617000000000004,106483757]
[null,"Mexico","Latin America + Caribbean",2010,"Mexico/2010",2.2810000000000001,76.835999999999999,113423047]
[null,"Micronesia, Fed. Sts.","Asia + Pacific",1951,"Micronesia, Fed. Sts./1951",7.2750000000000004,53.975999999999999,33396]
[null,"Micronesia, Fed. Sts.","Asia + Pacific",1956,"Micronesia, Fed. Sts./1956",7.0460000000000003,55.978000000000002,39085]
[null,"Micronesia, Fed. Sts.","Asia + Pacific",1962,"Micronesia, Fed. Sts./1962",6.9050000000000002,58.378999999999998,47385]
[null,"Micronesia, Fed. Sts.","Asia + Pacific",1967,"Micronesia, Fed. Sts./1967",6.9109999999999996,60.386000000000003,56322]
[null,"Micronesia, Fed. Sts.","Asia + Pacific",1974,"Micronesia, Fed. Sts./1974",6.77,63.418999999999997,62474]
[null,"Micronesia, Fed. Sts.","Asia + Pacific",1979,"Micronesia, Fed. Sts./1979",6.3109999999999999,65.022000000000006,70546]
[null,"Micronesia, Fed. Sts.","Asia + Pacific",1984,"Micronesia, Fed. Sts./1984",5.7519999999999998,65.542000000000002,83232]
[null,"Micronesia, Fed. Sts.","Asia + Pacific",1990,"Micronesia, Fed. Sts./1990",4.9580000000000002,66.212000000000003,96319]
[null,"Micronesia, Fed. Sts.","Asia + Pacific",1995,"Micronesia, Fed. Sts./1995",4.6639999999999997,66.775999999999996,107233]
[null,"Micronesia, Fed. Sts.","Asia + Pacific",1999,"Micronesia, Fed. Sts./1999",4.3899999999999997,67.194999999999993,107237]
[null,"Micronesia, Fed. Sts.","Asia + Pacific",2007,"Micronesia, Fed. Sts./2007",3.661,68.257000000000005,110092]
[null,"Micronesia, Fed. Sts.","Asia + Pacific",2012,"Micronesia, Fed. Sts./2012",3.347,68.882000000000005,112098]
[null,"Micronesia, Fed. Sts.","Asia + Pacific",2013,"Micronesia, Fed. Sts./2013",3.294,68.992999999999995,112726]
[null,"Moldova","Europe",1954,"Moldova/1954",3.5110000000000001,59.688000000000002,2556587]
[null,"Moldova","Europe",1960,"Moldova/1960",3.3279999999999998,61.994999999999997,3003500]
[null,"Moldova","Europe",1966,"Moldova/1966",2.8010000000000002,64.186000000000007,3391966]
[null,"Moldova","Europe",1971,"Moldova/1971",2.56,65.134,3645524]
[null,"Moldova","Europe",1976,"Moldova/1976",2.4649999999999999,65.171999999999997,3877052]
[null,"Moldova","Europe",1982,"Moldova/1982",2.5459999999999998,65.204999999999998,4090009]
[null,"Moldova","Europe",1987,"Moldova/1987",2.625,67.156999999999996,4288276]
[null,"Moldova","Europe",1991,"Moldova/1991",2.3050000000000002,67.563000000000002,4375242]
[null,"Moldova","Europe",1999,"Moldova/1999",1.613,66.849000000000004,4167099]
[null,"Moldova","Europe",2004,"Moldova/2004",1.4890000000000001,67.796000000000006,3827906]
[null,"Moldova","Europe",2010,"Moldova/2010",1.4770000000000001,68.540999999999997,3572885]
[null,"Mongolia","Asia + Pacific",1951,"Mongolia/1951",5.5039999999999996,42.637999999999998,793846]
[null,"Mongolia","Asia + Pacific",1952,"Mongolia/1952",5.5369999999999999,42.917000000000002,808494]
[null,"Mongolia","Asia + Pacific",1958,"Mongolia/1958",6.476,46.597999999999999,911239]
[null,"Mongolia","Asia + Pacific",1963,"Mongolia/1963",7.4770000000000003,51.012,1044297]
[null,"Mongolia","Asia + Pacific",1969,"Mongolia/1969",7.5780000000000003,54.844000000000001,1244846]
[null,"Mongolia","Asia + Pacific",1974,"Mongolia/1974",7.2939999999999996,56.676000000000002,1441311]
[null,"Mongolia","Asia + Pacific",1979,"Mongolia/1979",6.3949999999999996,56.875,1649710]
[null,"Mongolia","Asia + Pacific",1985,"Mongolia/1985",5.3449999999999998,58.390999999999998,1926002]
[null,"Mongolia","Asia + Pacific",1991,"Mongolia/1991",3.746,60.488,2226469]
[null,"Mongolia","Asia + Pacific",1997,"Mongolia/1997",2.4300000000000002,61.731999999999999,2345618]
[null,"Mongolia","Asia + Pacific",2002,"Mongolia/2002",2.089,63.817,2458853]
[null,"Mongolia","Asia + Pacific",2007,"Mongolia/2007",2.3149999999999999,65.947000000000003,2624509]
[null,"Mongolia","Asia + Pacific",2010,"Mongolia/2010",2.4369999999999998,66.825000000000003,2756001]
[null,"Montenegro","Europe",1955,"Montenegro/1955",3.9260000000000002,60.735999999999997,428881]
[null,"Montenegro","Europe",1960,"Montenegro/1960",3.5209999999999999,63.805,466674]
[null,"Montenegro","Europe",1961,"Montenegro/1961",3.4169999999999998,64.491,475371]
[null,"Montenegro","Europe",1966,"Montenegro/1966",2.9060000000000001,67.555999999999997,510527]
[null,"Montenegro","Europe",1972,"Montenegro/1972",2.625,70.906000000000006,528905]
[null,"Montenegro","Europe",1979,"Montenegro/1979",2.3090000000000002,72.861999999999995,573036]
[null,"Montenegro","Europe",1983,"Montenegro/1983",2.145,73.575999999999993,574920]
[null,"Montenegro","Europe",1989,"Montenegro/1989",1.9019999999999999,74.352000000000004,600697]
[null,"Montenegro","Europe",1994,"Montenegro/1994",1.8129999999999999,74.942999999999998,639542]
[null,"Montenegro","Europe",2000,"Montenegro/2000",1.8149999999999999,74.125,632606]
[null,"Montenegro","Europe",2004,"Montenegro/2004",1.7669999999999999,73.58,626912]
[null,"Montenegro","Europe",2011,"Montenegro/2011",1.6870000000000001,74.608000000000004,632261]
[null,"Morocco","Africa",1953,"Morocco/1953",6.633,45.820999999999998,9623715]
[null,"Morocco","Africa",1958,"Morocco/1958",6.9509999999999996,47.643000000000001,10999295]
[null,"Morocco","Africa",1963,"Morocco/1963",7.1349999999999998,49.737000000000002,12610932]
[null,"Morocco","Africa",1965,"Morocco/1965",7.0810000000000004,50.591999999999999,13323000]
[null,"Morocco","Africa",1970,"Morocco/1970",6.6870000000000003,52.576000000000001,15309995]
[null,"Morocco","Africa",1976,"Morocco/1976",6.0670000000000002,54.987000000000002,17726625]
[null,"Morocco","Africa",1981,"Morocco/1981",5.57,58.357999999999997,20088209]
[null,"Morocco","Africa",1986,"Morocco/1986",4.7539999999999996,62.213000000000001,22818601]
[null,"Morocco","Africa",1992,"Morocco/1992",3.7549999999999999,65.781999999999996,25679802]
[null,"Morocco","Africa",1998,"Morocco/1998",2.9089999999999998,67.796999999999997,28082684]
[null,"Morocco","Africa",2004,"Morocco/2004",2.4180000000000001,68.959999999999994,30082152]
[null,"Morocco","Africa",2009,"Morocco/2009",2.5089999999999999,70.012,31634524]
[null,"Mozambique","Africa",1950,"Mozambique/1950",6.6,30.276,6442133]
[null,"Mozambique","Africa",1956,"Mozambique/1956",6.6,33.055999999999997,7095498]
[null,"Mozambique","Africa",1959,"Mozambique/1959",6.6,34.546999999999997,7500335]
[null,"Mozambique","Africa",1967,"Mozambique/1967",6.601,37.970999999999997,8847011]
[null,"Mozambique","Africa",1968,"Mozambique/1968",6.5990000000000002,38.383000000000003,9043165]
[null,"Mozambique","Africa",1973,"Mozambique/1973",6.5720000000000001,40.655999999999999,10109426]
[null,"Mozambique","Africa",1979,"Mozambique/1979",6.5049999999999999,42.750999999999998,11843382]
[null,"Mozambique","Africa",1984,"Mozambique/1984",6.42,42.947000000000003,13199259]
[null,"Mozambique","Africa",1992,"Mozambique/1992",6.14,44.408999999999999,14318167]
[null,"Mozambique","Africa",1996,"Mozambique/1996",5.9249999999999998,46.345999999999997,16412893]
[null,"Mozambique","Africa",2001,"Mozambique/2001",5.76,47.569000000000003,18691461]
[null,"Mozambique","Africa",2006,"Mozambique/2006",5.6319999999999997,48.064,21290952]
[null,"Mozambique","Africa",2012,"Mozambique/2012",5.2629999999999999,49.91,24475186]
[null,"Myanmar","Asia + Pacific",1953,"Myanmar/1953",5.9909999999999997,36.834000000000003,18127006]
[null,"Myanmar","Asia + Pacific",1960,"Myanmar/1960",6.0510000000000002,42.713000000000001,20957397]
[null,"Myanmar","Asia + Pacific",1965,"Myanmar/1965",6.1360000000000001,46.966000000000001,23330184]
[null,"Myanmar","Asia + Pacific",1970,"Myanmar/1970",5.9589999999999996,50.988,26164131]
[null,"Myanmar","Asia + Pacific",1971,"Myanmar/1971",5.8810000000000002,51.432000000000002,26807570]
[null,"Myanmar","Asia + Pacific",1976,"Myanmar/1976",5.3869999999999996,53.36,30210895]
[null,"Myanmar","Asia + Pacific",1984,"Myanmar/1984",4.4560000000000004,56.524000000000001,35481981]
[null,"Myanmar","Asia + Pacific",1988,"Myanmar/1988",3.7320000000000002,58.015999999999998,38041034]
[null,"Myanmar","Asia + Pacific",1993,"Myanmar/1993",3.0459999999999998,59.796999999999997,40985963]
[null,"Myanmar","Asia + Pacific",1999,"Myanmar/1999",2.508,61.762,44496687]
[null,"Myanmar","Asia + Pacific",2004,"Myanmar/2004",2.1779999999999999,63.264000000000003,46070248]
[null,"Myanmar","Asia + Pacific",2011,"Myanmar/2011",1.98,64.837000000000003,48336763]
[null,"Namibia","Africa",1952,"Namibia/1952",5.99,41.386000000000003,504551]
[null,"Namibia","Africa",1957,"Namibia/1957",6.09,44.947000000000003,561936]
[null,"Namibia","Africa",1963,"Namibia/1963",6.1989999999999998,48.719000000000001,648669]
[null,"Namibia","Africa",1968,"Namibia/1968",6.3470000000000004,51.488999999999997,737803]
[null,"Namibia","Africa",1973,"Namibia/1973",6.6130000000000004,54.179000000000002,855970]
[null,"Namibia","Africa",1978,"Namibia/1978",6.5810000000000004,56.765999999999998,970537]
[null,"Namibia","Africa",1980,"Namibia/1980",6.4509999999999996,57.738999999999997,1012824]
[null,"Namibia","Africa",1985,"Namibia/1985",5.8929999999999998,59.914000000000001,1150038]
[null,"Namibia","Africa",1991,"Namibia/1991",5.0979999999999999,61.344000000000001,1465201]
[null,"Namibia","Africa",1996,"Namibia/1996",4.4690000000000003,59.402000000000001,1700975]
[null,"Namibia","Africa",2003,"Namibia/2003",3.7589999999999999,54.331000000000003,2008342]
[null,"Namibia","Africa",2008,"Namibia/2008",3.3639999999999999,60.274999999999999,2200422]
[null,"Namibia","Africa",2013,"Namibia/2013",3.0510000000000002,64.483000000000004,2404477]
[null,"Nepal","Asia + Pacific",1955,"Nepal/1955",5.9930000000000003,36.427,8941972]
[null,"Nepal","Asia + Pacific",1960,"Nepal/1960",5.9930000000000003,38.459000000000003,9740462]
[null,"Nepal","Asia + Pacific",1964,"Nepal/1964",5.9969999999999999,40.070999999999998,10495972]
[null,"Nepal","Asia + Pacific",1972,"Nepal/1972",5.9450000000000003,43.268000000000001,12472000]
[null,"Nepal","Asia + Pacific",1977,"Nepal/1977",5.85,45.81,14016547]
[null,"Nepal","Asia + Pacific",1978,"Nepal/1978",5.8239999999999998,46.4,14351017]
[null,"Nepal","Asia + Pacific",1983,"Nepal/1983",5.625,49.7,16152598]
[null,"Nepal","Asia + Pacific",1988,"Nepal/1988",5.31,53.470999999999997,18183258]
[null,"Nepal","Asia + Pacific",1997,"Nepal/1997",4.4729999999999999,60.180999999999997,22691788]
[null,"Nepal","Asia + Pacific",2000,"Nepal/2000",4.0679999999999996,62.055,24400606]
[null,"Nepal","Asia + Pacific",2006,"Nepal/2006",3.194,65.251999999999995,27833665]
[null,"Nepal","Asia + Pacific",2011,"Nepal/2011",2.496,67.555999999999997,30485798]
[null,"Netherlands Antilles","Latin America + Caribbean",1952,"Netherlands Antilles/1952",5.7,60.02,116172]
[null,"Netherlands Antilles","Latin America + Caribbean",1958,"Netherlands Antilles/1958",5.0999999999999996,64.650999999999996,129942]
[null,"Netherlands Antilles","Latin America + Caribbean",1964,"Netherlands Antilles/1964",4.0599999999999996,66.995999999999995,144016]
[null,"Netherlands Antilles","Latin America + Caribbean",1970,"Netherlands Antilles/1970",2.91,69.215999999999994,159179]
[null,"Netherlands Antilles","Latin America + Caribbean",1975,"Netherlands Antilles/1975",2.5099999999999998,71.213999999999999,166261]
[null,"Netherlands Antilles","Latin America + Caribbean",1980,"Netherlands Antilles/1980",2.39,72.963999999999999,173297]
[null,"Netherlands Antilles","Latin America + Caribbean",1981,"Netherlands Antilles/1981",2.38,73.272999999999996,174837]
[null,"Netherlands Antilles","Latin America + Caribbean",1991,"Netherlands Antilles/1991",2.29,74.534000000000006,191402]
[null,"Netherlands Antilles","Latin America + Caribbean",1992,"Netherlands Antilles/1992",2.2799999999999998,74.52,191888]
[null,"Netherlands Antilles","Latin America + Caribbean",1998,"Netherlands Antilles/1998",2.13,74.525000000000006,183172]
[null,"Netherlands Antilles","Latin America + Caribbean",2003,"Netherlands Antilles/2003",2.0699999999999998,75.09,181607]
[null,"Netherlands Antilles","Latin America + Caribbean",2009,"Netherlands Antilles/2009",1.95,76.363,198037]
[null,"Netherlands","Europe",1952,"Netherlands/1952",3.09,72.13,10275906]
[null,"Netherlands","Europe",1956,"Netherlands/1956",3.05,72.540000000000006,10822380]
[null,"Netherlands","Europe",1962,"Netherlands/1962",3.18,73.23,11734901]
[null,"Netherlands","Europe",1967,"Netherlands/1967",2.81,73.819999999999993,12521308]
[null,"Netherlands","Europe",1972,"Netherlands/1972",2.15,73.75,13231426]
[null,"Netherlands","Europe",1978,"Netherlands/1978",1.58,75.150000000000006,13912617]
[null,"Netherlands","Europe",1979,"Netherlands/1979",1.56,75.63,14003707]
[null,"Netherlands","Europe",1985,"Netherlands/1985",1.51,76.38,14452941]
[null,"Netherlands","Europe",1990,"Netherlands/1990",1.62,77.05,14891719]
[null,"Netherlands","Europe",1995,"Netherlands/1995",1.53,77.64,15422165]
[null,"Netherlands","Europe",2001,"Netherlands/2001",1.71,78.45,15953446]
[null,"Netherlands","Europe",2010,"Netherlands/2010",1.796,80.620999999999995,16612988]
[null,"Netherlands","Europe",2013,"Netherlands/2013",1.774,81.037999999999997,16761552]
[null,"New Caledonia","Asia + Pacific",1954,"New Caledonia/1954",5.2229999999999999,51.959000000000003,66293]
[null,"New Caledonia","Asia + Pacific",1959,"New Caledonia/1959",5.2240000000000002,55.689,75624]
[null,"New Caledonia","Asia + Pacific",1965,"New Caledonia/1965",5.2220000000000004,59.594999999999999,91182]
[null,"New Caledonia","Asia + Pacific",1971,"New Caledonia/1971",5.2640000000000002,62.945,109421]
[null,"New Caledonia","Asia + Pacific",1976,"New Caledonia/1976",4.3449999999999998,65.366,132158]
[null,"New Caledonia","Asia + Pacific",1982,"New Caledonia/1982",3.351,67.891000000000005,147247]
[null,"New Caledonia","Asia + Pacific",1987,"New Caledonia/1987",3.0529999999999999,69.716999999999999,160123]
[null,"New Caledonia","Asia + Pacific",1988,"New Caledonia/1988",3.024,70.052999999999997,163039]
[null,"New Caledonia","Asia + Pacific",1993,"New Caledonia/1993",2.8889999999999998,71.600999999999999,181946]
[null,"New Caledonia","Asia + Pacific",1998,"New Caledonia/1998",2.5379999999999998,72.953999999999994,203708]
[null,"New Caledonia","Asia + Pacific",2005,"New Caledonia/2005",2.2349999999999999,74.620999999999995,231080]
[null,"New Caledonia","Asia + Pacific",2010,"New Caledonia/2010",2.1930000000000001,75.674000000000007,250870]
[null,"New Zealand","Asia + Pacific",1951,"New Zealand/1951",3.2682600000000002,69.16,1947802]
[null,"New Zealand","Asia + Pacific",1957,"New Zealand/1957",3.5108000000000001,70.260000000000005,2229178]
[null,"New Zealand","Asia + Pacific",1965,"New Zealand/1965",3.0538599999999998,71.28,2628004]
[null,"New Zealand","Asia + Pacific",1969,"New Zealand/1969",3.00562,71.55,2775713]
[null,"New Zealand","Asia + Pacific",1974,"New Zealand/1974",2.6116600000000001,72,3042757]
[null,"New Zealand","Asia + Pacific",1979,"New Zealand/1979",2.2418200000000001,73.150000000000006,3135831]
[null,"New Zealand","Asia + Pacific",1985,"New Zealand/1985",2.1413199999999999,73.989999999999995,3268709]
[null,"New Zealand","Asia + Pacific",1990,"New Zealand/1990",2.3972600000000002,75.56,3397983]
[null,"New Zealand","Asia + Pacific",1996,"New Zealand/1996",2.0662799999999999,76.98,3717342]
[null,"New Zealand","Asia + Pacific",1997,"New Zealand/1997",2.0515400000000001,77.55,3752131]
[null,"New Zealand","Asia + Pacific",2002,"New Zealand/2002",1.954,79.11,3961978]
[null,"New Zealand","Asia + Pacific",2008,"New Zealand/2008",2.1230000000000002,80.301000000000002,4277809]
[null,"New Zealand","Asia + Pacific",2013,"New Zealand/2013",2.052,81.132000000000005,4508166]
[null,"Nicaragua","Latin America + Caribbean",1953,"Nicaragua/1953",7.2969999999999997,42.594999999999999,1413030]
[null,"Nicaragua","Latin America + Caribbean",1961,"Nicaragua/1961",7.2569999999999997,47.676000000000002,1828750]
[null,"Nicaragua","Latin America + Caribbean",1966,"Nicaragua/1966",6.9809999999999999,50.975000000000001,2124754]
[null,"Nicaragua","Latin America + Caribbean",1972,"Nicaragua/1972",6.8070000000000004,54.936999999999998,2549185]
[null,"Nicaragua","Latin America + Caribbean",1977,"Nicaragua/1977",6.42,57.393000000000001,2969183]
[null,"Nicaragua","Latin America + Caribbean",1982,"Nicaragua/1982",5.89,59.261000000000003,3426782]
[null,"Nicaragua","Latin America + Caribbean",1984,"Nicaragua/1984",5.5890000000000004,60.137999999999998,3608911]
[null,"Nicaragua","Latin America + Caribbean",1994,"Nicaragua/1994",4.2249999999999996,66.846999999999994,4535802]
[null,"Nicaragua","Latin America + Caribbean",1995,"Nicaragua/1995",4.0549999999999997,67.370999999999995,4637040]
[null,"Nicaragua","Latin America + Caribbean",2000,"Nicaragua/2000",3.2509999999999999,69.682000000000002,5073704]
[null,"Nicaragua","Latin America + Caribbean",2005,"Nicaragua/2005",2.8479999999999999,71.947999999999993,5424336]
[null,"Niger","Africa",1951,"Niger/1951",6.8650000000000002,34.899000000000001,2535752]
[null,"Niger","Africa",1953,"Niger/1953",6.8920000000000003,34.988999999999997,2683898]
[null,"Niger","Africa",1958,"Niger/1958",6.9960000000000004,35.353999999999999,3073885]
[null,"Niger","Africa",1964,"Niger/1964",7.1849999999999996,35.808999999999997,3654806]
[null,"Niger","Africa",1969,"Niger/1969",7.3819999999999997,36.174999999999997,4244349]
[null,"Niger","Africa",1976,"Niger/1976",7.6029999999999998,37.636000000000003,5223853]
[null,"Niger","Africa",1981,"Niger/1981",7.7309999999999999,39.926000000000002,6038229]
[null,"Niger","Africa",1986,"Niger/1986",7.774,42.122999999999998,6933529]
[null,"Niger","Africa",1992,"Niger/1992",7.766,45.142000000000003,8299868]
[null,"Niger","Africa",1997,"Niger/1997",7.7670000000000003,48.558999999999997,9835945]
[null,"Niger","Africa",2002,"Niger/2002",7.681,52.082999999999998,11706182]
[null,"Niger","Africa",2003,"Niger/2003",7.6580000000000004,52.768000000000001,12118322]
[null,"Niger","Africa",2009,"Niger/2009",7.585,56.44,14972257]
[null,"Nigeria","Africa",1951,"Nigeria/1951",6.3559999999999999,33.487000000000002,38508635]
[null,"Nigeria","Africa",1956,"Nigeria/1956",6.3540000000000001,35.368000000000002,42325458]
[null,"Nigeria","Africa",1961,"Nigeria/1961",6.351,37.643999999999998,46912826]
[null,"Nigeria","Africa",1970,"Nigeria/1970",6.4710000000000001,41.189,57357275]
[null,"Nigeria","Africa",1973,"Nigeria/1973",6.625,42.494999999999997,61720304]
[null,"Nigeria","Africa",1979,"Nigeria/1979",6.7809999999999997,45.185000000000002,73424869]
[null,"Nigeria","Africa",1984,"Nigeria/1984",6.726,46.33,83691577]
[null,"Nigeria","Africa",1989,"Nigeria/1989",6.5369999999999999,46.152999999999999,95133496]
[null,"Nigeria","Africa",1995,"Nigeria/1995",6.2610000000000001,46.119,110014688]
[null,"Nigeria","Africa",1997,"Nigeria/1997",6.1870000000000003,46.23,115268715]
[null,"Nigeria","Africa",2006,"Nigeria/2006",6.0149999999999997,49.235999999999997,143338939]
[null,"Nigeria","Africa",2007,"Nigeria/2007",6.0149999999999997,49.798999999999999,146951477]
[null,"Nigeria","Africa",2012,"Nigeria/2012",6.0019999999999998,52.116,166629383]
[null,"Norway","Europe",1954,"Norway/1954",2.7,73.23,3395643]
[null,"Norway","Europe",1958,"Norway/1958",2.89,73.430000000000007,3520775]
[null,"Norway","Europe",1965,"Norway/1965",2.93,73.73,3723001]
[null,"Norway","Europe",1971,"Norway/1971",2.4900000000000002,74.180000000000007,3906490]
[null,"Norway","Europe",1976,"Norway/1976",1.86,75.03,4026586]
[null,"Norway","Europe",1982,"Norway/1982",1.71,75.97,4111566]
[null,"Norway","Europe",1987,"Norway/1987",1.75,75.89,4184566]
[null,"Norway","Europe",1991,"Norway/1991",1.92,76.930000000000007,4262932]
[null,"Norway","Europe",1999,"Norway/1999",1.85,78.47,4465664]
[null,"Norway","Europe",2004,"Norway/2004",1.83,80.06,4587046]
[null,"Norway","Europe",2009,"Norway/2009",1.98,80.882000000000005,4834002]
[null,"Norway","Europe",2010,"Norway/2010",1.95,81.063999999999993,4883111]
[null,"Oman","West Asia",1952,"Oman/1952",7.2519999999999998,35.6,472021]
[null,"Oman","West Asia",1958,"Oman/1958",7.2489999999999997,40.978000000000002,533334]
[null,"Oman","West Asia",1963,"Oman/1963",7.2560000000000002,45.11,599034]
[null,"Oman","West Asia",1968,"Oman/1968",7.2859999999999996,48.857999999999997,685892]
[null,"Oman","West Asia",1974,"Oman/1974",7.617,53.761000000000003,856230]
[null,"Oman","West Asia",1979,"Oman/1979",8.2319999999999993,58.813000000000002,1116489]
[null,"Oman","West Asia",1985,"Oman/1985",8.2219999999999995,63.915999999999997,1538575]
[null,"Oman","West Asia",1991,"Oman/1991",6.8310000000000004,67.734999999999999,1947042]
[null,"Oman","West Asia",1996,"Oman/1996",4.9820000000000002,70.231999999999999,2258730]
[null,"Oman","West Asia",2002,"Oman/2002",3.2970000000000002,73.027000000000001,2302874]
[null,"Oman","West Asia",2007,"Oman/2007",2.887,74.811999999999998,2561187]
[null,"Oman","West Asia",2010,"Oman/2010",2.9009999999999998,75.721000000000004,2782435]
[null,"Pakistan","Asia + Pacific",1950,"Pakistan/1950",6.6,36.039000000000001,37542380]
[null,"Pakistan","Asia + Pacific",1955,"Pakistan/1955",6.6,41.267000000000003,41108839]
[null,"Pakistan","Asia + Pacific",1961,"Pakistan/1961",6.6,47.332999999999998,47033454]
[null,"Pakistan","Asia + Pacific",1966,"Pakistan/1966",6.6,51.2,53359180]
[null,"Pakistan","Asia + Pacific",1971,"Pakistan/1971",6.6020000000000003,53.996000000000002,61033754]
[null,"Pakistan","Asia + Pacific",1978,"Pakistan/1978",6.5830000000000002,57.32,75303460]
[null,"Pakistan","Asia + Pacific",1983,"Pakistan/1983",6.46,58.944000000000003,89200001]
[null,"Pakistan","Asia + Pacific",1988,"Pakistan/1988",6.234,60.524999999999999,105332464]
[null,"Pakistan","Asia + Pacific",1994,"Pakistan/1994",5.4989999999999997,62.256,124121817]
[null,"Pakistan","Asia + Pacific",1999,"Pakistan/1999",4.6689999999999996,63.578000000000003,141261069]
[null,"Pakistan","Asia + Pacific",2002,"Pakistan/2002",4.125,64.400999999999996,150407242]
[null,"Pakistan","Asia + Pacific",2011,"Pakistan/2011",3.347,66.268000000000001,176745364]
[null,"Panama","Latin America + Caribbean",1952,"Panama/1952",5.7489999999999997,56.53,903447]
[null,"Panama","Latin America + Caribbean",1953,"Panama/1953",5.7889999999999997,57.067999999999998,926957]
[null,"Panama","Latin America + Caribbean",1958,"Panama/1958",5.8849999999999998,59.787999999999997,1064719]
[null,"Panama","Latin America + Caribbean",1965,"Panama/1965",5.6379999999999999,63.262999999999998,1305667]
[null,"Panama","Latin America + Caribbean",1970,"Panama/1970",5.173,65.518000000000001,1509822]
[null,"Panama","Latin America + Caribbean",1975,"Panama/1975",4.5369999999999999,68.021000000000001,1726672]
[null,"Panama","Latin America + Caribbean",1981,"Panama/1981",3.7749999999999999,70.543999999999997,1998261]
[null,"Panama","Latin America + Caribbean",1986,"Panama/1986",3.3340000000000001,72.012,2225634]
[null,"Panama","Latin America + Caribbean",1991,"Panama/1991",3.024,73.23,2466083]
[null,"Panama","Latin America + Caribbean",1996,"Panama/1996",2.8839999999999999,74.302999999999997,2731717]
[null,"Panama","Latin America + Caribbean",2003,"Panama/2003",2.75,75.634,3125565]
[null,"Panama","Latin America + Caribbean",2009,"Panama/2009",2.5779999999999998,76.709999999999994,3461901]
[null,"Papua New Guinea","Asia + Pacific",1950,"Papua New Guinea/1950",6.2309999999999999,33.682000000000002,1708192]
[null,"Papua New Guinea","Asia + Pacific",1955,"Papua New Guinea/1955",6.2480000000000002,35.902000000000001,1821508]
[null,"Papua New Guinea","Asia + Pacific",1957,"Papua New Guinea/1957",6.26,36.869,1875038]
[null,"Papua New Guinea","Asia + Pacific",1962,"Papua New Guinea/1962",6.2779999999999996,39.68,2037162]
[null,"Papua New Guinea","Asia + Pacific",1967,"Papua New Guinea/1967",6.2270000000000003,43.685000000000002,2258847]
[null,"Papua New Guinea","Asia + Pacific",1973,"Papua New Guinea/1973",6.077,47.985999999999997,2652505]
[null,"Papua New Guinea","Asia + Pacific",1978,"Papua New Guinea/1978",5.8390000000000004,51.317999999999998,3047644]
[null,"Papua New Guinea","Asia + Pacific",1984,"Papua New Guinea/1984",5.3120000000000003,54.534999999999997,3583521]
[null,"Papua New Guinea","Asia + Pacific",1990,"Papua New Guinea/1990",4.8019999999999996,55.573999999999998,4157654]
[null,"Papua New Guinea","Asia + Pacific",1995,"Papua New Guinea/1995",4.6710000000000003,57.249000000000002,4715617]
[null,"Papua New Guinea","Asia + Pacific",2001,"Papua New Guinea/2001",4.4509999999999996,59.094999999999999,5518586]
[null,"Papua New Guinea","Asia + Pacific",2006,"Papua New Guinea/2006",4.1740000000000004,60.975000000000001,6244916]
[null,"Papua New Guinea","Asia + Pacific",2012,"Papua New Guinea/2012",3.8380000000000001,62.287999999999997,7170112]
[null,"Paraguay","Latin America + Caribbean",1951,"Paraguay/1951",6.4930000000000003,62.679000000000002,1511975]
[null,"Paraguay","Latin America + Caribbean",1959,"Paraguay/1959",6.5060000000000002,63.652000000000001,1856488]
[null,"Paraguay","Latin America + Caribbean",1960,"Paraguay/1960",6.5,63.878999999999998,1905829]
[null,"Paraguay","Latin America + Caribbean",1965,"Paraguay/1965",6.3559999999999999,64.778999999999996,2176195]
[null,"Paraguay","Latin America + Caribbean",1970,"Paraguay/1970",5.7389999999999999,65.486999999999995,2482508]
[null,"Paraguay","Latin America + Caribbean",1976,"Paraguay/1976",5.1959999999999997,66.361000000000004,2873058]
[null,"Paraguay","Latin America + Caribbean",1982,"Paraguay/1982",5.1909999999999998,67.001000000000005,3385626]
[null,"Paraguay","Latin America + Caribbean",1988,"Paraguay/1988",4.7359999999999998,67.688000000000002,4023628]
[null,"Paraguay","Latin America + Caribbean",1993,"Paraguay/1993",4.266,68.549000000000007,4575121]
[null,"Paraguay","Latin America + Caribbean",1998,"Paraguay/1998",3.839,69.557000000000002,5124050]
[null,"Paraguay","Latin America + Caribbean",2004,"Paraguay/2004",3.3460000000000001,71.108000000000004,5786836]
[null,"Paraguay","Latin America + Caribbean",2009,"Paraguay/2009",3.012,71.918999999999997,6341892]
[null,"Peru","Latin America + Caribbean",1951,"Peru/1951",6.8579999999999997,43.293999999999997,7821202]
[null,"Peru","Latin America + Caribbean",1957,"Peru/1957",6.8630000000000004,46.031999999999996,9142672]
[null,"Peru","Latin America + Caribbean",1962,"Peru/1962",6.86,48.752000000000002,10515695]
[null,"Peru","Latin America + Caribbean",1963,"Peru/1963",6.8360000000000003,49.247,10825440]
[null,"Peru","Latin America + Caribbean",1970,"Peru/1970",6.3070000000000004,53.454999999999998,13187182]
[null,"Peru","Latin America + Caribbean",1974,"Peru/1974",5.8280000000000003,56.453000000000003,14734523]
[null,"Peru","Latin America + Caribbean",1980,"Peru/1980",5.0090000000000003,60.063000000000002,17286832]
[null,"Peru","Latin America + Caribbean",1985,"Peru/1985",4.3600000000000003,62.957000000000001,19460111]
[null,"Peru","Latin America + Caribbean",1991,"Peru/1991",3.722,66.028999999999996,22122065]
[null,"Peru","Latin America + Caribbean",1996,"Peru/1996",3.226,68.527000000000001,24248671]
[null,"Peru","Latin America + Caribbean",2003,"Peru/2003",2.7730000000000001,71.748999999999995,26916342]
[null,"Peru","Latin America + Caribbean",2008,"Peru/2008",2.5790000000000002,73.311999999999998,28463338]
[null,"Peru","Latin America + Caribbean",2013,"Peru/2013",2.4169999999999998,74.825999999999993,30075185]
[null,"Philippines","Asia + Pacific",1954,"Philippines/1954",7.3940000000000001,55.944000000000003,21203425]
[null,"Philippines","Asia + Pacific",1960,"Philippines/1960",7.1479999999999997,57.866999999999997,26010295]
[null,"Philippines","Asia + Pacific",1964,"Philippines/1964",6.867,59.072000000000003,29664173]
[null,"Philippines","Asia + Pacific",1967,"Philippines/1967",6.5890000000000004,59.97,32501839]
[null,"Philippines","Asia + Pacific",1972,"Philippines/1972",6.0410000000000004,61.244999999999997,37545635]
[null,"Philippines","Asia + Pacific",1977,"Philippines/1977",5.5060000000000002,61.680999999999997,43265378]
[null,"Philippines","Asia + Pacific",1983,"Philippines/1983",4.883,63.079000000000001,51166963]
[null,"Philippines","Asia + Pacific",1988,"Philippines/1988",4.476,64.766000000000005,58572071]
[null,"Philippines","Asia + Pacific",1995,"Philippines/1995",4.0060000000000002,66.007999999999996,69255386]
[null,"Philippines","Asia + Pacific",2000,"Philippines/2000",3.8130000000000002,66.774000000000001,77309965]
[null,"Philippines","Asia + Pacific",2005,"Philippines/2005",3.4849999999999999,67.459999999999994,85546427]
[null,"Philippines","Asia + Pacific",2011,"Philippines/2011",3.1110000000000002,68.372,94852030]
[null,"Poland","Europe",1952,"Poland/1952",3.6480000000000001,60.828000000000003,25919296]
[null,"Poland","Europe",1958,"Poland/1958",3.22,65.92,28324111]
[null,"Poland","Europe",1964,"Poland/1964",2.5,68.8,30740557]
[null,"Poland","Europe",1969,"Poland/1969",2.2389999999999999,69.739999999999995,32265420]
[null,"Poland","Europe",1970,"Poland/1970",2.2290000000000001,69.87,32529022]
[null,"Poland","Europe",1975,"Poland/1975",2.2480000000000002,70.77,33971911]
[null,"Poland","Europe",1983,"Poland/1983",2.3130000000000002,71.16,36608819]
[null,"Poland","Europe",1987,"Poland/1987",2.1859999999999999,70.98,37634787]
[null,"Poland","Europe",1992,"Poland/1992",1.913,70.989999999999995,38247716]
[null,"Poland","Europe",1997,"Poland/1997",1.5189999999999999,72.75,38389116]
[null,"Poland","Europe",2003,"Poland/2003",1.268,74.849999999999994,38198151]
[null,"Poland","Europe",2008,"Poland/2008",1.3340000000000001,75.677999999999997,38218462]
[null,"Portugal","Europe",1950,"Portugal/1950",3.1040000000000001,58.53,8416969]
[null,"Portugal","Europe",1956,"Portugal/1956",3.1110000000000002,61.24,8724773]
[null,"Portugal","Europe",1961,"Portugal/1961",3.1749999999999998,62.87,8907640]
[null,"Portugal","Europe",1967,"Portugal/1967",3.1320000000000001,66.599999999999994,8786529]
[null,"Portugal","Europe",1972,"Portugal/1972",2.8820000000000001,69.260000000000005,8820645]
[null,"Portugal","Europe",1975,"Portugal/1975",2.7109999999999999,68.930000000000007,9203339]
[null,"Portugal","Europe",1979,"Portugal/1979",2.3889999999999998,71.680000000000007,9695175]
[null,"Portugal","Europe",1984,"Portugal/1984",1.8680000000000001,72.98,9955005]
[null,"Portugal","Europe",1990,"Portugal/1990",1.5349999999999999,74.25,9925477]
[null,"Portugal","Europe",1995,"Portugal/1995",1.4830000000000001,75.58,10124943]
[null,"Portugal","Europe",2000,"Portugal/2000",1.468,76.84,10336209]
[null,"Portugal","Europe",2008,"Portugal/2008",1.3580000000000001,78.771000000000001,10634612]
[null,"Portugal","Europe",2012,"Portugal/2012",1.319,79.731999999999999,10699333]
[null,"Puerto Rico","Latin America + Caribbean",1954,"Puerto Rico/1954",4.9589999999999996,65.326999999999998,2234847]
[null,"Puerto Rico","Latin America + Caribbean",1959,"Puerto Rico/1959",4.7450000000000001,68.450999999999993,2326357]
[null,"Puerto Rico","Latin America + Caribbean",1964,"Puerto Rico/1964",4.0750000000000002,69.626000000000005,2541906]
[null,"Puerto Rico","Latin America + Caribbean",1969,"Puerto Rico/1969",3.2480000000000002,71.247,2685678]
[null,"Puerto Rico","Latin America + Caribbean",1976,"Puerto Rico/1976",2.8180000000000001,73.251000000000005,2990868]
[null,"Puerto Rico","Latin America + Caribbean",1981,"Puerto Rico/1981",2.548,73.866,3239084]
[null,"Puerto Rico","Latin America + Caribbean",1982,"Puerto Rico/1982",2.4900000000000002,73.97,3278156]
[null,"Puerto Rico","Latin America + Caribbean",1987,"Puerto Rico/1987",2.2789999999999999,74.436999999999998,3439048]
[null,"Puerto Rico","Latin America + Caribbean",1993,"Puerto Rico/1993",2.1539999999999999,73.950999999999993,3633785]
[null,"Puerto Rico","Latin America + Caribbean",2002,"Puerto Rico/2002",1.833,76.549000000000007,3812847]
[null,"Puerto Rico","Latin America + Caribbean",2004,"Puerto Rico/2004",1.7769999999999999,77.147999999999996,3792373]
[null,"Puerto Rico","Latin America + Caribbean",2010,"Puerto Rico/2010",1.6639999999999999,78.325999999999993,3749009]
[null,"Qatar","West Asia",1951,"Qatar/1951",6.9690000000000003,54.02,27461]
[null,"Qatar","West Asia",1957,"Qatar/1957",6.97,58.817,39281]
[null,"Qatar","West Asia",1963,"Qatar/1963",6.9809999999999999,63.386000000000003,61296]
[null,"Qatar","West Asia",1968,"Qatar/1968",6.9729999999999999,67.039000000000001,92319]
[null,"Qatar","West Asia",1974,"Qatar/1974",6.5949999999999998,70.468999999999994,152210]
[null,"Qatar","West Asia",1979,"Qatar/1979",5.9470000000000001,72.388000000000005,203285]
[null,"Qatar","West Asia",1984,"Qatar/1984",5.1319999999999997,73.903999999999996,338365]
[null,"Qatar","West Asia",1985,"Qatar/1985",4.9290000000000003,74.16,368006]
[null,"Qatar","West Asia",1990,"Qatar/1990",4.016,75.215999999999994,473722]
[null,"Qatar","West Asia",1997,"Qatar/1997",3.4769999999999999,76.290000000000006,528787]
[null,"Qatar","West Asia",2002,"Qatar/2002",2.996,76.930999999999997,624173]
[null,"Qatar","West Asia",2007,"Qatar/2007",2.2989999999999999,77.563999999999993,1178192]
[null,"Qatar","West Asia",2013,"Qatar/2013",2.0190000000000001,78.369,1976840]
[null,"Reunion","Africa",1957,"Reunion/1957",6.6180000000000003,52.96,307653]
[null,"Reunion","Africa",1961,"Reunion/1961",6.6,56.567999999999998,345051]
[null,"Reunion","Africa",1966,"Reunion/1966",6.0380000000000003,60.356000000000002,405103]
[null,"Reunion","Africa",1971,"Reunion/1971",4.4180000000000001,63.689,470253]
[null,"Reunion","Africa",1977,"Reunion/1977",3.133,67.046999999999997,492757]
[null,"Reunion","Africa",1982,"Reunion/1982",2.798,69.426000000000002,527682]
[null,"Reunion","Africa",1988,"Reunion/1988",2.66,71.936999999999998,590203]
[null,"Reunion","Africa",1989,"Reunion/1989",2.613,72.319000000000003,600780]
[null,"Reunion","Africa",1994,"Reunion/1994",2.359,74.111000000000004,662590]
[null,"Reunion","Africa",2000,"Reunion/2000",2.3839999999999999,76.076999999999998,738984]
[null,"Reunion","Africa",2005,"Reunion/2005",2.4409999999999998,77.533000000000001,794833]
[null,"Reunion","Africa",2009,"Reunion/2009",2.3570000000000002,78.614999999999995,836137]
[null,"Romania","Europe",1953,"Romania/1953",3.22346093552465,61.064999999999998,17077384]
[null,"Romania","Europe",1958,"Romania/1958",2.5840707964601801,63.970999999999997,18078643]
[null,"Romania","Europe",1963,"Romania/1963",1.9964601769911501,67.522000000000006,18745088]
[null,"Romania","Europe",1969,"Romania/1969",3.1858407079646001,67.89,20007565]
[null,"Romania","Europe",1976,"Romania/1976",2.5663716814159301,69.527000000000001,21447200]
[null,"Romania","Europe",1981,"Romania/1981",2.3539823008849599,69.728999999999999,22333737]
[null,"Romania","Europe",1986,"Romania/1986",2.3716814159292001,69.587000000000003,22845000]
[null,"Romania","Europe",1991,"Romania/1991",1.55752212389381,69.525999999999996,23169554]
[null,"Romania","Europe",1992,"Romania/1992",1.48672566371681,69.52,23077600]
[null,"Romania","Europe",1997,"Romania/1997",1.298,69.701999999999998,22465454]
[null,"Romania","Europe",2007,"Romania/2007",1.325,72.915999999999997,21644886]
[null,"Romania","Europe",2009,"Romania/2009",1.3560000000000001,73.323999999999998,21537219]
[null,"Russia","Europe",1950,"Russia/1950",2.8140000000000001,57.3,102702461]
[null,"Russia","Europe",1956,"Russia/1956",2.86,66.165000000000006,113197858]
[null,"Russia","Europe",1961,"Russia/1961",2.6549999999999998,68.92,121468992]
[null,"Russia","Europe",1964,"Russia/1964",2.3690000000000002,69.849999999999994,125644787]
[null,"Russia","Europe",1973,"Russia/1973",1.9930000000000001,69,132616141]
[null,"Russia","Europe",1978,"Russia/1978",1.9550000000000001,68.010000000000005,136801278]
[null,"Russia","Europe",1984,"Russia/1984",2.11,67.67,142609801]
[null,"Russia","Europe",1989,"Russia/1989",1.964,69.73,147591465]
[null,"Russia","Europe",1994,"Russia/1994",1.425,63.93,148866314]
[null,"Russia","Europe",1995,"Russia/1995",1.35,64.62,148698582]
[null,"Russia","Europe",2001,"Russia/2001",1.2529999999999999,65.3,146161742]
[null,"Russia","Europe",2006,"Russia/2006",1.393,66.650000000000006,143510059]
[null,"Russia","Europe",2012,"Russia/2012",1.522,67.873999999999995,142703181]
[null,"Rwanda","Africa",1953,"Rwanda/1953",8.0229999999999997,40.146000000000001,2250407]
[null,"Rwanda","Africa",1962,"Rwanda/1962",8.1969999999999992,42.866999999999997,2942908]
[null,"Rwanda","Africa",1965,"Rwanda/1965",8.1980000000000004,43.627000000000002,3220770]
[null,"Rwanda","Africa",1970,"Rwanda/1970",8.2309999999999999,44.402000000000001,3748672]
[null,"Rwanda","Africa",1976,"Rwanda/1976",8.3989999999999991,44.887,4536057]
[null,"Rwanda","Africa",1981,"Rwanda/1981",8.4390000000000001,46.262,5343129]
[null,"Rwanda","Africa",1987,"Rwanda/1987",8.0039999999999996,47.838999999999999,6672124]
[null,"Rwanda","Africa",1993,"Rwanda/1993",6.5679999999999996,48.988999999999997,5984449]
[null,"Rwanda","Africa",1998,"Rwanda/1998",6.085,42.77,6944116]
[null,"Rwanda","Africa",1999,"Rwanda/1999",5.9980000000000002,45.609000000000002,7582861]
[null,"Rwanda","Africa",2004,"Rwanda/2004",5.4630000000000001,53.499000000000002,9009655]
[null,"Rwanda","Africa",2009,"Rwanda/2009",4.9539999999999997,61.341999999999999,10311275]
[null,"Saint Lucia","Latin America + Caribbean",1950,"Saint Lucia/1950",5.3380000000000001,52.008000000000003,82783]
[null,"Saint Lucia","Latin America + Caribbean",1957,"Saint Lucia/1957",6.9009999999999998,54.911000000000001,87968]
[null,"Saint Lucia","Latin America + Caribbean",1963,"Saint Lucia/1963",6.8209999999999997,59.530999999999999,93830]
[null,"Saint Lucia","Latin America + Caribbean",1968,"Saint Lucia/1968",6.3869999999999996,61.962000000000003,101385]
[null,"Saint Lucia","Latin America + Caribbean",1973,"Saint Lucia/1973",5.6859999999999999,64.817999999999998,106905]
[null,"Saint Lucia","Latin America + Caribbean",1981,"Saint Lucia/1981",4.5119999999999996,69.347999999999999,119337]
[null,"Saint Lucia","Latin America + Caribbean",1985,"Saint Lucia/1985",3.8879999999999999,70.521000000000001,126116]
[null,"Saint Lucia","Latin America + Caribbean",1991,"Saint Lucia/1991",3.298,71.186999999999998,140056]
[null,"Saint Lucia","Latin America + Caribbean",1996,"Saint Lucia/1996",2.76,71.186000000000007,149022]
[null,"Saint Lucia","Latin America + Caribbean",2001,"Saint Lucia/2001",2.2240000000000002,71.677000000000007,158859]
[null,"Saint Lucia","Latin America + Caribbean",2002,"Saint Lucia/2002",2.1520000000000001,71.960999999999999,160491]
[null,"Saint Lucia","Latin America + Caribbean",2008,"Saint Lucia/2008",2.0129999999999999,74.015000000000001,170624]
[null,"Saint Lucia","Latin America + Caribbean",2013,"Saint Lucia/2013",1.9119999999999999,74.804000000000002,179515]
[null,"Saint Vincent and the Grenadines","Latin America + Caribbean",1955,"Saint Vincent and the Grenadines/1955",7.3789999999999996,52.816000000000003,73520]
[null,"Saint Vincent and the Grenadines","Latin America + Caribbean",1960,"Saint Vincent and the Grenadines/1960",7.2240000000000002,58.030999999999999,80948]
[null,"Saint Vincent and the Grenadines","Latin America + Caribbean",1966,"Saint Vincent and the Grenadines/1966",6.6319999999999997,63.286999999999999,86863]
[null,"Saint Vincent and the Grenadines","Latin America + Caribbean",1969,"Saint Vincent and the Grenadines/1969",6.1849999999999996,64.718999999999994,89527]
[null,"Saint Vincent and the Grenadines","Latin America + Caribbean",1977,"Saint Vincent and the Grenadines/1977",4.54,66.69,97611]
[null,"Saint Vincent and the Grenadines","Latin America + Caribbean",1983,"Saint Vincent and the Grenadines/1983",3.5609999999999999,68.528999999999996,102915]
[null,"Saint Vincent and the Grenadines","Latin America + Caribbean",1988,"Saint Vincent and the Grenadines/1988",3.0720000000000001,69.760000000000005,106465]
[null,"Saint Vincent and the Grenadines","Latin America + Caribbean",1993,"Saint Vincent and the Grenadines/1993",2.8109999999999999,70.525000000000006,108051]
[null,"Saint Vincent and the Grenadines","Latin America + Caribbean",1999,"Saint Vincent and the Grenadines/1999",2.4420000000000002,70.591999999999999,107869]
[null,"Saint Vincent and the Grenadines","Latin America + Caribbean",2002,"Saint Vincent and the Grenadines/2002",2.2709999999999999,70.734999999999999,108150]
[null,"Saint Vincent and the Grenadines","Latin America + Caribbean",2006,"Saint Vincent and the Grenadines/2006",2.149,71.466999999999999,108918]
[null,"Saint Vincent and the Grenadines","Latin America + Caribbean",2011,"Saint Vincent and the Grenadines/2011",2.0459999999999998,72.287999999999997,109365]
[null,"Samoa","Asia + Pacific",1952,"Samoa/1952",7.6289999999999996,45.668999999999997,86410]
[null,"Samoa","Asia + Pacific",1958,"Samoa/1958",7.6449999999999996,48.744999999999997,103296]
[null,"Samoa","Asia + Pacific",1963,"Samoa/1963",7.6040000000000001,51.250999999999998,120115]
[null,"Samoa","Asia + Pacific",1970,"Samoa/1970",7.194,54.777000000000001,142354]
[null,"Samoa","Asia + Pacific",1975,"Samoa/1975",6.7610000000000001,57.280999999999999,150373]
[null,"Samoa","Asia + Pacific",1980,"Samoa/1980",6.2030000000000003,59.796999999999997,155016]
[null,"Samoa","Asia + Pacific",1986,"Samoa/1986",5.51,62.764000000000003,157531]
[null,"Samoa","Asia + Pacific",1988,"Samoa/1988",5.3029999999999999,63.792000000000002,159187]
[null,"Samoa","Asia + Pacific",1997,"Samoa/1997",4.6369999999999996,68.25,171766]
[null,"Samoa","Asia + Pacific",2003,"Samoa/2003",4.4539999999999997,70.265000000000001,179141]
[null,"Samoa","Asia + Pacific",2008,"Samoa/2008",4.4260000000000002,71.701999999999998,181809]
[null,"Samoa","Asia + Pacific",2009,"Samoa/2009",4.3890000000000002,71.992000000000004,182401]
[null,"Sao Tome and Principe","Africa",1950,"Sao Tome and Principe/1950",6.2270000000000003,45.545999999999999,60000]
[null,"Sao Tome and Principe","Africa",1957,"Sao Tome and Principe/1957",6.1950000000000003,48.636000000000003,60991]
[null,"Sao Tome and Principe","Africa",1962,"Sao Tome and Principe/1962",6.2839999999999998,51.512,64474]
[null,"Sao Tome and Principe","Africa",1967,"Sao Tome and Principe/1967",6.3940000000000001,54.165999999999997,67637]
[null,"Sao Tome and Principe","Africa",1973,"Sao Tome and Principe/1973",6.5250000000000004,57.758000000000003,78435]
[null,"Sao Tome and Principe","Africa",1978,"Sao Tome and Principe/1978",6.4889999999999999,60.213000000000001,89740]
[null,"Sao Tome and Principe","Africa",1982,"Sao Tome and Principe/1982",6.2709999999999999,60.683999999999997,98502]
[null,"Sao Tome and Principe","Africa",1990,"Sao Tome and Principe/1990",5.3949999999999996,61.808999999999997,116117]
[null,"Sao Tome and Principe","Africa",1995,"Sao Tome and Principe/1995",4.9560000000000004,62.604999999999997,127935]
[null,"Sao Tome and Principe","Africa",2000,"Sao Tome and Principe/2000",4.6870000000000003,63.335999999999999,141010]
[null,"Sao Tome and Principe","Africa",2006,"Sao Tome and Principe/2006",4.5060000000000002,64.962999999999994,154970]
[null,"Sao Tome and Principe","Africa",2011,"Sao Tome and Principe/2011",4.2169999999999996,66.078999999999994,168526]
[null,"Sao Tome and Principe","Africa",2013,"Sao Tome and Principe/2013",4.0750000000000002,66.337000000000003,175383]
[null,"Saudi Arabia","West Asia",1954,"Saudi Arabia/1954",7.1609999999999996,42.671999999999997,3446429]
[null,"Saudi Arabia","West Asia",1959,"Saudi Arabia/1959",7.2,45.136000000000003,3924325]
[null,"Saudi Arabia","West Asia",1965,"Saudi Arabia/1965",7.26,48.406999999999996,4787033]
[null,"Saudi Arabia","West Asia",1970,"Saudi Arabia/1970",7.28,52.692,5771846]
[null,"Saudi Arabia","West Asia",1976,"Saudi Arabia/1976",7.3090000000000002,59.273000000000003,7756072]
[null,"Saudi Arabia","West Asia",1982,"Saudi Arabia/1982",7.05,64.588999999999999,11126570]
[null,"Saudi Arabia","West Asia",1987,"Saudi Arabia/1987",6.3310000000000004,67.637,14469298]
[null,"Saudi Arabia","West Asia",1993,"Saudi Arabia/1993",5.3520000000000003,70.069000000000003,17679720]
[null,"Saudi Arabia","West Asia",1998,"Saudi Arabia/1998",4.3899999999999997,71.763999999999996,19256649]
[null,"Saudi Arabia","West Asia",2003,"Saudi Arabia/2003",3.4820000000000002,73.253,22334371]
[null,"Saudi Arabia","West Asia",2007,"Saudi Arabia/2007",3.05,74.186999999999998,25504176]
[null,"Senegal","Africa",1951,"Senegal/1951",6.4850000000000003,34.76,2463892]
[null,"Senegal","Africa",1952,"Senegal/1952",6.5439999999999996,35.253,2513702]
[null,"Senegal","Africa",1957,"Senegal/1957",6.8120000000000003,37.372999999999998,2818072]
[null,"Senegal","Africa",1962,"Senegal/1962",7.0359999999999996,38.462000000000003,3217043]
[null,"Senegal","Africa",1968,"Senegal/1968",7.266,38.558,3843517]
[null,"Senegal","Africa",1974,"Senegal/1974",7.452,42.442,4651922]
[null,"Senegal","Africa",1979,"Senegal/1979",7.4180000000000001,47.927,5279383]
[null,"Senegal","Africa",1985,"Senegal/1985",7.0880000000000001,53.914000000000001,6232395]
[null,"Senegal","Africa",1990,"Senegal/1990",6.6289999999999996,57.201999999999998,7241573]
[null,"Senegal","Africa",1996,"Senegal/1996",5.9429999999999996,57.345999999999997,8591861]
[null,"Senegal","Africa",2001,"Senegal/2001",5.484,58.219000000000001,9758841]
[null,"Senegal","Africa",2007,"Senegal/2007",5.14,61.804000000000002,11474661]
[null,"Senegal","Africa",2013,"Senegal/2013",4.9340000000000002,63.451000000000001,13454191]
[null,"Serbia","Europe",1954,"Serbia/1954",3.0350000000000001,59.835000000000001,7130885]
[null,"Serbia","Europe",1959,"Serbia/1959",2.6739999999999999,62.395000000000003,7516595]
[null,"Serbia","Europe",1962,"Serbia/1962",2.57,63.999000000000002,7711142]
[null,"Serbia","Europe",1966,"Serbia/1966",2.464,66.040999999999997,7944927]
[null,"Serbia","Europe",1972,"Serbia/1972",2.3660000000000001,68.388999999999996,8307669]
[null,"Serbia","Europe",1977,"Serbia/1977",2.3660000000000001,69.466999999999999,8702227]
[null,"Serbia","Europe",1982,"Serbia/1982",2.3340000000000001,70.165999999999997,9088833]
[null,"Serbia","Europe",1987,"Serbia/1987",2.238,71.045000000000002,9365835]
[null,"Serbia","Europe",1994,"Serbia/1994",1.893,71.8,10114158]
[null,"Serbia","Europe",2000,"Serbia/2000",1.6419999999999999,72.072000000000003,10133561]
[null,"Serbia","Europe",2005,"Serbia/2005",1.472,72.823999999999998,9856152]
[null,"Serbia","Europe",2010,"Serbia/2010",1.38,73.676000000000002,9856222]
[null,"Seychelles","Africa",1952,"Seychelles/1952",5.01,57.851999999999997,37451]
[null,"Seychelles","Africa",1956,"Seychelles/1956",4.93,58.738999999999997,39312]
[null,"Seychelles","Africa",1963,"Seychelles/1963",5.649,62.875,44363]
[null,"Seychelles","Africa",1964,"Seychelles/1964",5.7569999999999997,63.311999999999998,45469]
[null,"Seychelles","Africa",1969,"Seychelles/1969",5.85,65.191999999999993,50560]
[null,"Seychelles","Africa",1975,"Seychelles/1975",4.8449999999999998,68.117000000000004,57791]
[null,"Seychelles","Africa",1981,"Seychelles/1981",3.698,70.061000000000007,63677]
[null,"Seychelles","Africa",1986,"Seychelles/1986",3.0840000000000001,70.97,67737]
[null,"Seychelles","Africa",1992,"Seychelles/1992",2.585,70.718000000000004,72549]
[null,"Seychelles","Africa",1997,"Seychelles/1997",2.2189999999999999,71.239999999999995,76235]
[null,"Seychelles","Africa",2003,"Seychelles/2003",2.2090000000000001,72.114000000000004,81660]
[null,"Seychelles","Africa",2008,"Seychelles/2008",2.2839999999999998,72.491,85568]
[null,"Sierra Leone","Africa",1950,"Sierra Leone/1950",5.7240000000000002,28.42,1895409]
[null,"Sierra Leone","Africa",1956,"Sierra Leone/1956",5.8490000000000002,29.527999999999999,2058740]
[null,"Sierra Leone","Africa",1961,"Sierra Leone/1961",6.093,30.579000000000001,2222029]
[null,"Sierra Leone","Africa",1966,"Sierra Leone/1966",6.4489999999999998,31.972999999999999,2414620]
[null,"Sierra Leone","Africa",1967,"Sierra Leone/1967",6.5190000000000001,32.481000000000002,2457448]
[null,"Sierra Leone","Africa",1975,"Sierra Leone/1975",6.9379999999999997,38.468000000000004,2845392]
[null,"Sierra Leone","Africa",1979,"Sierra Leone/1979",7.0540000000000003,40.365000000000002,3093342]
[null,"Sierra Leone","Africa",1984,"Sierra Leone/1984",6.9450000000000003,40.616,3453115]
[null,"Sierra Leone","Africa",1989,"Sierra Leone/1989",6.601,38.01,3931817]
[null,"Sierra Leone","Africa",1995,"Sierra Leone/1995",6.2039999999999997,35.825000000000003,3898363]
[null,"Sierra Leone","Africa",2000,"Sierra Leone/2000",5.92,38.122999999999998,4143115]
[null,"Sierra Leone","Africa",2008,"Sierra Leone/2008",5.1280000000000001,44.075000000000003,5612129]
[null,"Sierra Leone","Africa",2012,"Sierra Leone/2012",4.782,45.338000000000001,6126450]
[null,"Singapore","Asia + Pacific",1953,"Singapore/1953",6.6609999999999996,60.712000000000003,1178077]
[null,"Singapore","Asia + Pacific",1959,"Singapore/1959",6.0549999999999997,64.980999999999995,1572672]
[null,"Singapore","Asia + Pacific",1964,"Singapore/1964",4.6580000000000004,66.704999999999998,1836072]
[null,"Singapore","Asia + Pacific",1969,"Singapore/1969",3.375,67.757999999999996,2036291]
[null,"Singapore","Asia + Pacific",1971,"Singapore/1971",3.0139999999999998,68.462000000000003,2112908]
[null,"Singapore","Asia + Pacific",1976,"Singapore/1976",2.0960000000000001,70.447000000000003,2291674]
[null,"Singapore","Asia + Pacific",1982,"Singapore/1982",1.74,72.712999999999994,2520493]
[null,"Singapore","Asia + Pacific",1987,"Singapore/1987",1.62,74.760000000000005,2823012]
[null,"Singapore","Asia + Pacific",1994,"Singapore/1994",1.71,77.192999999999998,3385486]
[null,"Singapore","Asia + Pacific",1999,"Singapore/1999",1.47,78.066999999999993,3844693]
[null,"Singapore","Asia + Pacific",2004,"Singapore/2004",1.26,79.834999999999994,4160158]
[null,"Singapore","Asia + Pacific",2009,"Singapore/2009",1.2569999999999999,81.561000000000007,4945645]
[null,"Slovak Republic","Europe",1951,"Slovak Republic/1951",3.5710000000000002,61.31,3494399]
[null,"Slovak Republic","Europe",1956,"Slovak Republic/1956",3.3290000000000002,68.37,3834942]
[null,"Slovak Republic","Europe",1961,"Slovak Republic/1961",3.0129999999999999,70.790000000000006,4151408]
[null,"Slovak Republic","Europe",1968,"Slovak Republic/1968",2.5409999999999999,70.5,4444651]
[null,"Slovak Republic","Europe",1973,"Slovak Republic/1973",2.5,70.05,4627506]
[null,"Slovak Republic","Europe",1974,"Slovak Republic/1974",2.5009999999999999,70.209999999999994,4671864]
[null,"Slovak Republic","Europe",1979,"Slovak Republic/1979",2.4089999999999998,70.790000000000006,4915864]
[null,"Slovak Republic","Europe",1988,"Slovak Republic/1988",2.1309999999999998,71.16,5222922]
[null,"Slovak Republic","Europe",1991,"Slovak Republic/1991",1.97,70.900000000000006,5292792]
[null,"Slovak Republic","Europe",1996,"Slovak Republic/1996",1.5409999999999999,72.77,5380807]
[null,"Slovak Republic","Europe",2002,"Slovak Republic/2002",1.2270000000000001,73.81,5408162]
[null,"Slovak Republic","Europe",2007,"Slovak Republic/2007",1.286,74.52,5430974]
[null,"Slovak Republic","Europe",2012,"Slovak Republic/2012",1.3819999999999999,75.272000000000006,5480332]
[null,"Slovenia","Europe",1955,"Slovenia/1955",2.4260000000000002,66.855999999999995,1532598]
[null,"Slovenia","Europe",1960,"Slovenia/1960",2.3239999999999998,68.674999999999997,1580010]
[null,"Slovenia","Europe",1966,"Slovenia/1966",2.3359999999999999,69.222999999999999,1638169]
[null,"Slovenia","Europe",1971,"Slovenia/1971",2.2549999999999999,69.570999999999998,1681246]
[null,"Slovenia","Europe",1976,"Slovenia/1976",2.1949999999999998,70.625,1760125]
[null,"Slovenia","Europe",1980,"Slovenia/1980",2.0390000000000001,71.016999999999996,1831881]
[null,"Slovenia","Europe",1983,"Slovenia/1983",1.853,70.88,1865704]
[null,"Slovenia","Europe",1988,"Slovenia/1988",1.577,72.900000000000006,1909475]
[null,"Slovenia","Europe",1994,"Slovenia/1994",1.3120000000000001,73.959999999999994,1959752]
[null,"Slovenia","Europe",1999,"Slovenia/1999",1.22,75.64,1982378]
[null,"Slovenia","Europe",2005,"Slovenia/2005",1.323,77.599999999999994,2002084]
[null,"Slovenia","Europe",2013,"Slovenia/2013",1.5089999999999999,79.590999999999994,2044766]
[null,"Solomon Islands","Asia + Pacific",1952,"Solomon Islands/1952",6.4,45.134999999999998,109424]
[null,"Solomon Islands","Asia + Pacific",1958,"Solomon Islands/1958",6.3929999999999998,48.165999999999997,120775]
[null,"Solomon Islands","Asia + Pacific",1963,"Solomon Islands/1963",6.3849999999999998,50.688000000000002,136459]
[null,"Solomon Islands","Asia + Pacific",1969,"Solomon Islands/1969",6.7809999999999997,53.737000000000002,158000]
[null,"Solomon Islands","Asia + Pacific",1974,"Solomon Islands/1974",7.2480000000000002,56.398000000000003,185758]
[null,"Solomon Islands","Asia + Pacific",1980,"Solomon Islands/1980",6.7480000000000002,58.777999999999999,229235]
[null,"Solomon Islands","Asia + Pacific",1981,"Solomon Islands/1981",6.6319999999999997,58.774000000000001,236984]
[null,"Solomon Islands","Asia + Pacific",1986,"Solomon Islands/1986",6.2110000000000003,56.682000000000002,276815]
[null,"Solomon Islands","Asia + Pacific",1991,"Solomon Islands/1991",5.7279999999999998,57.173999999999999,318371]
[null,"Solomon Islands","Asia + Pacific",1999,"Solomon Islands/1999",4.7889999999999997,62.162999999999997,397627]
[null,"Solomon Islands","Asia + Pacific",2003,"Solomon Islands/2003",4.5780000000000003,64.58,444344]
[null,"Solomon Islands","Asia + Pacific",2009,"Solomon Islands/2009",4.3,66.787000000000006,524125]
[null,"Somalia","Africa",1950,"Somalia/1950",7.2480000000000002,33.177999999999997,2264081]
[null,"Somalia","Africa",1955,"Somalia/1955",7.2510000000000003,34.994,2521750]
[null,"Somalia","Africa",1961,"Somalia/1961",7.2519999999999998,37.375,2884550]
[null,"Somalia","Africa",1968,"Somalia/1968",7.2320000000000002,40.179000000000002,3442418]
[null,"Somalia","Africa",1972,"Somalia/1972",7.1180000000000003,41.726999999999997,3673532]
[null,"Somalia","Africa",1978,"Somalia/1978",7,44.018999999999998,5603598]
[null,"Somalia","Africa",1983,"Somalia/1983",7.08,45.734000000000002,6521168]
[null,"Somalia","Africa",1984,"Somalia/1984",7.1120000000000001,46.000999999999998,6419685]
[null,"Somalia","Africa",1993,"Somalia/1993",7.5670000000000002,45.749000000000002,6498410]
[null,"Somalia","Africa",1995,"Somalia/1995",7.6550000000000002,47.179000000000002,6524697]
[null,"Somalia","Africa",2001,"Somalia/2001",7.556,51.247,7596920]
[null,"Somalia","Africa",2006,"Somalia/2006",7.2190000000000003,52.707999999999998,8547497]
[null,"Somalia","Africa",2012,"Somalia/2012",6.6669999999999998,54,9797445]
[null,"South Africa","Africa",1953,"South Africa/1953",6.2850000000000001,45.399000000000001,14665211]
[null,"South Africa","Africa",1956,"South Africa/1956",6.2320000000000002,47.222000000000001,15759932]
[null,"South Africa","Africa",1965,"South Africa/1965",5.9109999999999996,50.96,19813932]
[null,"South Africa","Africa",1970,"South Africa/1970",5.5910000000000002,52.825000000000003,22502306]
[null,"South Africa","Africa",1975,"South Africa/1975",5.2510000000000003,54.539000000000001,25698624]
[null,"South Africa","Africa",1981,"South Africa/1981",4.6950000000000003,57.518999999999998,29828924]
[null,"South Africa","Africa",1987,"South Africa/1987",4.0519999999999996,60.920999999999999,34464223]
[null,"South Africa","Africa",1988,"South Africa/1988",3.923,61.39,35196881]
[null,"South Africa","Africa",1993,"South Africa/1993",3.2959999999999998,62.186,39609488]
[null,"South Africa","Africa",1998,"South Africa/1998",2.9369999999999998,58.469000000000001,43516225]
[null,"South Africa","Africa",2004,"South Africa/2004",2.7210000000000001,51.982999999999997,47226670]
[null,"South Africa","Africa",2009,"South Africa/2009",2.5,53.615000000000002,49751503]
[null,"South Sudan","Africa",1954,"South Sudan/1954",6.6660000000000004,28.756,2053619]
[null,"South Sudan","Africa",1957,"South Sudan/1957",6.6929999999999996,30.3,2203691]
[null,"South Sudan","Africa",1962,"South Sudan/1962",6.7469999999999999,32.508000000000003,2480164]
[null,"South Sudan","Africa",1968,"South Sudan/1968",6.8550000000000004,35.023000000000003,2866074]
[null,"South Sudan","Africa",1973,"South Sudan/1973",6.9119999999999999,36.975000000000001,3296208]
[null,"South Sudan","Africa",1975,"South Sudan/1975",6.9240000000000004,37.768000000000001,3505168]
[null,"South Sudan","Africa",1985,"South Sudan/1985",6.8109999999999999,40.427,4816725]
[null,"South Sudan","Africa",1990,"South Sudan/1990",6.7690000000000001,43.529000000000003,5420563]
[null,"South Sudan","Africa",1991,"South Sudan/1991",6.7290000000000001,44.235999999999997,5556767]
[null,"South Sudan","Africa",1996,"South Sudan/1996",6.4349999999999996,47.411999999999999,6327927]
[null,"South Sudan","Africa",2001,"South Sudan/2001",6.05,49.634,7161267]
[null,"South Sudan","Africa",2006,"South Sudan/2006",5.5819999999999999,51.500999999999998,8054628]
[null,"South Sudan","Africa",2013,"South Sudan/2013",4.92,55.264000000000003,10881979]
[null,"Spain","Europe",1954,"Spain/1954",2.589,67.010000000000005,28858741]
[null,"Spain","Europe",1960,"Spain/1960",2.766,69.27,30413044]
[null,"Spain","Europe",1965,"Spain/1965",2.8340000000000001,70.989999999999995,32108561]
[null,"Spain","Europe",1973,"Spain/1973",2.839,72.84,34949102]
[null,"Spain","Europe",1977,"Spain/1977",2.5870000000000002,74.39,36501995]
[null,"Spain","Europe",1982,"Spain/1982",1.96,76.3,37984198]
[null,"Spain","Europe",1988,"Spain/1988",1.431,76.91,38745231]
[null,"Spain","Europe",1993,"Spain/1993",1.254,77.7,39203352]
[null,"Spain","Europe",1998,"Spain/1998",1.1970000000000001,78.849999999999994,39734033]
[null,"Spain","Europe",2000,"Spain/2000",1.224,79.34,40288457]
[null,"Spain","Europe",2005,"Spain/2005",1.35,80.28,43395441]
[null,"Spain","Europe",2011,"Spain/2011",1.474,81.813999999999993,46454895]
[null,"Sri Lanka","Asia + Pacific",1952,"Sri Lanka/1952",5.8975999999999997,54.106000000000002,8495641]
[null,"Sri Lanka","Asia + Pacific",1957,"Sri Lanka/1957",5.8250000000000002,57.991999999999997,9367565]
[null,"Sri Lanka","Asia + Pacific",1961,"Sri Lanka/1961",5.4210000000000003,59.780999999999999,10248471]
[null,"Sri Lanka","Asia + Pacific",1969,"Sri Lanka/1969",4.4770000000000003,63.65,12289319]
[null,"Sri Lanka","Asia + Pacific",1975,"Sri Lanka/1975",3.7829999999999999,66.085999999999999,13810647]
[null,"Sri Lanka","Asia + Pacific",1980,"Sri Lanka/1980",3.4079999999999999,68.194999999999993,15082771]
[null,"Sri Lanka","Asia + Pacific",1985,"Sri Lanka/1985",2.9039999999999999,69.108000000000004,16210466]
[null,"Sri Lanka","Asia + Pacific",1992,"Sri Lanka/1992",2.39,69.683000000000007,17740936]
[null,"Sri Lanka","Asia + Pacific",1997,"Sri Lanka/1997",2.2509999999999999,69.441999999999993,18428257]
[null,"Sri Lanka","Asia + Pacific",2002,"Sri Lanka/2002",2.2519999999999998,72.510000000000005,19134096]
[null,"Sri Lanka","Asia + Pacific",2003,"Sri Lanka/2003",2.2629999999999999,73.040000000000006,19369853]
[null,"Sri Lanka","Asia + Pacific",2008,"Sri Lanka/2008",2.323,73.634,20473799]
[null,"Sudan","Africa",1950,"Sudan/1950",6.6749999999999998,43.414000000000001,7309769]
[null,"Sudan","Africa",1955,"Sudan/1955",6.6340000000000003,45.872999999999998,8172814]
[null,"Sudan","Africa",1961,"Sudan/1961",6.7130000000000001,48.615000000000002,9416392]
[null,"Sudan","Africa",1967,"Sudan/1967",6.85,51.064999999999998,10869525]
[null,"Sudan","Africa",1972,"Sudan/1972",6.91,52.896999999999998,12436311]
[null,"Sudan","Africa",1978,"Sudan/1978",6.8920000000000003,54.057000000000002,14965920]
[null,"Sudan","Africa",1980,"Sudan/1980",6.8019999999999996,54.249000000000002,15964476]
[null,"Sudan","Africa",1989,"Sudan/1989",6.2140000000000004,55.354999999999997,20581590]
[null,"Sudan","Africa",1995,"Sudan/1995",5.8209999999999997,56.539000000000001,23974432]
[null,"Sudan","Africa",2000,"Sudan/2000",5.444,57.978999999999999,27193105]
[null,"Sudan","Africa",2005,"Sudan/2005",5.0389999999999997,59.930999999999997,30551777]
[null,"Sudan","Africa",2006,"Sudan/2006",4.9560000000000004,60.317,31314098]
[null,"Sudan","Africa",2013,"Sudan/2013",4.42,62.055,35940905]
[null,"Suriname","Latin America + Caribbean",1954,"Suriname/1954",6.55,56.923999999999999,243001]
[null,"Suriname","Latin America + Caribbean",1959,"Suriname/1959",6.6059999999999999,59.280999999999999,281654]
[null,"Suriname","Latin America + Caribbean",1964,"Suriname/1964",6.4119999999999999,61.116999999999997,323298]
[null,"Suriname","Latin America + Caribbean",1970,"Suriname/1970",5.6529999999999996,63.268000000000001,372297]
[null,"Suriname","Latin America + Caribbean",1974,"Suriname/1974",4.9450000000000003,64.338999999999999,366767]
[null,"Suriname","Latin America + Caribbean",1982,"Suriname/1982",3.7080000000000002,66.37,368027]
[null,"Suriname","Latin America + Caribbean",1987,"Suriname/1987",3.0630000000000002,67.119,386974]
[null,"Suriname","Latin America + Caribbean",1992,"Suriname/1992",2.6389999999999998,67.552999999999997,418828]
[null,"Suriname","Latin America + Caribbean",1998,"Suriname/1998",2.762,67.784999999999997,454124]
[null,"Suriname","Latin America + Caribbean",1999,"Suriname/1999",2.7589999999999999,67.807000000000002,460419]
[null,"Suriname","Latin America + Caribbean",2009,"Suriname/2009",2.3740000000000001,70.036000000000001,519861]
[null,"Suriname","Latin America + Caribbean",2010,"Suriname/2010",2.3450000000000002,70.308999999999997,524636]
[null,"Swaziland","Africa",1951,"Swaziland/1951",6.7069999999999999,40.738,278951]
[null,"Swaziland","Africa",1957,"Swaziland/1957",6.6959999999999997,43.274999999999999,323710]
[null,"Swaziland","Africa",1962,"Swaziland/1962",6.7450000000000001,44.872999999999998,365645]
[null,"Swaziland","Africa",1968,"Swaziland/1968",6.8570000000000002,46.981999999999999,422152]
[null,"Swaziland","Africa",1974,"Swaziland/1974",6.84,50.457000000000001,501509]
[null,"Swaziland","Africa",1979,"Swaziland/1979",6.6950000000000003,53.646000000000001,585327]
[null,"Swaziland","Africa",1984,"Swaziland/1984",6.4589999999999996,56.914000000000001,680341]
[null,"Swaziland","Africa",1990,"Swaziland/1990",5.7439999999999998,59.457999999999998,862947]
[null,"Swaziland","Africa",1993,"Swaziland/1993",5.2110000000000003,58.485999999999997,926420]
[null,"Swaziland","Africa",2002,"Swaziland/2002",4.0460000000000003,46.545999999999999,1082777]
[null,"Swaziland","Africa",2007,"Swaziland/2007",3.7610000000000001,46.811,1133007]
[null,"Swaziland","Africa",2012,"Swaziland/2012",3.407,48.91,1220408]
[null,"Swaziland","Africa",2013,"Swaziland/2013",3.3340000000000001,49,1237166]
[null,"Sweden","Europe",1954,"Sweden/1954",2.1949999999999998,72.36,7219871]
[null,"Sweden","Europe",1960,"Sweden/1960",2.1989999999999998,73.040000000000006,7480001]
[null,"Sweden","Europe",1966,"Sweden/1966",2.3610000000000002,74.13,7796427]
[null,"Sweden","Europe",1971,"Sweden/1971",1.9610000000000001,74.62,8084965]
[null,"Sweden","Europe",1977,"Sweden/1977",1.6459999999999999,75.44,8246302]
[null,"Sweden","Europe",1982,"Sweden/1982",1.627,76.42,8322909]
[null,"Sweden","Europe",1987,"Sweden/1987",1.8440000000000001,77.19,8413155]
[null,"Sweden","Europe",1994,"Sweden/1994",1.883,78.86,8789976]
[null,"Sweden","Europe",1999,"Sweden/1999",1.512,79.61,8852487]
[null,"Sweden","Europe",2005,"Sweden/2005",1.7869999999999999,80.75,9029345]
[null,"Sweden","Europe",2010,"Sweden/2010",1.9870000000000001,81.426000000000002,9379687]
[null,"Switzerland","Europe",1951,"Switzerland/1951",2.3159999999999998,68.709999999999994,4726281]
[null,"Switzerland","Europe",1954,"Switzerland/1954",2.3090000000000002,70,4912879]
[null,"Switzerland","Europe",1958,"Switzerland/1958",2.4340000000000002,71.3,5143629]
[null,"Switzerland","Europe",1964,"Switzerland/1964",2.5640000000000001,72.2,5729362]
[null,"Switzerland","Europe",1969,"Switzerland/1969",2.218,72.73,6114502]
[null,"Switzerland","Europe",1974,"Switzerland/1974",1.7430000000000001,74.430000000000007,6340818]
[null,"Switzerland","Europe",1979,"Switzerland/1979",1.518,75.64,6306326]
[null,"Switzerland","Europe",1986,"Switzerland/1986",1.5429999999999999,77.11,6493102]
[null,"Switzerland","Europe",1991,"Switzerland/1991",1.544,77.72,6740104]
[null,"Switzerland","Europe",1997,"Switzerland/1997",1.4870000000000001,79.37,7090483]
[null,"Switzerland","Europe",2002,"Switzerland/2002",1.4179999999999999,80.62,7254975]
[null,"Switzerland","Europe",2004,"Switzerland/2004",1.42,81.28,7361231]
[null,"Syria","West Asia",1950,"Syria/1950",7.1760000000000002,47.514000000000003,3413330]
[null,"Syria","West Asia",1955,"Syria/1955",7.298,50.07,3903672]
[null,"Syria","West Asia",1956,"Syria/1956",7.33,50.619,4023540]
[null,"Syria","West Asia",1961,"Syria/1961",7.4969999999999999,53.314999999999998,4716875]
[null,"Syria","West Asia",1966,"Syria/1966",7.569,56.293999999999997,5561371]
[null,"Syria","West Asia",1973,"Syria/1973",7.5369999999999999,61.386000000000003,7054361]
[null,"Syria","West Asia",1978,"Syria/1978",7.2850000000000001,64.653000000000006,8328592]
[null,"Syria","West Asia",1984,"Syria/1984",6.5339999999999998,67.831000000000003,10230958]
[null,"Syria","West Asia",1989,"Syria/1989",5.5289999999999999,69.887,11966274]
[null,"Syria","West Asia",1994,"Syria/1994",4.6180000000000003,71.596000000000004,13809349]
[null,"Syria","West Asia",1998,"Syria/1998",4.1779999999999999,72.772000000000006,15200324]
[null,"Syria","West Asia",2006,"Syria/2006",3.3130000000000002,74.783000000000001,18920727]
[null,"Syria","West Asia",2012,"Syria/2012",3.0030000000000001,71,21117690]
[null,"Taiwan","Asia + Pacific",1953,"Taiwan/1953",6.2930000000000001,54.6,7981000]
[null,"Taiwan","Asia + Pacific",1958,"Taiwan/1958",6.51,62.5,9825000]
[null,"Taiwan","Asia + Pacific",1959,"Taiwan/1959",6.51,62.5,9825000]
[null,"Taiwan","Asia + Pacific",1967,"Taiwan/1967",4.82,67.400000000000006,13321000]
[null,"Taiwan","Asia + Pacific",1970,"Taiwan/1970",4.82,67.400000000000006,13321000]
[null,"Taiwan","Asia + Pacific",1976,"Taiwan/1976",3.09,70.38,16450000]
[null,"Taiwan","Asia + Pacific",1981,"Taiwan/1981",2.4550000000000001,71.599999999999994,18177000]
[null,"Taiwan","Asia + Pacific",1987,"Taiwan/1987",1.7,73.36,19758000]
[null,"Taiwan","Asia + Pacific",1992,"Taiwan/1992",1.73,74.209999999999994,20687000]
[null,"Taiwan","Asia + Pacific",1998,"Taiwan/1998",1.4650000000000001,75.36,21834000]
[null,"Taiwan","Asia + Pacific",2004,"Taiwan/2004",1.18,77.19,22622000]
[null,"Taiwan","Asia + Pacific",2009,"Taiwan/2009",1.03,78.81,22974000]
[null,"Tajikistan","Asia + Pacific",1950,"Tajikistan/1950",5.8719999999999999,52.204999999999998,1531502]
[null,"Tajikistan","Asia + Pacific",1956,"Tajikistan/1956",6.149,54.496000000000002,1835763]
[null,"Tajikistan","Asia + Pacific",1961,"Tajikistan/1961",6.266,56.57,2160358]
[null,"Tajikistan","Asia + Pacific",1963,"Tajikistan/1963",6.3650000000000002,57.417000000000002,2334221]
[null,"Tajikistan","Asia + Pacific",1968,"Tajikistan/1968",6.7750000000000004,59.44,2765317]
[null,"Tajikistan","Asia + Pacific",1973,"Tajikistan/1973",6.7130000000000001,60.965000000000003,3238090]
[null,"Tajikistan","Asia + Pacific",1979,"Tajikistan/1979",5.7590000000000003,62.192,3844809]
[null,"Tajikistan","Asia + Pacific",1986,"Tajikistan/1986",5.4530000000000003,63.509,4713454]
[null,"Tajikistan","Asia + Pacific",1991,"Tajikistan/1991",5.0670000000000002,62.661000000000001,5418785]
[null,"Tajikistan","Asia + Pacific",1996,"Tajikistan/1996",4.4619999999999997,62.466999999999999,5860334]
[null,"Tajikistan","Asia + Pacific",2001,"Tajikistan/2001",3.8479999999999999,63.911999999999999,6232587]
[null,"Tajikistan","Asia + Pacific",2007,"Tajikistan/2007",3.6669999999999998,66.132000000000005,6604426]
[null,"Tajikistan","Asia + Pacific",2012,"Tajikistan/2012",3.819,67.117999999999995,7078755]
[null,"Tanzania","Africa",1955,"Tanzania/1955",6.7809999999999997,42.218000000000004,8740991]
[null,"Tanzania","Africa",1960,"Tanzania/1960",6.806,43.685000000000002,10074485]
[null,"Tanzania","Africa",1965,"Tanzania/1965",6.798,45.021999999999998,11682835]
[null,"Tanzania","Africa",1966,"Tanzania/1966",6.7949999999999999,45.33,12038154]
[null,"Tanzania","Africa",1971,"Tanzania/1971",6.7649999999999997,47.115000000000002,14044480]
[null,"Tanzania","Africa",1980,"Tanzania/1980",6.6529999999999996,50.530999999999999,18685789]
[null,"Tanzania","Africa",1983,"Tanzania/1983",6.5419999999999998,51.005000000000003,20531760]
[null,"Tanzania","Africa",1988,"Tanzania/1988",6.3280000000000003,51.003999999999998,23928658]
[null,"Tanzania","Africa",1994,"Tanzania/1994",5.9459999999999997,49.345999999999997,29064223]
[null,"Tanzania","Africa",1999,"Tanzania/1999",5.7110000000000003,49.625999999999998,33197305]
[null,"Tanzania","Africa",2005,"Tanzania/2005",5.6379999999999999,53.869,38831024]
[null,"Tanzania","Africa",2011,"Tanzania/2011",5.359,60.116,46218486]
[null,"Thailand","Asia + Pacific",1952,"Thailand/1952",6.1369999999999996,51.366,21718195]
[null,"Thailand","Asia + Pacific",1957,"Thailand/1957",6.1429999999999998,53.612000000000002,24985010]
[null,"Thailand","Asia + Pacific",1963,"Thailand/1963",6.157,56.719000000000001,29913729]
[null,"Thailand","Asia + Pacific",1968,"Thailand/1968",5.9029999999999996,58.654000000000003,34799247]
[null,"Thailand","Asia + Pacific",1972,"Thailand/1972",5.181,60.454999999999998,39109571]
[null,"Thailand","Asia + Pacific",1975,"Thailand/1975",4.4880000000000004,61.85,42398941]
[null,"Thailand","Asia + Pacific",1980,"Thailand/1980",3.3919999999999999,64.168999999999997,47482643]
[null,"Thailand","Asia + Pacific",1986,"Thailand/1986",2.4510000000000001,68.632999999999996,53339762]
[null,"Thailand","Asia + Pacific",1991,"Thailand/1991",2.0550000000000002,70.531000000000006,57711519]
[null,"Thailand","Asia + Pacific",1999,"Thailand/1999",1.7090000000000001,70.775000000000006,62408639]
[null,"Thailand","Asia + Pacific",2003,"Thailand/2003",1.5880000000000001,71.677999999999997,65370277]
[null,"Thailand","Asia + Pacific",2008,"Thailand/2008",1.4770000000000001,73.363,68267982]
[null,"Timor-Leste","Asia + Pacific",1950,"Timor-Leste/1950",6.5090000000000003,28.949000000000002,433398]
[null,"Timor-Leste","Asia + Pacific",1955,"Timor-Leste/1955",6.38,31.218,461526]
[null,"Timor-Leste","Asia + Pacific",1960,"Timor-Leste/1960",6.3730000000000002,33.719000000000001,499676]
[null,"Timor-Leste","Asia + Pacific",1966,"Timor-Leste/1966",6.2679999999999998,36.884999999999998,558110]
[null,"Timor-Leste","Asia + Pacific",1972,"Timor-Leste/1972",5.5410000000000004,39.073999999999998,637590]
[null,"Timor-Leste","Asia + Pacific",1973,"Timor-Leste/1973",5.298,38.064999999999998,653351]
[null,"Timor-Leste","Asia + Pacific",1978,"Timor-Leste/1978",4.5129999999999999,32.615000000000002,608743]
[null,"Timor-Leste","Asia + Pacific",1983,"Timor-Leste/1983",5.2560000000000002,40.112000000000002,617347]
[null,"Timor-Leste","Asia + Pacific",1991,"Timor-Leste/1991",5.4690000000000003,49.295999999999999,767267]
[null,"Timor-Leste","Asia + Pacific",1995,"Timor-Leste/1995",6.3840000000000003,53.66,852817]
[null,"Timor-Leste","Asia + Pacific",2000,"Timor-Leste/2000",7.1120000000000001,59.468000000000004,830089]
[null,"Timor-Leste","Asia + Pacific",2006,"Timor-Leste/2006",6.6950000000000003,63.686999999999998,1038572]
[null,"Timor-Leste","Asia + Pacific",2011,"Timor-Leste/2011",6.1109999999999998,66.501999999999995,1153834]
[null,"Togo","Africa",1953,"Togo/1953",6.3310000000000004,35.646999999999998,1453288]
[null,"Togo","Africa",1960,"Togo/1960",6.5209999999999999,40.296999999999997,1577708]
[null,"Togo","Africa",1964,"Togo/1964",6.734,42.845999999999997,1654451]
[null,"Togo","Africa",1970,"Togo/1970",7.0839999999999996,46.567999999999998,2097273]
[null,"Togo","Africa",1975,"Togo/1975",7.2750000000000004,49.536999999999999,2379649]
[null,"Togo","Africa",1980,"Togo/1980",7.2069999999999999,52.338999999999999,2666921]
[null,"Togo","Africa",1985,"Togo/1985",6.8739999999999997,54.673000000000002,3161327]
[null,"Togo","Africa",1987,"Togo/1987",6.6790000000000003,55.335999999999999,3372562]
[null,"Togo","Africa",1993,"Togo/1993",5.9569999999999999,55.484999999999999,3897510]
[null,"Togo","Africa",1998,"Togo/1998",5.4370000000000003,53.786000000000001,4500173]
[null,"Togo","Africa",2003,"Togo/2003",5.1109999999999998,53.862000000000002,5170252]
[null,"Togo","Africa",2010,"Togo/2010",4.7919999999999998,55.514000000000003,6027798]
[null,"Tonga","Asia + Pacific",1951,"Tonga/1951",7.3159999999999998,58.106000000000002,49311]
[null,"Tonga","Asia + Pacific",1957,"Tonga/1957",7.3259999999999996,60.293999999999997,57387]
[null,"Tonga","Asia + Pacific",1962,"Tonga/1962",7.3019999999999996,62.128999999999998,66257]
[null,"Tonga","Asia + Pacific",1967,"Tonga/1967",6.59,63.875,79049]
[null,"Tonga","Asia + Pacific",1973,"Tonga/1973",5.5119999999999996,65.766000000000005,86982]
[null,"Tonga","Asia + Pacific",1979,"Tonga/1979",5.5410000000000004,67.231999999999999,92292]
[null,"Tonga","Asia + Pacific",1984,"Tonga/1984",5.266,68.477999999999994,93829]
[null,"Tonga","Asia + Pacific",1985,"Tonga/1985",5.1280000000000001,68.715999999999994,93944]
[null,"Tonga","Asia + Pacific",1990,"Tonga/1990",4.6440000000000001,69.602999999999994,95150]
[null,"Tonga","Asia + Pacific",1996,"Tonga/1996",4.391,70.284999999999997,96196]
[null,"Tonga","Asia + Pacific",2004,"Tonga/2004",4.1769999999999996,71.361000000000004,100286]
[null,"Tonga","Asia + Pacific",2007,"Tonga/2007",4.0590000000000002,71.774000000000001,102254]
[null,"Tonga","Asia + Pacific",2013,"Tonga/2013",3.7669999999999999,72.673000000000002,105265]
[null,"Trinidad and Tobago","Latin America + Caribbean",1954,"Trinidad and Tobago/1954",5.3179999999999996,58.673999999999999,697015]
[null,"Trinidad and Tobago","Latin America + Caribbean",1960,"Trinidad and Tobago/1960",5.2640000000000002,62.625,841210]
[null,"Trinidad and Tobago","Latin America + Caribbean",1965,"Trinidad and Tobago/1965",4.4329999999999998,64.620999999999995,893922]
[null,"Trinidad and Tobago","Latin America + Caribbean",1967,"Trinidad and Tobago/1967",3.9849999999999999,64.822000000000003,922942]
[null,"Trinidad and Tobago","Latin America + Caribbean",1977,"Trinidad and Tobago/1977",3.2730000000000001,66.519000000000005,1031694]
[null,"Trinidad and Tobago","Latin America + Caribbean",1982,"Trinidad and Tobago/1982",3.2610000000000001,67.239000000000004,1117461]
[null,"Trinidad and Tobago","Latin America + Caribbean",1987,"Trinidad and Tobago/1987",2.827,67.718999999999994,1194138]
[null,"Trinidad and Tobago","Latin America + Caribbean",1988,"Trinidad and Tobago/1988",2.7,67.816999999999993,1201224]
[null,"Trinidad and Tobago","Latin America + Caribbean",1998,"Trinidad and Tobago/1998",1.8009999999999999,68.451999999999998,1281396]
[null,"Trinidad and Tobago","Latin America + Caribbean",2000,"Trinidad and Tobago/2000",1.7529999999999999,68.533000000000001,1292058]
[null,"Trinidad and Tobago","Latin America + Caribbean",2005,"Trinidad and Tobago/2005",1.7689999999999999,68.957999999999998,1315386]
[null,"Trinidad and Tobago","Latin America + Caribbean",2010,"Trinidad and Tobago/2010",1.802,69.55,1341465]
[null,"Tunisia","Africa",1952,"Tunisia/1952",6.73,38.610999999999997,3661847]
[null,"Tunisia","Africa",1957,"Tunisia/1957",6.8739999999999997,40.402999999999999,3999242]
[null,"Tunisia","Africa",1961,"Tunisia/1961",7.0880000000000001,42.622999999999998,4297441]
[null,"Tunisia","Africa",1969,"Tunisia/1969",6.59,49.988,5025402]
[null,"Tunisia","Africa",1974,"Tunisia/1974",5.95,55.695999999999998,5542400]
[null,"Tunisia","Africa",1980,"Tunisia/1980",5.3490000000000002,61.993000000000002,6457092]
[null,"Tunisia","Africa",1985,"Tunisia/1985",4.4539999999999997,65.835999999999999,7330267]
[null,"Tunisia","Africa",1986,"Tunisia/1986",4.2649999999999997,66.42,7511099]
[null,"Tunisia","Africa",1992,"Tunisia/1992",3.1880000000000002,69.972999999999999,8528401]
[null,"Tunisia","Africa",1997,"Tunisia/1997",2.3889999999999998,72.254000000000005,9162870]
[null,"Tunisia","Africa",2003,"Tunisia/2003",2.0270000000000001,73.804000000000002,9722180]
[null,"Tunisia","Africa",2008,"Tunisia/2008",2.044,74.703999999999994,10247325]
[null,"Turkey","Europe",1953,"Turkey/1953",6.609,41.197000000000003,23195322]
[null,"Turkey","Europe",1956,"Turkey/1956",6.5019999999999998,42.76,25290730]
[null,"Turkey","Europe",1961,"Turkey/1961",6.2409999999999997,46.094999999999999,28894367]
[null,"Turkey","Europe",1966,"Turkey/1966",5.8739999999999997,49.735999999999997,32556294]
[null,"Turkey","Europe",1972,"Turkey/1972",5.375,53.497999999999998,37054168]
[null,"Turkey","Europe",1977,"Turkey/1977",4.7380000000000004,56.713000000000001,41316297]
[null,"Turkey","Europe",1984,"Turkey/1984",3.8439999999999999,61.113,48360679]
[null,"Turkey","Europe",1989,"Turkey/1989",3.1829999999999998,63.765999999999998,53200802]
[null,"Turkey","Europe",1994,"Turkey/1994",2.7719999999999998,66.38,57911273]
[null,"Turkey","Europe",1995,"Turkey/1995",2.7149999999999999,66.966999999999999,58864649]
[null,"Turkey","Europe",2000,"Turkey/2000",2.4540000000000002,70.010000000000005,63627862]
[null,"Turkey","Europe",2009,"Turkey/2009",2.1230000000000002,73.932000000000002,71846212]
[null,"Turkey","Europe",2012,"Turkey/2012",2.06,74.938000000000002,74508771]
[null,"Turkmenistan","Asia + Pacific",1953,"Turkmenistan/1953",5.9139999999999997,51.502000000000002,1282584]
[null,"Turkmenistan","Asia + Pacific",1959,"Turkmenistan/1959",6.2759999999999998,54.040999999999997,1539955]
[null,"Turkmenistan","Asia + Pacific",1964,"Turkmenistan/1964",6.6630000000000003,56.180999999999997,1829697]
[null,"Turkmenistan","Asia + Pacific",1969,"Turkmenistan/1969",6.35,58.143000000000001,2126749]
[null,"Turkmenistan","Asia + Pacific",1972,"Turkmenistan/1972",6.1749999999999998,59.024000000000001,2318070]
[null,"Turkmenistan","Asia + Pacific",1981,"Turkmenistan/1981",4.915,61.307000000000002,2931343]
[null,"Turkmenistan","Asia + Pacific",1987,"Turkmenistan/1987",4.5720000000000001,62.707999999999998,3392823]
[null,"Turkmenistan","Asia + Pacific",1992,"Turkmenistan/1992",4.0709999999999997,62.777999999999999,3881973]
[null,"Turkmenistan","Asia + Pacific",1997,"Turkmenistan/1997",3.1589999999999998,63.435000000000002,4335991]
[null,"Turkmenistan","Asia + Pacific",2003,"Turkmenistan/2003",2.7010000000000001,64.251000000000005,4647912]
[null,"Turkmenistan","Asia + Pacific",2004,"Turkmenistan/2004",2.66,64.340999999999994,4696771]
[null,"Turkmenistan","Asia + Pacific",2009,"Turkmenistan/2009",2.4449999999999998,64.861999999999995,4979672]
[null,"Uganda","Africa",1951,"Uganda/1951",6.8940000000000001,39.235999999999997,5306689]
[null,"Uganda","Africa",1956,"Uganda/1956",6.9290000000000003,41.802999999999997,6056012]
[null,"Uganda","Africa",1962,"Uganda/1962",7.04,45.155999999999999,7240764]
[null,"Uganda","Africa",1966,"Uganda/1966",7.1059999999999999,47.405999999999999,8290837]
[null,"Uganda","Africa",1973,"Uganda/1973",7.1029999999999998,49.218000000000004,10296444]
[null,"Uganda","Africa",1979,"Uganda/1979",7.1,49.436999999999998,12284315]
[null,"Uganda","Africa",1984,"Uganda/1984",7.1029999999999998,49.351999999999997,14315090]
[null,"Uganda","Africa",1990,"Uganda/1990",7.0910000000000002,47.514000000000003,17699717]
[null,"Uganda","Africa",1991,"Uganda/1991",7.0819999999999999,47.069000000000003,18314701]
[null,"Uganda","Africa",2001,"Uganda/2001",6.8220000000000001,48.988,24984181]
[null,"Uganda","Africa",2002,"Uganda/2002",6.7720000000000002,49.927999999999997,25794397]
[null,"Uganda","Africa",2007,"Uganda/2007",6.4249999999999998,54.74,30339895]
[null,"Uganda","Africa",2012,"Uganda/2012",5.9640000000000004,58.667999999999999,35620977]
[null,"Ukraine","Europe",1954,"Ukraine/1954",2.8519999999999999,67.135000000000005,39541651]
[null,"Ukraine","Europe",1960,"Ukraine/1960",2.4180000000000001,71.06,42783010]
[null,"Ukraine","Europe",1966,"Ukraine/1966",2.0150000000000001,71.900000000000006,45779461]
[null,"Ukraine","Europe",1971,"Ukraine/1971",2.056,71.099999999999994,47685533]
[null,"Ukraine","Europe",1976,"Ukraine/1976",2.0139999999999998,70.34,49266997]
[null,"Ukraine","Europe",1982,"Ukraine/1982",2.008,69.900000000000006,50408687]
[null,"Ukraine","Europe",1985,"Ukraine/1985",2.0499999999999998,69.88,50949364]
[null,"Ukraine","Europe",1993,"Ukraine/1993",1.597,68.31,51546666]
[null,"Ukraine","Europe",1999,"Ukraine/1999",1.163,68.150000000000006,49366106]
[null,"Ukraine","Europe",2004,"Ukraine/2004",1.214,67.73,47275250]
[null,"Ukraine","Europe",2005,"Ukraine/2005",1.258,67.31,46923927]
[null,"Ukraine","Europe",2010,"Ukraine/2010",1.4350000000000001,68.188000000000002,45448329]
[null,"United Arab Emirates","West Asia",1952,"United Arab Emirates/1952",6.968,43.247999999999998,69504]
[null,"United Arab Emirates","West Asia",1958,"United Arab Emirates/1958",6.9619999999999997,50.088000000000001,82405]
[null,"United Arab Emirates","West Asia",1963,"United Arab Emirates/1963",6.8769999999999998,55.319000000000003,121678]
[null,"United Arab Emirates","West Asia",1969,"United Arab Emirates/1969",6.6790000000000003,60.85,201308]
[null,"United Arab Emirates","West Asia",1974,"United Arab Emirates/1974",6.1459999999999999,64.307000000000002,453530]
[null,"United Arab Emirates","West Asia",1979,"United Arab Emirates/1979",5.5170000000000003,67.123000000000005,927412]
[null,"United Arab Emirates","West Asia",1986,"United Arab Emirates/1986",4.9729999999999999,70.156999999999996,1428788]
[null,"United Arab Emirates","West Asia",1991,"United Arab Emirates/1991",4.1929999999999996,71.781000000000006,1909812]
[null,"United Arab Emirates","West Asia",1996,"United Arab Emirates/1996",3.2149999999999999,73.155000000000001,2473983]
[null,"United Arab Emirates","West Asia",2002,"United Arab Emirates/2002",2.4279999999999999,74.643000000000001,3254691]
[null,"United Arab Emirates","West Asia",2004,"United Arab Emirates/2004",2.2360000000000002,75.108000000000004,3658042]
[null,"United Arab Emirates","West Asia",2009,"United Arab Emirates/2009",1.903,76.144000000000005,6938815]
[null,"United Kingdom","Europe",1950,"United Kingdom/1950",2.0760000000000001,68.7,50616012]
[null,"United Kingdom","Europe",1955,"United Kingdom/1955",2.33,70.209999999999994,51184529]
[null,"United Kingdom","Europe",1961,"United Kingdom/1961",2.7480000000000002,70.849999999999994,52895303]
[null,"United Kingdom","Europe",1966,"United Kingdom/1966",2.6960000000000002,71.53,54666008]
[null,"United Kingdom","Europe",1971,"United Kingdom/1971",2.1819999999999999,72.319999999999993,55819499]
[null,"United Kingdom","Europe",1978,"United Kingdom/1978",1.7270000000000001,73.180000000000007,56295032]
[null,"United Kingdom","Europe",1983,"United Kingdom/1983",1.7769999999999999,74.44,56379327]
[null,"United Kingdom","Europe",1989,"United Kingdom/1989",1.8220000000000001,75.55,57058173]
[null,"United Kingdom","Europe",1994,"United Kingdom/1994",1.766,76.88,57838596]
[null,"United Kingdom","Europe",1998,"United Kingdom/1998",1.71,77.45,58488026]
[null,"United Kingdom","Europe",2006,"United Kingdom/2006",1.8029999999999999,79.53,60538143]
[null,"United Kingdom","Europe",2011,"United Kingdom/2011",1.9,80.244,62417431]
[null,"United Kingdom","Europe",2012,"United Kingdom/2012",1.8959999999999999,80.396000000000001,62798099]
[null,"United States","North America",1953,"United States/1953",3.3719999999999999,68.790000000000006,165260027]
[null,"United States","North America",1958,"United States/1958",3.6890000000000001,69.760000000000005,180353310]
[null,"United States","North America",1965,"United States/1965",2.9260000000000002,70.41,199452508]
[null,"United States","North America",1970,"United States/1970",2.4609999999999999,70.92,209463865]
[null,"United States","North America",1975,"United States/1975",1.7689999999999999,72.680000000000007,219108358]
[null,"United States","North America",1981,"United States/1981",1.8049999999999999,74.36,232035086]
[null,"United States","North America",1986,"United States/1986",1.835,74.87,243495805]
[null,"United States","North America",1990,"United States/1990",2.069,75.400000000000006,253339097]
[null,"United States","North America",1998,"United States/1998",2.0030000000000001,76.7,275986072]
[null,"United States","North America",2003,"United States/2003",2.0529999999999999,77.099999999999994,291290823]
[null,"United States","North America",2009,"United States/2009",2.0019999999999998,78.352000000000004,307686729]
[null,"Uruguay","Latin America + Caribbean",1950,"Uruguay/1950",2.6920000000000002,65.804000000000002,2238506]
[null,"Uruguay","Latin America + Caribbean",1951,"Uruguay/1951",2.7010000000000001,65.867999999999995,2261141]
[null,"Uruguay","Latin America + Caribbean",1957,"Uruguay/1957",2.8279999999999998,67.028000000000006,2436899]
[null,"Uruguay","Latin America + Caribbean",1962,"Uruguay/1962",2.8849999999999998,68.197999999999993,2603317]
[null,"Uruguay","Latin America + Caribbean",1968,"Uruguay/1968",2.8439999999999999,68.575999999999993,2774109]
[null,"Uruguay","Latin America + Caribbean",1973,"Uruguay/1973",2.988,68.823999999999998,2821367]
[null,"Uruguay","Latin America + Caribbean",1978,"Uruguay/1978",2.8490000000000002,69.721999999999994,2874998]
[null,"Uruguay","Latin America + Caribbean",1984,"Uruguay/1984",2.5459999999999998,71.343000000000004,2991478]
[null,"Uruguay","Latin America + Caribbean",1990,"Uruguay/1990",2.5179999999999998,72.569999999999993,3109122]
[null,"Uruguay","Latin America + Caribbean",1996,"Uruguay/1996",2.3620000000000001,73.852000000000004,3246484]
[null,"Uruguay","Latin America + Caribbean",2001,"Uruguay/2001",2.2229999999999999,74.997,3324810]
[null,"Uruguay","Latin America + Caribbean",2006,"Uruguay/2006",2.1379999999999999,76.078999999999994,3327451]
[null,"Uruguay","Latin America + Caribbean",2009,"Uruguay/2009",2.093,76.628,3357391]
[null,"Uzbekistan","Asia + Pacific",1954,"Uzbekistan/1954",6.1559999999999997,56.411000000000001,7034674]
[null,"Uzbekistan","Asia + Pacific",1955,"Uzbekistan/1955",6.2690000000000001,56.838999999999999,7255501]
[null,"Uzbekistan","Asia + Pacific",1960,"Uzbekistan/1960",6.7069999999999999,58.963999999999999,8558503]
[null,"Uzbekistan","Asia + Pacific",1965,"Uzbekistan/1965",6.7480000000000002,61.103999999999999,10233502]
[null,"Uzbekistan","Asia + Pacific",1971,"Uzbekistan/1971",6.4219999999999997,63.256,12358535]
[null,"Uzbekistan","Asia + Pacific",1978,"Uzbekistan/1978",5.4820000000000002,64.900000000000006,15148932]
[null,"Uzbekistan","Asia + Pacific",1982,"Uzbekistan/1982",4.8289999999999997,66.12,16812955]
[null,"Uzbekistan","Asia + Pacific",1988,"Uzbekistan/1988",4.3460000000000001,67.134,19561181]
[null,"Uzbekistan","Asia + Pacific",1993,"Uzbekistan/1993",3.7839999999999998,66.379000000000005,21990917]
[null,"Uzbekistan","Asia + Pacific",1999,"Uzbekistan/1999",2.855,66.899000000000001,24469439]
[null,"Uzbekistan","Asia + Pacific",2003,"Uzbekistan/2003",2.5419999999999998,67.221999999999994,25489492]
[null,"Uzbekistan","Asia + Pacific",2010,"Uzbekistan/2010",2.41,67.870999999999995,27444702]
[null,"Vanuatu","Asia + Pacific",1952,"Vanuatu/1952",7.6230000000000002,41.643000000000001,50295]
[null,"Vanuatu","Asia + Pacific",1957,"Vanuatu/1957",7.3860000000000001,44.637,58247]
[null,"Vanuatu","Asia + Pacific",1962,"Vanuatu/1962",7.0330000000000004,47.648000000000003,67806]
[null,"Vanuatu","Asia + Pacific",1963,"Vanuatu/1963",6.9379999999999997,48.250999999999998,69962]
[null,"Vanuatu","Asia + Pacific",1972,"Vanuatu/1972",6.1340000000000003,53.52,90831]
[null,"Vanuatu","Asia + Pacific",1975,"Vanuatu/1975",5.9290000000000003,55.283000000000001,99886]
[null,"Vanuatu","Asia + Pacific",1980,"Vanuatu/1980",5.5750000000000002,58.347999999999999,115641]
[null,"Vanuatu","Asia + Pacific",1985,"Vanuatu/1985",5.2089999999999996,60.915999999999997,130030]
[null,"Vanuatu","Asia + Pacific",1991,"Vanuatu/1991",4.8869999999999996,63.527000000000001,150791]
[null,"Vanuatu","Asia + Pacific",1997,"Vanuatu/1997",4.6139999999999999,66.213999999999999,174921]
[null,"Vanuatu","Asia + Pacific",2003,"Vanuatu/2003",4.056,68.539000000000001,199968]
[null,"Vanuatu","Asia + Pacific",2008,"Vanuatu/2008",3.6080000000000001,70.156999999999996,228041]
[null,"Vanuatu","Asia + Pacific",2013,"Vanuatu/2013",3.3820000000000001,71.626000000000005,257812]
[null,"Venezuela","Latin America + Caribbean",1955,"Venezuela/1955",6.4189999999999996,56.613999999999997,6220929]
[null,"Venezuela","Latin America + Caribbean",1958,"Venezuela/1958",6.5279999999999996,58.350999999999999,7004812]
[null,"Venezuela","Latin America + Caribbean",1962,"Venezuela/1962",6.6280000000000001,60.68,8150542]
[null,"Venezuela","Latin America + Caribbean",1963,"Venezuela/1963",6.5810000000000004,61.256999999999998,8453781]
[null,"Venezuela","Latin America + Caribbean",1964,"Venezuela/1964",6.4950000000000001,61.825000000000003,8759890]
[null,"Venezuela","Latin America + Caribbean",1965,"Venezuela/1965",6.3680000000000003,62.384,9067485]
[null,"Venezuela","Latin America + Caribbean",1966,"Venezuela/1966",6.2030000000000003,62.93,9375646]
[null,"Venezuela","Latin America + Caribbean",1967,"Venezuela/1967",6.0140000000000002,63.463000000000001,9686071]
[null,"Venezuela","Latin America + Caribbean",1968,"Venezuela/1968",5.8109999999999999,63.978999999999999,10003238]
[null,"Venezuela","Latin America + Caribbean",1969,"Venezuela/1969",5.6050000000000004,64.475999999999999,10333268]
[null,"Venezuela","Latin America + Caribbean",1970,"Venezuela/1970",5.4039999999999999,64.948999999999998,10680678]
[null,"Venezuela","Latin America + Caribbean",1971,"Venezuela/1971",5.2190000000000003,65.396000000000001,11045959]
[null,"Venezuela","Latin America + Caribbean",1972,"Venezuela/1972",5.0529999999999999,65.816000000000003,11428022]
[null,"Venezuela","Latin America + Caribbean",1973,"Venezuela/1973",4.9050000000000002,66.209000000000003,11827681]
[null,"Venezuela","Latin America + Caribbean",1974,"Venezuela/1974",4.7789999999999999,66.573999999999998,12245478]
[null,"Venezuela","Latin America + Caribbean",1975,"Venezuela/1975",4.67,66.908000000000001,12681017]
[null,"Venezuela","Latin America + Caribbean",1976,"Venezuela/1976",4.5739999999999998,67.207999999999998,13135849]
[null,"Venezuela","Latin America + Caribbean",1977,"Venezuela/1977",4.4829999999999997,67.475999999999999,13607958]
[null,"Venezuela","Latin America + Caribbean",1978,"Venezuela/1978",4.391,67.718000000000004,14088961]
[null,"Venezuela","Latin America + Caribbean",1979,"Venezuela/1979",4.2960000000000003,67.942999999999998,14567680]
[null,"Venezuela","Latin America + Caribbean",1980,"Venezuela/1980",4.1989999999999998,68.165999999999997,15036273]
[null,"Venezuela","Latin America + Caribbean",1981,"Venezuela/1981",4.1040000000000001,68.405000000000001,15490555]
[null,"Venezuela","Latin America + Caribbean",1982,"Venezuela/1982",4.0140000000000002,68.668999999999997,15932973]
[null,"Venezuela","Latin America + Caribbean",1983,"Venezuela/1983",3.9329999999999998,68.962999999999994,16370463]
[null,"Venezuela","Latin America + Caribbean",1984,"Venezuela/1984",3.8610000000000002,69.284999999999997,16813481]
[null,"Venezuela","Latin America + Caribbean",1985,"Venezuela/1985",3.794,69.623999999999995,17269324]
[null,"Venezuela","Latin America + Caribbean",1986,"Venezuela/1986",3.73,69.968000000000004,17740108]
[null,"Venezuela","Latin America + Caribbean",1987,"Venezuela/1987",3.665,70.296999999999997,18222505]
[null,"Venezuela","Latin America + Caribbean",1988,"Venezuela/1988",3.597,70.596000000000004,18711830]
[null,"Venezuela","Latin America + Caribbean",1989,"Venezuela/1989",3.524,70.86,19201096]
[null,"Venezuela","Latin America + Caribbean",1990,"Venezuela/1990",3.448,71.084999999999994,19685177]
[null,"Venezuela","Latin America + Caribbean",1991,"Venezuela/1991",3.37,71.275000000000006,20162745]
[null,"Venezuela","Latin America + Caribbean",1992,"Venezuela/1992",3.2919999999999998,71.438000000000002,20635233]
[null,"Venezuela","Latin America + Caribbean",1993,"Venezuela/1993",3.218,71.585999999999999,21103592]
[null,"Venezuela","Latin America + Caribbean",1994,"Venezuela/1994",3.1469999999999998,71.722999999999999,21569680]
[null,"Venezuela","Latin America + Caribbean",1995,"Venezuela/1995",3.0819999999999999,71.850999999999999,22034909]
[null,"Venezuela","Latin America + Caribbean",1996,"Venezuela/1996",3.0219999999999998,71.971999999999994,22499248]
[null,"Venezuela","Latin America + Caribbean",1997,"Venezuela/1997",2.9670000000000001,72.087999999999994,22962221]
[null,"Venezuela","Latin America + Caribbean",1998,"Venezuela/1998",2.915,72.198999999999998,23424338]
[null,"Venezuela","Latin America + Caribbean",1999,"Venezuela/1999",2.867,72.311999999999998,23886213]
[null,"Venezuela","Latin America + Caribbean",2000,"Venezuela/2000",2.8220000000000001,72.432000000000002,24348304]
[null,"Venezuela","Latin America + Caribbean",2001,"Venezuela/2001",2.7789999999999999,72.564999999999998,24810691]
[null,"Venezuela","Latin America + Caribbean",2002,"Venezuela/2002",2.7389999999999999,72.712999999999994,25273336]
[null,"Venezuela","Latin America + Caribbean",2003,"Venezuela/2003",2.7010000000000001,72.876999999999995,25736393]
[null,"Venezuela","Latin America + Caribbean",2004,"Venezuela/2004",2.6640000000000001,73.054000000000002,26199994]
[null,"Venezuela","Latin America + Caribbean",2005,"Venezuela/2005",2.629,73.242000000000004,26664122]
[null,"Venezuela","Latin America + Caribbean",2006,"Venezuela/2006",2.5950000000000002,73.436000000000007,27128721]
[null,"Venezuela","Latin America + Caribbean",2007,"Venezuela/2007",2.5619999999999998,73.628,27593427]
[null,"Venezuela","Latin America + Caribbean",2008,"Venezuela/2008",2.5310000000000001,73.813999999999993,28057485]
[null,"Venezuela","Latin America + Caribbean",2009,"Venezuela/2009",2.5009999999999999,73.991,28519913]
[null,"Venezuela","Latin America + Caribbean",2010,"Venezuela/2010",2.472,74.159000000000006,28979857]
[null,"Venezuela","Latin America + Caribbean",2011,"Venezuela/2011",2.444,74.319999999999993,29436891]
[null,"Venezuela","Latin America + Caribbean",2012,"Venezuela/2012",2.4169999999999998,74.477000000000004,29890694]
[null,"Venezuela","Latin America + Caribbean",2013,"Venezuela/2013",2.39,74.632999999999996,30340637]
[null,"Vietnam","Asia + Pacific",1950,"Vietnam/1950",4.9630000000000001,51.85,28264391]
[null,"Vietnam","Asia + Pacific",1951,"Vietnam/1951",5.0830000000000002,52.280999999999999,28818993]
[null,"Vietnam","Asia + Pacific",1952,"Vietnam/1952",5.3129999999999997,53.128999999999998,29403860]
[null,"Vietnam","Asia + Pacific",1953,"Vietnam/1953",5.5190000000000001,53.95,30017460]
[null,"Vietnam","Asia + Pacific",1954,"Vietnam/1954",5.7030000000000003,54.744,30659157]
[null,"Vietnam","Asia + Pacific",1955,"Vietnam/1955",5.8639999999999999,55.511000000000003,31329210]
[null,"Vietnam","Asia + Pacific",1956,"Vietnam/1956",6.0019999999999998,56.255000000000003,32028847]
[null,"Vietnam","Asia + Pacific",1957,"Vietnam/1957",6.1180000000000003,56.976999999999997,32760191]
[null,"Vietnam","Asia + Pacific",1958,"Vietnam/1958",6.2130000000000001,57.680999999999997,33526032]
[null,"Vietnam","Asia + Pacific",1959,"Vietnam/1959",6.2889999999999997,58.372999999999998,34329446]
[null,"Vietnam","Asia + Pacific",1960,"Vietnam/1960",6.3479999999999999,59.058999999999997,35172657]
[null,"Vietnam","Asia + Pacific",1961,"Vietnam/1961",6.3920000000000003,59.74,36055820]
[null,"Vietnam","Asia + Pacific",1962,"Vietnam/1962",6.4249999999999998,60.408999999999999,36975957]
[null,"Vietnam","Asia + Pacific",1963,"Vietnam/1963",6.4480000000000004,61.042000000000002,37926503]
[null,"Vietnam","Asia + Pacific",1964,"Vietnam/1964",6.4640000000000004,61.603999999999999,38898597]
[null,"Vietnam","Asia + Pacific",1965,"Vietnam/1965",6.4749999999999996,61.987000000000002,39884879]
[null,"Vietnam","Asia + Pacific",1966,"Vietnam/1966",6.4850000000000003,62.061999999999998,40880598]
[null,"Vietnam","Asia + Pacific",1967,"Vietnam/1967",6.4930000000000003,61.792999999999999,41883842]
[null,"Vietnam","Asia + Pacific",1968,"Vietnam/1968",6.4939999999999998,61.213999999999999,42893258]
[null,"Vietnam","Asia + Pacific",1969,"Vietnam/1969",6.4870000000000001,60.412999999999997,43908540]
[null,"Vietnam","Asia + Pacific",1970,"Vietnam/1970",6.4649999999999999,59.594000000000001,44927973]
[null,"Vietnam","Asia + Pacific",1971,"Vietnam/1971",6.4210000000000003,59.012,45957991]
[null,"Vietnam","Asia + Pacific",1972,"Vietnam/1972",6.35,58.857999999999997,46994771]
[null,"Vietnam","Asia + Pacific",1973,"Vietnam/1973",6.2510000000000003,59.235999999999997,48015047]
[null,"Vietnam","Asia + Pacific",1974,"Vietnam/1974",6.125,60.145000000000003,48987973]
[null,"Vietnam","Asia + Pacific",1975,"Vietnam/1975",5.9729999999999999,61.478999999999999,49895731]
[null,"Vietnam","Asia + Pacific",1976,"Vietnam/1976",5.8,63.040999999999997,50724015]
[null,"Vietnam","Asia + Pacific",1977,"Vietnam/1977",5.6139999999999999,64.578000000000003,51490844]
[null,"Vietnam","Asia + Pacific",1978,"Vietnam/1978",5.423,65.89,52250324]
[null,"Vietnam","Asia + Pacific",1979,"Vietnam/1979",5.2320000000000002,66.894000000000005,53076862]
[null,"Vietnam","Asia + Pacific",1980,"Vietnam/1980",5.0460000000000003,67.569999999999993,54023152]
[null,"Vietnam","Asia + Pacific",1981,"Vietnam/1981",4.8650000000000002,67.968000000000004,55109176]
[null,"Vietnam","Asia + Pacific",1982,"Vietnam/1982",4.6909999999999998,68.224999999999994,56317461]
[null,"Vietnam","Asia + Pacific",1983,"Vietnam/1983",4.5209999999999999,68.456000000000003,57616926]
[null,"Vietnam","Asia + Pacific",1984,"Vietnam/1984",4.359,68.700999999999993,58959045]
[null,"Vietnam","Asia + Pacific",1985,"Vietnam/1985",4.2050000000000001,68.983000000000004,60307305]
[null,"Vietnam","Asia + Pacific",1986,"Vietnam/1986",4.0629999999999997,69.307000000000002,61647642]
[null,"Vietnam","Asia + Pacific",1987,"Vietnam/1987",3.931,69.646000000000001,62986915]
[null,"Vietnam","Asia + Pacific",1988,"Vietnam/1988",3.806,69.983000000000004,64333357]
[null,"Vietnam","Asia + Pacific",1989,"Vietnam/1989",3.6840000000000002,70.316000000000003,65702500]
[null,"Vietnam","Asia + Pacific",1990,"Vietnam/1990",3.5579999999999998,70.649000000000001,67101583]
[null,"Vietnam","Asia + Pacific",1991,"Vietnam/1991",3.4159999999999999,70.980999999999995,68535628]
[null,"Vietnam","Asia + Pacific",1992,"Vietnam/1992",3.2549999999999999,71.311000000000007,69987617]
[null,"Vietnam","Asia + Pacific",1993,"Vietnam/1993",3.0739999999999998,71.638999999999996,71416812]
[null,"Vietnam","Asia + Pacific",1994,"Vietnam/1994",2.8780000000000001,71.963999999999999,72769366]
[null,"Vietnam","Asia + Pacific",1995,"Vietnam/1995",2.6760000000000002,72.284000000000006,74008073]
[null,"Vietnam","Asia + Pacific",1996,"Vietnam/1996",2.4820000000000002,72.599999999999994,75117209]
[null,"Vietnam","Asia + Pacific",1997,"Vietnam/1997",2.3090000000000002,72.911000000000001,76111109]
[null,"Vietnam","Asia + Pacific",1998,"Vietnam/1998",2.1659999999999999,73.212999999999994,77020331]
[null,"Vietnam","Asia + Pacific",1999,"Vietnam/1999",2.0569999999999999,73.504000000000005,77890899]
[null,"Vietnam","Asia + Pacific",2000,"Vietnam/2000",1.9830000000000001,73.777000000000001,78758010]
[null,"Vietnam","Asia + Pacific",2001,"Vietnam/2001",1.94,74.027000000000001,79629676]
[null,"Vietnam","Asia + Pacific",2002,"Vietnam/2002",1.9179999999999999,74.251999999999995,80500625]
[null,"Vietnam","Asia + Pacific",2003,"Vietnam/2003",1.907,74.451999999999998,81377056]
[null,"Vietnam","Asia + Pacific",2004,"Vietnam/2004",1.9019999999999999,74.629000000000005,82262996]
[null,"Vietnam","Asia + Pacific",2005,"Vietnam/2005",1.897,74.786000000000001,83161145]
[null,"Vietnam","Asia + Pacific",2006,"Vietnam/2006",1.889,74.929000000000002,84075580]
[null,"Vietnam","Asia + Pacific",2007,"Vietnam/2007",1.877,75.066999999999993,85007447]
[null,"Vietnam","Asia + Pacific",2008,"Vietnam/2008",1.8620000000000001,75.203999999999994,85951912]
[null,"Vietnam","Asia + Pacific",2009,"Vietnam/2009",1.843,75.343999999999994,86901173]
[null,"Vietnam","Asia + Pacific",2010,"Vietnam/2010",1.82,75.489999999999995,87848445]
[null,"Vietnam","Asia + Pacific",2011,"Vietnam/2011",1.794,75.641000000000005,88791996]
[null,"Vietnam","Asia + Pacific",2012,"Vietnam/2012",1.768,75.793000000000006,89730274]
[null,"Vietnam","Asia + Pacific",2013,"Vietnam/2013",1.7430000000000001,75.944999999999993,90656550]
[null,"Virgin Islands (U.S.)","North America",1950,"Virgin Islands (U.S.)/1950",5.1420000000000003,57.402999999999999,26795]
[null,"Virgin Islands (U.S.)","North America",1951,"Virgin Islands (U.S.)/1951",5.17,57.904000000000003,27295]
[null,"Virgin Islands (U.S.)","North America",1952,"Virgin Islands (U.S.)/1952",5.2249999999999996,58.865000000000002,27974]
[null,"Virgin Islands (U.S.)","North America",1953,"Virgin Islands (U.S.)/1953",5.2789999999999999,59.743000000000002,28613]
[null,"Virgin Islands (U.S.)","North America",1954,"Virgin Islands (U.S.)/1954",5.3310000000000004,60.537999999999997,29088]
[null,"Virgin Islands (U.S.)","North America",1955,"Virgin Islands (U.S.)/1955",5.383,61.250999999999998,29362]
[null,"Virgin Islands (U.S.)","North America",1956,"Virgin Islands (U.S.)/1956",5.4329999999999998,61.883000000000003,29498]
[null,"Virgin Islands (U.S.)","North America",1957,"Virgin Islands (U.S.)/1957",5.4820000000000002,62.44,29650]
[null,"Virgin Islands (U.S.)","North America",1958,"Virgin Islands (U.S.)/1958",5.5289999999999999,62.927,30045]
[null,"Virgin Islands (U.S.)","North America",1959,"Virgin Islands (U.S.)/1959",5.5739999999999998,63.357999999999997,30960]
[null,"Virgin Islands (U.S.)","North America",1960,"Virgin Islands (U.S.)/1960",5.6150000000000002,63.746000000000002,32632]
[null,"Virgin Islands (U.S.)","North America",1961,"Virgin Islands (U.S.)/1961",5.6509999999999998,64.106999999999999,35178]
[null,"Virgin Islands (U.S.)","North America",1962,"Virgin Islands (U.S.)/1962",5.6790000000000003,64.460999999999999,38513]
[null,"Virgin Islands (U.S.)","North America",1963,"Virgin Islands (U.S.)/1963",5.6959999999999997,64.820999999999998,42314]
[null,"Virgin Islands (U.S.)","North America",1964,"Virgin Islands (U.S.)/1964",5.6980000000000004,65.197999999999993,46122]
[null,"Virgin Islands (U.S.)","North America",1965,"Virgin Islands (U.S.)/1965",5.6790000000000003,65.596999999999994,49610]
[null,"Virgin Islands (U.S.)","North America",1966,"Virgin Islands (U.S.)/1966",5.6340000000000003,66.015000000000001,52624]
[null,"Virgin Islands (U.S.)","North America",1967,"Virgin Islands (U.S.)/1967",5.5609999999999999,66.441999999999993,55278]
[null,"Virgin Islands (U.S.)","North America",1968,"Virgin Islands (U.S.)/1968",5.4589999999999996,66.867000000000004,57831]
[null,"Virgin Islands (U.S.)","North America",1969,"Virgin Islands (U.S.)/1969",5.3280000000000003,67.290000000000006,60675]
[null,"Virgin Islands (U.S.)","North America",1970,"Virgin Islands (U.S.)/1970",5.1669999999999998,67.707999999999998,64070]
[null,"Virgin Islands (U.S.)","North America",1971,"Virgin Islands (U.S.)/1971",4.976,68.122,68102]
[null,"Virgin Islands (U.S.)","North America",1972,"Virgin Islands (U.S.)/1972",4.76,68.534000000000006,72610]
[null,"Virgin Islands (U.S.)","North America",1973,"Virgin Islands (U.S.)/1973",4.5270000000000001,68.941999999999993,77310]
[null,"Virgin Islands (U.S.)","North America",1974,"Virgin Islands (U.S.)/1974",4.2859999999999996,69.343999999999994,81802]
[null,"Virgin Islands (U.S.)","North America",1975,"Virgin Islands (U.S.)/1975",4.0469999999999997,69.733999999999995,85790]
[null,"Virgin Islands (U.S.)","North America",1976,"Virgin Islands (U.S.)/1976",3.8180000000000001,70.108999999999995,89169]
[null,"Virgin Islands (U.S.)","North America",1977,"Virgin Islands (U.S.)/1977",3.6070000000000002,70.463999999999999,92008]
[null,"Virgin Islands (U.S.)","North America",1978,"Virgin Islands (U.S.)/1978",3.42,70.801000000000002,94399]
[null,"Virgin Islands (U.S.)","North America",1979,"Virgin Islands (U.S.)/1979",3.2610000000000001,71.120999999999995,96498]
[null,"Virgin Islands (U.S.)","North America",1980,"Virgin Islands (U.S.)/1980",3.1379999999999999,71.432000000000002,98423]
[null,"Virgin Islands (U.S.)","North America",1981,"Virgin Islands (U.S.)/1981",3.0529999999999999,71.739999999999995,100216]
[null,"Virgin Islands (U.S.)","North America",1982,"Virgin Islands (U.S.)/1982",3,72.054000000000002,101827]
[null,"Virgin Islands (U.S.)","North America",1983,"Virgin Islands (U.S.)/1983",2.9729999999999999,72.378,103177]
[null,"Virgin Islands (U.S.)","North America",1984,"Virgin Islands (U.S.)/1984",2.9670000000000001,72.712999999999994,104146]
[null,"Virgin Islands (U.S.)","North America",1985,"Virgin Islands (U.S.)/1985",2.9729999999999999,73.058000000000007,104668]
[null,"Virgin Islands (U.S.)","North America",1986,"Virgin Islands (U.S.)/1986",2.9860000000000002,73.406999999999996,104698]
[null,"Virgin Islands (U.S.)","North America",1987,"Virgin Islands (U.S.)/1987",2.9969999999999999,73.751999999999995,104319]
[null,"Virgin Islands (U.S.)","North America",1988,"Virgin Islands (U.S.)/1988",2.9990000000000001,74.088999999999999,103761]
[null,"Virgin Islands (U.S.)","North America",1989,"Virgin Islands (U.S.)/1989",2.9870000000000001,74.415000000000006,103333]
[null,"Virgin Islands (U.S.)","North America",1990,"Virgin Islands (U.S.)/1990",2.9540000000000002,74.730999999999995,103253]
[null,"Virgin Islands (U.S.)","North America",1991,"Virgin Islands (U.S.)/1991",2.895,75.037999999999997,103618]
[null,"Virgin Islands (U.S.)","North America",1992,"Virgin Islands (U.S.)/1992",2.8130000000000002,75.34,104356]
[null,"Virgin Islands (U.S.)","North America",1993,"Virgin Islands (U.S.)/1993",2.7120000000000002,75.638999999999996,105315]
[null,"Virgin Islands (U.S.)","North America",1994,"Virgin Islands (U.S.)/1994",2.5990000000000002,75.936000000000007,106260]
[null,"Virgin Islands (U.S.)","North America",1995,"Virgin Islands (U.S.)/1995",2.4809999999999999,76.228999999999999,107018]
[null,"Virgin Islands (U.S.)","North America",1996,"Virgin Islands (U.S.)/1996",2.367,76.518000000000001,107546]
[null,"Virgin Islands (U.S.)","North America",1997,"Virgin Islands (U.S.)/1997",2.2650000000000001,76.799000000000007,107903]
[null,"Virgin Islands (U.S.)","North America",1998,"Virgin Islands (U.S.)/1998",2.1840000000000002,77.069999999999993,108132]
[null,"Virgin Islands (U.S.)","North America",1999,"Virgin Islands (U.S.)/1999",2.1280000000000001,77.33,108316]
[null,"Virgin Islands (U.S.)","North America",2000,"Virgin Islands (U.S.)/2000",2.1,77.573999999999998,108511]
[null,"Virgin Islands (U.S.)","North America",2001,"Virgin Islands (U.S.)/2001",2.101,77.796999999999997,108726]
[null,"Virgin Islands (U.S.)","North America",2002,"Virgin Islands (U.S.)/2002",2.125,78.001000000000005,108933]
[null,"Virgin Islands (U.S.)","North America",2003,"Virgin Islands (U.S.)/2003",2.1669999999999998,78.186000000000007,109122]
[null,"Virgin Islands (U.S.)","North America",2004,"Virgin Islands (U.S.)/2004",2.2189999999999999,78.358000000000004,109270]
[null,"Virgin Islands (U.S.)","North America",2005,"Virgin Islands (U.S.)/2005",2.278,78.522000000000006,109363]
[null,"Virgin Islands (U.S.)","North America",2006,"Virgin Islands (U.S.)/2006",2.3370000000000002,78.688000000000002,109401]
[null,"Virgin Islands (U.S.)","North America",2007,"Virgin Islands (U.S.)/2007",2.391,78.861000000000004,109389]
[null,"Virgin Islands (U.S.)","North America",2008,"Virgin Islands (U.S.)/2008",2.4380000000000002,79.046999999999997,109327]
[null,"Virgin Islands (U.S.)","North America",2009,"Virgin Islands (U.S.)/2009",2.472,79.247,109216]
[null,"Virgin Islands (U.S.)","North America",2010,"Virgin Islands (U.S.)/2010",2.4929999999999999,79.462999999999994,109056]
[null,"Virgin Islands (U.S.)","North America",2011,"Virgin Islands (U.S.)/2011",2.5009999999999999,79.69,108846]
[null,"Virgin Islands (U.S.)","North America",2012,"Virgin Islands (U.S.)/2012",2.4969999999999999,79.921999999999997,108590]
[null,"Virgin Islands (U.S.)","North America",2013,"Virgin Islands (U.S.)/2013",2.4870000000000001,80.152000000000001,108300]
[null,"West Bank and Gaza","West Asia",1950,"West Bank and Gaza/1950",7.5629999999999997,46.121000000000002,931926]
[null,"West Bank and Gaza","West Asia",1951,"West Bank and Gaza/1951",7.4989999999999997,46.213999999999999,923749]
[null,"West Bank and Gaza","West Asia",1952,"West Bank and Gaza/1952",7.39,46.417999999999999,931889]
[null,"West Bank and Gaza","West Asia",1953,"West Bank and Gaza/1953",7.3159999999999998,46.656999999999996,948727]
[null,"West Bank and Gaza","West Asia",1954,"West Bank and Gaza/1954",7.2789999999999999,46.930999999999997,968566]
[null,"West Bank and Gaza","West Asia",1955,"West Bank and Gaza/1955",7.2759999999999998,47.24,987629]
[null,"West Bank and Gaza","West Asia",1956,"West Bank and Gaza/1956",7.3079999999999998,47.585000000000001,1004154]
[null,"West Bank and Gaza","West Asia",1957,"West Bank and Gaza/1957",7.3710000000000004,47.966000000000001,1018301]
[null,"West Bank and Gaza","West Asia",1958,"West Bank and Gaza/1958",7.4610000000000003,48.383000000000003,1031870]
[null,"West Bank and Gaza","West Asia",1959,"West Bank and Gaza/1959",7.569,48.838000000000001,1047848]
[null,"West Bank and Gaza","West Asia",1960,"West Bank and Gaza/1960",7.6870000000000003,49.332000000000001,1069013]
[null,"West Bank and Gaza","West Asia",1961,"West Bank and Gaza/1961",7.8029999999999999,49.865000000000002,1096461]
[null,"West Bank and Gaza","West Asia",1962,"West Bank and Gaza/1962",7.907,50.436999999999998,1128310]
[null,"West Bank and Gaza","West Asia",1963,"West Bank and Gaza/1963",7.9880000000000004,51.042999999999999,1159145]
[null,"West Bank and Gaza","West Asia",1964,"West Bank and Gaza/1964",8.0410000000000004,51.679000000000002,1181587]
[null,"West Bank and Gaza","West Asia",1965,"West Bank and Gaza/1965",8.0630000000000006,52.337000000000003,1190923]
[null,"West Bank and Gaza","West Asia",1966,"West Bank and Gaza/1966",8.0540000000000003,53.01,1184258]
[null,"West Bank and Gaza","West Asia",1967,"West Bank and Gaza/1967",8.0229999999999997,53.691000000000003,1164684]
[null,"West Bank and Gaza","West Asia",1968,"West Bank and Gaza/1968",7.9770000000000003,54.374000000000002,1140772]
[null,"West Bank and Gaza","West Asia",1969,"West Bank and Gaza/1969",7.9210000000000003,55.055999999999997,1124574]
[null,"West Bank and Gaza","West Asia",1970,"West Bank and Gaza/1970",7.8620000000000001,55.735999999999997,1124591]
[null,"West Bank and Gaza","West Asia",1971,"West Bank and Gaza/1971",7.8040000000000003,56.417000000000002,1144161]
[null,"West Bank and Gaza","West Asia",1972,"West Bank and Gaza/1972",7.7489999999999997,57.103000000000002,1180264]
[null,"West Bank and Gaza","West Asia",1973,"West Bank and Gaza/1973",7.6989999999999998,57.796999999999997,1227284]
[null,"West Bank and Gaza","West Asia",1974,"West Bank and Gaza/1974",7.6539999999999999,58.497999999999998,1276627]
[null,"West Bank and Gaza","West Asia",1975,"West Bank and Gaza/1975",7.6120000000000001,59.206000000000003,1322064]
[null,"West Bank and Gaza","West Asia",1976,"West Bank and Gaza/1976",7.57,59.920999999999999,1362064]
[null,"West Bank and Gaza","West Asia",1977,"West Bank and Gaza/1977",7.5209999999999999,60.637999999999998,1398736]
[null,"West Bank and Gaza","West Asia",1978,"West Bank and Gaza/1978",7.4619999999999997,61.353000000000002,1433821]
[null,"West Bank and Gaza","West Asia",1979,"West Bank and Gaza/1979",7.3920000000000003,62.061,1470297]
[null,"West Bank and Gaza","West Asia",1980,"West Bank and Gaza/1980",7.3070000000000004,62.755000000000003,1510360]
[null,"West Bank and Gaza","West Asia",1981,"West Bank and Gaza/1981",7.202,63.432000000000002,1554600]
[null,"West Bank and Gaza","West Asia",1982,"West Bank and Gaza/1982",7.0819999999999999,64.088999999999999,1602309]
[null,"West Bank and Gaza","West Asia",1983,"West Bank and Gaza/1983",6.952,64.72,1652945]
[null,"West Bank and Gaza","West Asia",1984,"West Bank and Gaza/1984",6.8179999999999996,65.319999999999993,1705584]
[null,"West Bank and Gaza","West Asia",1985,"West Bank and Gaza/1985",6.6950000000000003,65.882999999999996,1759763]
[null,"West Bank and Gaza","West Asia",1986,"West Bank and Gaza/1986",6.5990000000000002,66.402000000000001,1815117]
[null,"West Bank and Gaza","West Asia",1987,"West Bank and Gaza/1987",6.5359999999999996,66.878,1872515]
[null,"West Bank and Gaza","West Asia",1988,"West Bank and Gaza/1988",6.5090000000000003,67.313000000000002,1934197]
[null,"West Bank and Gaza","West Asia",1989,"West Bank and Gaza/1989",6.5129999999999999,67.709999999999994,2003149]
[null,"West Bank and Gaza","West Asia",1990,"West Bank and Gaza/1990",6.532,68.076999999999998,2081424]
[null,"West Bank and Gaza","West Asia",1991,"West Bank and Gaza/1991",6.548,68.421000000000006,2169061]
[null,"West Bank and Gaza","West Asia",1992,"West Bank and Gaza/1992",6.5389999999999997,68.751000000000005,2265030]
[null,"West Bank and Gaza","West Asia",1993,"West Bank and Gaza/1993",6.4930000000000003,69.072999999999993,2368849]
[null,"West Bank and Gaza","West Asia",1994,"West Bank and Gaza/1994",6.4039999999999999,69.388000000000005,2479672]
[null,"West Bank and Gaza","West Asia",1995,"West Bank and Gaza/1995",6.274,69.694999999999993,2596289]
[null,"West Bank and Gaza","West Asia",1996,"West Bank and Gaza/1996",6.1109999999999998,69.988,2719644]
[null,"West Bank and Gaza","West Asia",1997,"West Bank and Gaza/1997",5.931,70.260000000000005,2848359]
[null,"West Bank and Gaza","West Asia",1998,"West Bank and Gaza/1998",5.7480000000000002,70.507000000000005,2976131]
[null,"West Bank and Gaza","West Asia",1999,"West Bank and Gaza/1999",5.5709999999999997,70.728999999999999,3094711]
[null,"West Bank and Gaza","West Asia",2000,"West Bank and Gaza/2000",5.4039999999999999,70.929000000000002,3198560]
[null,"West Bank and Gaza","West Asia",2001,"West Bank and Gaza/2001",5.2480000000000002,71.108999999999995,3284920]
[null,"West Bank and Gaza","West Asia",2002,"West Bank and Gaza/2002",5.0999999999999996,71.275999999999996,3356379]
[null,"West Bank and Gaza","West Asia",2003,"West Bank and Gaza/2003",4.9580000000000002,71.436999999999998,3419418]
[null,"West Bank and Gaza","West Asia",2004,"West Bank and Gaza/2004",4.8230000000000004,71.594999999999999,3483483]
[null,"West Bank and Gaza","West Asia",2005,"West Bank and Gaza/2005",4.6970000000000001,71.756,3555582]
[null,"West Bank and Gaza","West Asia",2006,"West Bank and Gaza/2006",4.5810000000000004,71.921999999999997,3637689]
[null,"West Bank and Gaza","West Asia",2007,"West Bank and Gaza/2007",4.476,72.093999999999994,3728259]
[null,"West Bank and Gaza","West Asia",2008,"West Bank and Gaza/2008",4.3810000000000002,72.271000000000001,3826546]
[null,"West Bank and Gaza","West Asia",2009,"West Bank and Gaza/2009",4.2949999999999999,72.453000000000003,3930672]
[null,"West Bank and Gaza","West Asia",2010,"West Bank and Gaza/2010",4.2160000000000002,72.64,4039192]
[null,"West Bank and Gaza","West Asia",2011,"West Bank and Gaza/2011",4.1440000000000001,72.828999999999994,4152369]
[null,"West Bank and Gaza","West Asia",2012,"West Bank and Gaza/2012",4.0759999999999996,73.018000000000001,4270791]
[null,"West Bank and Gaza","West Asia",2013,"West Bank and Gaza/2013",4.01,73.203000000000003,4393572]
[null,"Western Sahara","Africa",1950,"Western Sahara/1950",6.3170000000000002,34.753,13766]
[null,"Western Sahara","Africa",1951,"Western Sahara/1951",6.3230000000000004,34.945999999999998,16066]
[null,"Western Sahara","Africa",1952,"Western Sahara/1952",6.3339999999999996,35.331000000000003,17591]
[null,"Western Sahara","Africa",1953,"Western Sahara/1953",6.3470000000000004,35.715000000000003,18754]
[null,"Western Sahara","Africa",1954,"Western Sahara/1954",6.3620000000000001,36.097000000000001,19877]
[null,"Western Sahara","Africa",1955,"Western Sahara/1955",6.3789999999999996,36.478000000000002,21197]
[null,"Western Sahara","Africa",1956,"Western Sahara/1956",6.3970000000000002,36.857999999999997,22853]
[null,"Western Sahara","Africa",1957,"Western Sahara/1957",6.4160000000000004,37.237000000000002,24895]
[null,"Western Sahara","Africa",1958,"Western Sahara/1958",6.4370000000000003,37.615000000000002,27297]
[null,"Western Sahara","Africa",1959,"Western Sahara/1959",6.4580000000000002,37.991999999999997,29967]
[null,"Western Sahara","Africa",1960,"Western Sahara/1960",6.48,38.368000000000002,32806]
[null,"Western Sahara","Africa",1961,"Western Sahara/1961",6.5030000000000001,38.744999999999997,35763]
[null,"Western Sahara","Africa",1962,"Western Sahara/1962",6.524,39.122,38881]
[null,"Western Sahara","Africa",1963,"Western Sahara/1963",6.5439999999999996,39.5,42323]
[null,"Western Sahara","Africa",1964,"Western Sahara/1964",6.5620000000000003,39.880000000000003,46308]
[null,"Western Sahara","Africa",1965,"Western Sahara/1965",6.5780000000000003,40.256,50938]
[null,"Western Sahara","Africa",1966,"Western Sahara/1966",6.593,40.619,56561]
[null,"Western Sahara","Africa",1967,"Western Sahara/1967",6.6050000000000004,40.969000000000001,63023]
[null,"Western Sahara","Africa",1968,"Western Sahara/1968",6.6150000000000002,41.316000000000003,69339]
[null,"Western Sahara","Africa",1969,"Western Sahara/1969",6.62,41.673999999999999,74168]
[null,"Western Sahara","Africa",1970,"Western Sahara/1970",6.62,42.067,76691]
[null,"Western Sahara","Africa",1971,"Western Sahara/1971",6.6130000000000004,42.524000000000001,76196]
[null,"Western Sahara","Africa",1972,"Western Sahara/1972",6.5970000000000004,43.066000000000003,73333]
[null,"Western Sahara","Africa",1973,"Western Sahara/1973",6.5709999999999997,43.7,70287]
[null,"Western Sahara","Africa",1974,"Western Sahara/1974",6.53,44.426000000000002,70089]
[null,"Western Sahara","Africa",1975,"Western Sahara/1975",6.4710000000000001,45.234000000000002,74789]
[null,"Western Sahara","Africa",1976,"Western Sahara/1976",6.3869999999999996,46.104999999999997,85344]
[null,"Western Sahara","Africa",1977,"Western Sahara/1977",6.2779999999999996,47.009,100766]
[null,"Western Sahara","Africa",1978,"Western Sahara/1978",6.1449999999999996,47.918999999999997,118776]
[null,"Western Sahara","Africa",1979,"Western Sahara/1979",5.99,48.823,136080]
[null,"Western Sahara","Africa",1980,"Western Sahara/1980",5.8179999999999996,49.716999999999999,150303]
[null,"Western Sahara","Africa",1981,"Western Sahara/1981",5.6349999999999998,50.606999999999999,160677]
[null,"Western Sahara","Africa",1982,"Western Sahara/1982",5.4459999999999997,51.502000000000002,167963]
[null,"Western Sahara","Africa",1983,"Western Sahara/1983",5.2590000000000003,52.402000000000001,173189]
[null,"Western Sahara","Africa",1984,"Western Sahara/1984",5.08,53.296999999999997,178007]
[null,"Western Sahara","Africa",1985,"Western Sahara/1985",4.9119999999999999,54.165999999999997,183630]
[null,"Western Sahara","Africa",1986,"Western Sahara/1986",4.7590000000000003,54.985999999999997,190327]
[null,"Western Sahara","Africa",1987,"Western Sahara/1987",4.6180000000000003,55.741999999999997,197692]
[null,"Western Sahara","Africa",1988,"Western Sahara/1988",4.4880000000000004,56.426000000000002,205489]
[null,"Western Sahara","Africa",1989,"Western Sahara/1989",4.3650000000000002,57.037999999999997,213285]
[null,"Western Sahara","Africa",1990,"Western Sahara/1990",4.2460000000000004,57.587000000000003,220794]
[null,"Western Sahara","Africa",1991,"Western Sahara/1991",4.1230000000000002,58.085999999999999,228137]
[null,"Western Sahara","Africa",1992,"Western Sahara/1992",3.9929999999999999,58.561,235580]
[null,"Western Sahara","Africa",1993,"Western Sahara/1993",3.8530000000000002,59.030999999999999,243167]
[null,"Western Sahara","Africa",1994,"Western Sahara/1994",3.706,59.508000000000003,250946]
[null,"Western Sahara","Africa",1995,"Western Sahara/1995",3.5550000000000002,60,259049]
[null,"Western Sahara","Africa",1996,"Western Sahara/1996",3.4079999999999999,60.514000000000003,267217]
[null,"Western Sahara","Africa",1997,"Western Sahara/1997",3.27,61.04,275674]
[null,"Western Sahara","Africa",1998,"Western Sahara/1998",3.1480000000000001,61.572000000000003,285582]
[null,"Western Sahara","Africa",1999,"Western Sahara/1999",3.044,62.106000000000002,298482]
[null,"Western Sahara","Africa",2000,"Western Sahara/2000",2.9569999999999999,62.636000000000003,315340]
[null,"Western Sahara","Africa",2001,"Western Sahara/2001",2.887,63.154000000000003,336758]
[null,"Western Sahara","Africa",2002,"Western Sahara/2002",2.8279999999999998,63.654000000000003,362070]
[null,"Western Sahara","Africa",2003,"Western Sahara/2003",2.774,64.132000000000005,389412]
[null,"Western Sahara","Africa",2004,"Western Sahara/2004",2.7250000000000001,64.582999999999998,416172]
[null,"Western Sahara","Africa",2005,"Western Sahara/2005",2.6789999999999998,65.007999999999996,440469]
[null,"Western Sahara","Africa",2006,"Western Sahara/2006",2.633,65.409000000000006,461610]
[null,"Western Sahara","Africa",2007,"Western Sahara/2007",2.59,65.790000000000006,480140]
[null,"Western Sahara","Africa",2008,"Western Sahara/2008",2.5489999999999999,66.155000000000001,496923]
[null,"Western Sahara","Africa",2009,"Western Sahara/2009",2.5099999999999998,66.507000000000005,513367]
[null,"Western Sahara","Africa",2010,"Western Sahara/2010",2.4710000000000001,66.843999999999994,530500]
[null,"Western Sahara","Africa",2011,"Western Sahara/2011",2.4340000000000002,67.167000000000002,548377]
[null,"Western Sahara","Africa",2012,"Western Sahara/2012",2.3980000000000001,67.472999999999999,566613]
[null,"Western Sahara","Africa",2013,"Western Sahara/2013",2.363,67.763999999999996,585270]
[null,"Yemen, Republic","West Asia",1950,"Yemen, Republic/1950",7.274,23.387,4316001]
[null,"Yemen, Republic","West Asia",1951,"Yemen, Republic/1951",7.2729999999999997,23.86,4382878]
[null,"Yemen, Republic","West Asia",1952,"Yemen, Republic/1952",7.27,24.808,4454322]
[null,"Yemen, Republic","West Asia",1953,"Yemen, Republic/1953",7.2679999999999998,25.756,4529011]
[null,"Yemen, Republic","West Asia",1954,"Yemen, Republic/1954",7.2670000000000003,26.704000000000001,4606037]
[null,"Yemen, Republic","West Asia",1955,"Yemen, Republic/1955",7.2670000000000003,27.652999999999999,4684895]
[null,"Yemen, Republic","West Asia",1956,"Yemen, Republic/1956",7.2679999999999998,28.602,4765512]
[null,"Yemen, Republic","West Asia",1957,"Yemen, Republic/1957",7.27,29.550999999999998,4848224]
[null,"Yemen, Republic","West Asia",1958,"Yemen, Republic/1958",7.2750000000000004,30.498000000000001,4933703]
[null,"Yemen, Republic","West Asia",1959,"Yemen, Republic/1959",7.282,31.443999999999999,5022846]
[null,"Yemen, Republic","West Asia",1960,"Yemen, Republic/1960",7.2919999999999998,32.384999999999998,5116419]
[null,"Yemen, Republic","West Asia",1961,"Yemen, Republic/1961",7.3079999999999998,33.32,5214688]
[null,"Yemen, Republic","West Asia",1962,"Yemen, Republic/1962",7.3280000000000003,34.247,5317095]
[null,"Yemen, Republic","West Asia",1963,"Yemen, Republic/1963",7.3540000000000001,35.162999999999997,5422115]
[null,"Yemen, Republic","West Asia",1964,"Yemen, Republic/1964",7.3849999999999998,36.067999999999998,5527652]
[null,"Yemen, Republic","West Asia",1965,"Yemen, Republic/1965",7.4180000000000001,36.957000000000001,5632206]
[null,"Yemen, Republic","West Asia",1966,"Yemen, Republic/1966",7.4470000000000001,37.826999999999998,5737000]
[null,"Yemen, Republic","West Asia",1967,"Yemen, Republic/1967",7.4710000000000001,38.679000000000002,5842868]
[null,"Yemen, Republic","West Asia",1968,"Yemen, Republic/1968",7.4909999999999997,39.515999999999998,5947698]
[null,"Yemen, Republic","West Asia",1969,"Yemen, Republic/1969",7.5119999999999996,40.345999999999997,6048704]
[null,"Yemen, Republic","West Asia",1970,"Yemen, Republic/1970",7.5419999999999998,41.176000000000002,6144992]
[null,"Yemen, Republic","West Asia",1971,"Yemen, Republic/1971",7.593,42.017000000000003,6235264]
[null,"Yemen, Republic","West Asia",1972,"Yemen, Republic/1972",7.6719999999999997,42.878,6323380]
[null,"Yemen, Republic","West Asia",1973,"Yemen, Republic/1973",7.782,43.762999999999998,6419984]
[null,"Yemen, Republic","West Asia",1974,"Yemen, Republic/1974",7.9219999999999997,44.674999999999997,6539217]
[null,"Yemen, Republic","West Asia",1975,"Yemen, Republic/1975",8.0890000000000004,45.619,6691425]
[null,"Yemen, Republic","West Asia",1976,"Yemen, Republic/1976",8.2769999999999992,46.597000000000001,6880620]
[null,"Yemen, Republic","West Asia",1977,"Yemen, Republic/1977",8.4740000000000002,47.598999999999997,7104782]
[null,"Yemen, Republic","West Asia",1978,"Yemen, Republic/1978",8.6669999999999998,48.613,7360655]
[null,"Yemen, Republic","West Asia",1979,"Yemen, Republic/1979",8.843,49.628,7642329]
[null,"Yemen, Republic","West Asia",1980,"Yemen, Republic/1980",8.9930000000000003,50.633000000000003,7945180]
[null,"Yemen, Republic","West Asia",1981,"Yemen, Republic/1981",9.1080000000000005,51.619,8270681]
[null,"Yemen, Republic","West Asia",1982,"Yemen, Republic/1982",9.1850000000000005,52.573999999999998,8620116]
[null,"Yemen, Republic","West Asia",1983,"Yemen, Republic/1983",9.2230000000000008,53.485999999999997,8988432]
[null,"Yemen, Republic","West Asia",1984,"Yemen, Republic/1984",9.2230000000000008,54.343000000000004,9369068]
[null,"Yemen, Republic","West Asia",1985,"Yemen, Republic/1985",9.1859999999999999,55.128999999999998,9758220]
[null,"Yemen, Republic","West Asia",1986,"Yemen, Republic/1986",9.1189999999999998,55.834000000000003,10149222]
[null,"Yemen, Republic","West Asia",1987,"Yemen, Republic/1987",9.0299999999999994,56.457999999999998,10544972]
[null,"Yemen, Republic","West Asia",1988,"Yemen, Republic/1988",8.9250000000000007,57.003,10962489]
[null,"Yemen, Republic","West Asia",1989,"Yemen, Republic/1989",8.8049999999999997,57.473999999999997,11425336]
[null,"Yemen, Republic","West Asia",1990,"Yemen, Republic/1990",8.6669999999999998,57.875999999999998,11948209]
[null,"Yemen, Republic","West Asia",1991,"Yemen, Republic/1991",8.5039999999999996,58.218000000000004,12540234]
[null,"Yemen, Republic","West Asia",1992,"Yemen, Republic/1992",8.3109999999999999,58.514000000000003,13190192]
[null,"Yemen, Republic","West Asia",1993,"Yemen, Republic/1993",8.0879999999999992,58.779000000000003,13867656]
[null,"Yemen, Republic","West Asia",1994,"Yemen, Republic/1994",7.8410000000000002,59.023000000000003,14530275]
[null,"Yemen, Republic","West Asia",1995,"Yemen, Republic/1995",7.5780000000000003,59.258000000000003,15148172]
[null,"Yemen, Republic","West Asia",1996,"Yemen, Republic/1996",7.31,59.49,15710211]
[null,"Yemen, Republic","West Asia",1997,"Yemen, Republic/1997",7.0490000000000004,59.719000000000001,16226938]
[null,"Yemen, Republic","West Asia",1998,"Yemen, Republic/1998",6.8019999999999996,59.945999999999998,16716850]
[null,"Yemen, Republic","West Asia",1999,"Yemen, Republic/1999",6.5739999999999998,60.173999999999999,17208494]
[null,"Yemen, Republic","West Asia",2000,"Yemen, Republic/2000",6.3630000000000004,60.404000000000003,17723186]
[null,"Yemen, Republic","West Asia",2001,"Yemen, Republic/2001",6.1660000000000004,60.636000000000003,18266008]
[null,"Yemen, Republic","West Asia",2002,"Yemen, Republic/2002",5.9749999999999996,60.865000000000002,18831819]
[null,"Yemen, Republic","West Asia",2003,"Yemen, Republic/2003",5.782,61.088999999999999,19419710]
[null,"Yemen, Republic","West Asia",2004,"Yemen, Republic/2004",5.5880000000000001,61.307000000000002,20026117]
[null,"Yemen, Republic","West Asia",2005,"Yemen, Republic/2005",5.3929999999999998,61.52,20648643]
[null,"Yemen, Republic","West Asia",2006,"Yemen, Republic/2006",5.1989999999999998,61.728000000000002,21288070]
[null,"Yemen, Republic","West Asia",2007,"Yemen, Republic/2007",5.01,61.933,21946990]
[null,"Yemen, Republic","West Asia",2008,"Yemen, Republic/2008",4.8289999999999997,62.136000000000003,22626595]
[null,"Yemen, Republic","West Asia",2009,"Yemen, Republic/2009",4.6580000000000004,62.337000000000003,23328214]
[null,"Yemen, Republic","West Asia",2010,"Yemen, Republic/2010",4.4980000000000002,62.536000000000001,24052514]
[null,"Yemen, Republic","West Asia",2011,"Yemen, Republic/2011",4.3479999999999999,62.731000000000002,24799880]
[null,"Yemen, Republic","West Asia",2012,"Yemen, Republic/2012",4.2069999999999999,62.923000000000002,25569263]
[null,"Yemen, Republic","West Asia",2013,"Yemen, Republic/2013",4.0750000000000002,63.112000000000002,26358020]
[null,"Zambia","Africa",1950,"Zambia/1950",6.7140000000000004,41.235999999999997,2340352]
[null,"Zambia","Africa",1951,"Zambia/1951",6.7210000000000001,41.445,2396669]
[null,"Zambia","Africa",1952,"Zambia/1952",6.7370000000000001,41.863,2456377]
[null,"Zambia","Africa",1953,"Zambia/1953",6.7569999999999997,42.279000000000003,2519173]
[null,"Zambia","Africa",1954,"Zambia/1954",6.7809999999999997,42.694000000000003,2584872]
[null,"Zambia","Africa",1955,"Zambia/1955",6.81,43.107999999999997,2653413]
[null,"Zambia","Africa",1956,"Zambia/1956",6.843,43.52,2724859]
[null,"Zambia","Africa",1957,"Zambia/1957",6.88,43.93,2799397]
[null,"Zambia","Africa",1958,"Zambia/1958",6.9219999999999997,44.335000000000001,2877314]
[null,"Zambia","Africa",1959,"Zambia/1959",6.968,44.734000000000002,2958976]
[null,"Zambia","Africa",1960,"Zambia/1960",7.0179999999999998,45.124000000000002,3044733]
[null,"Zambia","Africa",1961,"Zambia/1961",7.0709999999999997,45.503,3134831]
[null,"Zambia","Africa",1962,"Zambia/1962",7.1269999999999998,45.869,3229329]
[null,"Zambia","Africa",1963,"Zambia/1963",7.1840000000000002,46.225000000000001,3328063]
[null,"Zambia","Africa",1964,"Zambia/1964",7.24,46.573999999999998,3430747]
[null,"Zambia","Africa",1965,"Zambia/1965",7.2919999999999998,46.929000000000002,3537265]
[null,"Zambia","Africa",1966,"Zambia/1966",7.3380000000000001,47.302999999999997,3647470]
[null,"Zambia","Africa",1967,"Zambia/1967",7.3760000000000003,47.704000000000001,3761707]
[null,"Zambia","Africa",1968,"Zambia/1968",7.4050000000000002,48.131,3880914]
[null,"Zambia","Africa",1969,"Zambia/1969",7.4249999999999998,48.58,4006340]
[null,"Zambia","Africa",1970,"Zambia/1970",7.4370000000000003,49.043999999999997,4138837]
[null,"Zambia","Africa",1971,"Zambia/1971",7.4429999999999996,49.512999999999998,4278863]
[null,"Zambia","Africa",1972,"Zambia/1972",7.4459999999999997,49.97,4426079]
[null,"Zambia","Africa",1973,"Zambia/1973",7.4470000000000001,50.392000000000003,4579560]
[null,"Zambia","Africa",1974,"Zambia/1974",7.444,50.76,4737942]
[null,"Zambia","Africa",1975,"Zambia/1975",7.4349999999999996,51.057000000000002,4900255]
[null,"Zambia","Africa",1976,"Zambia/1976",7.4139999999999997,51.273000000000003,5066012]
[null,"Zambia","Africa",1977,"Zambia/1977",7.3780000000000001,51.402000000000001,5235519]
[null,"Zambia","Africa",1978,"Zambia/1978",7.3259999999999996,51.436,5409528]
[null,"Zambia","Africa",1979,"Zambia/1979",7.2590000000000003,51.366,5589172]
[null,"Zambia","Africa",1980,"Zambia/1980",7.1820000000000004,51.171999999999997,5775165]
[null,"Zambia","Africa",1981,"Zambia/1981",7.0979999999999999,50.84,5967511]
[null,"Zambia","Africa",1982,"Zambia/1982",7.0149999999999997,50.372,6165560]
[null,"Zambia","Africa",1983,"Zambia/1983",6.9370000000000003,49.78,6368542]
[null,"Zambia","Africa",1984,"Zambia/1984",6.8650000000000002,49.082999999999998,6575403]
[null,"Zambia","Africa",1985,"Zambia/1985",6.7990000000000004,48.292999999999999,6785211]
[null,"Zambia","Africa",1986,"Zambia/1986",6.7370000000000001,47.427,6998307]
[null,"Zambia","Africa",1987,"Zambia/1987",6.673,46.514000000000003,7214499]
[null,"Zambia","Africa",1988,"Zambia/1988",6.6059999999999999,45.59,7431752]
[null,"Zambia","Africa",1989,"Zambia/1989",6.5369999999999999,44.689,7647450]
[null,"Zambia","Africa",1990,"Zambia/1990",6.468,43.841000000000001,7860053]
[null,"Zambia","Africa",1991,"Zambia/1991",6.4009999999999998,43.061999999999998,8067972]
[null,"Zambia","Africa",1992,"Zambia/1992",6.34,42.366,8272498]
[null,"Zambia","Africa",1993,"Zambia/1993",6.2880000000000003,41.768000000000001,8478471]
[null,"Zambia","Africa",1994,"Zambia/1994",6.2450000000000001,41.293999999999997,8692599]
[null,"Zambia","Africa",1995,"Zambia/1995",6.2089999999999996,40.966999999999999,8919456]
[null,"Zambia","Africa",1996,"Zambia/1996",6.1790000000000003,40.798999999999999,9161931]
[null,"Zambia","Africa",1997,"Zambia/1997",6.1520000000000001,40.793999999999997,9418120]
[null,"Zambia","Africa",1998,"Zambia/1998",6.1260000000000003,40.951999999999998,9682058]
[null,"Zambia","Africa",1999,"Zambia/1999",6.0979999999999999,41.283000000000001,9945115]
[null,"Zambia","Africa",2000,"Zambia/2000",6.0709999999999997,41.802,10201562]
[null,"Zambia","Africa",2001,"Zambia/2001",6.0439999999999996,42.527000000000001,10449825]
[null,"Zambia","Africa",2002,"Zambia/2002",6.0179999999999998,43.45,10693471]
[null,"Zambia","Africa",2003,"Zambia/2003",5.9950000000000001,44.546999999999997,10938261]
[null,"Zambia","Africa",2004,"Zambia/2004",5.9740000000000002,45.790999999999997,11192422]
[null,"Zambia","Africa",2005,"Zambia/2005",5.9539999999999997,47.155999999999999,11462365]
[null,"Zambia","Africa",2006,"Zambia/2006",5.9320000000000004,48.613,11750105]
[null,"Zambia","Africa",2007,"Zambia/2007",5.9080000000000004,50.125999999999998,12055384]
[null,"Zambia","Africa",2008,"Zambia/2008",5.8810000000000002,51.648000000000003,12379612]
[null,"Zambia","Africa",2009,"Zambia/2009",5.8490000000000002,53.137,12723746]
[null,"Zambia","Africa",2010,"Zambia/2010",5.8129999999999997,54.548999999999999,13088570]
[null,"Zambia","Africa",2011,"Zambia/2011",5.7729999999999997,55.850999999999999,13474959]
[null,"Zambia","Africa",2012,"Zambia/2012",5.7309999999999999,57.036999999999999,13883577]
[null,"Zambia","Africa",2013,"Zambia/2013",5.6870000000000003,58.104999999999997,14314515]
[null,"Zimbabwe","Africa",1950,"Zimbabwe/1950",6.7530000000000001,47.691000000000003,2746854]
[null,"Zimbabwe","Africa",1951,"Zimbabwe/1951",6.7610000000000001,47.905000000000001,2830448]
[null,"Zimbabwe","Africa",1952,"Zimbabwe/1952",6.7809999999999997,48.331000000000003,2918424]
[null,"Zimbabwe","Africa",1953,"Zimbabwe/1953",6.8079999999999998,48.753,3010186]
[null,"Zimbabwe","Africa",1954,"Zimbabwe/1954",6.8419999999999996,49.170999999999999,3105348]
[null,"Zimbabwe","Africa",1955,"Zimbabwe/1955",6.883,49.584000000000003,3203736]
[null,"Zimbabwe","Africa",1956,"Zimbabwe/1956",6.9290000000000003,49.991999999999997,3305402]
[null,"Zimbabwe","Africa",1957,"Zimbabwe/1957",6.9820000000000002,50.396000000000001,3410607]
[null,"Zimbabwe","Africa",1958,"Zimbabwe/1958",7.0389999999999997,50.792999999999999,3519798]
[null,"Zimbabwe","Africa",1959,"Zimbabwe/1959",7.0979999999999999,51.183,3633542]
[null,"Zimbabwe","Africa",1960,"Zimbabwe/1960",7.1580000000000004,51.564999999999998,3752373]
[null,"Zimbabwe","Africa",1961,"Zimbabwe/1961",7.2149999999999999,51.938000000000002,3876616]
[null,"Zimbabwe","Africa",1962,"Zimbabwe/1962",7.2670000000000003,52.3,4006236]
[null,"Zimbabwe","Africa",1963,"Zimbabwe/1963",7.3109999999999999,52.651000000000003,4140773]
[null,"Zimbabwe","Africa",1964,"Zimbabwe/1964",7.3470000000000004,52.993000000000002,4279524]
[null,"Zimbabwe","Africa",1965,"Zimbabwe/1965",7.3730000000000002,53.325000000000003,4422087]
[null,"Zimbabwe","Africa",1966,"Zimbabwe/1966",7.391,53.648000000000003,4568266]
[null,"Zimbabwe","Africa",1967,"Zimbabwe/1967",7.4029999999999996,53.965000000000003,4718550]
[null,"Zimbabwe","Africa",1968,"Zimbabwe/1968",7.4109999999999996,54.279000000000003,4874043]
[null,"Zimbabwe","Africa",1969,"Zimbabwe/1969",7.415,54.595999999999997,5036244]
[null,"Zimbabwe","Africa",1970,"Zimbabwe/1970",7.4169999999999998,54.917999999999999,5206229]
[null,"Zimbabwe","Africa",1971,"Zimbabwe/1971",7.4189999999999996,55.247,5385233]
[null,"Zimbabwe","Africa",1972,"Zimbabwe/1972",7.42,55.585999999999999,5573154]
[null,"Zimbabwe","Africa",1973,"Zimbabwe/1973",7.4169999999999998,55.94,5768190]
[null,"Zimbabwe","Africa",1974,"Zimbabwe/1974",7.41,56.311999999999998,5967705]
[null,"Zimbabwe","Africa",1975,"Zimbabwe/1975",7.3949999999999996,56.719000000000001,6170260]
[null,"Zimbabwe","Africa",1976,"Zimbabwe/1976",7.3689999999999998,57.179000000000002,6374197]
[null,"Zimbabwe","Africa",1977,"Zimbabwe/1977",7.33,57.691000000000003,6581329]
[null,"Zimbabwe","Africa",1978,"Zimbabwe/1978",7.2729999999999997,58.246000000000002,6797807]
[null,"Zimbabwe","Africa",1979,"Zimbabwe/1979",7.1959999999999997,58.823,7032001]
[null,"Zimbabwe","Africa",1980,"Zimbabwe/1980",7.0949999999999998,59.405999999999999,7289463]
[null,"Zimbabwe","Africa",1981,"Zimbabwe/1981",6.9669999999999996,59.975000000000001,7571447]
[null,"Zimbabwe","Africa",1982,"Zimbabwe/1982",6.8109999999999999,60.497,7874642]
[null,"Zimbabwe","Africa",1983,"Zimbabwe/1983",6.633,60.933,8194203]
[null,"Zimbabwe","Africa",1984,"Zimbabwe/1984",6.4349999999999996,61.246000000000002,8523090]
[null,"Zimbabwe","Africa",1985,"Zimbabwe/1985",6.2229999999999999,61.4,8855279]
[null,"Zimbabwe","Africa",1986,"Zimbabwe/1986",6.0039999999999996,61.365000000000002,9189169]
[null,"Zimbabwe","Africa",1987,"Zimbabwe/1987",5.7839999999999998,61.133000000000003,9523376]
[null,"Zimbabwe","Africa",1988,"Zimbabwe/1988",5.569,60.697000000000003,9852244]
[null,"Zimbabwe","Africa",1989,"Zimbabwe/1989",5.3650000000000002,60.048999999999999,10169188]
[null,"Zimbabwe","Africa",1990,"Zimbabwe/1990",5.1760000000000002,59.156999999999996,10469202]
[null,"Zimbabwe","Africa",1991,"Zimbabwe/1991",5.0010000000000003,57.99,10748215]
[null,"Zimbabwe","Africa",1992,"Zimbabwe/1992",4.84,56.570999999999998,11005690]
[null,"Zimbabwe","Africa",1993,"Zimbabwe/1993",4.6900000000000004,54.951999999999998,11244552]
[null,"Zimbabwe","Africa",1994,"Zimbabwe/1994",4.5540000000000003,53.197000000000003,11469872]
[null,"Zimbabwe","Africa",1995,"Zimbabwe/1995",4.4320000000000004,51.378,11684693]
[null,"Zimbabwe","Africa",1996,"Zimbabwe/1996",4.3280000000000003,49.564999999999998,11891290]
[null,"Zimbabwe","Africa",1997,"Zimbabwe/1997",4.24,47.838999999999999,12086519]
[null,"Zimbabwe","Africa",1998,"Zimbabwe/1998",4.1689999999999996,46.283999999999999,12261742]
[null,"Zimbabwe","Africa",1999,"Zimbabwe/1999",4.1120000000000001,44.976999999999997,12405236]
[null,"Zimbabwe","Africa",2000,"Zimbabwe/2000",4.069,43.975999999999999,12509477]
[null,"Zimbabwe","Africa",2001,"Zimbabwe/2001",4.0389999999999997,43.31,12575015]
[null,"Zimbabwe","Africa",2002,"Zimbabwe/2002",4.0179999999999998,42.965000000000003,12607791]
[null,"Zimbabwe","Africa",2003,"Zimbabwe/2003",4.0019999999999998,42.936,12612956]
[null,"Zimbabwe","Africa",2004,"Zimbabwe/2004",3.9870000000000001,43.244,12597877]
[null,"Zimbabwe","Africa",2005,"Zimbabwe/2005",3.9689999999999999,43.957999999999998,12570686]
[null,"Zimbabwe","Africa",2006,"Zimbabwe/2006",3.9409999999999998,45.156999999999996,12529655]
[null,"Zimbabwe","Africa",2007,"Zimbabwe/2007",3.903,46.826999999999998,12481245]
[null,"Zimbabwe","Africa",2008,"Zimbabwe/2008",3.8530000000000002,48.89,12451543]
[null,"Zimbabwe","Africa",2009,"Zimbabwe/2009",3.7919999999999998,51.234000000000002,12473992]
[null,"Zimbabwe","Africa",2010,"Zimbabwe/2010",3.7210000000000001,53.683999999999997,12571454]
[null,"Zimbabwe","Africa",2011,"Zimbabwe/2011",3.6429999999999998,56.04,12754378]
[null,"Zimbabwe","Africa",2012,"Zimbabwe/2012",3.5640000000000001,58.142000000000003,13013678]
[null,"Zimbabwe","Africa",2013,"Zimbabwe/2013",3.4860000000000002,59.871000000000002,13327925]

{"sheet":"control","index":2,"n_rows":234,"n_cols":3,"rows_kept":234,"cut":false,"hidden":false,"merged":[]}
[]
[null,"Control"]
[]
[null,"Play"]
[]
[null,"Start year",1950]
[null,"Stop year",2013]
[null,"Delay in milliseconds",300]
[null,"Loop playback",false]
[null,"Current year",1950]
[]
[null,"Filter"]
[]
[null,"Africa",true]
[null,"Asia + Pacific",true]
[null,"Europe",true]
[null,"Latin America + Caribbean",true]
[null,"North America",true]
[null,"West Asia",true]
[]
[null,"Highlight"]
[]
[null,"Selected country 1",66]
[null,"Selected country 2",118]
[null,"Selected country 3",165]
[null,"Display highlighted only",false]
[null,"Show trail country 1",true]
[null,"Show trail country 2",true]
[null,"Show trail country 3",true]
[]
[null,"Sorted list of countries"]
[]
[null,"Afghanistan"]
[null,"Albania"]
[null,"Algeria"]
[null,"Angola"]
[null,"Antigua and Barbuda"]
[null,"Argentina"]
[null,"Armenia"]
[null,"Aruba"]
[null,"Australia"]
[null,"Austria"]
[null,"Azerbaijan"]
[null,"Bahamas"]
[null,"Bahrain"]
[null,"Bangladesh"]
[null,"Barbados"]
[null,"Belarus"]
[null,"Belgium"]
[null,"Belize"]
[null,"Benin"]
[null,"Bhutan"]
[null,"Bolivia"]
[null,"Bosnia and Herzegovina"]
[null,"Botswana"]
[null,"Brazil"]
[null,"Brunei"]
[null,"Bulgaria"]
[null,"Burkina Faso"]
[null,"Burundi"]
[null,"Cambodia"]
[null,"Cameroon"]
[null,"Canada"]
[null,"Cape Verde"]
[null,"Central African Republic"]
[null,"Chad"]
[null,"Channel Islands"]
[null,"Chile"]
[null,"China"]
[null,"Colombia"]
[null,"Comoros"]
[null,"Congo, Dem. Republic"]
[null,"Congo, Republic"]
[null,"Costa Rica"]
[null,"Cote d'Ivoire"]
[null,"Croatia"]
[null,"Cuba"]
[null,"Cyprus"]
[null,"Czech Republic"]
[null,"Denmark"]
[null,"Djibouti"]
[null,"Dominican Republic"]
[null,"Ecuador"]
[null,"Egypt"]
[null,"El Salvador"]
[null,"Equatorial Guinea"]
[null,"Eritrea"]
[null,"Estonia"]
[null,"Ethiopia"]
[null,"Fiji"]
[null,"Finland"]
[null,"France"]
[null,"French Guiana"]
[null,"French Polynesia"]
[null,"Gabon"]
[null,"Gambia"]
[null,"Georgia"]
[null,"Germany"]
[null,"Ghana"]
[null,"Greece"]
[null,"Grenada"]
[null,"Guadeloupe"]
[null,"Guam"]
[null,"Guatemala"]
[null,"Guinea"]
[null,"Guinea-Bissau"]
[null,"Guyana"]
[null,"Haiti"]
[null,"Honduras"]
[null,"Hong Kong, China"]
[null,"Hungary"]
[null,"Iceland"]
[null,"India"]
[null,"Indonesia"]
[null,"Iran"]
[null,"Iraq"]
[null,"Ireland"]
[null,"Israel"]
[null,"Italy"]
[null,"Jamaica"]
[null,"Japan"]
[null,"Jordan"]
[null,"Kazakhstan"]
[null,"Kenya"]
[null,"Kiribati"]
[null,"Korea, Dem. Republic"]
[null,"Korea, Republic"]
[null,"Kuwait"]
[null,"Kyrgyzstan"]
[null,"Laos"]
[null,"Latvia"]
[null,"Lebanon"]
[null,"Lesotho"]
[null,"Liberia"]
[null,"Libya"]
[null,"Lithuania"]
[null,"Luxembourg"]
[null,"Macao, China"]
[null,"Macedonia, FYR"]
[null,"Madagascar"]
[null,"Malawi"]
[null,"Malaysia"]
[null,"Maldives"]
[null,"Mali"]
[null,"Malta"]
[null,"Martinique"]
[null,"Mauritania"]
[null,"Mauritius"]
[null,"Mayotte"]
[null,"Mexico"]
[null,"Micronesia, Fed. Sts."]
[null,"Moldova"]
[null,"Mongolia"]
[null,"Montenegro"]
[null,"Morocco"]
[null,"Mozambique"]
[null,"Myanmar"]
[null,"Namibia"]
[null,"Nepal"]
[null,"Netherlands"]
[null,"Netherlands Antilles"]
[null,"New Caledonia"]
[null,"New Zealand"]
[null,"Nicaragua"]
[null,"Niger"]
[null,"Nigeria"]
[null,"Norway"]
[null,"Oman"]
[null,"Pakistan"]
[null,"Panama"]
[null,"Papua New Guinea"]
[null,"Paraguay"]
[null,"Peru"]
[null,"Philippines"]
[null,"Poland"]
[null,"Portugal"]
[null,"Puerto Rico"]
[null,"Qatar"]
[null,"Reunion"]
[null,"Romania"]
[null,"Russia"]
[null,"Rwanda"]
[null,"Saint Lucia"]
[null,"Saint Vincent and the Grenadines"]
[null,"Samoa"]
[null,"Sao Tome and Principe"]
[null,"Saudi Arabia"]
[null,"Senegal"]
[null,"Serbia"]
[null,"Seychelles"]
[null,"Sierra Leone"]
[null,"Singapore"]
[null,"Slovak Republic"]
[null,"Slovenia"]
[null,"Solomon Islands"]
[null,"Somalia"]
[null,"South Africa"]
[null,"South Sudan"]
[null,"Spain"]
[null,"Sri Lanka"]
[null,"Sudan"]
[null,"Suriname"]
[null,"Swaziland"]
[null,"Sweden"]
[null,"Switzerland"]
[null,"Syria"]
[null,"Taiwan"]
[null,"Tajikistan"]
[null,"Tanzania"]
[null,"Thailand"]
[null,"Timor-Leste"]
[null,"Togo"]
[null,"Tonga"]
[null,"Trinidad and Tobago"]
[null,"Tunisia"]
[null,"Turkey"]
[null,"Turkmenistan"]
[null,"Uganda"]
[null,"Ukraine"]
[null,"United Arab Emirates"]
[null,"United Kingdom"]
[null,"United States"]
[null,"Uruguay"]
[null,"Uzbekistan"]
[null,"Vanuatu"]
[null,"Venezuela"]
[null,"Vietnam"]
[null,"Virgin Islands (U.S.)"]
[null,"West Bank and Gaza"]
[null,"Western Sahara"]
[null,"Yemen, Republic"]
[null,"Zambia"]
[null,"Zimbabwe"]
[null,"None"]

{"sheet":"calculation","index":3,"n_rows":425,"n_cols":10,"rows_kept":425,"cut":false,"hidden":false,"merged":[]}
[]
[null,"Calculations"]
[]
[null,"Highlighted countries"]
[]
[null,null,"Country",null,null,"Position",null,"Fertility","Life Expectancy","Population"]
[null,null,{"$f":"INDEX(control!$B$33:$B$234,control!C23,1)","v":"Germany"},null,null,{"$f":"INDEX($F$14:$F$214,MATCH(C7,$C$14:$C$214,0),1)","v":4161},null,{"$f":"INDEX(tab_data[Fertility],$F7,1)","v":2.0699999999999998},{"$f":"INDEX(tab_data[Life Expectancy],$F7,1)","v":66.775999999999996},{"$f":"INDEX(tab_data[Population],$F7,1)","v":68376002}]
[null,null,{"$f":"INDEX(control!$B$33:$B$234,control!C24,1)","v":"Mexico"},null,null,{"$f":"INDEX($F$14:$F$214,MATCH(C8,$C$14:$C$214,0),1)","v":7489},null,{"$f":"INDEX(tab_data[Fertility],$F8,1)","v":6.6150000000000002},{"$f":"INDEX(tab_data[Life Expectancy],$F8,1)","v":48.555999999999997},{"$f":"INDEX(tab_data[Population],$F8,1)","v":27865814}]
[null,null,{"$f":"INDEX(control!$B$33:$B$234,control!C25,1)","v":"South Africa"},null,null,{"$f":"INDEX($F$14:$F$214,MATCH(C9,$C$14:$C$214,0),1)","v":10497},null,{"$f":"INDEX(tab_data[Fertility],$F9,1)","v":6.3529999999999998},{"$f":"INDEX(tab_data[Life Expectancy],$F9,1)","v":43.546999999999997},{"$f":"INDEX(tab_data[Population],$F9,1)","v":13683162}]
[]
[null,"All countries"]
[]
[null,"Region","Country","Region","Search String (ID)","Position","Filter","Fertility","Life Expectancy","Population"]
[null,"Africa","Algeria","Africa",{"$f":"C14&\"/\"&control!$C$10","v":"Algeria/1950"},{"$f":"MATCH($E14,tab_data[ID (Country/Year)],0)","v":129},{"$f":"AND(INDEX(control!$C$14:$C$19,MATCH(D14,control!$B$14:$B$19,0),1),NOT(control!$C$26))","v":true},{"$f":"IF($G14,INDEX(tab_data[Fertility],$F14,1),NA())","v":7.6470000000000002},{"$f":"IF($G14,INDEX(tab_data[Life Expectancy],$F14,1),NA())","v":42.088999999999999},{"$f":"INDEX(tab_data[Population],$F14,1)","v":8752997}]
[null,null,"Angola","Africa",{"$f":"C15&\"/\"&control!$C$10","v":"Angola/1950"},{"$f":"MATCH($E15,tab_data[ID (Country/Year)],0)","v":193},{"$f":"AND(INDEX(control!$C$14:$C$19,MATCH(D15,control!$B$14:$B$19,0),1),NOT(control!$C$26))","v":true},{"$f":"IF($G15,INDEX(tab_data[Fertility],$F15,1),NA())","v":6.9249999999999998},{"$f":"IF($G15,INDEX(tab_data[Life Expectancy],$F15,1),NA())","v":29.209},{"$f":"INDEX(tab_data[Population],$F15,1)","v":4147509}]
[null,null,"Benin","Africa",{"$f":"C16&\"/\"&control!$C$10","v":"Benin/1950"},{"$f":"MATCH($E16,tab_data[ID (Country/Year)],0)","v":1153},{"$f":"AND(INDEX(control!$C$14:$C$19,MATCH(D16,control!$B$14:$B$19,0),1),NOT(control!$C$26))","v":true},{"$f":"IF($G16,INDEX(tab_data[Fertility],$F16,1),NA())","v":5.7510000000000003},{"$f":"IF($G16,INDEX(tab_data[Life Expectancy],$F16,1),NA())","v":32.695999999999998},{"$f":"INDEX(tab_data[Population],$F16,1)","v":2255222}]
[null,null,"Botswana","Africa",{"$f":"C17&\"/\"&control!$C$10","v":"Botswana/1950"},{"$f":"MATCH($E17,tab_data[ID (Country/Year)],0)","v":1409},{"$f":"AND(INDEX(control!$C$14:$C$19,MATCH(D17,control!$B$14:$B$19,0),1),NOT(control!$C$26))","v":true},{"$f":"IF($G17,INDEX(tab_data[Fertility],$F17,1),NA())","v":6.4690000000000003},{"$f":"IF($G17,INDEX(tab_data[Life Expectancy],$F17,1),NA())","v":46.829000000000001},{"$f":"INDEX(tab_data[Population],$F17,1)","v":412533}]
[null,null,"Burkina Faso","Africa",{"$f":"C18&\"/\"&control!$C$10","v":"Burkina Faso/1950"},{"$f":"MATCH($E18,tab_data[ID (Country/Year)],0)","v":1665},{"$f":"AND(INDEX(control!$C$14:$C$19,MATCH(D18,control!$B$14:$B$19,0),1),NOT(control!$C$26))","v":true},{"$f":"IF($G18,INDEX(tab_data[Fertility],$F18,1),NA())","v":6.0339999999999998},{"$f":"IF($G18,INDEX(tab_data[Life Expectancy],$F18,1),NA())","v":29.981999999999999},{"$f":"INDEX(tab_data[Population],$F18,1)","v":4284459}]
[null,null,"Burundi","Africa",{"$f":"C19&\"/\"&control!$C$10","v":"Burundi/1950"},{"$f":"MATCH($E19,tab_data[ID (Country/Year)],0)","v":1729},{"$f":"AND(INDEX(control!$C$14:$C$19,MATCH(D19,control!$B$14:$B$19,0),1),NOT(control!$C$26))","v":true},{"$f":"IF($G19,INDEX(tab_data[Fertility],$F19,1),NA())","v":6.82},{"$f":"IF($G19,INDEX(tab_data[Life Expectancy],$F19,1),NA())","v":38.426000000000002},{"$f":"INDEX(tab_data[Population],$F19,1)","v":2456300}]
[null,null,"Cameroon","Africa",{"$f":"C20&\"/\"&control!$C$10","v":"Cameroon/1950"},{"$f":"MATCH($E20,tab_data[ID (Country/Year)],0)","v":1857},{"$f":"AND(INDEX(control!$C$14:$C$19,MATCH(D20,control!$B$14:$B$19,0),1),NOT(control!$C$26))","v":true},{"$f":"IF($G20,INDEX(tab_data[Fertility],$F20,1),NA())","v":5.5369999999999999},{"$f":"IF($G20,INDEX(tab_data[Life Expectancy],$F20,1),NA())","v":37.869},{"$f":"INDEX(tab_data[Population],$F20,1)","v":4466497}]
[null,null,"Cape Verde","Africa",{"$f":"C21&\"/\"&control!$C$10","v":"Cape Verde/1950"},{"$f":"MATCH($E21,tab_data[ID (Country/Year)],0)","v":1985},{"$f":"AND(INDEX(control!$C$14:$C$19,MATCH(D21,control!$B$14:$B$19,0),1),NOT(control!$C$26))","v":true},{"$f":"IF($G21,INDEX(tab_data[Fertility],$F21,1),NA())","v":6.4969999999999999},{"$f":"IF($G21,INDEX(tab_data[Life Expectancy],$F21,1),NA())","v":47.801000000000002},{"$f":"INDEX(tab_data[Population],$F21,1)","v":178064}]
[null,null,"Central African Republic","Africa",{"$f":"C22&\"/\"&control!$C$10","v":"Central African Republic/1950"},{"$f":"MATCH($E22,tab_data[ID (Country/Year)],0)","v":2049},{"$f":"AND(INDEX(control!$C$14:$C$19,MATCH(D22,control!$B$14:$B$19,0),1),NOT(control!$C$26))","v":true},{"$f":"IF($G22,INDEX(tab_data[Fertility],$F22,1),NA())","v":5.4029999999999996},{"$f":"IF($G22,INDEX(tab_data[Life Expectancy],$F22,1),NA())","v":32.61},{"$f":"INDEX(tab_data[Population],$F22,1)","v":1326653}]
[null,null,"Chad","Africa",{"$f":"C23&\"/\"&control!$C$10","v":"Chad/1950"},{"$f":"MATCH($E23,tab_data[ID (Country/Year)],0)","v":2113},{"$f":"AND(INDEX(control!$C$14:$C$19,MATCH(D23,control!$B$14:$B$19,0),1),NOT(control!$C$26))","v":true},{"$f":"IF($G23,INDEX(tab_data[Fertility],$F23,1),NA())","v":6.0620000000000003},{"$f":"IF($G23,INDEX(tab_data[Life Expectancy],$F23,1),NA())","v":35.555},{"$f":"INDEX(tab_data[Population],$F23,1)","v":2429431}]
[null,null,"Comoros","Africa",{"$f":"C24&\"/\"&control!$C$10","v":"Comoros/1950"},{"$f":"MATCH($E24,tab_data[ID (Country/Year)],0)","v":2433},{"$f":"AND(INDEX(control!$C$14:$C$19,MATCH(D24,control!$B$14:$B$19,0),1),NOT(control!$C$26))","v":true},{"$f":"IF($G24,INDEX(tab_data[Fertility],$F24,1),NA())","v":5.6859999999999999},{"$f":"IF($G24,INDEX(tab_data[Life Expectancy],$F24,1),NA())","v":40.1},{"$f":"INDEX(tab_data[Population],$F24,1)","v":156334}]
[null,null,"Congo, Dem. Republic","Africa",{"$f":"C25&\"/\"&control!$C$10","v":"Congo, Dem. Republic/1950"},{"$f":"MATCH($E25,tab_data[ID (Country/Year)],0)","v":2497},{"$f":"AND(INDEX(control!$C$14:$C$19,MATCH(D25,control!$B$14:$B$19,0),1),NOT(control!$C$26))","v":true},{"$f":"IF($G25,INDEX(tab_data[Fertility],$F25,1),NA())","v":5.9939999999999998},{"$f":"IF($G25,INDEX(tab_data[Life Expectancy],$F25,1),NA())","v":38.341999999999999},{"$f":"INDEX(tab_data[Population],$F25,1)","v":12183661}]
[null,null,"Congo, Republic","Africa",{"$f":"C26&\"/\"&control!$C$10","v":"Congo, Republic/1950"},{"$f":"MATCH($E26,tab_data[ID (Country/Year)],0)","v":2561},{"$f":"AND(INDEX(control!$C$14:$C$19,MATCH(D26,control!$B$14:$B$19,0),1),NOT(control!$C$26))","v":true},{"$f":"IF($G26,INDEX(tab_data[Fertility],$F26,1),NA())","v":5.6689999999999996},{"$f":"IF($G26,INDEX(tab_data[Life Expectancy],$F26,1),NA())","v":41.625},{"$f":"INDEX(tab_data[Population],$F26,1)","v":807726}]
[null,null,"Cote d'Ivoire","Africa",{"$f":"C27&\"/\"&control!$C$10","v":"Cote d'Ivoire/1950"},{"$f":"MATCH($E27,tab_data[ID (Country/Year)],0)","v":2689},{"$f":"AND(INDEX(control!$C$14:$C$19,MATCH(D27,control!$B$14:$B$19,0),1),NOT(control!$C$26))","v":true},{"$f":"IF($G27,INDEX(tab_data[Fertility],$F27,1),NA())","v":6.6219999999999999},{"$f":"IF($G27,INDEX(tab_data[Life Expectancy],$F27,1),NA())","v":31.155999999999999},{"$f":"INDEX(tab_data[Population],$F27,1)","v":2630132}]
[null,null,"Djibouti","Africa",{"$f":"C28&\"/\"&control!$C$10","v":"Djibouti/1950"},{"$f":"MATCH($E28,tab_data[ID (Country/Year)],0)","v":3073},{"$f":"AND(INDEX(control!$C$14:$C$19,MATCH(D28,control!$B$14:$B$19,0),1),NOT(control!$C$26))","v":true},{"$f":"IF($G28,INDEX(tab_data[Fertility],$F28,1),NA())","v":6.3040000000000003},{"$f":"IF($G28,INDEX(tab_data[Life Expectancy],$F28,1),NA())","v":40.375},{"$f":"INDEX(tab_data[Population],$F28,1)","v":62001}]
[null,null,"Egypt","Africa",{"$f":"C29&\"/\"&control!$C$10","v":"Egypt/1950"},{"$f":"MATCH($E29,tab_data[ID (Country/Year)],0)","v":3265},{"$f":"AND(INDEX(control!$C$14:$C$19,MATCH(D29,control!$B$14:$B$19,0),1),NOT(control!$C$26))","v":true},{"$f":"IF($G29,INDEX(tab_data[Fertility],$F29,1),NA())","v":6.5880000000000001},{"$f":"IF($G29,INDEX(tab_data[Life Expectancy],$F29,1),NA())","v":38.466000000000001},{"$f":"INDEX(tab_data[Population],$F29,1)","v":21514023}]
[null,null,"Equatorial Guinea","Africa",{"$f":"C30&\"/\"&control!$C$10","v":"Equatorial Guinea/1950"},{"$f":"MATCH($E30,tab_data[ID (Country/Year)],0)","v":3393},{"$f":"AND(INDEX(control!$C$14:$C$19,MATCH(D30,control!$B$14:$B$19,0),1),NOT(control!$C$26))","v":true},{"$f":"IF($G30,INDEX(tab_data[Fertility],$F30,1),NA())","v":5.5060000000000002},{"$f":"IF($G30,INDEX(tab_data[Life Expectancy],$F30,1),NA())","v":33.881999999999998},{"$f":"INDEX(tab_data[Population],$F30,1)","v":225536}]
[null,null,"Eritrea","Africa",{"$f":"C31&\"/\"&control!$C$10","v":"Eritrea/1950"},{"$f":"MATCH($E31,tab_data[ID (Country/Year)],0)","v":3457},{"$f":"AND(INDEX(control!$C$14:$C$19,MATCH(D31,control!$B$14:$B$19,0),1),NOT(control!$C$26))","v":true},{"$f":"IF($G31,INDEX(tab_data[Fertility],$F31,1),NA())","v":6.9240000000000004},{"$f":"IF($G31,INDEX(tab_data[Life Expectancy],$F31,1),NA())","v":35.462000000000003},{"$f":"INDEX(tab_data[Population],$F31,1)","v":1141300}]
[null,null,"Ethiopia","Africa",{"$f":"C32&\"/\"&control!$C$10","v":"Ethiopia/1950"},{"$f":"MATCH($E32,tab_data[ID (Country/Year)],0)","v":3585},{"$f":"AND(INDEX(control!$C$14:$C$19,MATCH(D32,control!$B$14:$B$19,0),1),NOT(control!$C$26))","v":true},{"$f":"IF($G32,INDEX(tab_data[Fertility],$F32,1),NA())","v":7.35},{"$f":"IF($G32,INDEX(tab_data[Life Expectancy],$F32,1),NA())","v":33.299999999999997},{"$f":"INDEX(tab_data[Population],$F32,1)","v":18433866}]
[null,null,"Gabon","Africa",{"$f":"C33&\"/\"&control!$C$10","v":"Gabon/1950"},{"$f":"MATCH($E33,tab_data[ID (Country/Year)],0)","v":3969},{"$f":"AND(INDEX(control!$C$14:$C$19,MATCH(D33,control!$B$14:$B$19,0),1),NOT(control!$C$26))","v":true},{"$f":"IF($G33,INDEX(tab_data[Fertility],$F33,1),NA())","v":3.948},{"$f":"IF($G33,INDEX(tab_data[Life Expectancy],$F33,1),NA())","v":35.963000000000001},{"$f":"INDEX(tab_data[Population],$F33,1)","v":469000}]
[null,null,"Gambia","Africa",{"$f":"C34&\"/\"&control!$C$10","v":"Gambia/1950"},{"$f":"MATCH($E34,tab_data[ID (Country/Year)],0)","v":4033},{"$f":"AND(INDEX(control!$C$14:$C$19,MATCH(D34,control!$B$14:$B$19,0),1),NOT(control!$C$26))","v":true},{"$f":"IF($G34,INDEX(tab_data[Fertility],$F34,1),NA())","v":5.23},{"$f":"IF($G34,INDEX(tab_data[Life Expectancy],$F34,1),NA())","v":29.690999999999999},{"$f":"INDEX(tab_data[Population],$F34,1)","v":271372}]
[null,null,"Ghana","Africa",{"$f":"C35&\"/\"&control!$C$10","v":"Ghana/1950"},{"$f":"MATCH($E35,tab_data[ID (Country/Year)],0)","v":4225},{"$f":"AND(INDEX(control!$C$14:$C$19,MATCH(D35,control!$B$14:$B$19,0),1),NOT(control!$C$26))","v":true},{"$f":"IF($G35,INDEX(tab_data[Fertility],$F35,1),NA())","v":6.367},{"$f":"IF($G35,INDEX(tab_data[Life Expectancy],$F35,1),NA())","v":41.122},{"$f":"INDEX(tab_data[Population],$F35,1)","v":4980879}]
[null,null,"Guinea","Africa",{"$f":"C36&\"/\"&control!$C$10","v":"Guinea/1950"},{"$f":"MATCH($E36,tab_data[ID (Country/Year)],0)","v":4609},{"$f":"AND(INDEX(control!$C$14:$C$19,MATCH(D36,control!$B$14:$B$19,0),1),NOT(control!$C$26))","v":true},{"$f":"IF($G36,INDEX(tab_data[Fertility],$F36,1),NA())","v":5.9770000000000003},{"$f":"IF($G36,INDEX(tab_data[Life Expectancy],$F36,1),NA())","v":32.536000000000001},{"$f":"INDEX(tab_data[Population],$F36,1)","v":3093652}]
[null,null,"Guinea-Bissau","Africa",{"$f":"C37&\"/\"&control!$C$10","v":"Guinea-Bissau/1950"},{"$f":"MATCH($E37,tab_data[ID (Country/Year)],0)","v":4673},{"$f":"AND(INDEX(control!$C$14:$C$19,MATCH(D37,control!$B$14:$B$19,0),1),NOT(control!$C$26))","v":true},{"$f":"IF($G37,INDEX(tab_data[Fertility],$F37,1),NA())","v":0},{"$f":"IF($G37,INDEX(tab_data[Life Expectancy],$F37,1),NA())","v":0},{"$f":"INDEX(tab_data[Population],$F37,1)","v":0}]
[null,null,"Kenya","Africa",{"$f":"C38&\"/\"&control!$C$10","v":"Kenya/1950"},{"$f":"MATCH($E38,tab_data[ID (Country/Year)],0)","v":5825},{"$f":"AND(INDEX(control!$C$14:$C$19,MATCH(D38,control!$B$14:$B$19,0),1),NOT(control!$C$26))","v":true},{"$f":"IF($G38,INDEX(tab_data[Fertility],$F38,1),NA())","v":7.36},{"$f":"IF($G38,INDEX(tab_data[Life Expectancy],$F38,1),NA())","v":41.585000000000001},{"$f":"INDEX(tab_data[Population],$F38,1)","v":6076757}]
[null,null,"Lesotho","Africa",{"$f":"C39&\"/\"&control!$C$10","v":"Lesotho/1950"},{"$f":"MATCH($E39,tab_data[ID (Country/Year)],0)","v":6401},{"$f":"AND(INDEX(control!$C$14:$C$19,MATCH(D39,control!$B$14:$B$19,0),1),NOT(control!$C$26))","v":true},{"$f":"IF($G39,INDEX(tab_data[Fertility],$F39,1),NA())","v":5.8109999999999999},{"$f":"IF($G39,INDEX(tab_data[Life Expectancy],$F39,1),NA())","v":41.018999999999998},{"$f":"INDEX(tab_data[Population],$F39,1)","v":733942}]
[null,null,"Liberia","Africa",{"$f":"C40&\"/\"&control!$C$10","v":"Liberia/1950"},{"$f":"MATCH($E40,tab_data[ID (Country/Year)],0)","v":6465},{"$f":"AND(INDEX(control!$C$14:$C$19,MATCH(D40,control!$B$14:$B$19,0),1),NOT(control!$C$26))","v":true},{"$f":"IF($G40,INDEX(tab_data[Fertility],$F40,1),NA())","v":6.2510000000000003},{"$f":"IF($G40,INDEX(tab_data[Life Expectancy],$F40,1),NA())","v":32.69},{"$f":"INDEX(tab_data[Population],$F40,1)","v":911140}]
[null,null,"Libya","Africa",{"$f":"C41&\"/\"&control!$C$10","v":"Libya/1950"},{"$f":"MATCH($E41,tab_data[ID (Country/Year)],0)","v":6529},{"$f":"AND(INDEX(control!$C$14:$C$19,MATCH(D41,control!$B$14:$B$19,0),1),NOT(control!$C$26))","v":true},{"$f":"IF($G41,INDEX(tab_data[Fertility],$F41,1),NA())","v":7.1980000000000004},{"$f":"IF($G41,INDEX(tab_data[Life Expectancy],$F41,1),NA())","v":37.271000000000001},{"$f":"INDEX(tab_data[Population],$F41,1)","v":1029010}]
[null,null,"Madagascar","Africa",{"$f":"C42&\"/\"&control!$C$10","v":"Madagascar/1950"},{"$f":"MATCH($E42,tab_data[ID (Country/Year)],0)","v":6849},{"$f":"AND(INDEX(control!$C$14:$C$19,MATCH(D42,control!$B$14:$B$19,0),1),NOT(control!$C$26))","v":true},{"$f":"IF($G42,INDEX(tab_data[Fertility],$F42,1),NA())","v":7.3},{"$f":"IF($G42,INDEX(tab_data[Life Expectancy],$F42,1),NA())","v":35.348999999999997},{"$f":"INDEX(tab_data[Population],$F42,1)","v":4083554}]
[null,null,"Malawi","Africa",{"$f":"C43&\"/\"&control!$C$10","v":"Malawi/1950"},{"$f":"MATCH($E43,tab_data[ID (Country/Year)],0)","v":6913},{"$f":"AND(INDEX(control!$C$14:$C$19,MATCH(D43,control!$B$14:$B$19,0),1),NOT(control!$C$26))","v":true},{"$f":"IF($G43,INDEX(tab_data[Fertility],$F43,1),NA())","v":6.7850000000000001},{"$f":"IF($G43,INDEX(tab_data[Life Expectancy],$F43,1),NA())","v":36.024000000000001},{"$f":"INDEX(tab_data[Population],$F43,1)","v":2880700}]
[null,null,"Mali","Africa",{"$f":"C44&\"/\"&control!$C$10","v":"Mali/1950"},{"$f":"MATCH($E44,tab_data[ID (Country/Year)],0)","v":7105},{"$f":"AND(INDEX(control!$C$14:$C$19,MATCH(D44,control!$B$14:$B$19,0),1),NOT(control!$C$26))","v":true},{"$f":"IF($G44,INDEX(tab_data[Fertility],$F44,1),NA())","v":6.4009999999999998},{"$f":"IF($G44,INDEX(tab_data[Life Expectancy],$F44,1),NA())","v":26.408000000000001},{"$f":"INDEX(tab_data[Population],$F44,1)","v":4637633}]
[null,null,"Mauritania","Africa",{"$f":"C45&\"/\"&control!$C$10","v":"Mauritania/1950"},{"$f":"MATCH($E45,tab_data[ID (Country/Year)],0)","v":7297},{"$f":"AND(INDEX(control!$C$14:$C$19,MATCH(D45,control!$B$14:$B$19,0),1),NOT(control!$C$26))","v":true},{"$f":"IF($G45,INDEX(tab_data[Fertility],$F45,1),NA())","v":6.117},{"$f":"IF($G45,INDEX(tab_data[Life Expectancy],$F45,1),NA())","v":37.445},{"$f":"INDEX(tab_data[Population],$F45,1)","v":657182}]
[null,null,"Mauritius","Africa",{"$f":"C46&\"/\"&control!$C$10","v":"Mauritius/1950"},{"$f":"MATCH($E46,tab_data[ID (Country/Year)],0)","v":7361},{"$f":"AND(INDEX(control!$C$14:$C$19,MATCH(D46,control!$B$14:$B$19,0),1),NOT(control!$C$26))","v":true},{"$f":"IF($G46,INDEX(tab_data[Fertility],$F46,1),NA())","v":6.0490000000000004},{"$f":"IF($G46,INDEX(tab_data[Life Expectancy],$F46,1),NA())","v":48.084000000000003},{"$f":"INDEX(tab_data[Population],$F46,1)","v":493254}]
[null,null,"Mayotte","Africa",{"$f":"C47&\"/\"&control!$C$10","v":"Mayotte/1950"},{"$f":"MATCH($E47,tab_data[ID (Country/Year)],0)","v":7425},{"$f":"AND(INDEX(control!$C$14:$C$19,MATCH(D47,control!$B$14:$B$19,0),1),NOT(control!$C$26))","v":true},{"$f":"IF($G47,INDEX(tab_data[Fertility],$F47,1),NA())","v":7.91},{"$f":"IF($G47,INDEX(tab_data[Life Expectancy],$F47,1),NA())","v":44.709000000000003},{"$f":"INDEX(tab_data[Population],$F47,1)","v":15141}]
[null,null,"Morocco","Africa",{"$f":"C48&\"/\"&control!$C$10","v":"Morocco/1950"},{"$f":"MATCH($E48,tab_data[ID (Country/Year)],0)","v":7809},{"$f":"AND(INDEX(control!$C$14:$C$19,MATCH(D48,control!$B$14:$B$19,0),1),NOT(control!$C$26))","v":true},{"$f":"IF($G48,INDEX(tab_data[Fertility],$F48,1),NA())","v":6.5},{"$f":"IF($G48,INDEX(tab_data[Life Expectancy],$F48,1),NA())","v":45.036999999999999},{"$f":"INDEX(tab_data[Population],$F48,1)","v":8953000}]
[null,null,"Mozambique","Africa",{"$f":"C49&\"/\"&control!$C$10","v":"Mozambique/1950"},{"$f":"MATCH($E49,tab_data[ID (Country/Year)],0)","v":7873},{"$f":"AND(INDEX(control!$C$14:$C$19,MATCH(D49,control!$B$14:$B$19,0),1),NOT(control!$C$26))","v":true},{"$f":"IF($G49,INDEX(tab_data[Fertility],$F49,1),NA())","v":6.6},{"$f":"IF($G49,INDEX(tab_data[Life Expectancy],$F49,1),NA())","v":30.276},{"$f":"INDEX(tab_data[Population],$F49,1)","v":6442133}]
[null,null,"Namibia","Africa",{"$f":"C50&\"/\"&control!$C$10","v":"Namibia/1950"},{"$f":"MATCH($E50,tab_data[ID (Country/Year)],0)","v":8001},{"$f":"AND(INDEX(control!$C$14:$C$19,MATCH(D50,control!$B$14:$B$19,0),1),NOT(control!$C$26))","v":true},{"$f":"IF($G50,INDEX(tab_data[Fertility],$F50,1),NA())","v":5.9619999999999997},{"$f":"IF($G50,INDEX(tab_data[Life Expectancy],$F50,1),NA())","v":40.253},{"$f":"INDEX(tab_data[Population],$F50,1)","v":485274}]
[null,null,"Niger","Africa",{"$f":"C51&\"/\"&control!$C$10","v":"Niger/1950"},{"$f":"MATCH($E51,tab_data[ID (Country/Year)],0)","v":8449},{"$f":"AND(INDEX(control!$C$14:$C$19,MATCH(D51,control!$B$14:$B$19,0),1),NOT(control!$C$26))","v":true},{"$f":"IF($G51,INDEX(tab_data[Fertility],$F51,1),NA())","v":6.86},{"$f":"IF($G51,INDEX(tab_data[Life Expectancy],$F51,1),NA())","v":34.880000000000003},{"$f":"INDEX(tab_data[Population],$F51,1)","v":2461726}]
[null,null,"Nigeria","Africa",{"$f":"C52&\"/\"&control!$C$10","v":"Nigeria/1950"},{"$f":"MATCH($E52,tab_data[ID (Country/Year)],0)","v":8513},{"$f":"AND(INDEX(control!$C$14:$C$19,MATCH(D52,control!$B$14:$B$19,0),1),NOT(control!$C$26))","v":true},{"$f":"IF($G52,INDEX(tab_data[Fertility],$F52,1),NA())","v":6.3570000000000002},{"$f":"IF($G52,INDEX(tab_data[Life Expectancy],$F52,1),NA())","v":33.326999999999998},{"$f":"INDEX(tab_data[Population],$F52,1)","v":37859746}]
[null,null,"Reunion","Africa",{"$f":"C53&\"/\"&control!$C$10","v":"Reunion/1950"},{"$f":"MATCH($E53,tab_data[ID (Country/Year)],0)","v":9345},{"$f":"AND(INDEX(control!$C$14:$C$19,MATCH(D53,control!$B$14:$B$19,0),1),NOT(control!$C$26))","v":true},{"$f":"IF($G53,INDEX(tab_data[Fertility],$F53,1),NA())","v":7.19},{"$f":"IF($G53,INDEX(tab_data[Life Expectancy],$F53,1),NA())","v":45.311},{"$f":"INDEX(tab_data[Population],$F53,1)","v":248111}]
[null,null,"Rwanda","Africa",{"$f":"C54&\"/\"&control!$C$10","v":"Rwanda/1950"},{"$f":"MATCH($E54,tab_data[ID (Country/Year)],0)","v":9537},{"$f":"AND(INDEX(control!$C$14:$C$19,MATCH(D54,control!$B$14:$B$19,0),1),NOT(control!$C$26))","v":true},{"$f":"IF($G54,INDEX(tab_data[Fertility],$F54,1),NA())","v":7.9160000000000004},{"$f":"IF($G54,INDEX(tab_data[Life Expectancy],$F54,1),NA())","v":39.408000000000001},{"$f":"INDEX(tab_data[Population],$F54,1)","v":2072195}]
[null,null,"Sao Tome and Principe","Africa",{"$f":"C55&\"/\"&control!$C$10","v":"Sao Tome and Principe/1950"},{"$f":"MATCH($E55,tab_data[ID (Country/Year)],0)","v":9793},{"$f":"AND(INDEX(control!$C$14:$C$19,MATCH(D55,control!$B$14:$B$19,0),1),NOT(control!$C$26))","v":true},{"$f":"IF($G55,INDEX(tab_data[Fertility],$F55,1),NA())","v":6.2270000000000003},{"$f":"IF($G55,INDEX(tab_data[Life Expectancy],$F55,1),NA())","v":45.545999999999999},{"$f":"INDEX(tab_data[Population],$F55,1)","v":60000}]
[null,null,"Senegal","Africa",{"$f":"C56&\"/\"&control!$C$10","v":"Senegal/1950"},{"$f":"MATCH($E56,tab_data[ID (Country/Year)],0)","v":9921},{"$f":"AND(INDEX(control!$C$14:$C$19,MATCH(D56,control!$B$14:$B$19,0),1),NOT(control!$C$26))","v":true},{"$f":"IF($G56,INDEX(tab_data[Fertility],$F56,1),NA())","v":6.4560000000000004},{"$f":"IF($G56,INDEX(tab_data[Life Expectancy],$F56,1),NA())","v":34.508000000000003},{"$f":"INDEX(tab_data[Population],$F56,1)","v":2416264}]
[null,null,"Seychelles","Africa",{"$f":"C57&\"/\"&control!$C$10","v":"Seychelles/1950"},{"$f":"MATCH($E57,tab_data[ID (Country/Year)],0)","v":10049},{"$f":"AND(INDEX(control!$C$14:$C$19,MATCH(D57,control!$B$14:$B$19,0),1),NOT(control!$C$26))","v":true},{"$f":"IF($G57,INDEX(tab_data[Fertility],$F57,1),NA())","v":5.157},{"$f":"IF($G57,INDEX(tab_data[Life Expectancy],$F57,1),NA())","v":57.994},{"$f":"INDEX(tab_data[Population],$F57,1)","v":36322}]
[null,null,"Sierra Leone","Africa",{"$f":"C58&\"/\"&control!$C$10","v":"Sierra Leone/1950"},{"$f":"MATCH($E58,tab_data[ID (Country/Year)],0)","v":10113},{"$f":"AND(INDEX(control!$C$14:$C$19,MATCH(D58,control!$B$14:$B$19,0),1),NOT(control!$C$26))","v":true},{"$f":"IF($G58,INDEX(tab_data[Fertility],$F58,1),NA())","v":5.7240000000000002},{"$f":"IF($G58,INDEX(tab_data[Life Expectancy],$F58,1),NA())","v":28.42},{"$f":"INDEX(tab_data[Population],$F58,1)","v":1895409}]
[null,null,"Somalia","Africa",{"$f":"C59&\"/\"&control!$C$10","v":"Somalia/1950"},{"$f":"MATCH($E59,tab_data[ID (Country/Year)],0)","v":10433},{"$f":"AND(INDEX(control!$C$14:$C$19,MATCH(D59,control!$B$14:$B$19,0),1),NOT(control!$C$26))","v":true},{"$f":"IF($G59,INDEX(tab_data[Fertility],$F59,1),NA())","v":7.2480000000000002},{"$f":"IF($G59,INDEX(tab_data[Life Expectancy],$F59,1),NA())","v":33.177999999999997},{"$f":"INDEX(tab_data[Population],$F59,1)","v":2264081}]
[null,null,"South Africa","Africa",{"$f":"C60&\"/\"&control!$C$10","v":"South Africa/1950"},{"$f":"MATCH($E60,tab_data[ID (Country/Year)],0)","v":10497},{"$f":"AND(INDEX(control!$C$14:$C$19,MATCH(D60,control!$B$14:$B$19,0),1),NOT(control!$C$26))","v":true},{"$f":"IF($G60,INDEX(tab_data[Fertility],$F60,1),NA())","v":6.3529999999999998},{"$f":"IF($G60,INDEX(tab_data[Life Expectancy],$F60,1),NA())","v":43.546999999999997},{"$f":"INDEX(tab_data[Population],$F60,1)","v":13683162}]
[null,null,"South Sudan","Africa",{"$f":"C61&\"/\"&control!$C$10","v":"South Sudan/1950"},{"$f":"MATCH($E61,tab_data[ID (Country/Year)],0)","v":10561},{"$f":"AND(INDEX(control!$C$14:$C$19,MATCH(D61,control!$B$14:$B$19,0),1),NOT(control!$C$26))","v":true},{"$f":"IF($G61,INDEX(tab_data[Fertility],$F61,1),NA())","v":6.6280000000000001},{"$f":"IF($G61,INDEX(tab_data[Life Expectancy],$F61,1),NA())","v":26.664999999999999},{"$f":"INDEX(tab_data[Population],$F61,1)","v":1880222}]
[null,null,"Sudan","Africa",{"$f":"C62&\"/\"&control!$C$10","v":"Sudan/1950"},{"$f":"MATCH($E62,tab_data[ID (Country/Year)],0)","v":10753},{"$f":"AND(INDEX(control!$C$14:$C$19,MATCH(D62,control!$B$14:$B$19,0),1),NOT(control!$C$26))","v":true},{"$f":"IF($G62,INDEX(tab_data[Fertility],$F62,1),NA())","v":6.6749999999999998},{"$f":"IF($G62,INDEX(tab_data[Life Expectancy],$F62,1),NA())","v":43.414000000000001},{"$f":"INDEX(tab_data[Population],$F62,1)","v":7309769}]
[null,null,"Swaziland","Africa",{"$f":"C63&\"/\"&control!$C$10","v":"Swaziland/1950"},{"$f":"MATCH($E63,tab_data[ID (Country/Year)],0)","v":10881},{"$f":"AND(INDEX(control!$C$14:$C$19,MATCH(D63,control!$B$14:$B$19,0),1),NOT(control!$C$26))","v":true},{"$f":"IF($G63,INDEX(tab_data[Fertility],$F63,1),NA())","v":6.7110000000000003},{"$f":"IF($G63,INDEX(tab_data[Life Expectancy],$F63,1),NA())","v":40.497999999999998},{"$f":"INDEX(tab_data[Population],$F63,1)","v":273000}]
[null,null,"Tanzania","Africa",{"$f":"C64&\"/\"&control!$C$10","v":"Tanzania/1950"},{"$f":"MATCH($E64,tab_data[ID (Country/Year)],0)","v":11265},{"$f":"AND(INDEX(control!$C$14:$C$19,MATCH(D64,control!$B$14:$B$19,0),1),NOT(control!$C$26))","v":true},{"$f":"IF($G64,INDEX(tab_data[Fertility],$F64,1),NA())","v":6.6989999999999998},{"$f":"IF($G64,INDEX(tab_data[Life Expectancy],$F64,1),NA())","v":40.402000000000001},{"$f":"INDEX(tab_data[Population],$F64,1)","v":7649766}]
[null,null,"Togo","Africa",{"$f":"C65&\"/\"&control!$C$10","v":"Togo/1950"},{"$f":"MATCH($E65,tab_data[ID (Country/Year)],0)","v":11457},{"$f":"AND(INDEX(control!$C$14:$C$19,MATCH(D65,control!$B$14:$B$19,0),1),NOT(control!$C$26))","v":true},{"$f":"IF($G65,INDEX(tab_data[Fertility],$F65,1),NA())","v":6.335},{"$f":"IF($G65,INDEX(tab_data[Life Expectancy],$F65,1),NA())","v":33.927},{"$f":"INDEX(tab_data[Population],$F65,1)","v":1395458}]
[null,null,"Tunisia","Africa",{"$f":"C66&\"/\"&control!$C$10","v":"Tunisia/1950"},{"$f":"MATCH($E66,tab_data[ID (Country/Year)],0)","v":11649},{"$f":"AND(INDEX(control!$C$14:$C$19,MATCH(D66,control!$B$14:$B$19,0),1),NOT(control!$C$26))","v":true},{"$f":"IF($G66,INDEX(tab_data[Fertility],$F66,1),NA())","v":6.7409999999999997},{"$f":"IF($G66,INDEX(tab_data[Life Expectancy],$F66,1),NA())","v":38.255000000000003},{"$f":"INDEX(tab_data[Population],$F66,1)","v":3529608}]
[null,null,"Uganda","Africa",{"$f":"C67&\"/\"&control!$C$10","v":"Uganda/1950"},{"$f":"MATCH($E67,tab_data[ID (Country/Year)],0)","v":11841},{"$f":"AND(INDEX(control!$C$14:$C$19,MATCH(D67,control!$B$14:$B$19,0),1),NOT(control!$C$26))","v":true},{"$f":"IF($G67,INDEX(tab_data[Fertility],$F67,1),NA())","v":6.8929999999999998},{"$f":"IF($G67,INDEX(tab_data[Life Expectancy],$F67,1),NA())","v":38.985999999999997},{"$f":"INDEX(tab_data[Population],$F67,1)","v":5158193}]
[null,null,"Western Sahara","Africa",{"$f":"C68&\"/\"&control!$C$10","v":"Western Sahara/1950"},{"$f":"MATCH($E68,tab_data[ID (Country/Year)],0)","v":12609},{"$f":"AND(INDEX(control!$C$14:$C$19,MATCH(D68,control!$B$14:$B$19,0),1),NOT(control!$C$26))","v":true},{"$f":"IF($G68,INDEX(tab_data[Fertility],$F68,1),NA())","v":6.3170000000000002},{"$f":"IF($G68,INDEX(tab_data[Life Expectancy],$F68,1),NA())","v":34.753},{"$f":"INDEX(tab_data[Population],$F68,1)","v":13766}]
[null,null,"Zambia","Africa",{"$f":"C69&\"/\"&control!$C$10","v":"Zambia/1950"},{"$f":"MATCH($E69,tab_data[ID (Country/Year)],0)","v":12737},{"$f":"AND(INDEX(control!$C$14:$C$19,MATCH(D69,control!$B$14:$B$19,0),1),NOT(control!$C$26))","v":true},{"$f":"IF($G69,INDEX(tab_data[Fertility],$F69,1),NA())","v":6.7140000000000004},{"$f":"IF($G69,INDEX(tab_data[Life Expectancy],$F69,1),NA())","v":41.235999999999997},{"$f":"INDEX(tab_data[Population],$F69,1)","v":2340352}]
[null,null,"Zimbabwe","Africa",{"$f":"C70&\"/\"&control!$C$10","v":"Zimbabwe/1950"},{"$f":"MATCH($E70,tab_data[ID (Country/Year)],0)","v":12801},{"$f":"AND(INDEX(control!$C$14:$C$19,MATCH(D70,control!$B$14:$B$19,0),1),NOT(control!$C$26))","v":true},{"$f":"IF($G70,INDEX(tab_data[Fertility],$F70,1),NA())","v":6.7530000000000001},{"$f":"IF($G70,INDEX(tab_data[Life Expectancy],$F70,1),NA())","v":47.691000000000003},{"$f":"INDEX(tab_data[Population],$F70,1)","v":2746854}]
[null,"Asia + Pacific","Afghanistan","Asia + Pacific",{"$f":"C71&\"/\"&control!$C$10","v":"Afghanistan/1950"},{"$f":"MATCH($E71,tab_data[ID (Country/Year)],0)","v":1},{"$f":"AND(INDEX(control!$C$14:$C$19,MATCH(D71,control!$B$14:$B$19,0),1),NOT(control!$C$26))","v":true},{"$f":"IF($G71,INDEX(tab_data[Fertility],$F71,1),NA())","v":7.6710000000000003},{"$f":"IF($G71,INDEX(tab_data[Life Expectancy],$F71,1),NA())","v":26.673999999999999},{"$f":"INDEX(tab_data[Population],$F71,1)","v":8151455}]
[null,null,"Australia","Asia + Pacific",{"$f":"C72&\"/\"&control!$C$10","v":"Australia/1950"},{"$f":"MATCH($E72,tab_data[ID (Country/Year)],0)","v":513},{"$f":"AND(INDEX(control!$C$14:$C$19,MATCH(D72,control!$B$14:$B$19,0),1),NOT(control!$C$26))","v":true},{"$f":"IF($G72,INDEX(tab_data[Fertility],$F72,1),NA())","v":3.0670000000000002},{"$f":"IF($G72,INDEX(tab_data[Life Expectancy],$F72,1),NA())","v":69.02},{"$f":"INDEX(tab_data[Population],$F72,1)","v":8177344}]
[null,null,"Bangladesh","Asia + Pacific",{"$f":"C73&\"/\"&control!$C$10","v":"Bangladesh/1950"},{"$f":"MATCH($E73,tab_data[ID (Country/Year)],0)","v":833},{"$f":"AND(INDEX(control!$C$14:$C$19,MATCH(D73,control!$B$14:$B$19,0),1),NOT(control!$C$26))","v":true},{"$f":"IF($G73,INDEX(tab_data[Fertility],$F73,1),NA())","v":6.2329999999999997},{"$f":"IF($G73,INDEX(tab_data[Life Expectancy],$F73,1),NA())","v":42.875},{"$f":"INDEX(tab_data[Population],$F73,1)","v":37894678}]
[null,null,"Bhutan","Asia + Pacific",{"$f":"C74&\"/\"&control!$C$10","v":"Bhutan/1950"},{"$f":"MATCH($E74,tab_data[ID (Country/Year)],0)","v":1217},{"$f":"AND(INDEX(control!$C$14:$C$19,MATCH(D74,control!$B$14:$B$19,0),1),NOT(control!$C$26))","v":true},{"$f":"IF($G74,INDEX(tab_data[Fertility],$F74,1),NA())","v":6.67},{"$f":"IF($G74,INDEX(tab_data[Life Expectancy],$F74,1),NA())","v":28.798999999999999},{"$f":"INDEX(tab_data[Population],$F74,1)","v":168377}]
[null,null,"Brunei","Asia + Pacific",{"$f":"C75&\"/\"&control!$C$10","v":"Brunei/1950"},{"$f":"MATCH($E75,tab_data[ID (Country/Year)],0)","v":1537},{"$f":"AND(INDEX(control!$C$14:$C$19,MATCH(D75,control!$B$14:$B$19,0),1),NOT(control!$C$26))","v":true},{"$f":"IF($G75,INDEX(tab_data[Fertility],$F75,1),NA())","v":7.5179999999999998},{"$f":"IF($G75,INDEX(tab_data[Life Expectancy],$F75,1),NA())","v":56.631999999999998},{"$f":"INDEX(tab_data[Population],$F75,1)","v":48001}]
[null,null,"Cambodia","Asia + Pacific",{"$f":"C76&\"/\"&control!$C$10","v":"Cambodia/1950"},{"$f":"MATCH($E76,tab_data[ID (Country/Year)],0)","v":1793},{"$f":"AND(INDEX(control!$C$14:$C$19,MATCH(D76,control!$B$14:$B$19,0),1),NOT(control!$C$26))","v":true},{"$f":"IF($G76,INDEX(tab_data[Fertility],$F76,1),NA())","v":6.9530000000000003},{"$f":"IF($G76,INDEX(tab_data[Life Expectancy],$F76,1),NA())","v":39.779000000000003},{"$f":"INDEX(tab_data[Population],$F76,1)","v":4345800}]
[null,null,"China","Asia + Pacific",{"$f":"C77&\"/\"&control!$C$10","v":"China/1950"},{"$f":"MATCH($E77,tab_data[ID (Country/Year)],0)","v":2305},{"$f":"AND(INDEX(control!$C$14:$C$19,MATCH(D77,control!$B$14:$B$19,0),1),NOT(control!$C$26))","v":true},{"$f":"IF($G77,INDEX(tab_data[Fertility],$F77,1),NA())","v":5.2919999999999998},{"$f":"IF($G77,INDEX(tab_data[Life Expectancy],$F77,1),NA())","v":39.247},{"$f":"INDEX(tab_data[Population],$F77,1)","v":550771433}]
[null,null,"Fiji","Asia + Pacific",{"$f":"C78&\"/\"&control!$C$10","v":"Fiji/1950"},{"$f":"MATCH($E78,tab_data[ID (Country/Year)],0)","v":3649},{"$f":"AND(INDEX(control!$C$14:$C$19,MATCH(D78,control!$B$14:$B$19,0),1),NOT(control!$C$26))","v":true},{"$f":"IF($G78,INDEX(tab_data[Fertility],$F78,1),NA())","v":6.2969999999999997},{"$f":"IF($G78,INDEX(tab_data[Life Expectancy],$F78,1),NA())","v":51.109000000000002},{"$f":"INDEX(tab_data[Population],$F78,1)","v":288993}]
[null,null,"French Polynesia","Asia + Pacific",{"$f":"C79&\"/\"&control!$C$10","v":"French Polynesia/1950"},{"$f":"MATCH($E79,tab_data[ID (Country/Year)],0)","v":3905},{"$f":"AND(INDEX(control!$C$14:$C$19,MATCH(D79,control!$B$14:$B$19,0),1),NOT(control!$C$26))","v":true},{"$f":"IF($G79,INDEX(tab_data[Fertility],$F79,1),NA())","v":5.9720000000000004},{"$f":"IF($G79,INDEX(tab_data[Life Expectancy],$F79,1),NA())","v":45.597999999999999},{"$f":"INDEX(tab_data[Population],$F79,1)","v":60696}]
[null,null,"Guam","Asia + Pacific",{"$f":"C80&\"/\"&control!$C$10","v":"Guam/1950"},{"$f":"MATCH($E80,tab_data[ID (Country/Year)],0)","v":4481},{"$f":"AND(INDEX(control!$C$14:$C$19,MATCH(D80,control!$B$14:$B$19,0),1),NOT(control!$C$26))","v":true},{"$f":"IF($G80,INDEX(tab_data[Fertility],$F80,1),NA())","v":5.444},{"$f":"IF($G80,INDEX(tab_data[Life Expectancy],$F80,1),NA())","v":56.131},{"$f":"INDEX(tab_data[Population],$F80,1)","v":59650}]
[null,null,"Hong Kong, China","Asia + Pacific",{"$f":"C81&\"/\"&control!$C$10","v":"Hong Kong, China/1950"},{"$f":"MATCH($E81,tab_data[ID (Country/Year)],0)","v":4929},{"$f":"AND(INDEX(control!$C$14:$C$19,MATCH(D81,control!$B$14:$B$19,0),1),NOT(control!$C$26))","v":true},{"$f":"IF($G81,INDEX(tab_data[Fertility],$F81,1),NA())","v":4.508},{"$f":"IF($G81,INDEX(tab_data[Life Expectancy],$F81,1),NA())","v":62.121000000000002},{"$f":"INDEX(tab_data[Population],$F81,1)","v":1973998}]
[null,null,"India","Asia + Pacific",{"$f":"C82&\"/\"&control!$C$10","v":"India/1950"},{"$f":"MATCH($E82,tab_data[ID (Country/Year)],0)","v":5121},{"$f":"AND(INDEX(control!$C$14:$C$19,MATCH(D82,control!$B$14:$B$19,0),1),NOT(control!$C$26))","v":true},{"$f":"IF($G82,INDEX(tab_data[Fertility],$F82,1),NA())","v":5.8869999999999996},{"$f":"IF($G82,INDEX(tab_data[Life Expectancy],$F82,1),NA())","v":34.83},{"$f":"INDEX(tab_data[Population],$F82,1)","v":371856500}]
[null,null,"Indonesia","Asia + Pacific",{"$f":"C83&\"/\"&control!$C$10","v":"Indonesia/1950"},{"$f":"MATCH($E83,tab_data[ID (Country/Year)],0)","v":5185},{"$f":"AND(INDEX(control!$C$14:$C$19,MATCH(D83,control!$B$14:$B$19,0),1),NOT(control!$C$26))","v":true},{"$f":"IF($G83,INDEX(tab_data[Fertility],$F83,1),NA())","v":5.3460000000000001},{"$f":"IF($G83,INDEX(tab_data[Life Expectancy],$F83,1),NA())","v":36.396999999999998},{"$f":"INDEX(tab_data[Population],$F83,1)","v":74837310}]
[null,null,"Iran","Asia + Pacific",{"$f":"C84&\"/\"&control!$C$10","v":"Iran/1950"},{"$f":"MATCH($E84,tab_data[ID (Country/Year)],0)","v":5249},{"$f":"AND(INDEX(control!$C$14:$C$19,MATCH(D84,control!$B$14:$B$19,0),1),NOT(control!$C$26))","v":true},{"$f":"IF($G84,INDEX(tab_data[Fertility],$F84,1),NA())","v":6.915},{"$f":"IF($G84,INDEX(tab_data[Life Expectancy],$F84,1),NA())","v":39.417999999999999},{"$f":"INDEX(tab_data[Population],$F84,1)","v":17414215}]
[null,null,"Japan","Asia + Pacific",{"$f":"C85&\"/\"&control!$C$10","v":"Japan/1950"},{"$f":"MATCH($E85,tab_data[ID (Country/Year)],0)","v":5633},{"$f":"AND(INDEX(control!$C$14:$C$19,MATCH(D85,control!$B$14:$B$19,0),1),NOT(control!$C$26))","v":true},{"$f":"IF($G85,INDEX(tab_data[Fertility],$F85,1),NA())","v":3.51},{"$f":"IF($G85,INDEX(tab_data[Life Expectancy],$F85,1),NA())","v":59.3},{"$f":"INDEX(tab_data[Population],$F85,1)","v":82199470}]
[null,null,"Kazakhstan","Asia + Pacific",{"$f":"C86&\"/\"&control!$C$10","v":"Kazakhstan/1950"},{"$f":"MATCH($E86,tab_data[ID (Country/Year)],0)","v":5761},{"$f":"AND(INDEX(control!$C$14:$C$19,MATCH(D86,control!$B$14:$B$19,0),1),NOT(control!$C$26))","v":true},{"$f":"IF($G86,INDEX(tab_data[Fertility],$F86,1),NA())","v":4.3029999999999999},{"$f":"IF($G86,INDEX(tab_data[Life Expectancy],$F86,1),NA())","v":54.17},{"$f":"INDEX(tab_data[Population],$F86,1)","v":6702996}]
[null,null,"Kiribati","Asia + Pacific",{"$f":"C87&\"/\"&control!$C$10","v":"Kiribati/1950"},{"$f":"MATCH($E87,tab_data[ID (Country/Year)],0)","v":5889},{"$f":"AND(INDEX(control!$C$14:$C$19,MATCH(D87,control!$B$14:$B$19,0),1),NOT(control!$C$26))","v":true},{"$f":"IF($G87,INDEX(tab_data[Fertility],$F87,1),NA())","v":5.6660000000000004},{"$f":"IF($G87,INDEX(tab_data[Life Expectancy],$F87,1),NA())","v":42.61},{"$f":"INDEX(tab_data[Population],$F87,1)","v":26100}]
[null,null,"Korea, Dem. Republic","Asia + Pacific",{"$f":"C88&\"/\"&control!$C$10","v":"Korea, Dem. Republic/1950"},{"$f":"MATCH($E88,tab_data[ID (Country/Year)],0)","v":5953},{"$f":"AND(INDEX(control!$C$14:$C$19,MATCH(D88,control!$B$14:$B$19,0),1),NOT(control!$C$26))","v":true},{"$f":"IF($G88,INDEX(tab_data[Fertility],$F88,1),NA())","v":1.946},{"$f":"IF($G88,INDEX(tab_data[Life Expectancy],$F88,1),NA())","v":29.716999999999999},{"$f":"INDEX(tab_data[Population],$F88,1)","v":9736822}]
[null,null,"Korea, Republic","Asia + Pacific",{"$f":"C89&\"/\"&control!$C$10","v":"Korea, Republic/1950"},{"$f":"MATCH($E89,tab_data[ID (Country/Year)],0)","v":6017},{"$f":"AND(INDEX(control!$C$14:$C$19,MATCH(D89,control!$B$14:$B$19,0),1),NOT(control!$C$26))","v":true},{"$f":"IF($G89,INDEX(tab_data[Fertility],$F89,1),NA())","v":4.0229999999999997},{"$f":"IF($G89,INDEX(tab_data[Life Expectancy],$F89,1),NA())","v":46.676000000000002},{"$f":"INDEX(tab_data[Population],$F89,1)","v":19211386}]
[null,null,"Kyrgyzstan","Asia + Pacific",{"$f":"C90&\"/\"&control!$C$10","v":"Kyrgyzstan/1950"},{"$f":"MATCH($E90,tab_data[ID (Country/Year)],0)","v":6145},{"$f":"AND(INDEX(control!$C$14:$C$19,MATCH(D90,control!$B$14:$B$19,0),1),NOT(control!$C$26))","v":true},{"$f":"IF($G90,INDEX(tab_data[Fertility],$F90,1),NA())","v":4.476},{"$f":"IF($G90,INDEX(tab_data[Life Expectancy],$F90,1),NA())","v":51.911000000000001},{"$f":"INDEX(tab_data[Population],$F90,1)","v":1740000}]
[null,null,"Laos","Asia + Pacific",{"$f":"C91&\"/\"&control!$C$10","v":"Laos/1950"},{"$f":"MATCH($E91,tab_data[ID (Country/Year)],0)","v":6209},{"$f":"AND(INDEX(control!$C$14:$C$19,MATCH(D91,control!$B$14:$B$19,0),1),NOT(control!$C$26))","v":true},{"$f":"IF($G91,INDEX(tab_data[Fertility],$F91,1),NA())","v":5.9379999999999997},{"$f":"IF($G91,INDEX(tab_data[Life Expectancy],$F91,1),NA())","v":40.328000000000003},{"$f":"INDEX(tab_data[Population],$F91,1)","v":1682917}]
[null,null,"Macao, China","Asia + Pacific",{"$f":"C92&\"/\"&control!$C$10","v":"Macao, China/1950"},{"$f":"MATCH($E92,tab_data[ID (Country/Year)],0)","v":6721},{"$f":"AND(INDEX(control!$C$14:$C$19,MATCH(D92,control!$B$14:$B$19,0),1),NOT(control!$C$26))","v":true},{"$f":"IF($G92,INDEX(tab_data[Fertility],$F92,1),NA())","v":3.762},{"$f":"IF($G92,INDEX(tab_data[Life Expectancy],$F92,1),NA())","v":59.987000000000002},{"$f":"INDEX(tab_data[Population],$F92,1)","v":196482}]
[null,null,"Malaysia","Asia + Pacific",{"$f":"C93&\"/\"&control!$C$10","v":"Malaysia/1950"},{"$f":"MATCH($E93,tab_data[ID (Country/Year)],0)","v":6977},{"$f":"AND(INDEX(control!$C$14:$C$19,MATCH(D93,control!$B$14:$B$19,0),1),NOT(control!$C$26))","v":true},{"$f":"IF($G93,INDEX(tab_data[Fertility],$F93,1),NA())","v":6.202},{"$f":"IF($G93,INDEX(tab_data[Life Expectancy],$F93,1),NA())","v":53.485999999999997},{"$f":"INDEX(tab_data[Population],$F93,1)","v":6109907}]
[null,null,"Maldives","Asia + Pacific",{"$f":"C94&\"/\"&control!$C$10","v":"Maldives/1950"},{"$f":"MATCH($E94,tab_data[ID (Country/Year)],0)","v":7041},{"$f":"AND(INDEX(control!$C$14:$C$19,MATCH(D94,control!$B$14:$B$19,0),1),NOT(control!$C$26))","v":true},{"$f":"IF($G94,INDEX(tab_data[Fertility],$F94,1),NA())","v":5.5949999999999998},{"$f":"IF($G94,INDEX(tab_data[Life Expectancy],$F94,1),NA())","v":32.646999999999998},{"$f":"INDEX(tab_data[Population],$F94,1)","v":79293}]
[null,null,"Micronesia, Fed. Sts.","Asia + Pacific",{"$f":"C95&\"/\"&control!$C$10","v":"Micronesia, Fed. Sts./1950"},{"$f":"MATCH($E95,tab_data[ID (Country/Year)],0)","v":7553},{"$f":"AND(INDEX(control!$C$14:$C$19,MATCH(D95,control!$B$14:$B$19,0),1),NOT(control!$C$26))","v":true},{"$f":"IF($G95,INDEX(tab_data[Fertility],$F95,1),NA())","v":7.3029999999999999},{"$f":"IF($G95,INDEX(tab_data[Life Expectancy],$F95,1),NA())","v":53.776000000000003},{"$f":"INDEX(tab_data[Population],$F95,1)","v":32000}]
[null,null,"Mongolia","Asia + Pacific",{"$f":"C96&\"/\"&control!$C$10","v":"Mongolia/1950"},{"$f":"MATCH($E96,tab_data[ID (Country/Year)],0)","v":7681},{"$f":"AND(INDEX(control!$C$14:$C$19,MATCH(D96,control!$B$14:$B$19,0),1),NOT(control!$C$26))","v":true},{"$f":"IF($G96,INDEX(tab_data[Fertility],$F96,1),NA())","v":5.4969999999999999},{"$f":"IF($G96,INDEX(tab_data[Life Expectancy],$F96,1),NA())","v":42.524000000000001},{"$f":"INDEX(tab_data[Population],$F96,1)","v":780200}]
[null,null,"Myanmar","Asia + Pacific",{"$f":"C97&\"/\"&control!$C$10","v":"Myanmar/1950"},{"$f":"MATCH($E97,tab_data[ID (Country/Year)],0)","v":7937},{"$f":"AND(INDEX(control!$C$14:$C$19,MATCH(D97,control!$B$14:$B$19,0),1),NOT(control!$C$26))","v":true},{"$f":"IF($G97,INDEX(tab_data[Fertility],$F97,1),NA())","v":6.0259999999999998},{"$f":"IF($G97,INDEX(tab_data[Life Expectancy],$F97,1),NA())","v":33.281999999999996},{"$f":"INDEX(tab_data[Population],$F97,1)","v":17157508}]
[null,null,"Nepal","Asia + Pacific",{"$f":"C98&\"/\"&control!$C$10","v":"Nepal/1950"},{"$f":"MATCH($E98,tab_data[ID (Country/Year)],0)","v":8065},{"$f":"AND(INDEX(control!$C$14:$C$19,MATCH(D98,control!$B$14:$B$19,0),1),NOT(control!$C$26))","v":true},{"$f":"IF($G98,INDEX(tab_data[Fertility],$F98,1),NA())","v":5.992},{"$f":"IF($G98,INDEX(tab_data[Life Expectancy],$F98,1),NA())","v":34.593000000000004},{"$f":"INDEX(tab_data[Population],$F98,1)","v":8230991}]
[null,null,"New Caledonia","Asia + Pacific",{"$f":"C99&\"/\"&control!$C$10","v":"New Caledonia/1950"},{"$f":"MATCH($E99,tab_data[ID (Country/Year)],0)","v":8257},{"$f":"AND(INDEX(control!$C$14:$C$19,MATCH(D99,control!$B$14:$B$19,0),1),NOT(control!$C$26))","v":true},{"$f":"IF($G99,INDEX(tab_data[Fertility],$F99,1),NA())","v":5.2240000000000002},{"$f":"IF($G99,INDEX(tab_data[Life Expectancy],$F99,1),NA())","v":49.087000000000003},{"$f":"INDEX(tab_data[Population],$F99,1)","v":64824}]
[null,null,"New Zealand","Asia + Pacific",{"$f":"C100&\"/\"&control!$C$10","v":"New Zealand/1950"},{"$f":"MATCH($E100,tab_data[ID (Country/Year)],0)","v":8321},{"$f":"AND(INDEX(control!$C$14:$C$19,MATCH(D100,control!$B$14:$B$19,0),1),NOT(control!$C$26))","v":true},{"$f":"IF($G100,INDEX(tab_data[Fertility],$F100,1),NA())","v":3.4679199999999999},{"$f":"IF($G100,INDEX(tab_data[Life Expectancy],$F100,1),NA())","v":69.290000000000006},{"$f":"INDEX(tab_data[Population],$F100,1)","v":1908001}]
[null,null,"Pakistan","Asia + Pacific",{"$f":"C101&\"/\"&control!$C$10","v":"Pakistan/1950"},{"$f":"MATCH($E101,tab_data[ID (Country/Year)],0)","v":8705},{"$f":"AND(INDEX(control!$C$14:$C$19,MATCH(D101,control!$B$14:$B$19,0),1),NOT(control!$C$26))","v":true},{"$f":"IF($G101,INDEX(tab_data[Fertility],$F101,1),NA())","v":6.6},{"$f":"IF($G101,INDEX(tab_data[Life Expectancy],$F101,1),NA())","v":36.039000000000001},{"$f":"INDEX(tab_data[Population],$F101,1)","v":37542380}]
[null,null,"Papua New Guinea","Asia + Pacific",{"$f":"C102&\"/\"&control!$C$10","v":"Papua New Guinea/1950"},{"$f":"MATCH($E102,tab_data[ID (Country/Year)],0)","v":8833},{"$f":"AND(INDEX(control!$C$14:$C$19,MATCH(D102,control!$B$14:$B$19,0),1),NOT(control!$C$26))","v":true},{"$f":"IF($G102,INDEX(tab_data[Fertility],$F102,1),NA())","v":6.2309999999999999},{"$f":"IF($G102,INDEX(tab_data[Life Expectancy],$F102,1),NA())","v":33.682000000000002},{"$f":"INDEX(tab_data[Population],$F102,1)","v":1708192}]
[null,null,"Philippines","Asia + Pacific",{"$f":"C103&\"/\"&control!$C$10","v":"Philippines/1950"},{"$f":"MATCH($E103,tab_data[ID (Country/Year)],0)","v":9025},{"$f":"AND(INDEX(control!$C$14:$C$19,MATCH(D103,control!$B$14:$B$19,0),1),NOT(control!$C$26))","v":true},{"$f":"IF($G103,INDEX(tab_data[Fertility],$F103,1),NA())","v":7.4480000000000004},{"$f":"IF($G103,INDEX(tab_data[Life Expectancy],$F103,1),NA())","v":54.738},{"$f":"INDEX(tab_data[Population],$F103,1)","v":18396520}]
[null,null,"Samoa","Asia + Pacific",{"$f":"C104&\"/\"&control!$C$10","v":"Samoa/1950"},{"$f":"MATCH($E104,tab_data[ID (Country/Year)],0)","v":9729},{"$f":"AND(INDEX(control!$C$14:$C$19,MATCH(D104,control!$B$14:$B$19,0),1),NOT(control!$C$26))","v":true},{"$f":"IF($G104,INDEX(tab_data[Fertility],$F104,1),NA())","v":7.6390000000000002},{"$f":"IF($G104,INDEX(tab_data[Life Expectancy],$F104,1),NA())","v":44.88},{"$f":"INDEX(tab_data[Population],$F104,1)","v":82102}]
[null,null,"Singapore","Asia + Pacific",{"$f":"C105&\"/\"&control!$C$10","v":"Singapore/1950"},{"$f":"MATCH($E105,tab_data[ID (Country/Year)],0)","v":10177},{"$f":"AND(INDEX(control!$C$14:$C$19,MATCH(D105,control!$B$14:$B$19,0),1),NOT(control!$C$26))","v":true},{"$f":"IF($G105,INDEX(tab_data[Fertility],$F105,1),NA())","v":6.4870000000000001},{"$f":"IF($G105,INDEX(tab_data[Life Expectancy],$F105,1),NA())","v":58.389000000000003},{"$f":"INDEX(tab_data[Population],$F105,1)","v":1022098}]
[null,null,"Solomon Islands","Asia + Pacific",{"$f":"C106&\"/\"&control!$C$10","v":"Solomon Islands/1950"},{"$f":"MATCH($E106,tab_data[ID (Country/Year)],0)","v":10369},{"$f":"AND(INDEX(control!$C$14:$C$19,MATCH(D106,control!$B$14:$B$19,0),1),NOT(control!$C$26))","v":true},{"$f":"IF($G106,INDEX(tab_data[Fertility],$F106,1),NA())","v":6.4009999999999998},{"$f":"IF($G106,INDEX(tab_data[Life Expectancy],$F106,1),NA())","v":44.375},{"$f":"INDEX(tab_data[Population],$F106,1)","v":106647}]
[null,null,"Sri Lanka","Asia + Pacific",{"$f":"C107&\"/\"&control!$C$10","v":"Sri Lanka/1950"},{"$f":"MATCH($E107,tab_data[ID (Country/Year)],0)","v":10689},{"$f":"AND(INDEX(control!$C$14:$C$19,MATCH(D107,control!$B$14:$B$19,0),1),NOT(control!$C$26))","v":true},{"$f":"IF($G107,INDEX(tab_data[Fertility],$F107,1),NA())","v":6.0343999999999998},{"$f":"IF($G107,INDEX(tab_data[Life Expectancy],$F107,1),NA())","v":52.482999999999997},{"$f":"INDEX(tab_data[Population],$F107,1)","v":8240623}]
[null,null,"Taiwan","Asia + Pacific",{"$f":"C108&\"/\"&control!$C$10","v":"Taiwan/1950"},{"$f":"MATCH($E108,tab_data[ID (Country/Year)],0)","v":11137},{"$f":"AND(INDEX(control!$C$14:$C$19,MATCH(D108,control!$B$14:$B$19,0),1),NOT(control!$C$26))","v":true},{"$f":"IF($G108,INDEX(tab_data[Fertility],$F108,1),NA())","v":6.2930000000000001},{"$f":"IF($G108,INDEX(tab_data[Life Expectancy],$F108,1),NA())","v":54.6},{"$f":"INDEX(tab_data[Population],$F108,1)","v":7981000}]
[null,null,"Tajikistan","Asia + Pacific",{"$f":"C109&\"/\"&control!$C$10","v":"Tajikistan/1950"},{"$f":"MATCH($E109,tab_data[ID (Country/Year)],0)","v":11201},{"$f":"AND(INDEX(control!$C$14:$C$19,MATCH(D109,control!$B$14:$B$19,0),1),NOT(control!$C$26))","v":true},{"$f":"IF($G109,INDEX(tab_data[Fertility],$F109,1),NA())","v":5.8719999999999999},{"$f":"IF($G109,INDEX(tab_data[Life Expectancy],$F109,1),NA())","v":52.204999999999998},{"$f":"INDEX(tab_data[Population],$F109,1)","v":1531502}]
[null,null,"Thailand","Asia + Pacific",{"$f":"C110&\"/\"&control!$C$10","v":"Thailand/1950"},{"$f":"MATCH($E110,tab_data[ID (Country/Year)],0)","v":11329},{"$f":"AND(INDEX(control!$C$14:$C$19,MATCH(D110,control!$B$14:$B$19,0),1),NOT(control!$C$26))","v":true},{"$f":"IF($G110,INDEX(tab_data[Fertility],$F110,1),NA())","v":6.1319999999999997},{"$f":"IF($G110,INDEX(tab_data[Life Expectancy],$F110,1),NA())","v":50.863},{"$f":"INDEX(tab_data[Population],$F110,1)","v":20607323}]
[null,null,"Timor-Leste","Asia + Pacific",{"$f":"C111&\"/\"&control!$C$10","v":"Timor-Leste/1950"},{"$f":"MATCH($E111,tab_data[ID (Country/Year)],0)","v":11393},{"$f":"AND(INDEX(control!$C$14:$C$19,MATCH(D111,control!$B$14:$B$19,0),1),NOT(control!$C$26))","v":true},{"$f":"IF($G111,INDEX(tab_data[Fertility],$F111,1),NA())","v":6.5090000000000003},{"$f":"IF($G111,INDEX(tab_data[Life Expectancy],$F111,1),NA())","v":28.949000000000002},{"$f":"INDEX(tab_data[Population],$F111,1)","v":433398}]
[null,null,"Tonga","Asia + Pacific",{"$f":"C112&\"/\"&control!$C$10","v":"Tonga/1950"},{"$f":"MATCH($E112,tab_data[ID (Country/Year)],0)","v":11521},{"$f":"AND(INDEX(control!$C$14:$C$19,MATCH(D112,control!$B$14:$B$19,0),1),NOT(control!$C$26))","v":true},{"$f":"IF($G112,INDEX(tab_data[Fertility],$F112,1),NA())","v":7.327},{"$f":"IF($G112,INDEX(tab_data[Life Expectancy],$F112,1),NA())","v":57.927},{"$f":"INDEX(tab_data[Population],$F112,1)","v":47220}]
[null,null,"Turkmenistan","Asia + Pacific",{"$f":"C113&\"/\"&control!$C$10","v":"Turkmenistan/1950"},{"$f":"MATCH($E113,tab_data[ID (Country/Year)],0)","v":11777},{"$f":"AND(INDEX(control!$C$14:$C$19,MATCH(D113,control!$B$14:$B$19,0),1),NOT(control!$C$26))","v":true},{"$f":"IF($G113,INDEX(tab_data[Fertility],$F113,1),NA())","v":6.2229999999999999},{"$f":"IF($G113,INDEX(tab_data[Life Expectancy],$F113,1),NA())","v":50.426000000000002},{"$f":"INDEX(tab_data[Population],$F113,1)","v":1211000}]
[null,null,"Uzbekistan","Asia + Pacific",{"$f":"C114&\"/\"&control!$C$10","v":"Uzbekistan/1950"},{"$f":"MATCH($E114,tab_data[ID (Country/Year)],0)","v":12225},{"$f":"AND(INDEX(control!$C$14:$C$19,MATCH(D114,control!$B$14:$B$19,0),1),NOT(control!$C$26))","v":true},{"$f":"IF($G114,INDEX(tab_data[Fertility],$F114,1),NA())","v":5.7140000000000004},{"$f":"IF($G114,INDEX(tab_data[Life Expectancy],$F114,1),NA())","v":54.896000000000001},{"$f":"INDEX(tab_data[Population],$F114,1)","v":6313997}]
[null,null,"Vanuatu","Asia + Pacific",{"$f":"C115&\"/\"&control!$C$10","v":"Vanuatu/1950"},{"$f":"MATCH($E115,tab_data[ID (Country/Year)],0)","v":12289},{"$f":"AND(INDEX(control!$C$14:$C$19,MATCH(D115,control!$B$14:$B$19,0),1),NOT(control!$C$26))","v":true},{"$f":"IF($G115,INDEX(tab_data[Fertility],$F115,1),NA())","v":7.6829999999999998},{"$f":"IF($G115,INDEX(tab_data[Life Expectancy],$F115,1),NA())","v":40.747},{"$f":"INDEX(tab_data[Population],$F115,1)","v":47695}]
[null,null,"Vietnam","Asia + Pacific",{"$f":"C116&\"/\"&control!$C$10","v":"Vietnam/1950"},{"$f":"MATCH($E116,tab_data[ID (Country/Year)],0)","v":12417},{"$f":"AND(INDEX(control!$C$14:$C$19,MATCH(D116,control!$B$14:$B$19,0),1),NOT(control!$C$26))","v":true},{"$f":"IF($G116,INDEX(tab_data[Fertility],$F116,1),NA())","v":4.9630000000000001},{"$f":"IF($G116,INDEX(tab_data[Life Expectancy],$F116,1),NA())","v":51.85},{"$f":"INDEX(tab_data[Population],$F116,1)","v":28264391}]
[null,"Europe","Albania","Europe",{"$f":"C117&\"/\"&control!$C$10","v":"Albania/1950"},{"$f":"MATCH($E117,tab_data[ID (Country/Year)],0)","v":65},{"$f":"AND(INDEX(control!$C$14:$C$19,MATCH(D117,control!$B$14:$B$19,0),1),NOT(control!$C$26))","v":true},{"$f":"IF($G117,INDEX(tab_data[Fertility],$F117,1),NA())","v":5.7990000000000004},{"$f":"IF($G117,INDEX(tab_data[Life Expectancy],$F117,1),NA())","v":54.191000000000003},{"$f":"INDEX(tab_data[Population],$F117,1)","v":1215002}]
[null,null,"Armenia","Europe",{"$f":"C118&\"/\"&control!$C$10","v":"Armenia/1950"},{"$f":"MATCH($E118,tab_data[ID (Country/Year)],0)","v":385},{"$f":"AND(INDEX(control!$C$14:$C$19,MATCH(D118,control!$B$14:$B$19,0),1),NOT(control!$C$26))","v":true},{"$f":"IF($G118,INDEX(tab_data[Fertility],$F118,1),NA())","v":4.5250000000000004},{"$f":"IF($G118,INDEX(tab_data[Life Expectancy],$F118,1),NA())","v":61.965000000000003},{"$f":"INDEX(tab_data[Population],$F118,1)","v":1353506}]
[null,null,"Austria","Europe",{"$f":"C119&\"/\"&control!$C$10","v":"Austria/1950"},{"$f":"MATCH($E119,tab_data[ID (Country/Year)],0)","v":577},{"$f":"AND(INDEX(control!$C$14:$C$19,MATCH(D119,control!$B$14:$B$19,0),1),NOT(control!$C$26))","v":true},{"$f":"IF($G119,INDEX(tab_data[Fertility],$F119,1),NA())","v":1.8660000000000001},{"$f":"IF($G119,INDEX(tab_data[Life Expectancy],$F119,1),NA())","v":64.88},{"$f":"INDEX(tab_data[Population],$F119,1)","v":6936445}]
[null,null,"Azerbaijan","Europe",{"$f":"C120&\"/\"&control!$C$10","v":"Azerbaijan/1950"},{"$f":"MATCH($E120,tab_data[ID (Country/Year)],0)","v":641},{"$f":"AND(INDEX(control!$C$14:$C$19,MATCH(D120,control!$B$14:$B$19,0),1),NOT(control!$C$26))","v":true},{"$f":"IF($G120,INDEX(tab_data[Fertility],$F120,1),NA())","v":5.6440000000000001},{"$f":"IF($G120,INDEX(tab_data[Life Expectancy],$F120,1),NA())","v":57.134999999999998},{"$f":"INDEX(tab_data[Population],$F120,1)","v":2895997}]
[null,null,"Belarus","Europe",{"$f":"C121&\"/\"&control!$C$10","v":"Belarus/1950"},{"$f":"MATCH($E121,tab_data[ID (Country/Year)],0)","v":961},{"$f":"AND(INDEX(control!$C$14:$C$19,MATCH(D121,control!$B$14:$B$19,0),1),NOT(control!$C$26))","v":true},{"$f":"IF($G121,INDEX(tab_data[Fertility],$F121,1),NA())","v":2.5310000000000001},{"$f":"IF($G121,INDEX(tab_data[Life Expectancy],$F121,1),NA())","v":65.022000000000006},{"$f":"INDEX(tab_data[Population],$F121,1)","v":7745003}]
[null,null,"Belgium","Europe",{"$f":"C122&\"/\"&control!$C$10","v":"Belgium/1950"},{"$f":"MATCH($E122,tab_data[ID (Country/Year)],0)","v":1025},{"$f":"AND(INDEX(control!$C$14:$C$19,MATCH(D122,control!$B$14:$B$19,0),1),NOT(control!$C$26))","v":true},{"$f":"IF($G122,INDEX(tab_data[Fertility],$F122,1),NA())","v":2.2949999999999999},{"$f":"IF($G122,INDEX(tab_data[Life Expectancy],$F122,1),NA())","v":66.349999999999994},{"$f":"INDEX(tab_data[Population],$F122,1)","v":8628489}]
[null,null,"Bosnia and Herzegovina","Europe",{"$f":"C123&\"/\"&control!$C$10","v":"Bosnia and Herzegovina/1950"},{"$f":"MATCH($E123,tab_data[ID (Country/Year)],0)","v":1345},{"$f":"AND(INDEX(control!$C$14:$C$19,MATCH(D123,control!$B$14:$B$19,0),1),NOT(control!$C$26))","v":true},{"$f":"IF($G123,INDEX(tab_data[Fertility],$F123,1),NA())","v":5.0620000000000003},{"$f":"IF($G123,INDEX(tab_data[Life Expectancy],$F123,1),NA())","v":51.421999999999997},{"$f":"INDEX(tab_data[Population],$F123,1)","v":2661293}]
[null,null,"Bulgaria","Europe",{"$f":"C124&\"/\"&control!$C$10","v":"Bulgaria/1950"},{"$f":"MATCH($E124,tab_data[ID (Country/Year)],0)","v":1601},{"$f":"AND(INDEX(control!$C$14:$C$19,MATCH(D124,control!$B$14:$B$19,0),1),NOT(control!$C$26))","v":true},{"$f":"IF($G124,INDEX(tab_data[Fertility],$F124,1),NA())","v":2.66},{"$f":"IF($G124,INDEX(tab_data[Life Expectancy],$F124,1),NA())","v":61.39},{"$f":"INDEX(tab_data[Population],$F124,1)","v":7250999}]
[null,null,"Channel Islands","Europe",{"$f":"C125&\"/\"&control!$C$10","v":"Channel Islands/1950"},{"$f":"MATCH($E125,tab_data[ID (Country/Year)],0)","v":2177},{"$f":"AND(INDEX(control!$C$14:$C$19,MATCH(D125,control!$B$14:$B$19,0),1),NOT(control!$C$26))","v":true},{"$f":"IF($G125,INDEX(tab_data[Fertility],$F125,1),NA())","v":2.0529999999999999},{"$f":"IF($G125,INDEX(tab_data[Life Expectancy],$F125,1),NA())","v":68.516000000000005},{"$f":"INDEX(tab_data[Population],$F125,1)","v":102235}]
[null,null,"Croatia","Europe",{"$f":"C126&\"/\"&control!$C$10","v":"Croatia/1950"},{"$f":"MATCH($E126,tab_data[ID (Country/Year)],0)","v":2753},{"$f":"AND(INDEX(control!$C$14:$C$19,MATCH(D126,control!$B$14:$B$19,0),1),NOT(control!$C$26))","v":true},{"$f":"IF($G126,INDEX(tab_data[Fertility],$F126,1),NA())","v":2.948},{"$f":"IF($G126,INDEX(tab_data[Life Expectancy],$F126,1),NA())","v":60.250999999999998},{"$f":"INDEX(tab_data[Population],$F126,1)","v":3850295}]
[null,null,"Cyprus","Europe",{"$f":"C127&\"/\"&control!$C$10","v":"Cyprus/1950"},{"$f":"MATCH($E127,tab_data[ID (Country/Year)],0)","v":2881},{"$f":"AND(INDEX(control!$C$14:$C$19,MATCH(D127,control!$B$14:$B$19,0),1),NOT(control!$C$26))","v":true},{"$f":"IF($G127,INDEX(tab_data[Fertility],$F127,1),NA())","v":3.851},{"$f":"IF($G127,INDEX(tab_data[Life Expectancy],$F127,1),NA())","v":65.835999999999999},{"$f":"INDEX(tab_data[Population],$F127,1)","v":494014}]
[null,null,"Czech Republic","Europe",{"$f":"C128&\"/\"&control!$C$10","v":"Czech Republic/1950"},{"$f":"MATCH($E128,tab_data[ID (Country/Year)],0)","v":2945},{"$f":"AND(INDEX(control!$C$14:$C$19,MATCH(D128,control!$B$14:$B$19,0),1),NOT(control!$C$26))","v":true},{"$f":"IF($G128,INDEX(tab_data[Fertility],$F128,1),NA())","v":2.8540000000000001},{"$f":"IF($G128,INDEX(tab_data[Life Expectancy],$F128,1),NA())","v":64.430000000000007},{"$f":"INDEX(tab_data[Population],$F128,1)","v":8876260}]
[null,null,"Denmark","Europe",{"$f":"C129&\"/\"&control!$C$10","v":"Denmark/1950"},{"$f":"MATCH($E129,tab_data[ID (Country/Year)],0)","v":3009},{"$f":"AND(INDEX(control!$C$14:$C$19,MATCH(D129,control!$B$14:$B$19,0),1),NOT(control!$C$26))","v":true},{"$f":"IF($G129,INDEX(tab_data[Fertility],$F129,1),NA())","v":2.5760000000000001},{"$f":"IF($G129,INDEX(tab_data[Life Expectancy],$F129,1),NA())","v":70.33},{"$f":"INDEX(tab_data[Population],$F129,1)","v":4268270}]
[null,null,"Estonia","Europe",{"$f":"C130&\"/\"&control!$C$10","v":"Estonia/1950"},{"$f":"MATCH($E130,tab_data[ID (Country/Year)],0)","v":3521},{"$f":"AND(INDEX(control!$C$14:$C$19,MATCH(D130,control!$B$14:$B$19,0),1),NOT(control!$C$26))","v":true},{"$f":"IF($G130,INDEX(tab_data[Fertility],$F130,1),NA())","v":2.089},{"$f":"IF($G130,INDEX(tab_data[Life Expectancy],$F130,1),NA())","v":64.36},{"$f":"INDEX(tab_data[Population],$F130,1)","v":1100998}]
[null,null,"Finland","Europe",{"$f":"C131&\"/\"&control!$C$10","v":"Finland/1950"},{"$f":"MATCH($E131,tab_data[ID (Country/Year)],0)","v":3713},{"$f":"AND(INDEX(control!$C$14:$C$19,MATCH(D131,control!$B$14:$B$19,0),1),NOT(control!$C$26))","v":true},{"$f":"IF($G131,INDEX(tab_data[Fertility],$F131,1),NA())","v":3.16},{"$f":"IF($G131,INDEX(tab_data[Life Expectancy],$F131,1),NA())","v":64.239999999999995},{"$f":"INDEX(tab_data[Population],$F131,1)","v":4009003}]
[null,null,"France","Europe",{"$f":"C132&\"/\"&control!$C$10","v":"France/1950"},{"$f":"MATCH($E132,tab_data[ID (Country/Year)],0)","v":3777},{"$f":"AND(INDEX(control!$C$14:$C$19,MATCH(D132,control!$B$14:$B$19,0),1),NOT(control!$C$26))","v":true},{"$f":"IF($G132,INDEX(tab_data[Fertility],$F132,1),NA())","v":2.8340000000000001},{"$f":"IF($G132,INDEX(tab_data[Life Expectancy],$F132,1),NA())","v":66.39},{"$f":"INDEX(tab_data[Population],$F132,1)","v":41831805}]
[null,null,"Georgia","Europe",{"$f":"C133&\"/\"&control!$C$10","v":"Georgia/1950"},{"$f":"MATCH($E133,tab_data[ID (Country/Year)],0)","v":4097},{"$f":"AND(INDEX(control!$C$14:$C$19,MATCH(D133,control!$B$14:$B$19,0),1),NOT(control!$C$26))","v":true},{"$f":"IF($G133,INDEX(tab_data[Fertility],$F133,1),NA())","v":3.0990000000000002},{"$f":"IF($G133,INDEX(tab_data[Life Expectancy],$F133,1),NA())","v":59.841000000000001},{"$f":"INDEX(tab_data[Population],$F133,1)","v":3527004}]
[null,null,"Germany","Europe",{"$f":"C134&\"/\"&control!$C$10","v":"Germany/1950"},{"$f":"MATCH($E134,tab_data[ID (Country/Year)],0)","v":4161},{"$f":"AND(INDEX(control!$C$14:$C$19,MATCH(D134,control!$B$14:$B$19,0),1),NOT(control!$C$26))","v":true},{"$f":"IF($G134,INDEX(tab_data[Fertility],$F134,1),NA())","v":2.0699999999999998},{"$f":"IF($G134,INDEX(tab_data[Life Expectancy],$F134,1),NA())","v":66.775999999999996},{"$f":"INDEX(tab_data[Population],$F134,1)","v":68376002}]
[null,null,"Greece","Europe",{"$f":"C135&\"/\"&control!$C$10","v":"Greece/1950"},{"$f":"MATCH($E135,tab_data[ID (Country/Year)],0)","v":4289},{"$f":"AND(INDEX(control!$C$14:$C$19,MATCH(D135,control!$B$14:$B$19,0),1),NOT(control!$C$26))","v":true},{"$f":"IF($G135,INDEX(tab_data[Fertility],$F135,1),NA())","v":2.2730000000000001},{"$f":"IF($G135,INDEX(tab_data[Life Expectancy],$F135,1),NA())","v":65.418999999999997},{"$f":"INDEX(tab_data[Population],$F135,1)","v":7566002}]
[null,null,"Hungary","Europe",{"$f":"C136&\"/\"&control!$C$10","v":"Hungary/1950"},{"$f":"MATCH($E136,tab_data[ID (Country/Year)],0)","v":4993},{"$f":"AND(INDEX(control!$C$14:$C$19,MATCH(D136,control!$B$14:$B$19,0),1),NOT(control!$C$26))","v":true},{"$f":"IF($G136,INDEX(tab_data[Fertility],$F136,1),NA())","v":2.7869999999999999},{"$f":"IF($G136,INDEX(tab_data[Life Expectancy],$F136,1),NA())","v":62.07},{"$f":"INDEX(tab_data[Population],$F136,1)","v":9337723}]
[null,null,"Iceland","Europe",{"$f":"C137&\"/\"&control!$C$10","v":"Iceland/1950"},{"$f":"MATCH($E137,tab_data[ID (Country/Year)],0)","v":5057},{"$f":"AND(INDEX(control!$C$14:$C$19,MATCH(D137,control!$B$14:$B$19,0),1),NOT(control!$C$26))","v":true},{"$f":"IF($G137,INDEX(tab_data[Fertility],$F137,1),NA())","v":3.621},{"$f":"IF($G137,INDEX(tab_data[Life Expectancy],$F137,1),NA())","v":71.010000000000005},{"$f":"INDEX(tab_data[Population],$F137,1)","v":142998}]
[null,null,"Ireland","Europe",{"$f":"C138&\"/\"&control!$C$10","v":"Ireland/1950"},{"$f":"MATCH($E138,tab_data[ID (Country/Year)],0)","v":5377},{"$f":"AND(INDEX(control!$C$14:$C$19,MATCH(D138,control!$B$14:$B$19,0),1),NOT(control!$C$26))","v":true},{"$f":"IF($G138,INDEX(tab_data[Fertility],$F138,1),NA())","v":3.4750000000000001},{"$f":"IF($G138,INDEX(tab_data[Life Expectancy],$F138,1),NA())","v":65.61},{"$f":"INDEX(tab_data[Population],$F138,1)","v":2913093}]
[null,null,"Israel","Europe",{"$f":"C139&\"/\"&control!$C$10","v":"Israel/1950"},{"$f":"MATCH($E139,tab_data[ID (Country/Year)],0)","v":5441},{"$f":"AND(INDEX(control!$C$14:$C$19,MATCH(D139,control!$B$14:$B$19,0),1),NOT(control!$C$26))","v":true},{"$f":"IF($G139,INDEX(tab_data[Fertility],$F139,1),NA())","v":4.5229999999999997},{"$f":"IF($G139,INDEX(tab_data[Life Expectancy],$F139,1),NA())","v":64.171999999999997},{"$f":"INDEX(tab_data[Population],$F139,1)","v":1257970}]
[null,null,"Italy","Europe",{"$f":"C140&\"/\"&control!$C$10","v":"Italy/1950"},{"$f":"MATCH($E140,tab_data[ID (Country/Year)],0)","v":5505},{"$f":"AND(INDEX(control!$C$14:$C$19,MATCH(D140,control!$B$14:$B$19,0),1),NOT(control!$C$26))","v":true},{"$f":"IF($G140,INDEX(tab_data[Fertility],$F140,1),NA())","v":2.4470000000000001},{"$f":"IF($G140,INDEX(tab_data[Life Expectancy],$F140,1),NA())","v":65.77},{"$f":"INDEX(tab_data[Population],$F140,1)","v":46366767}]
[null,null,"Latvia","Europe",{"$f":"C141&\"/\"&control!$C$10","v":"Latvia/1950"},{"$f":"MATCH($E141,tab_data[ID (Country/Year)],0)","v":6273},{"$f":"AND(INDEX(control!$C$14:$C$19,MATCH(D141,control!$B$14:$B$19,0),1),NOT(control!$C$26))","v":true},{"$f":"IF($G141,INDEX(tab_data[Fertility],$F141,1),NA())","v":2.0070000000000001},{"$f":"IF($G141,INDEX(tab_data[Life Expectancy],$F141,1),NA())","v":59.715000000000003},{"$f":"INDEX(tab_data[Population],$F141,1)","v":1949000}]
[null,null,"Lithuania","Europe",{"$f":"C142&\"/\"&control!$C$10","v":"Lithuania/1950"},{"$f":"MATCH($E142,tab_data[ID (Country/Year)],0)","v":6593},{"$f":"AND(INDEX(control!$C$14:$C$19,MATCH(D142,control!$B$14:$B$19,0),1),NOT(control!$C$26))","v":true},{"$f":"IF($G142,INDEX(tab_data[Fertility],$F142,1),NA())","v":2.6789999999999998},{"$f":"IF($G142,INDEX(tab_data[Life Expectancy],$F142,1),NA())","v":63.56},{"$f":"INDEX(tab_data[Population],$F142,1)","v":2567402}]
[null,null,"Luxembourg","Europe",{"$f":"C143&\"/\"&control!$C$10","v":"Luxembourg/1950"},{"$f":"MATCH($E143,tab_data[ID (Country/Year)],0)","v":6657},{"$f":"AND(INDEX(control!$C$14:$C$19,MATCH(D143,control!$B$14:$B$19,0),1),NOT(control!$C$26))","v":true},{"$f":"IF($G143,INDEX(tab_data[Fertility],$F143,1),NA())","v":1.8680000000000001},{"$f":"IF($G143,INDEX(tab_data[Life Expectancy],$F143,1),NA())","v":65.248000000000005},{"$f":"INDEX(tab_data[Population],$F143,1)","v":296001}]
[null,null,"Macedonia, FYR","Europe",{"$f":"C144&\"/\"&control!$C$10","v":"Macedonia, FYR/1950"},{"$f":"MATCH($E144,tab_data[ID (Country/Year)],0)","v":6785},{"$f":"AND(INDEX(control!$C$14:$C$19,MATCH(D144,control!$B$14:$B$19,0),1),NOT(control!$C$26))","v":true},{"$f":"IF($G144,INDEX(tab_data[Fertility],$F144,1),NA())","v":4.0910000000000002},{"$f":"IF($G144,INDEX(tab_data[Life Expectancy],$F144,1),NA())","v":53.042000000000002},{"$f":"INDEX(tab_data[Population],$F144,1)","v":1229700}]
[null,null,"Malta","Europe",{"$f":"C145&\"/\"&control!$C$10","v":"Malta/1950"},{"$f":"MATCH($E145,tab_data[ID (Country/Year)],0)","v":7169},{"$f":"AND(INDEX(control!$C$14:$C$19,MATCH(D145,control!$B$14:$B$19,0),1),NOT(control!$C$26))","v":true},{"$f":"IF($G145,INDEX(tab_data[Fertility],$F145,1),NA())","v":4.2110000000000003},{"$f":"IF($G145,INDEX(tab_data[Life Expectancy],$F145,1),NA())","v":65.569999999999993},{"$f":"INDEX(tab_data[Population],$F145,1)","v":311997}]
[null,null,"Moldova","Europe",{"$f":"C146&\"/\"&control!$C$10","v":"Moldova/1950"},{"$f":"MATCH($E146,tab_data[ID (Country/Year)],0)","v":7617},{"$f":"AND(INDEX(control!$C$14:$C$19,MATCH(D146,control!$B$14:$B$19,0),1),NOT(control!$C$26))","v":true},{"$f":"IF($G146,INDEX(tab_data[Fertility],$F146,1),NA())","v":3.4750000000000001},{"$f":"IF($G146,INDEX(tab_data[Life Expectancy],$F146,1),NA())","v":58.145000000000003},{"$f":"INDEX(tab_data[Population],$F146,1)","v":2341003}]
[null,null,"Montenegro","Europe",{"$f":"C147&\"/\"&control!$C$10","v":"Montenegro/1950"},{"$f":"MATCH($E147,tab_data[ID (Country/Year)],0)","v":7745},{"$f":"AND(INDEX(control!$C$14:$C$19,MATCH(D147,control!$B$14:$B$19,0),1),NOT(control!$C$26))","v":true},{"$f":"IF($G147,INDEX(tab_data[Fertility],$F147,1),NA())","v":4.0810000000000004},{"$f":"IF($G147,INDEX(tab_data[Life Expectancy],$F147,1),NA())","v":59.177999999999997},{"$f":"INDEX(tab_data[Population],$F147,1)","v":398539}]
[null,null,"Netherlands","Europe",{"$f":"C148&\"/\"&control!$C$10","v":"Netherlands/1950"},{"$f":"MATCH($E148,tab_data[ID (Country/Year)],0)","v":8193},{"$f":"AND(INDEX(control!$C$14:$C$19,MATCH(D148,control!$B$14:$B$19,0),1),NOT(control!$C$26))","v":true},{"$f":"IF($G148,INDEX(tab_data[Fertility],$F148,1),NA())","v":3.1},{"$f":"IF($G148,INDEX(tab_data[Life Expectancy],$F148,1),NA())","v":71.45},{"$f":"INDEX(tab_data[Population],$F148,1)","v":10027047}]
[null,null,"Norway","Europe",{"$f":"C149&\"/\"&control!$C$10","v":"Norway/1950"},{"$f":"MATCH($E149,tab_data[ID (Country/Year)],0)","v":8577},{"$f":"AND(INDEX(control!$C$14:$C$19,MATCH(D149,control!$B$14:$B$19,0),1),NOT(control!$C$26))","v":true},{"$f":"IF($G149,INDEX(tab_data[Fertility],$F149,1),NA())","v":2.52},{"$f":"IF($G149,INDEX(tab_data[Life Expectancy],$F149,1),NA())","v":71.599999999999994},{"$f":"INDEX(tab_data[Population],$F149,1)","v":3265000}]
[null,null,"Poland","Europe",{"$f":"C150&\"/\"&control!$C$10","v":"Poland/1950"},{"$f":"MATCH($E150,tab_data[ID (Country/Year)],0)","v":9089},{"$f":"AND(INDEX(control!$C$14:$C$19,MATCH(D150,control!$B$14:$B$19,0),1),NOT(control!$C$26))","v":true},{"$f":"IF($G150,INDEX(tab_data[Fertility],$F150,1),NA())","v":3.6640000000000001},{"$f":"IF($G150,INDEX(tab_data[Life Expectancy],$F150,1),NA())","v":59.045000000000002},{"$f":"INDEX(tab_data[Population],$F150,1)","v":24824013}]
[null,null,"Portugal","Europe",{"$f":"C151&\"/\"&control!$C$10","v":"Portugal/1950"},{"$f":"MATCH($E151,tab_data[ID (Country/Year)],0)","v":9153},{"$f":"AND(INDEX(control!$C$14:$C$19,MATCH(D151,control!$B$14:$B$19,0),1),NOT(control!$C$26))","v":true},{"$f":"IF($G151,INDEX(tab_data[Fertility],$F151,1),NA())","v":3.1040000000000001},{"$f":"IF($G151,INDEX(tab_data[Life Expectancy],$F151,1),NA())","v":58.53},{"$f":"INDEX(tab_data[Population],$F151,1)","v":8416969}]
[null,null,"Romania","Europe",{"$f":"C152&\"/\"&control!$C$10","v":"Romania/1950"},{"$f":"MATCH($E152,tab_data[ID (Country/Year)],0)","v":9409},{"$f":"AND(INDEX(control!$C$14:$C$19,MATCH(D152,control!$B$14:$B$19,0),1),NOT(control!$C$26))","v":true},{"$f":"IF($G152,INDEX(tab_data[Fertility],$F152,1),NA())","v":3.5796652338811601},{"$f":"IF($G152,INDEX(tab_data[Life Expectancy],$F152,1),NA())","v":61.11},{"$f":"INDEX(tab_data[Population],$F152,1)","v":16310998}]
[null,null,"Russia","Europe",{"$f":"C153&\"/\"&control!$C$10","v":"Russia/1950"},{"$f":"MATCH($E153,tab_data[ID (Country/Year)],0)","v":9473},{"$f":"AND(INDEX(control!$C$14:$C$19,MATCH(D153,control!$B$14:$B$19,0),1),NOT(control!$C$26))","v":true},{"$f":"IF($G153,INDEX(tab_data[Fertility],$F153,1),NA())","v":2.8140000000000001},{"$f":"IF($G153,INDEX(tab_data[Life Expectancy],$F153,1),NA())","v":57.3},{"$f":"INDEX(tab_data[Population],$F153,1)","v":102702461}]
[null,null,"Serbia","Europe",{"$f":"C154&\"/\"&control!$C$10","v":"Serbia/1950"},{"$f":"MATCH($E154,tab_data[ID (Country/Year)],0)","v":9985},{"$f":"AND(INDEX(control!$C$14:$C$19,MATCH(D154,control!$B$14:$B$19,0),1),NOT(control!$C$26))","v":true},{"$f":"IF($G154,INDEX(tab_data[Fertility],$F154,1),NA())","v":3.484},{"$f":"IF($G154,INDEX(tab_data[Life Expectancy],$F154,1),NA())","v":58.174999999999997},{"$f":"INDEX(tab_data[Population],$F154,1)","v":6732256}]
[null,null,"Slovak Republic","Europe",{"$f":"C155&\"/\"&control!$C$10","v":"Slovak Republic/1950"},{"$f":"MATCH($E155,tab_data[ID (Country/Year)],0)","v":10241},{"$f":"AND(INDEX(control!$C$14:$C$19,MATCH(D155,control!$B$14:$B$19,0),1),NOT(control!$C$26))","v":true},{"$f":"IF($G155,INDEX(tab_data[Fertility],$F155,1),NA())","v":3.5920000000000001},{"$f":"IF($G155,INDEX(tab_data[Life Expectancy],$F155,1),NA())","v":60.89},{"$f":"INDEX(tab_data[Population],$F155,1)","v":3436574}]
[null,null,"Slovenia","Europe",{"$f":"C156&\"/\"&control!$C$10","v":"Slovenia/1950"},{"$f":"MATCH($E156,tab_data[ID (Country/Year)],0)","v":10305},{"$f":"AND(INDEX(control!$C$14:$C$19,MATCH(D156,control!$B$14:$B$19,0),1),NOT(control!$C$26))","v":true},{"$f":"IF($G156,INDEX(tab_data[Fertility],$F156,1),NA())","v":2.7389999999999999},{"$f":"IF($G156,INDEX(tab_data[Life Expectancy],$F156,1),NA())","v":64.450999999999993},{"$f":"INDEX(tab_data[Population],$F156,1)","v":1473094}]
[null,null,"Spain","Europe",{"$f":"C157&\"/\"&control!$C$10","v":"Spain/1950"},{"$f":"MATCH($E157,tab_data[ID (Country/Year)],0)","v":10625},{"$f":"AND(INDEX(control!$C$14:$C$19,MATCH(D157,control!$B$14:$B$19,0),1),NOT(control!$C$26))","v":true},{"$f":"IF($G157,INDEX(tab_data[Fertility],$F157,1),NA())","v":2.4489999999999998},{"$f":"IF($G157,INDEX(tab_data[Life Expectancy],$F157,1),NA())","v":61.87},{"$f":"INDEX(tab_data[Population],$F157,1)","v":28069737}]
[null,null,"Sweden","Europe",{"$f":"C158&\"/\"&control!$C$10","v":"Sweden/1950"},{"$f":"MATCH($E158,tab_data[ID (Country/Year)],0)","v":10945},{"$f":"AND(INDEX(control!$C$14:$C$19,MATCH(D158,control!$B$14:$B$19,0),1),NOT(control!$C$26))","v":true},{"$f":"IF($G158,INDEX(tab_data[Fertility],$F158,1),NA())","v":2.2799999999999998},{"$f":"IF($G158,INDEX(tab_data[Life Expectancy],$F158,1),NA())","v":71.14},{"$f":"INDEX(tab_data[Population],$F158,1)","v":7014001}]
[null,null,"Switzerland","Europe",{"$f":"C159&\"/\"&control!$C$10","v":"Switzerland/1950"},{"$f":"MATCH($E159,tab_data[ID (Country/Year)],0)","v":11009},{"$f":"AND(INDEX(control!$C$14:$C$19,MATCH(D159,control!$B$14:$B$19,0),1),NOT(control!$C$26))","v":true},{"$f":"IF($G159,INDEX(tab_data[Fertility],$F159,1),NA())","v":2.3250000000000002},{"$f":"IF($G159,INDEX(tab_data[Life Expectancy],$F159,1),NA())","v":68.94},{"$f":"INDEX(tab_data[Population],$F159,1)","v":4668088}]
[null,null,"Turkey","Europe",{"$f":"C160&\"/\"&control!$C$10","v":"Turkey/1950"},{"$f":"MATCH($E160,tab_data[ID (Country/Year)],0)","v":11713},{"$f":"AND(INDEX(control!$C$14:$C$19,MATCH(D160,control!$B$14:$B$19,0),1),NOT(control!$C$26))","v":true},{"$f":"IF($G160,INDEX(tab_data[Fertility],$F160,1),NA())","v":6.6719999999999997},{"$f":"IF($G160,INDEX(tab_data[Life Expectancy],$F160,1),NA())","v":40.170999999999999},{"$f":"INDEX(tab_data[Population],$F160,1)","v":21238496}]
[null,null,"Ukraine","Europe",{"$f":"C161&\"/\"&control!$C$10","v":"Ukraine/1950"},{"$f":"MATCH($E161,tab_data[ID (Country/Year)],0)","v":11905},{"$f":"AND(INDEX(control!$C$14:$C$19,MATCH(D161,control!$B$14:$B$19,0),1),NOT(control!$C$26))","v":true},{"$f":"IF($G161,INDEX(tab_data[Fertility],$F161,1),NA())","v":2.718},{"$f":"IF($G161,INDEX(tab_data[Life Expectancy],$F161,1),NA())","v":64.275999999999996},{"$f":"INDEX(tab_data[Population],$F161,1)","v":37297652}]
[null,null,"United Kingdom","Europe",{"$f":"C162&\"/\"&control!$C$10","v":"United Kingdom/1950"},{"$f":"MATCH($E162,tab_data[ID (Country/Year)],0)","v":12033},{"$f":"AND(INDEX(control!$C$14:$C$19,MATCH(D162,control!$B$14:$B$19,0),1),NOT(control!$C$26))","v":true},{"$f":"IF($G162,INDEX(tab_data[Fertility],$F162,1),NA())","v":2.0760000000000001},{"$f":"IF($G162,INDEX(tab_data[Life Expectancy],$F162,1),NA())","v":68.7},{"$f":"INDEX(tab_data[Population],$F162,1)","v":50616012}]
[null,"Latin America + Caribbean","Argentina","Latin America + Caribbean",{"$f":"C163&\"/\"&control!$C$10","v":"Argentina/1950"},{"$f":"MATCH($E163,tab_data[ID (Country/Year)],0)","v":321},{"$f":"AND(INDEX(control!$C$14:$C$19,MATCH(D163,control!$B$14:$B$19,0),1),NOT(control!$C$26))","v":true},{"$f":"IF($G163,INDEX(tab_data[Fertility],$F163,1),NA())","v":3.1640000000000001},{"$f":"IF($G163,INDEX(tab_data[Life Expectancy],$F163,1),NA())","v":61.417999999999999},{"$f":"INDEX(tab_data[Population],$F163,1)","v":17150335}]
[null,null,"Aruba","Latin America + Caribbean",{"$f":"C164&\"/\"&control!$C$10","v":"Aruba/1950"},{"$f":"MATCH($E164,tab_data[ID (Country/Year)],0)","v":449},{"$f":"AND(INDEX(control!$C$14:$C$19,MATCH(D164,control!$B$14:$B$19,0),1),NOT(control!$C$26))","v":true},{"$f":"IF($G164,INDEX(tab_data[Fertility],$F164,1),NA())","v":5.8010000000000002},{"$f":"IF($G164,INDEX(tab_data[Life Expectancy],$F164,1),NA())","v":58.418999999999997},{"$f":"INDEX(tab_data[Population],$F164,1)","v":38066}]
[null,null,"Bahamas","Latin America + Caribbean",{"$f":"C165&\"/\"&control!$C$10","v":"Bahamas/1950"},{"$f":"MATCH($E165,tab_data[ID (Country/Year)],0)","v":705},{"$f":"AND(INDEX(control!$C$14:$C$19,MATCH(D165,control!$B$14:$B$19,0),1),NOT(control!$C$26))","v":true},{"$f":"IF($G165,INDEX(tab_data[Fertility],$F165,1),NA())","v":3.9780000000000002},{"$f":"IF($G165,INDEX(tab_data[Life Expectancy],$F165,1),NA())","v":59.179000000000002},{"$f":"INDEX(tab_data[Population],$F165,1)","v":79088}]
[null,null,"Barbados","Latin America + Caribbean",{"$f":"C166&\"/\"&control!$C$10","v":"Barbados/1950"},{"$f":"MATCH($E166,tab_data[ID (Country/Year)],0)","v":897},{"$f":"AND(INDEX(control!$C$14:$C$19,MATCH(D166,control!$B$14:$B$19,0),1),NOT(control!$C$26))","v":true},{"$f":"IF($G166,INDEX(tab_data[Fertility],$F166,1),NA())","v":4.516},{"$f":"IF($G166,INDEX(tab_data[Life Expectancy],$F166,1),NA())","v":56.124000000000002},{"$f":"INDEX(tab_data[Population],$F166,1)","v":210995}]
[null,null,"Belize","Latin America + Caribbean",{"$f":"C167&\"/\"&control!$C$10","v":"Belize/1950"},{"$f":"MATCH($E167,tab_data[ID (Country/Year)],0)","v":1089},{"$f":"AND(INDEX(control!$C$14:$C$19,MATCH(D167,control!$B$14:$B$19,0),1),NOT(control!$C$26))","v":true},{"$f":"IF($G167,INDEX(tab_data[Fertility],$F167,1),NA())","v":6.69},{"$f":"IF($G167,INDEX(tab_data[Life Expectancy],$F167,1),NA())","v":54.805999999999997},{"$f":"INDEX(tab_data[Population],$F167,1)","v":68918}]
[null,null,"Bolivia","Latin America + Caribbean",{"$f":"C168&\"/\"&control!$C$10","v":"Bolivia/1950"},{"$f":"MATCH($E168,tab_data[ID (Country/Year)],0)","v":1281},{"$f":"AND(INDEX(control!$C$14:$C$19,MATCH(D168,control!$B$14:$B$19,0),1),NOT(control!$C$26))","v":true},{"$f":"IF($G168,INDEX(tab_data[Fertility],$F168,1),NA())","v":6.7160000000000002},{"$f":"IF($G168,INDEX(tab_data[Life Expectancy],$F168,1),NA())","v":39.844999999999999},{"$f":"INDEX(tab_data[Population],$F168,1)","v":2713630}]
[null,null,"Brazil","Latin America + Caribbean",{"$f":"C169&\"/\"&control!$C$10","v":"Brazil/1950"},{"$f":"MATCH($E169,tab_data[ID (Country/Year)],0)","v":1473},{"$f":"AND(INDEX(control!$C$14:$C$19,MATCH(D169,control!$B$14:$B$19,0),1),NOT(control!$C$26))","v":true},{"$f":"IF($G169,INDEX(tab_data[Fertility],$F169,1),NA())","v":6.18},{"$f":"IF($G169,INDEX(tab_data[Life Expectancy],$F169,1),NA())","v":50.04},{"$f":"INDEX(tab_data[Population],$F169,1)","v":53974725}]
[null,null,"Chile","Latin America + Caribbean",{"$f":"C170&\"/\"&control!$C$10","v":"Chile/1950"},{"$f":"MATCH($E170,tab_data[ID (Country/Year)],0)","v":2241},{"$f":"AND(INDEX(control!$C$14:$C$19,MATCH(D170,control!$B$14:$B$19,0),1),NOT(control!$C$26))","v":true},{"$f":"IF($G170,INDEX(tab_data[Fertility],$F170,1),NA())","v":4.6180000000000003},{"$f":"IF($G170,INDEX(tab_data[Life Expectancy],$F170,1),NA())","v":54.335999999999999},{"$f":"INDEX(tab_data[Population],$F170,1)","v":6081931}]
[null,null,"Colombia","Latin America + Caribbean",{"$f":"C171&\"/\"&control!$C$10","v":"Colombia/1950"},{"$f":"MATCH($E171,tab_data[ID (Country/Year)],0)","v":2369},{"$f":"AND(INDEX(control!$C$14:$C$19,MATCH(D171,control!$B$14:$B$19,0),1),NOT(control!$C$26))","v":true},{"$f":"IF($G171,INDEX(tab_data[Fertility],$F171,1),NA())","v":6.7750000000000004},{"$f":"IF($G171,INDEX(tab_data[Life Expectancy],$F171,1),NA())","v":48.384999999999998},{"$f":"INDEX(tab_data[Population],$F171,1)","v":11999600}]
[null,null,"Costa Rica","Latin America + Caribbean",{"$f":"C172&\"/\"&control!$C$10","v":"Costa Rica/1950"},{"$f":"MATCH($E172,tab_data[ID (Country/Year)],0)","v":2625},{"$f":"AND(INDEX(control!$C$14:$C$19,MATCH(D172,control!$B$14:$B$19,0),1),NOT(control!$C$26))","v":true},{"$f":"IF($G172,INDEX(tab_data[Fertility],$F172,1),NA())","v":6.55},{"$f":"IF($G172,INDEX(tab_data[Life Expectancy],$F172,1),NA())","v":56.113999999999997},{"$f":"INDEX(tab_data[Population],$F172,1)","v":966015}]
[null,null,"Cuba","Latin America + Caribbean",{"$f":"C173&\"/\"&control!$C$10","v":"Cuba/1950"},{"$f":"MATCH($E173,tab_data[ID (Country/Year)],0)","v":2817},{"$f":"AND(INDEX(control!$C$14:$C$19,MATCH(D173,control!$B$14:$B$19,0),1),NOT(control!$C$26))","v":true},{"$f":"IF($G173,INDEX(tab_data[Fertility],$F173,1),NA())","v":4.758},{"$f":"IF($G173,INDEX(tab_data[Life Expectancy],$F173,1),NA())","v":58.225000000000001},{"$f":"INDEX(tab_data[Population],$F173,1)","v":5919997}]
[null,null,"Dominican Republic","Latin America + Caribbean",{"$f":"C174&\"/\"&control!$C$10","v":"Dominican Republic/1950"},{"$f":"MATCH($E174,tab_data[ID (Country/Year)],0)","v":3137},{"$f":"AND(INDEX(control!$C$14:$C$19,MATCH(D174,control!$B$14:$B$19,0),1),NOT(control!$C$26))","v":true},{"$f":"IF($G174,INDEX(tab_data[Fertility],$F174,1),NA())","v":7.508},{"$f":"IF($G174,INDEX(tab_data[Life Expectancy],$F174,1),NA())","v":44.311},{"$f":"INDEX(tab_data[Population],$F174,1)","v":2380116}]
[null,null,"Ecuador","Latin America + Caribbean",{"$f":"C175&\"/\"&control!$C$10","v":"Ecuador/1950"},{"$f":"MATCH($E175,tab_data[ID (Country/Year)],0)","v":3201},{"$f":"AND(INDEX(control!$C$14:$C$19,MATCH(D175,control!$B$14:$B$19,0),1),NOT(control!$C$26))","v":true},{"$f":"IF($G175,INDEX(tab_data[Fertility],$F175,1),NA())","v":6.6870000000000003},{"$f":"IF($G175,INDEX(tab_data[Life Expectancy],$F175,1),NA())","v":47.277000000000001},{"$f":"INDEX(tab_data[Population],$F175,1)","v":3387357}]
[null,null,"El Salvador","Latin America + Caribbean",{"$f":"C176&\"/\"&control!$C$10","v":"El Salvador/1950"},{"$f":"MATCH($E176,tab_data[ID (Country/Year)],0)","v":3329},{"$f":"AND(INDEX(control!$C$14:$C$19,MATCH(D176,control!$B$14:$B$19,0),1),NOT(control!$C$26))","v":true},{"$f":"IF($G176,INDEX(tab_data[Fertility],$F176,1),NA())","v":6.1580000000000004},{"$f":"IF($G176,INDEX(tab_data[Life Expectancy],$F176,1),NA())","v":43.261000000000003},{"$f":"INDEX(tab_data[Population],$F176,1)","v":2199897}]
[null,null,"French Guiana","Latin America + Caribbean",{"$f":"C177&\"/\"&control!$C$10","v":"French Guiana/1950"},{"$f":"MATCH($E177,tab_data[ID (Country/Year)],0)","v":3841},{"$f":"AND(INDEX(control!$C$14:$C$19,MATCH(D177,control!$B$14:$B$19,0),1),NOT(control!$C$26))","v":true},{"$f":"IF($G177,INDEX(tab_data[Fertility],$F177,1),NA())","v":5.0759999999999996},{"$f":"IF($G177,INDEX(tab_data[Life Expectancy],$F177,1),NA())","v":52.25},{"$f":"INDEX(tab_data[Population],$F177,1)","v":25479}]
[null,null,"Grenada","Latin America + Caribbean",{"$f":"C178&\"/\"&control!$C$10","v":"Grenada/1950"},{"$f":"MATCH($E178,tab_data[ID (Country/Year)],0)","v":4353},{"$f":"AND(INDEX(control!$C$14:$C$19,MATCH(D178,control!$B$14:$B$19,0),1),NOT(control!$C$26))","v":true},{"$f":"IF($G178,INDEX(tab_data[Fertility],$F178,1),NA())","v":5.1840000000000002},{"$f":"IF($G178,INDEX(tab_data[Life Expectancy],$F178,1),NA())","v":55.231000000000002},{"$f":"INDEX(tab_data[Population],$F178,1)","v":76676}]
[null,null,"Guadeloupe","Latin America + Caribbean",{"$f":"C179&\"/\"&control!$C$10","v":"Guadeloupe/1950"},{"$f":"MATCH($E179,tab_data[ID (Country/Year)],0)","v":4417},{"$f":"AND(INDEX(control!$C$14:$C$19,MATCH(D179,control!$B$14:$B$19,0),1),NOT(control!$C$26))","v":true},{"$f":"IF($G179,INDEX(tab_data[Fertility],$F179,1),NA())","v":5.6210000000000004},{"$f":"IF($G179,INDEX(tab_data[Life Expectancy],$F179,1),NA())","v":51.655000000000001},{"$f":"INDEX(tab_data[Population],$F179,1)","v":209999}]
[null,null,"Guatemala","Latin America + Caribbean",{"$f":"C180&\"/\"&control!$C$10","v":"Guatemala/1950"},{"$f":"MATCH($E180,tab_data[ID (Country/Year)],0)","v":4545},{"$f":"AND(INDEX(control!$C$14:$C$19,MATCH(D180,control!$B$14:$B$19,0),1),NOT(control!$C$26))","v":true},{"$f":"IF($G180,INDEX(tab_data[Fertility],$F180,1),NA())","v":7.2450000000000001},{"$f":"IF($G180,INDEX(tab_data[Life Expectancy],$F180,1),NA())","v":41.371000000000002},{"$f":"INDEX(tab_data[Population],$F180,1)","v":3146073}]
[null,null,"Guyana","Latin America + Caribbean",{"$f":"C181&\"/\"&control!$C$10","v":"Guyana/1950"},{"$f":"MATCH($E181,tab_data[ID (Country/Year)],0)","v":4737},{"$f":"AND(INDEX(control!$C$14:$C$19,MATCH(D181,control!$B$14:$B$19,0),1),NOT(control!$C$26))","v":true},{"$f":"IF($G181,INDEX(tab_data[Fertility],$F181,1),NA())","v":5.3140000000000001},{"$f":"IF($G181,INDEX(tab_data[Life Expectancy],$F181,1),NA())","v":56.959000000000003},{"$f":"INDEX(tab_data[Population],$F181,1)","v":406562}]
[null,null,"Haiti","Latin America + Caribbean",{"$f":"C182&\"/\"&control!$C$10","v":"Haiti/1950"},{"$f":"MATCH($E182,tab_data[ID (Country/Year)],0)","v":4801},{"$f":"AND(INDEX(control!$C$14:$C$19,MATCH(D182,control!$B$14:$B$19,0),1),NOT(control!$C$26))","v":true},{"$f":"IF($G182,INDEX(tab_data[Fertility],$F182,1),NA())","v":6.31},{"$f":"IF($G182,INDEX(tab_data[Life Expectancy],$F182,1),NA())","v":36.268999999999998},{"$f":"INDEX(tab_data[Population],$F182,1)","v":3221277}]
[null,null,"Honduras","Latin America + Caribbean",{"$f":"C183&\"/\"&control!$C$10","v":"Honduras/1950"},{"$f":"MATCH($E183,tab_data[ID (Country/Year)],0)","v":4865},{"$f":"AND(INDEX(control!$C$14:$C$19,MATCH(D183,control!$B$14:$B$19,0),1),NOT(control!$C$26))","v":true},{"$f":"IF($G183,INDEX(tab_data[Fertility],$F183,1),NA())","v":7.4690000000000003},{"$f":"IF($G183,INDEX(tab_data[Life Expectancy],$F183,1),NA())","v":40.847000000000001},{"$f":"INDEX(tab_data[Population],$F183,1)","v":1487235}]
[null,null,"Jamaica","Latin America + Caribbean",{"$f":"C184&\"/\"&control!$C$10","v":"Jamaica/1950"},{"$f":"MATCH($E184,tab_data[ID (Country/Year)],0)","v":5569},{"$f":"AND(INDEX(control!$C$14:$C$19,MATCH(D184,control!$B$14:$B$19,0),1),NOT(control!$C$26))","v":true},{"$f":"IF($G184,INDEX(tab_data[Fertility],$F184,1),NA())","v":3.802},{"$f":"IF($G184,INDEX(tab_data[Life Expectancy],$F184,1),NA())","v":56.63},{"$f":"INDEX(tab_data[Population],$F184,1)","v":1402896}]
[null,null,"Martinique","Latin America + Caribbean",{"$f":"C185&\"/\"&control!$C$10","v":"Martinique/1950"},{"$f":"MATCH($E185,tab_data[ID (Country/Year)],0)","v":7233},{"$f":"AND(INDEX(control!$C$14:$C$19,MATCH(D185,control!$B$14:$B$19,0),1),NOT(control!$C$26))","v":true},{"$f":"IF($G185,INDEX(tab_data[Fertility],$F185,1),NA())","v":5.6429999999999998},{"$f":"IF($G185,INDEX(tab_data[Life Expectancy],$F185,1),NA())","v":54.152999999999999},{"$f":"INDEX(tab_data[Population],$F185,1)","v":222001}]
[null,null,"Mexico","Latin America + Caribbean",{"$f":"C186&\"/\"&control!$C$10","v":"Mexico/1950"},{"$f":"MATCH($E186,tab_data[ID (Country/Year)],0)","v":7489},{"$f":"AND(INDEX(control!$C$14:$C$19,MATCH(D186,control!$B$14:$B$19,0),1),NOT(control!$C$26))","v":true},{"$f":"IF($G186,INDEX(tab_data[Fertility],$F186,1),NA())","v":6.6150000000000002},{"$f":"IF($G186,INDEX(tab_data[Life Expectancy],$F186,1),NA())","v":48.555999999999997},{"$f":"INDEX(tab_data[Population],$F186,1)","v":27865814}]
[null,null,"Netherlands Antilles","Latin America + Caribbean",{"$f":"C187&\"/\"&control!$C$10","v":"Netherlands Antilles/1950"},{"$f":"MATCH($E187,tab_data[ID (Country/Year)],0)","v":8129},{"$f":"AND(INDEX(control!$C$14:$C$19,MATCH(D187,control!$B$14:$B$19,0),1),NOT(control!$C$26))","v":true},{"$f":"IF($G187,INDEX(tab_data[Fertility],$F187,1),NA())","v":5.8},{"$f":"IF($G187,INDEX(tab_data[Life Expectancy],$F187,1),NA())","v":58.408000000000001},{"$f":"INDEX(tab_data[Population],$F187,1)","v":111701}]
[null,null,"Nicaragua","Latin America + Caribbean",{"$f":"C188&\"/\"&control!$C$10","v":"Nicaragua/1950"},{"$f":"MATCH($E188,tab_data[ID (Country/Year)],0)","v":8385},{"$f":"AND(INDEX(control!$C$14:$C$19,MATCH(D188,control!$B$14:$B$19,0),1),NOT(control!$C$26))","v":true},{"$f":"IF($G188,INDEX(tab_data[Fertility],$F188,1),NA())","v":6.8840000000000003},{"$f":"IF($G188,INDEX(tab_data[Life Expectancy],$F188,1),NA())","v":41.05},{"$f":"INDEX(tab_data[Population],$F188,1)","v":1294993}]
[null,null,"Panama","Latin America + Caribbean",{"$f":"C189&\"/\"&control!$C$10","v":"Panama/1950"},{"$f":"MATCH($E189,tab_data[ID (Country/Year)],0)","v":8769},{"$f":"AND(INDEX(control!$C$14:$C$19,MATCH(D189,control!$B$14:$B$19,0),1),NOT(control!$C$26))","v":true},{"$f":"IF($G189,INDEX(tab_data[Fertility],$F189,1),NA())","v":5.6790000000000003},{"$f":"IF($G189,INDEX(tab_data[Life Expectancy],$F189,1),NA())","v":55.728000000000002},{"$f":"INDEX(tab_data[Population],$F189,1)","v":860092}]
[null,null,"Paraguay","Latin America + Caribbean",{"$f":"C190&\"/\"&control!$C$10","v":"Paraguay/1950"},{"$f":"MATCH($E190,tab_data[ID (Country/Year)],0)","v":8897},{"$f":"AND(INDEX(control!$C$14:$C$19,MATCH(D190,control!$B$14:$B$19,0),1),NOT(control!$C$26))","v":true},{"$f":"IF($G190,INDEX(tab_data[Fertility],$F190,1),NA())","v":6.49},{"$f":"IF($G190,INDEX(tab_data[Life Expectancy],$F190,1),NA())","v":62.688000000000002},{"$f":"INDEX(tab_data[Population],$F190,1)","v":1473245}]
[null,null,"Peru","Latin America + Caribbean",{"$f":"C191&\"/\"&control!$C$10","v":"Peru/1950"},{"$f":"MATCH($E191,tab_data[ID (Country/Year)],0)","v":8961},{"$f":"AND(INDEX(control!$C$14:$C$19,MATCH(D191,control!$B$14:$B$19,0),1),NOT(control!$C$26))","v":true},{"$f":"IF($G191,INDEX(tab_data[Fertility],$F191,1),NA())","v":6.8609999999999998},{"$f":"IF($G191,INDEX(tab_data[Life Expectancy],$F191,1),NA())","v":43.113},{"$f":"INDEX(tab_data[Population],$F191,1)","v":7632461}]
[null,null,"Puerto Rico","Latin America + Caribbean",{"$f":"C192&\"/\"&control!$C$10","v":"Puerto Rico/1950"},{"$f":"MATCH($E192,tab_data[ID (Country/Year)],0)","v":9217},{"$f":"AND(INDEX(control!$C$14:$C$19,MATCH(D192,control!$B$14:$B$19,0),1),NOT(control!$C$26))","v":true},{"$f":"IF($G192,INDEX(tab_data[Fertility],$F192,1),NA())","v":4.9749999999999996},{"$f":"IF($G192,INDEX(tab_data[Life Expectancy],$F192,1),NA())","v":60.918999999999997},{"$f":"INDEX(tab_data[Population],$F192,1)","v":2218000}]
[null,null,"Saint Lucia","Latin America + Caribbean",{"$f":"C193&\"/\"&control!$C$10","v":"Saint Lucia/1950"},{"$f":"MATCH($E193,tab_data[ID (Country/Year)],0)","v":9601},{"$f":"AND(INDEX(control!$C$14:$C$19,MATCH(D193,control!$B$14:$B$19,0),1),NOT(control!$C$26))","v":true},{"$f":"IF($G193,INDEX(tab_data[Fertility],$F193,1),NA())","v":5.3380000000000001},{"$f":"IF($G193,INDEX(tab_data[Life Expectancy],$F193,1),NA())","v":52.008000000000003},{"$f":"INDEX(tab_data[Population],$F193,1)","v":82783}]
[null,null,"Saint Vincent and the Grenadines","Latin America + Caribbean",{"$f":"C194&\"/\"&control!$C$10","v":"Saint Vincent and the Grenadines/1950"},{"$f":"MATCH($E194,tab_data[ID (Country/Year)],0)","v":9665},{"$f":"AND(INDEX(control!$C$14:$C$19,MATCH(D194,control!$B$14:$B$19,0),1),NOT(control!$C$26))","v":true},{"$f":"IF($G194,INDEX(tab_data[Fertility],$F194,1),NA())","v":7.2560000000000002},{"$f":"IF($G194,INDEX(tab_data[Life Expectancy],$F194,1),NA())","v":49.985999999999997},{"$f":"INDEX(tab_data[Population],$F194,1)","v":67000}]
[null,null,"Suriname","Latin America + Caribbean",{"$f":"C195&\"/\"&control!$C$10","v":"Suriname/1950"},{"$f":"MATCH($E195,tab_data[ID (Country/Year)],0)","v":10817},{"$f":"AND(INDEX(control!$C$14:$C$19,MATCH(D195,control!$B$14:$B$19,0),1),NOT(control!$C$26))","v":true},{"$f":"IF($G195,INDEX(tab_data[Fertility],$F195,1),NA())","v":6.5819999999999999},{"$f":"IF($G195,INDEX(tab_data[Life Expectancy],$F195,1),NA())","v":54.662999999999997},{"$f":"INDEX(tab_data[Population],$F195,1)","v":214999}]
[null,null,"Trinidad and Tobago","Latin America + Caribbean",{"$f":"C196&\"/\"&control!$C$10","v":"Trinidad and Tobago/1950"},{"$f":"MATCH($E196,tab_data[ID (Country/Year)],0)","v":11585},{"$f":"AND(INDEX(control!$C$14:$C$19,MATCH(D196,control!$B$14:$B$19,0),1),NOT(control!$C$26))","v":true},{"$f":"IF($G196,INDEX(tab_data[Fertility],$F196,1),NA())","v":5.2759999999999998},{"$f":"IF($G196,INDEX(tab_data[Life Expectancy],$F196,1),NA())","v":56.89},{"$f":"INDEX(tab_data[Population],$F196,1)","v":635999}]
[null,null,"Uruguay","Latin America + Caribbean",{"$f":"C197&\"/\"&control!$C$10","v":"Uruguay/1950"},{"$f":"MATCH($E197,tab_data[ID (Country/Year)],0)","v":12161},{"$f":"AND(INDEX(control!$C$14:$C$19,MATCH(D197,control!$B$14:$B$19,0),1),NOT(control!$C$26))","v":true},{"$f":"IF($G197,INDEX(tab_data[Fertility],$F197,1),NA())","v":2.6920000000000002},{"$f":"IF($G197,INDEX(tab_data[Life Expectancy],$F197,1),NA())","v":65.804000000000002},{"$f":"INDEX(tab_data[Population],$F197,1)","v":2238506}]
[null,null,"Venezuela","Latin America + Caribbean",{"$f":"C198&\"/\"&control!$C$10","v":"Venezuela/1950"},{"$f":"MATCH($E198,tab_data[ID (Country/Year)],0)","v":12353},{"$f":"AND(INDEX(control!$C$14:$C$19,MATCH(D198,control!$B$14:$B$19,0),1),NOT(control!$C$26))","v":true},{"$f":"IF($G198,INDEX(tab_data[Fertility],$F198,1),NA())","v":6.5439999999999996},{"$f":"IF($G198,INDEX(tab_data[Life Expectancy],$F198,1),NA())","v":54.045999999999999},{"$f":"INDEX(tab_data[Population],$F198,1)","v":5093708}]
[null,"North America","Antigua and Barbuda","North America",{"$f":"C199&\"/\"&control!$C$10","v":"Antigua and Barbuda/1950"},{"$f":"MATCH($E199,tab_data[ID (Country/Year)],0)","v":257},{"$f":"AND(INDEX(control!$C$14:$C$19,MATCH(D199,control!$B$14:$B$19,0),1),NOT(control!$C$26))","v":true},{"$f":"IF($G199,INDEX(tab_data[Fertility],$F199,1),NA())","v":4.4459999999999997},{"$f":"IF($G199,INDEX(tab_data[Life Expectancy],$F199,1),NA())","v":57.536000000000001},{"$f":"INDEX(tab_data[Population],$F199,1)","v":46301}]
[null,null,"Canada","North America",{"$f":"C200&\"/\"&control!$C$10","v":"Canada/1950"},{"$f":"MATCH($E200,tab_data[ID (Country/Year)],0)","v":1921},{"$f":"AND(INDEX(control!$C$14:$C$19,MATCH(D200,control!$B$14:$B$19,0),1),NOT(control!$C$26))","v":true},{"$f":"IF($G200,INDEX(tab_data[Fertility],$F200,1),NA())","v":3.4260000000000002},{"$f":"IF($G200,INDEX(tab_data[Life Expectancy],$F200,1),NA())","v":68.28},{"$f":"INDEX(tab_data[Population],$F200,1)","v":13736997}]
[null,null,"United States","North America",{"$f":"C201&\"/\"&control!$C$10","v":"United States/1950"},{"$f":"MATCH($E201,tab_data[ID (Country/Year)],0)","v":12097},{"$f":"AND(INDEX(control!$C$14:$C$19,MATCH(D201,control!$B$14:$B$19,0),1),NOT(control!$C$26))","v":true},{"$f":"IF($G201,INDEX(tab_data[Fertility],$F201,1),NA())","v":3.02},{"$f":"IF($G201,INDEX(tab_data[Life Expectancy],$F201,1),NA())","v":68.12},{"$f":"INDEX(tab_data[Population],$F201,1)","v":157813040}]
[null,null,"Virgin Islands (U.S.)","North America",{"$f":"C202&\"/\"&control!$C$10","v":"Virgin Islands (U.S.)/1950"},{"$f":"MATCH($E202,tab_data[ID (Country/Year)],0)","v":12481},{"$f":"AND(INDEX(control!$C$14:$C$19,MATCH(D202,control!$B$14:$B$19,0),1),NOT(control!$C$26))","v":true},{"$f":"IF($G202,INDEX(tab_data[Fertility],$F202,1),NA())","v":5.1420000000000003},{"$f":"IF($G202,INDEX(tab_data[Life Expectancy],$F202,1),NA())","v":57.402999999999999},{"$f":"INDEX(tab_data[Population],$F202,1)","v":26795}]
[null,"West Asia","Bahrain","West Asia",{"$f":"C203&\"/\"&control!$C$10","v":"Bahrain/1950"},{"$f":"MATCH($E203,tab_data[ID (Country/Year)],0)","v":769},{"$f":"AND(INDEX(control!$C$14:$C$19,MATCH(D203,control!$B$14:$B$19,0),1),NOT(control!$C$26))","v":true},{"$f":"IF($G203,INDEX(tab_data[Fertility],$F203,1),NA())","v":7.0309999999999997},{"$f":"IF($G203,INDEX(tab_data[Life Expectancy],$F203,1),NA())","v":41.164000000000001},{"$f":"INDEX(tab_data[Population],$F203,1)","v":115612}]
[null,null,"Iraq","West Asia",{"$f":"C204&\"/\"&control!$C$10","v":"Iraq/1950"},{"$f":"MATCH($E204,tab_data[ID (Country/Year)],0)","v":5313},{"$f":"AND(INDEX(control!$C$14:$C$19,MATCH(D204,control!$B$14:$B$19,0),1),NOT(control!$C$26))","v":true},{"$f":"IF($G204,INDEX(tab_data[Fertility],$F204,1),NA())","v":8.11},{"$f":"IF($G204,INDEX(tab_data[Life Expectancy],$F204,1),NA())","v":34.865000000000002},{"$f":"INDEX(tab_data[Population],$F204,1)","v":5719192}]
[null,null,"Jordan","West Asia",{"$f":"C205&\"/\"&control!$C$10","v":"Jordan/1950"},{"$f":"MATCH($E205,tab_data[ID (Country/Year)],0)","v":5697},{"$f":"AND(INDEX(control!$C$14:$C$19,MATCH(D205,control!$B$14:$B$19,0),1),NOT(control!$C$26))","v":true},{"$f":"IF($G205,INDEX(tab_data[Fertility],$F205,1),NA())","v":7.5640000000000001},{"$f":"IF($G205,INDEX(tab_data[Life Expectancy],$F205,1),NA())","v":44.762999999999998},{"$f":"INDEX(tab_data[Population],$F205,1)","v":448861}]
[null,null,"Kuwait","West Asia",{"$f":"C206&\"/\"&control!$C$10","v":"Kuwait/1950"},{"$f":"MATCH($E206,tab_data[ID (Country/Year)],0)","v":6081},{"$f":"AND(INDEX(control!$C$14:$C$19,MATCH(D206,control!$B$14:$B$19,0),1),NOT(control!$C$26))","v":true},{"$f":"IF($G206,INDEX(tab_data[Fertility],$F206,1),NA())","v":7.2270000000000003},{"$f":"IF($G206,INDEX(tab_data[Life Expectancy],$F206,1),NA())","v":51.274000000000001},{"$f":"INDEX(tab_data[Population],$F206,1)","v":152251}]
[null,null,"Lebanon","West Asia",{"$f":"C207&\"/\"&control!$C$10","v":"Lebanon/1950"},{"$f":"MATCH($E207,tab_data[ID (Country/Year)],0)","v":6337},{"$f":"AND(INDEX(control!$C$14:$C$19,MATCH(D207,control!$B$14:$B$19,0),1),NOT(control!$C$26))","v":true},{"$f":"IF($G207,INDEX(tab_data[Fertility],$F207,1),NA())","v":5.76},{"$f":"IF($G207,INDEX(tab_data[Life Expectancy],$F207,1),NA())","v":59.585999999999999},{"$f":"INDEX(tab_data[Population],$F207,1)","v":1442826}]
[null,null,"Oman","West Asia",{"$f":"C208&\"/\"&control!$C$10","v":"Oman/1950"},{"$f":"MATCH($E208,tab_data[ID (Country/Year)],0)","v":8641},{"$f":"AND(INDEX(control!$C$14:$C$19,MATCH(D208,control!$B$14:$B$19,0),1),NOT(control!$C$26))","v":true},{"$f":"IF($G208,INDEX(tab_data[Fertility],$F208,1),NA())","v":7.25},{"$f":"IF($G208,INDEX(tab_data[Life Expectancy],$F208,1),NA())","v":34.192},{"$f":"INDEX(tab_data[Population],$F208,1)","v":456418}]
[null,null,"Qatar","West Asia",{"$f":"C209&\"/\"&control!$C$10","v":"Qatar/1950"},{"$f":"MATCH($E209,tab_data[ID (Country/Year)],0)","v":9281},{"$f":"AND(INDEX(control!$C$14:$C$19,MATCH(D209,control!$B$14:$B$19,0),1),NOT(control!$C$26))","v":true},{"$f":"IF($G209,INDEX(tab_data[Fertility],$F209,1),NA())","v":6.968},{"$f":"IF($G209,INDEX(tab_data[Life Expectancy],$F209,1),NA())","v":53.606000000000002},{"$f":"INDEX(tab_data[Population],$F209,1)","v":24998}]
[null,null,"Saudi Arabia","West Asia",{"$f":"C210&\"/\"&control!$C$10","v":"Saudi Arabia/1950"},{"$f":"MATCH($E210,tab_data[ID (Country/Year)],0)","v":9857},{"$f":"AND(INDEX(control!$C$14:$C$19,MATCH(D210,control!$B$14:$B$19,0),1),NOT(control!$C$26))","v":true},{"$f":"IF($G210,INDEX(tab_data[Fertility],$F210,1),NA())","v":7.2},{"$f":"IF($G210,INDEX(tab_data[Life Expectancy],$F210,1),NA())","v":40.972999999999999},{"$f":"INDEX(tab_data[Population],$F210,1)","v":3121337}]
[null,null,"Syria","West Asia",{"$f":"C211&\"/\"&control!$C$10","v":"Syria/1950"},{"$f":"MATCH($E211,tab_data[ID (Country/Year)],0)","v":11073},{"$f":"AND(INDEX(control!$C$14:$C$19,MATCH(D211,control!$B$14:$B$19,0),1),NOT(control!$C$26))","v":true},{"$f":"IF($G211,INDEX(tab_data[Fertility],$F211,1),NA())","v":7.1760000000000002},{"$f":"IF($G211,INDEX(tab_data[Life Expectancy],$F211,1),NA())","v":47.514000000000003},{"$f":"INDEX(tab_data[Population],$F211,1)","v":3413330}]
[null,null,"United Arab Emirates","West Asia",{"$f":"C212&\"/\"&control!$C$10","v":"United Arab Emirates/1950"},{"$f":"MATCH($E212,tab_data[ID (Country/Year)],0)","v":11969},{"$f":"AND(INDEX(control!$C$14:$C$19,MATCH(D212,control!$B$14:$B$19,0),1),NOT(control!$C$26))","v":true},{"$f":"IF($G212,INDEX(tab_data[Fertility],$F212,1),NA())","v":6.94},{"$f":"IF($G212,INDEX(tab_data[Life Expectancy],$F212,1),NA())","v":41.412999999999997},{"$f":"INDEX(tab_data[Population],$F212,1)","v":69589}]
[null,null,"West Bank and Gaza","West Asia",{"$f":"C213&\"/\"&control!$C$10","v":"West Bank and Gaza/1950"},{"$f":"MATCH($E213,tab_data[ID (Country/Year)],0)","v":12545},{"$f":"AND(INDEX(control!$C$14:$C$19,MATCH(D213,control!$B$14:$B$19,0),1),NOT(control!$C$26))","v":true},{"$f":"IF($G213,INDEX(tab_data[Fertility],$F213,1),NA())","v":7.5629999999999997},{"$f":"IF($G213,INDEX(tab_data[Life Expectancy],$F213,1),NA())","v":46.121000000000002},{"$f":"INDEX(tab_data[Population],$F213,1)","v":931926}]
[null,null,"Yemen, Republic","West Asia",{"$f":"C214&\"/\"&control!$C$10","v":"Yemen, Republic/1950"},{"$f":"MATCH($E214,tab_data[ID (Country/Year)],0)","v":12673},{"$f":"AND(INDEX(control!$C$14:$C$19,MATCH(D214,control!$B$14:$B$19,0),1),NOT(control!$C$26))","v":true},{"$f":"IF($G214,INDEX(tab_data[Fertility],$F214,1),NA())","v":7.274},{"$f":"IF($G214,INDEX(tab_data[Life Expectancy],$F214,1),NA())","v":23.387},{"$f":"INDEX(tab_data[Population],$F214,1)","v":4316001}]
[]
[null,"Scale dummy series","Minimum",null,null,null,null,0,0,{"$f":"IF(control!$C$26,MIN($J$7:$J$9),MIN($J$14:$J$214))","v":0}]
[null,null,"Maximum",null,null,null,null,0,0,{"$f":"IF(control!$C$26,MAX($J$7:$J$9),MAX($J$14:$J$214))","v":550771433}]
[]
[null,"Trails of selected countries"]
[]
[null,null,"Country","Year","Search String (ID)","Position","Show?","Fertility","Life Expectancy","Population"]
[null,null,{"$f":"$C$7","v":"Germany"},1950,{"$f":"C222&\"/\"&D222","v":"Germany/1950"},{"$f":"MATCH($E222,tab_data[ID (Country/Year)],0)","v":4161},{"$f":"AND(D222<myCurrentValue,control!$C$27)","v":false},{"$f":"IF($G222,INDEX(tab_data[Fertility],$F222,1),NA())","v":{"$error":"#N/A"}},{"$f":"IF($G222,INDEX(tab_data[Life Expectancy],$F222,1),NA())","v":{"$error":"#N/A"}},{"$f":"INDEX(tab_data[Population],$F222,1)","v":68376002}]
[null,null,{"$f":"$C$222","v":"Germany"},1951,{"$f":"C223&\"/\"&D223","v":"Germany/1951"},{"$f":"MATCH($E223,tab_data[ID (Country/Year)],0)","v":4162},{"$f":"AND(D223<myCurrentValue,control!$C$27)","v":false},{"$f":"IF($G223,INDEX(tab_data[Fertility],$F223,1),NA())","v":{"$error":"#N/A"}},{"$f":"IF($G223,INDEX(tab_data[Life Expectancy],$F223,1),NA())","v":{"$error":"#N/A"}},{"$f":"INDEX(tab_data[Population],$F223,1)","v":68713920}]
[null,null,{"$f":"$C$222","v":"Germany"},1952,"Germany/1952",{"$f":"MATCH($E224,tab_data[ID (Country/Year)],0)","v":4163},{"$f":"AND(D224<myCurrentValue,control!$C$27)","v":false},{"$f":"IF($G224,INDEX(tab_data[Fertility],$F224,1),NA())","v":{"$error":"#N/A"}},{"$f":"IF($G224,INDEX(tab_data[Life Expectancy],$F224,1),NA())","v":{"$error":"#N/A"}},{"$f":"INDEX(tab_data[Population],$F224,1)","v":69086530}]
[null,null,"Germany",1953,"Germany/1953",{"$f":"MATCH($E225,tab_data[ID (Country/Year)],0)","v":4164},{"$f":"AND(D225<myCurrentValue,control!$C$27)","v":false},{"$f":"IF($G225,INDEX(tab_data[Fertility],$F225,1),NA())","v":{"$error":"#N/A"}},{"$f":"IF($G225,INDEX(tab_data[Life Expectancy],$F225,1),NA())","v":{"$error":"#N/A"}},{"$f":"INDEX(tab_data[Population],$F225,1)","v":69483349}]
[null,null,"Germany",1954,"Germany/1954",{"$f":"MATCH($E226,tab_data[ID (Country/Year)],0)","v":4165},{"$f":"AND(D226<myCurrentValue,control!$C$27)","v":false},{"$f":"IF($G226,INDEX(tab_data[Fertility],$F226,1),NA())","v":{"$error":"#N/A"}},{"$f":"IF($G226,INDEX(tab_data[Life Expectancy],$F226,1),NA())","v":{"$error":"#N/A"}},{"$f":"INDEX(tab_data[Population],$F226,1)","v":69897556}]
[null,null,"Germany",1955,"Germany/1955",{"$f":"MATCH($E227,tab_data[ID (Country/Year)],0)","v":4166},{"$f":"AND(D227<myCurrentValue,control!$C$27)","v":false},{"$f":"IF($G227,INDEX(tab_data[Fertility],$F227,1),NA())","v":{"$error":"#N/A"}},{"$f":"IF($G227,INDEX(tab_data[Life Expectancy],$F227,1),NA())","v":{"$error":"#N/A"}},{"$f":"INDEX(tab_data[Population],$F227,1)","v":70325997}]
[null,null,"Germany",1956,"Germany/1956",{"$f":"MATCH($E228,tab_data[ID (Country/Year)],0)","v":4167},{"$f":"AND(D228<myCurrentValue,control!$C$27)","v":false},{"$f":"IF($G228,INDEX(tab_data[Fertility],$F228,1),NA())","v":{"$error":"#N/A"}},{"$f":"IF($G228,INDEX(tab_data[Life Expectancy],$F228,1),NA())","v":{"$error":"#N/A"}},{"$f":"INDEX(tab_data[Population],$F228,1)","v":70769436}]
[null,null,"Germany",1957,"Germany/1957",{"$f":"MATCH($E229,tab_data[ID (Country/Year)],0)","v":4168},{"$f":"AND(D229<myCurrentValue,control!$C$27)","v":false},{"$f":"IF($G229,INDEX(tab_data[Fertility],$F229,1),NA())","v":{"$error":"#N/A"}},{"$f":"IF($G229,INDEX(tab_data[Life Expectancy],$F229,1),NA())","v":{"$error":"#N/A"}},{"$f":"INDEX(tab_data[Population],$F229,1)","v":71232304}]
[null,null,"Germany",1958,"Germany/1958",{"$f":"MATCH($E230,tab_data[ID (Country/Year)],0)","v":4169},{"$f":"AND(D230<myCurrentValue,control!$C$27)","v":false},{"$f":"IF($G230,INDEX(tab_data[Fertility],$F230,1),NA())","v":{"$error":"#N/A"}},{"$f":"IF($G230,INDEX(tab_data[Life Expectancy],$F230,1),NA())","v":{"$error":"#N/A"}},{"$f":"INDEX(tab_data[Population],$F230,1)","v":71721922}]
[null,null,"Germany",1959,"Germany/1959",{"$f":"MATCH($E231,tab_data[ID (Country/Year)],0)","v":4170},{"$f":"AND(D231<myCurrentValue,control!$C$27)","v":false},{"$f":"IF($G231,INDEX(tab_data[Fertility],$F231,1),NA())","v":{"$error":"#N/A"}},{"$f":"IF($G231,INDEX(tab_data[Life Expectancy],$F231,1),NA())","v":{"$error":"#N/A"}},{"$f":"INDEX(tab_data[Population],$F231,1)","v":72247225}]
[null,null,"Germany",1960,"Germany/1960",{"$f":"MATCH($E232,tab_data[ID (Country/Year)],0)","v":4171},{"$f":"AND(D232<myCurrentValue,control!$C$27)","v":false},{"$f":"IF($G232,INDEX(tab_data[Fertility],$F232,1),NA())","v":{"$error":"#N/A"}},{"$f":"IF($G232,INDEX(tab_data[Life Expectancy],$F232,1),NA())","v":{"$error":"#N/A"}},{"$f":"INDEX(tab_data[Population],$F232,1)","v":72814899}]
[null,null,"Germany",1961,"Germany/1961",{"$f":"MATCH($E233,tab_data[ID (Country/Year)],0)","v":4172},{"$f":"AND(D233<myCurrentValue,control!$C$27)","v":false},{"$f":"IF($G233,INDEX(tab_data[Fertility],$F233,1),NA())","v":{"$error":"#N/A"}},{"$f":"IF($G233,INDEX(tab_data[Life Expectancy],$F233,1),NA())","v":{"$error":"#N/A"}},{"$f":"INDEX(tab_data[Population],$F233,1)","v":73425276}]
[null,null,"Germany",1962,"Germany/1962",{"$f":"MATCH($E234,tab_data[ID (Country/Year)],0)","v":4173},{"$f":"AND(D234<myCurrentValue,control!$C$27)","v":false},{"$f":"IF($G234,INDEX(tab_data[Fertility],$F234,1),NA())","v":{"$error":"#N/A"}},{"$f":"IF($G234,INDEX(tab_data[Life Expectancy],$F234,1),NA())","v":{"$error":"#N/A"}},{"$f":"INDEX(tab_data[Population],$F234,1)","v":74068738}]
[null,null,"Germany",1963,"Germany/1963",{"$f":"MATCH($E235,tab_data[ID (Country/Year)],0)","v":4174},{"$f":"AND(D235<myCurrentValue,control!$C$27)","v":false},{"$f":"IF($G235,INDEX(tab_data[Fertility],$F235,1),NA())","v":{"$error":"#N/A"}},{"$f":"IF($G235,INDEX(tab_data[Life Expectancy],$F235,1),NA())","v":{"$error":"#N/A"}},{"$f":"INDEX(tab_data[Population],$F235,1)","v":74724168}]
[null,null,"Germany",1964,"Germany/1964",{"$f":"MATCH($E236,tab_data[ID (Country/Year)],0)","v":4175},{"$f":"AND(D236<myCurrentValue,control!$C$27)","v":false},{"$f":"IF($G236,INDEX(tab_data[Fertility],$F236,1),NA())","v":{"$error":"#N/A"}},{"$f":"IF($G236,INDEX(tab_data[Life Expectancy],$F236,1),NA())","v":{"$error":"#N/A"}},{"$f":"INDEX(tab_data[Population],$F236,1)","v":75363329}]
[null,null,"Germany",1965,"Germany/1965",{"$f":"MATCH($E237,tab_data[ID (Country/Year)],0)","v":4176},{"$f":"AND(D237<myCurrentValue,control!$C$27)","v":false},{"$f":"IF($G237,INDEX(tab_data[Fertility],$F237,1),NA())","v":{"$error":"#N/A"}},{"$f":"IF($G237,INDEX(tab_data[Life Expectancy],$F237,1),NA())","v":{"$error":"#N/A"}},{"$f":"INDEX(tab_data[Population],$F237,1)","v":75963700}]
[null,null,"Germany",1966,"Germany/1966",{"$f":"MATCH($E238,tab_data[ID (Country/Year)],0)","v":4177},{"$f":"AND(D238<myCurrentValue,control!$C$27)","v":false},{"$f":"IF($G238,INDEX(tab_data[Fertility],$F238,1),NA())","v":{"$error":"#N/A"}},{"$f":"IF($G238,INDEX(tab_data[Life Expectancy],$F238,1),NA())","v":{"$error":"#N/A"}},{"$f":"INDEX(tab_data[Population],$F238,1)","v":76518660}]
[null,null,"Germany",1967,"Germany/1967",{"$f":"MATCH($E239,tab_data[ID (Country/Year)],0)","v":4178},{"$f":"AND(D239<myCurrentValue,control!$C$27)","v":false},{"$f":"IF($G239,INDEX(tab_data[Fertility],$F239,1),NA())","v":{"$error":"#N/A"}},{"$f":"IF($G239,INDEX(tab_data[Life Expectancy],$F239,1),NA())","v":{"$error":"#N/A"}},{"$f":"INDEX(tab_data[Population],$F239,1)","v":77026811}]
[null,null,"Germany",1968,"Germany/1968",{"$f":"MATCH($E240,tab_data[ID (Country/Year)],0)","v":4179},{"$f":"AND(D240<myCurrentValue,control!$C$27)","v":false},{"$f":"IF($G240,INDEX(tab_data[Fertility],$F240,1),NA())","v":{"$error":"#N/A"}},{"$f":"IF($G240,INDEX(tab_data[Life Expectancy],$F240,1),NA())","v":{"$error":"#N/A"}},{"$f":"INDEX(tab_data[Population],$F240,1)","v":77477619}]
[null,null,"Germany",1969,"Germany/1969",{"$f":"MATCH($E241,tab_data[ID (Country/Year)],0)","v":4180},{"$f":"AND(D241<myCurrentValue,control!$C$27)","v":false},{"$f":"IF($G241,INDEX(tab_data[Fertility],$F241,1),NA())","v":{"$error":"#N/A"}},{"$f":"IF($G241,INDEX(tab_data[Life Expectancy],$F241,1),NA())","v":{"$error":"#N/A"}},{"$f":"INDEX(tab_data[Population],$F241,1)","v":77860668}]
[null,null,"Germany",1970,"Germany/1970",{"$f":"MATCH($E242,tab_data[ID (Country/Year)],0)","v":4181},{"$f":"AND(D242<myCurrentValue,control!$C$27)","v":false},{"$f":"IF($G242,INDEX(tab_data[Fertility],$F242,1),NA())","v":{"$error":"#N/A"}},{"$f":"IF($G242,INDEX(tab_data[Life Expectancy],$F242,1),NA())","v":{"$error":"#N/A"}},{"$f":"INDEX(tab_data[Population],$F242,1)","v":78169287}]
[null,null,"Germany",1971,"Germany/1971",{"$f":"MATCH($E243,tab_data[ID (Country/Year)],0)","v":4182},{"$f":"AND(D243<myCurrentValue,control!$C$27)","v":false},{"$f":"IF($G243,INDEX(tab_data[Fertility],$F243,1),NA())","v":{"$error":"#N/A"}},{"$f":"IF($G243,INDEX(tab_data[Life Expectancy],$F243,1),NA())","v":{"$error":"#N/A"}},{"$f":"INDEX(tab_data[Population],$F243,1)","v":78398250}]
[null,null,"Germany",1972,"Germany/1972",{"$f":"MATCH($E244,tab_data[ID (Country/Year)],0)","v":4183},{"$f":"AND(D244<myCurrentValue,control!$C$27)","v":false},{"$f":"IF($G244,INDEX(tab_data[Fertility],$F244,1),NA())","v":{"$error":"#N/A"}},{"$f":"IF($G244,INDEX(tab_data[Life Expectancy],$F244,1),NA())","v":{"$error":"#N/A"}},{"$f":"INDEX(tab_data[Population],$F244,1)","v":78549958}]
[null,null,"Germany",1973,"Germany/1973",{"$f":"MATCH($E245,tab_data[ID (Country/Year)],0)","v":4184},{"$f":"AND(D245<myCurrentValue,control!$C$27)","v":false},{"$f":"IF($G245,INDEX(tab_data[Fertility],$F245,1),NA())","v":{"$error":"#N/A"}},{"$f":"IF($G245,INDEX(tab_data[Life Expectancy],$F245,1),NA())","v":{"$error":"#N/A"}},{"$f":"INDEX(tab_data[Population],$F245,1)","v":78635758}]
[null,null,"Germany",1974,"Germany/1974",{"$f":"MATCH($E246,tab_data[ID (Country/Year)],0)","v":4185},{"$f":"AND(D246<myCurrentValue,control!$C$27)","v":false},{"$f":"IF($G246,INDEX(tab_data[Fertility],$F246,1),NA())","v":{"$error":"#N/A"}},{"$f":"IF($G246,INDEX(tab_data[Life Expectancy],$F246,1),NA())","v":{"$error":"#N/A"}},{"$f":"INDEX(tab_data[Population],$F246,1)","v":78672415}]
[null,null,"Germany",1975,"Germany/1975",{"$f":"MATCH($E247,tab_data[ID (Country/Year)],0)","v":4186},{"$f":"AND(D247<myCurrentValue,control!$C$27)","v":false},{"$f":"IF($G247,INDEX(tab_data[Fertility],$F247,1),NA())","v":{"$error":"#N/A"}},{"$f":"IF($G247,INDEX(tab_data[Life Expectancy],$F247,1),NA())","v":{"$error":"#N/A"}},{"$f":"INDEX(tab_data[Population],$F247,1)","v":78673559}]
[null,null,"Germany",1976,"Germany/1976",{"$f":"MATCH($E248,tab_data[ID (Country/Year)],0)","v":4187},{"$f":"AND(D248<myCurrentValue,control!$C$27)","v":false},{"$f":"IF($G248,INDEX(tab_data[Fertility],$F248,1),NA())","v":{"$error":"#N/A"}},{"$f":"IF($G248,INDEX(tab_data[Life Expectancy],$F248,1),NA())","v":{"$error":"#N/A"}},{"$f":"INDEX(tab_data[Population],$F248,1)","v":78648816}]
[null,null,"Germany",1977,"Germany/1977",{"$f":"MATCH($E249,tab_data[ID (Country/Year)],0)","v":4188},{"$f":"AND(D249<myCurrentValue,control!$C$27)","v":false},{"$f":"IF($G249,INDEX(tab_data[Fertility],$F249,1),NA())","v":{"$error":"#N/A"}},{"$f":"IF($G249,INDEX(tab_data[Life Expectancy],$F249,1),NA())","v":{"$error":"#N/A"}},{"$f":"INDEX(tab_data[Population],$F249,1)","v":78600404}]
[null,null,"Germany",1978,"Germany/1978",{"$f":"MATCH($E250,tab_data[ID (Country/Year)],0)","v":4189},{"$f":"AND(D250<myCurrentValue,control!$C$27)","v":false},{"$f":"IF($G250,INDEX(tab_data[Fertility],$F250,1),NA())","v":{"$error":"#N/A"}},{"$f":"IF($G250,INDEX(tab_data[Life Expectancy],$F250,1),NA())","v":{"$error":"#N/A"}},{"$f":"INDEX(tab_data[Population],$F250,1)","v":78526576}]
[null,null,"Germany",1979,"Germany/1979",{"$f":"MATCH($E251,tab_data[ID (Country/Year)],0)","v":4190},{"$f":"AND(D251<myCurrentValue,control!$C$27)","v":false},{"$f":"IF($G251,INDEX(tab_data[Fertility],$F251,1),NA())","v":{"$error":"#N/A"}},{"$f":"IF($G251,INDEX(tab_data[Life Expectancy],$F251,1),NA())","v":{"$error":"#N/A"}},{"$f":"INDEX(tab_data[Population],$F251,1)","v":78422458}]
[null,null,"Germany",1980,"Germany/1980",{"$f":"MATCH($E252,tab_data[ID (Country/Year)],0)","v":4191},{"$f":"AND(D252<myCurrentValue,control!$C$27)","v":false},{"$f":"IF($G252,INDEX(tab_data[Fertility],$F252,1),NA())","v":{"$error":"#N/A"}},{"$f":"IF($G252,INDEX(tab_data[Life Expectancy],$F252,1),NA())","v":{"$error":"#N/A"}},{"$f":"INDEX(tab_data[Population],$F252,1)","v":78288577}]
[null,null,"Germany",1981,"Germany/1981",{"$f":"MATCH($E253,tab_data[ID (Country/Year)],0)","v":4192},{"$f":"AND(D253<myCurrentValue,control!$C$27)","v":false},{"$f":"IF($G253,INDEX(tab_data[Fertility],$F253,1),NA())","v":{"$error":"#N/A"}},{"$f":"IF($G253,INDEX(tab_data[Life Expectancy],$F253,1),NA())","v":{"$error":"#N/A"}},{"$f":"INDEX(tab_data[Population],$F253,1)","v":78124452}]
[null,null,"Germany",1982,"Germany/1982",{"$f":"MATCH($E254,tab_data[ID (Country/Year)],0)","v":4193},{"$f":"AND(D254<myCurrentValue,control!$C$27)","v":false},{"$f":"IF($G254,INDEX(tab_data[Fertility],$F254,1),NA())","v":{"$error":"#N/A"}},{"$f":"IF($G254,INDEX(tab_data[Life Expectancy],$F254,1),NA())","v":{"$error":"#N/A"}},{"$f":"INDEX(tab_data[Population],$F254,1)","v":77944929}]
[null,null,"Germany",1983,"Germany/1983",{"$f":"MATCH($E255,tab_data[ID (Country/Year)],0)","v":4194},{"$f":"AND(D255<myCurrentValue,control!$C$27)","v":false},{"$f":"IF($G255,INDEX(tab_data[Fertility],$F255,1),NA())","v":{"$error":"#N/A"}},{"$f":"IF($G255,INDEX(tab_data[Life Expectancy],$F255,1),NA())","v":{"$error":"#N/A"}},{"$f":"INDEX(tab_data[Population],$F255,1)","v":77784306}]
[null,null,"Germany",1984,"Germany/1984",{"$f":"MATCH($E256,tab_data[ID (Country/Year)],0)","v":4195},{"$f":"AND(D256<myCurrentValue,control!$C$27)","v":false},{"$f":"IF($G256,INDEX(tab_data[Fertility],$F256,1),NA())","v":{"$error":"#N/A"}},{"$f":"IF($G256,INDEX(tab_data[Life Expectancy],$F256,1),NA())","v":{"$error":"#N/A"}},{"$f":"INDEX(tab_data[Population],$F256,1)","v":77686865}]
[null,null,"Germany",1985,"Germany/1985",{"$f":"MATCH($E257,tab_data[ID (Country/Year)],0)","v":4196},{"$f":"AND(D257<myCurrentValue,control!$C$27)","v":false},{"$f":"IF($G257,INDEX(tab_data[Fertility],$F257,1),NA())","v":{"$error":"#N/A"}},{"$f":"IF($G257,INDEX(tab_data[Life Expectancy],$F257,1),NA())","v":{"$error":"#N/A"}},{"$f":"INDEX(tab_data[Population],$F257,1)","v":77684875}]
[null,null,"Germany",1986,"Germany/1986",{"$f":"MATCH($E258,tab_data[ID (Country/Year)],0)","v":4197},{"$f":"AND(D258<myCurrentValue,control!$C$27)","v":false},{"$f":"IF($G258,INDEX(tab_data[Fertility],$F258,1),NA())","v":{"$error":"#N/A"}},{"$f":"IF($G258,INDEX(tab_data[Life Expectancy],$F258,1),NA())","v":{"$error":"#N/A"}},{"$f":"INDEX(tab_data[Population],$F258,1)","v":77783439}]
[null,null,"Germany",1987,"Germany/1987",{"$f":"MATCH($E259,tab_data[ID (Country/Year)],0)","v":4198},{"$f":"AND(D259<myCurrentValue,control!$C$27)","v":false},{"$f":"IF($G259,INDEX(tab_data[Fertility],$F259,1),NA())","v":{"$error":"#N/A"}},{"$f":"IF($G259,INDEX(tab_data[Life Expectancy],$F259,1),NA())","v":{"$error":"#N/A"}},{"$f":"INDEX(tab_data[Population],$F259,1)","v":77974722}]
[null,null,"Germany",1988,"Germany/1988",{"$f":"MATCH($E260,tab_data[ID (Country/Year)],0)","v":4199},{"$f":"AND(D260<myCurrentValue,control!$C$27)","v":false},{"$f":"IF($G260,INDEX(tab_data[Fertility],$F260,1),NA())","v":{"$error":"#N/A"}},{"$f":"IF($G260,INDEX(tab_data[Life Expectancy],$F260,1),NA())","v":{"$error":"#N/A"}},{"$f":"INDEX(tab_data[Population],$F260,1)","v":78260173}]
[null,null,"Germany",1989,"Germany/1989",{"$f":"MATCH($E261,tab_data[ID (Country/Year)],0)","v":4200},{"$f":"AND(D261<myCurrentValue,control!$C$27)","v":false},{"$f":"IF($G261,INDEX(tab_data[Fertility],$F261,1),NA())","v":{"$error":"#N/A"}},{"$f":"IF($G261,INDEX(tab_data[Life Expectancy],$F261,1),NA())","v":{"$error":"#N/A"}},{"$f":"INDEX(tab_data[Population],$F261,1)","v":78637382}]
[null,null,"Germany",1990,"Germany/1990",{"$f":"MATCH($E262,tab_data[ID (Country/Year)],0)","v":4201},{"$f":"AND(D262<myCurrentValue,control!$C$27)","v":false},{"$f":"IF($G262,INDEX(tab_data[Fertility],$F262,1),NA())","v":{"$error":"#N/A"}},{"$f":"IF($G262,INDEX(tab_data[Life Expectancy],$F262,1),NA())","v":{"$error":"#N/A"}},{"$f":"INDEX(tab_data[Population],$F262,1)","v":79098094}]
[null,null,"Germany",1991,"Germany/1991",{"$f":"MATCH($E263,tab_data[ID (Country/Year)],0)","v":4202},{"$f":"AND(D263<myCurrentValue,control!$C$27)","v":false},{"$f":"IF($G263,INDEX(tab_data[Fertility],$F263,1),NA())","v":{"$error":"#N/A"}},{"$f":"IF($G263,INDEX(tab_data[Life Expectancy],$F263,1),NA())","v":{"$error":"#N/A"}},{"$f":"INDEX(tab_data[Population],$F263,1)","v":79651903}]
[null,null,"Germany",1992,"Germany/1992",{"$f":"MATCH($E264,tab_data[ID (Country/Year)],0)","v":4203},{"$f":"AND(D264<myCurrentValue,control!$C$27)","v":false},{"$f":"IF($G264,INDEX(tab_data[Fertility],$F264,1),NA())","v":{"$error":"#N/A"}},{"$f":"IF($G264,INDEX(tab_data[Life Expectancy],$F264,1),NA())","v":{"$error":"#N/A"}},{"$f":"INDEX(tab_data[Population],$F264,1)","v":80282985}]
[null,null,"Germany",1993,"Germany/1993",{"$f":"MATCH($E265,tab_data[ID (Country/Year)],0)","v":4204},{"$f":"AND(D265<myCurrentValue,control!$C$27)","v":false},{"$f":"IF($G265,INDEX(tab_data[Fertility],$F265,1),NA())","v":{"$error":"#N/A"}},{"$f":"IF($G265,INDEX(tab_data[Life Expectancy],$F265,1),NA())","v":{"$error":"#N/A"}},{"$f":"INDEX(tab_data[Population],$F265,1)","v":80926118}]
[null,null,"Germany",1994,"Germany/1994",{"$f":"MATCH($E266,tab_data[ID (Country/Year)],0)","v":4205},{"$f":"AND(D266<myCurrentValue,control!$C$27)","v":false},{"$f":"IF($G266,INDEX(tab_data[Fertility],$F266,1),NA())","v":{"$error":"#N/A"}},{"$f":"IF($G266,INDEX(tab_data[Life Expectancy],$F266,1),NA())","v":{"$error":"#N/A"}},{"$f":"INDEX(tab_data[Population],$F266,1)","v":81495194}]
[null,null,"Germany",1995,"Germany/1995",{"$f":"MATCH($E267,tab_data[ID (Country/Year)],0)","v":4206},{"$f":"AND(D267<myCurrentValue,control!$C$27)","v":false},{"$f":"IF($G267,INDEX(tab_data[Fertility],$F267,1),NA())","v":{"$error":"#N/A"}},{"$f":"IF($G267,INDEX(tab_data[Life Expectancy],$F267,1),NA())","v":{"$error":"#N/A"}},{"$f":"INDEX(tab_data[Population],$F267,1)","v":81929441}]
[null,null,"Germany",1996,"Germany/1996",{"$f":"MATCH($E268,tab_data[ID (Country/Year)],0)","v":4207},{"$f":"AND(D268<myCurrentValue,control!$C$27)","v":false},{"$f":"IF($G268,INDEX(tab_data[Fertility],$F268,1),NA())","v":{"$error":"#N/A"}},{"$f":"IF($G268,INDEX(tab_data[Life Expectancy],$F268,1),NA())","v":{"$error":"#N/A"}},{"$f":"INDEX(tab_data[Population],$F268,1)","v":82200333}]
[null,null,"Germany",1997,"Germany/1997",{"$f":"MATCH($E269,tab_data[ID (Country/Year)],0)","v":4208},{"$f":"AND(D269<myCurrentValue,control!$C$27)","v":false},{"$f":"IF($G269,INDEX(tab_data[Fertility],$F269,1),NA())","v":{"$error":"#N/A"}},{"$f":"IF($G269,INDEX(tab_data[Life Expectancy],$F269,1),NA())","v":{"$error":"#N/A"}},{"$f":"INDEX(tab_data[Population],$F269,1)","v":82326019}]
[null,null,"Germany",1998,"Germany/1998",{"$f":"MATCH($E270,tab_data[ID (Country/Year)],0)","v":4209},{"$f":"AND(D270<myCurrentValue,control!$C$27)","v":false},{"$f":"IF($G270,INDEX(tab_data[Fertility],$F270,1),NA())","v":{"$error":"#N/A"}},{"$f":"IF($G270,INDEX(tab_data[Life Expectancy],$F270,1),NA())","v":{"$error":"#N/A"}},{"$f":"INDEX(tab_data[Population],$F270,1)","v":82350467}]
[null,null,"Germany",1999,"Germany/1999",{"$f":"MATCH($E271,tab_data[ID (Country/Year)],0)","v":4210},{"$f":"AND(D271<myCurrentValue,control!$C$27)","v":false},{"$f":"IF($G271,INDEX(tab_data[Fertility],$F271,1),NA())","v":{"$error":"#N/A"}},{"$f":"IF($G271,INDEX(tab_data[Life Expectancy],$F271,1),NA())","v":{"$error":"#N/A"}},{"$f":"INDEX(tab_data[Population],$F271,1)","v":82341545}]
[null,null,"Germany",2000,"Germany/2000",{"$f":"MATCH($E272,tab_data[ID (Country/Year)],0)","v":4211},{"$f":"AND(D272<myCurrentValue,control!$C$27)","v":false},{"$f":"IF($G272,INDEX(tab_data[Fertility],$F272,1),NA())","v":{"$error":"#N/A"}},{"$f":"IF($G272,INDEX(tab_data[Life Expectancy],$F272,1),NA())","v":{"$error":"#N/A"}},{"$f":"INDEX(tab_data[Population],$F272,1)","v":82349027}]
[null,null,"Germany",2001,"Germany/2001",{"$f":"MATCH($E273,tab_data[ID (Country/Year)],0)","v":4212},{"$f":"AND(D273<myCurrentValue,control!$C$27)","v":false},{"$f":"IF($G273,INDEX(tab_data[Fertility],$F273,1),NA())","v":{"$error":"#N/A"}},{"$f":"IF($G273,INDEX(tab_data[Life Expectancy],$F273,1),NA())","v":{"$error":"#N/A"}},{"$f":"INDEX(tab_data[Population],$F273,1)","v":82384256}]
[null,null,"Germany",2002,"Germany/2002",{"$f":"MATCH($E274,tab_data[ID (Country/Year)],0)","v":4213},{"$f":"AND(D274<myCurrentValue,control!$C$27)","v":false},{"$f":"IF($G274,INDEX(tab_data[Fertility],$F274,1),NA())","v":{"$error":"#N/A"}},{"$f":"IF($G274,INDEX(tab_data[Life Expectancy],$F274,1),NA())","v":{"$error":"#N/A"}},{"$f":"INDEX(tab_data[Population],$F274,1)","v":82432026}]
[null,null,"Germany",2003,"Germany/2003",{"$f":"MATCH($E275,tab_data[ID (Country/Year)],0)","v":4214},{"$f":"AND(D275<myCurrentValue,control!$C$27)","v":false},{"$f":"IF($G275,INDEX(tab_data[Fertility],$F275,1),NA())","v":{"$error":"#N/A"}},{"$f":"IF($G275,INDEX(tab_data[Life Expectancy],$F275,1),NA())","v":{"$error":"#N/A"}},{"$f":"INDEX(tab_data[Population],$F275,1)","v":82484111}]
[null,null,"Germany",2004,"Germany/2004",{"$f":"MATCH($E276,tab_data[ID (Country/Year)],0)","v":4215},{"$f":"AND(D276<myCurrentValue,control!$C$27)","v":false},{"$f":"IF($G276,INDEX(tab_data[Fertility],$F276,1),NA())","v":{"$error":"#N/A"}},{"$f":"IF($G276,INDEX(tab_data[Life Expectancy],$F276,1),NA())","v":{"$error":"#N/A"}},{"$f":"INDEX(tab_data[Population],$F276,1)","v":82524343}]
[null,null,"Germany",2005,"Germany/2005",{"$f":"MATCH($E277,tab_data[ID (Country/Year)],0)","v":4216},{"$f":"AND(D277<myCurrentValue,control!$C$27)","v":false},{"$f":"IF($G277,INDEX(tab_data[Fertility],$F277,1),NA())","v":{"$error":"#N/A"}},{"$f":"IF($G277,INDEX(tab_data[Life Expectancy],$F277,1),NA())","v":{"$error":"#N/A"}},{"$f":"INDEX(tab_data[Population],$F277,1)","v":82540739}]
[null,null,"Germany",2006,"Germany/2006",{"$f":"MATCH($E278,tab_data[ID (Country/Year)],0)","v":4217},{"$f":"AND(D278<myCurrentValue,control!$C$27)","v":false},{"$f":"IF($G278,INDEX(tab_data[Fertility],$F278,1),NA())","v":{"$error":"#N/A"}},{"$f":"IF($G278,INDEX(tab_data[Life Expectancy],$F278,1),NA())","v":{"$error":"#N/A"}},{"$f":"INDEX(tab_data[Population],$F278,1)","v":82536138}]
[null,null,"Germany",2007,"Germany/2007",{"$f":"MATCH($E279,tab_data[ID (Country/Year)],0)","v":4218},{"$f":"AND(D279<myCurrentValue,control!$C$27)","v":false},{"$f":"IF($G279,INDEX(tab_data[Fertility],$F279,1),NA())","v":{"$error":"#N/A"}},{"$f":"IF($G279,INDEX(tab_data[Life Expectancy],$F279,1),NA())","v":{"$error":"#N/A"}},{"$f":"INDEX(tab_data[Population],$F279,1)","v":82516297}]
[null,null,"Germany",2008,"Germany/2008",{"$f":"MATCH($E280,tab_data[ID (Country/Year)],0)","v":4219},{"$f":"AND(D280<myCurrentValue,control!$C$27)","v":false},{"$f":"IF($G280,INDEX(tab_data[Fertility],$F280,1),NA())","v":{"$error":"#N/A"}},{"$f":"IF($G280,INDEX(tab_data[Life Expectancy],$F280,1),NA())","v":{"$error":"#N/A"}},{"$f":"INDEX(tab_data[Population],$F280,1)","v":82475271}]
[null,null,"Germany",2009,"Germany/2009",{"$f":"MATCH($E281,tab_data[ID (Country/Year)],0)","v":4220},{"$f":"AND(D281<myCurrentValue,control!$C$27)","v":false},{"$f":"IF($G281,INDEX(tab_data[Fertility],$F281,1),NA())","v":{"$error":"#N/A"}},{"$f":"IF($G281,INDEX(tab_data[Life Expectancy],$F281,1),NA())","v":{"$error":"#N/A"}},{"$f":"INDEX(tab_data[Population],$F281,1)","v":82405365}]
[null,null,"Germany",2010,"Germany/2010",{"$f":"MATCH($E282,tab_data[ID (Country/Year)],0)","v":4221},{"$f":"AND(D282<myCurrentValue,control!$C$27)","v":false},{"$f":"IF($G282,INDEX(tab_data[Fertility],$F282,1),NA())","v":{"$error":"#N/A"}},{"$f":"IF($G282,INDEX(tab_data[Life Expectancy],$F282,1),NA())","v":{"$error":"#N/A"}},{"$f":"INDEX(tab_data[Population],$F282,1)","v":82302465}]
[null,null,"Germany",2011,"Germany/2011",{"$f":"MATCH($E283,tab_data[ID (Country/Year)],0)","v":4222},{"$f":"AND(D283<myCurrentValue,control!$C$27)","v":false},{"$f":"IF($G283,INDEX(tab_data[Fertility],$F283,1),NA())","v":{"$error":"#N/A"}},{"$f":"IF($G283,INDEX(tab_data[Life Expectancy],$F283,1),NA())","v":{"$error":"#N/A"}},{"$f":"INDEX(tab_data[Population],$F283,1)","v":82162512}]
[null,null,"Germany",2012,"Germany/2012",{"$f":"MATCH($E284,tab_data[ID (Country/Year)],0)","v":4223},{"$f":"AND(D284<myCurrentValue,control!$C$27)","v":false},{"$f":"IF($G284,INDEX(tab_data[Fertility],$F284,1),NA())","v":{"$error":"#N/A"}},{"$f":"IF($G284,INDEX(tab_data[Life Expectancy],$F284,1),NA())","v":{"$error":"#N/A"}},{"$f":"INDEX(tab_data[Population],$F284,1)","v":81990837}]
[null,null,"Germany",2013,"Germany/2013",{"$f":"MATCH($E285,tab_data[ID (Country/Year)],0)","v":4224},{"$f":"AND(D285<myCurrentValue,control!$C$27)","v":false},{"$f":"IF($G285,INDEX(tab_data[Fertility],$F285,1),NA())","v":{"$error":"#N/A"}},{"$f":"IF($G285,INDEX(tab_data[Life Expectancy],$F285,1),NA())","v":{"$error":"#N/A"}},{"$f":"INDEX(tab_data[Population],$F285,1)","v":81804228}]
[null,null,{"$f":"$C$8","v":"Mexico"},1950,{"$f":"C286&\"/\"&D286","v":"Mexico/1950"},{"$f":"MATCH($E286,tab_data[ID (Country/Year)],0)","v":7489},{"$f":"AND(D286<myCurrentValue,control!$C$28)","v":false},{"$f":"IF($G286,INDEX(tab_data[Fertility],$F286,1),NA())","v":{"$error":"#N/A"}},{"$f":"IF($G286,INDEX(tab_data[Life Expectancy],$F286,1),NA())","v":{"$error":"#N/A"}},{"$f":"INDEX(tab_data[Population],$F286,1)","v":27865814}]
[null,null,{"$f":"$C$8","v":"Mexico"},1951,{"$f":"C287&\"/\"&D287","v":"Mexico/1951"},{"$f":"MATCH($E287,tab_data[ID (Country/Year)],0)","v":7490},{"$f":"AND(D287<myCurrentValue,control!$C$28)","v":false},{"$f":"IF($G287,INDEX(tab_data[Fertility],$F287,1),NA())","v":{"$error":"#N/A"}},{"$f":"IF($G287,INDEX(tab_data[Life Expectancy],$F287,1),NA())","v":{"$error":"#N/A"}},{"$f":"INDEX(tab_data[Population],$F287,1)","v":28614984}]
[null,null,"Mexico",1952,"Mexico/1952",{"$f":"MATCH($E288,tab_data[ID (Country/Year)],0)","v":7491},{"$f":"AND(D288<myCurrentValue,control!$C$28)","v":false},{"$f":"IF($G288,INDEX(tab_data[Fertility],$F288,1),NA())","v":{"$error":"#N/A"}},{"$f":"IF($G288,INDEX(tab_data[Life Expectancy],$F288,1),NA())","v":{"$error":"#N/A"}},{"$f":"INDEX(tab_data[Population],$F288,1)","v":29465877}]
[null,null,"Mexico",1953,"Mexico/1953",{"$f":"MATCH($E289,tab_data[ID (Country/Year)],0)","v":7492},{"$f":"AND(D289<myCurrentValue,control!$C$28)","v":false},{"$f":"IF($G289,INDEX(tab_data[Fertility],$F289,1),NA())","v":{"$error":"#N/A"}},{"$f":"IF($G289,INDEX(tab_data[Life Expectancy],$F289,1),NA())","v":{"$error":"#N/A"}},{"$f":"INDEX(tab_data[Population],$F289,1)","v":30402868}]
[null,null,"Mexico",1954,"Mexico/1954",{"$f":"MATCH($E290,tab_data[ID (Country/Year)],0)","v":7493},{"$f":"AND(D290<myCurrentValue,control!$C$28)","v":false},{"$f":"IF($G290,INDEX(tab_data[Fertility],$F290,1),NA())","v":{"$error":"#N/A"}},{"$f":"IF($G290,INDEX(tab_data[Life Expectancy],$F290,1),NA())","v":{"$error":"#N/A"}},{"$f":"INDEX(tab_data[Population],$F290,1)","v":31412046}]
[null,null,"Mexico",1955,"Mexico/1955",{"$f":"MATCH($E291,tab_data[ID (Country/Year)],0)","v":7494},{"$f":"AND(D291<myCurrentValue,control!$C$28)","v":false},{"$f":"IF($G291,INDEX(tab_data[Fertility],$F291,1),NA())","v":{"$error":"#N/A"}},{"$f":"IF($G291,INDEX(tab_data[Life Expectancy],$F291,1),NA())","v":{"$error":"#N/A"}},{"$f":"INDEX(tab_data[Population],$F291,1)","v":32481214}]
[null,null,"Mexico",1956,"Mexico/1956",{"$f":"MATCH($E292,tab_data[ID (Country/Year)],0)","v":7495},{"$f":"AND(D292<myCurrentValue,control!$C$28)","v":false},{"$f":"IF($G292,INDEX(tab_data[Fertility],$F292,1),NA())","v":{"$error":"#N/A"}},{"$f":"IF($G292,INDEX(tab_data[Life Expectancy],$F292,1),NA())","v":{"$error":"#N/A"}},{"$f":"INDEX(tab_data[Population],$F292,1)","v":33599909}]
[null,null,"Mexico",1957,"Mexico/1957",{"$f":"MATCH($E293,tab_data[ID (Country/Year)],0)","v":7496},{"$f":"AND(D293<myCurrentValue,control!$C$28)","v":false},{"$f":"IF($G293,INDEX(tab_data[Fertility],$F293,1),NA())","v":{"$error":"#N/A"}},{"$f":"IF($G293,INDEX(tab_data[Life Expectancy],$F293,1),NA())","v":{"$error":"#N/A"}},{"$f":"INDEX(tab_data[Population],$F293,1)","v":34759382}]
[null,null,"Mexico",1958,"Mexico/1958",{"$f":"MATCH($E294,tab_data[ID (Country/Year)],0)","v":7497},{"$f":"AND(D294<myCurrentValue,control!$C$28)","v":false},{"$f":"IF($G294,INDEX(tab_data[Fertility],$F294,1),NA())","v":{"$error":"#N/A"}},{"$f":"IF($G294,INDEX(tab_data[Life Expectancy],$F294,1),NA())","v":{"$error":"#N/A"}},{"$f":"INDEX(tab_data[Population],$F294,1)","v":35952533}]
[null,null,"Mexico",1959,"Mexico/1959",{"$f":"MATCH($E295,tab_data[ID (Country/Year)],0)","v":7498},{"$f":"AND(D295<myCurrentValue,control!$C$28)","v":false},{"$f":"IF($G295,INDEX(tab_data[Fertility],$F295,1),NA())","v":{"$error":"#N/A"}},{"$f":"IF($G295,INDEX(tab_data[Life Expectancy],$F295,1),NA())","v":{"$error":"#N/A"}},{"$f":"INDEX(tab_data[Population],$F295,1)","v":37173800}]
[null,null,"Mexico",1960,"Mexico/1960",{"$f":"MATCH($E296,tab_data[ID (Country/Year)],0)","v":7499},{"$f":"AND(D296<myCurrentValue,control!$C$28)","v":false},{"$f":"IF($G296,INDEX(tab_data[Fertility],$F296,1),NA())","v":{"$error":"#N/A"}},{"$f":"IF($G296,INDEX(tab_data[Life Expectancy],$F296,1),NA())","v":{"$error":"#N/A"}},{"$f":"INDEX(tab_data[Population],$F296,1)","v":38418829}]
[null,null,"Mexico",1961,"Mexico/1961",{"$f":"MATCH($E297,tab_data[ID (Country/Year)],0)","v":7500},{"$f":"AND(D297<myCurrentValue,control!$C$28)","v":false},{"$f":"IF($G297,INDEX(tab_data[Fertility],$F297,1),NA())","v":{"$error":"#N/A"}},{"$f":"IF($G297,INDEX(tab_data[Life Expectancy],$F297,1),NA())","v":{"$error":"#N/A"}},{"$f":"INDEX(tab_data[Population],$F297,1)","v":39684127}]
[null,null,"Mexico",1962,"Mexico/1962",{"$f":"MATCH($E298,tab_data[ID (Country/Year)],0)","v":7501},{"$f":"AND(D298<myCurrentValue,control!$C$28)","v":false},{"$f":"IF($G298,INDEX(tab_data[Fertility],$F298,1),NA())","v":{"$error":"#N/A"}},{"$f":"IF($G298,INDEX(tab_data[Life Expectancy],$F298,1),NA())","v":{"$error":"#N/A"}},{"$f":"INDEX(tab_data[Population],$F298,1)","v":40966751}]
[null,null,"Mexico",1963,"Mexico/1963",{"$f":"MATCH($E299,tab_data[ID (Country/Year)],0)","v":7502},{"$f":"AND(D299<myCurrentValue,control!$C$28)","v":false},{"$f":"IF($G299,INDEX(tab_data[Fertility],$F299,1),NA())","v":{"$error":"#N/A"}},{"$f":"IF($G299,INDEX(tab_data[Life Expectancy],$F299,1),NA())","v":{"$error":"#N/A"}},{"$f":"INDEX(tab_data[Population],$F299,1)","v":42264182}]
[null,null,"Mexico",1964,"Mexico/1964",{"$f":"MATCH($E300,tab_data[ID (Country/Year)],0)","v":7503},{"$f":"AND(D300<myCurrentValue,control!$C$28)","v":false},{"$f":"IF($G300,INDEX(tab_data[Fertility],$F300,1),NA())","v":{"$error":"#N/A"}},{"$f":"IF($G300,INDEX(tab_data[Life Expectancy],$F300,1),NA())","v":{"$error":"#N/A"}},{"$f":"INDEX(tab_data[Population],$F300,1)","v":43574687}]
[null,null,"Mexico",1965,"Mexico/1965",{"$f":"MATCH($E301,tab_data[ID (Country/Year)],0)","v":7504},{"$f":"AND(D301<myCurrentValue,control!$C$28)","v":false},{"$f":"IF($G301,INDEX(tab_data[Fertility],$F301,1),NA())","v":{"$error":"#N/A"}},{"$f":"IF($G301,INDEX(tab_data[Life Expectancy],$F301,1),NA())","v":{"$error":"#N/A"}},{"$f":"INDEX(tab_data[Population],$F301,1)","v":44898430}]
[null,null,"Mexico",1966,"Mexico/1966",{"$f":"MATCH($E302,tab_data[ID (Country/Year)],0)","v":7505},{"$f":"AND(D302<myCurrentValue,control!$C$28)","v":false},{"$f":"IF($G302,INDEX(tab_data[Fertility],$F302,1),NA())","v":{"$error":"#N/A"}},{"$f":"IF($G302,INDEX(tab_data[Life Expectancy],$F302,1),NA())","v":{"$error":"#N/A"}},{"$f":"INDEX(tab_data[Population],$F302,1)","v":46229966}]
[null,null,"Mexico",1967,"Mexico/1967",{"$f":"MATCH($E303,tab_data[ID (Country/Year)],0)","v":7506},{"$f":"AND(D303<myCurrentValue,control!$C$28)","v":false},{"$f":"IF($G303,INDEX(tab_data[Fertility],$F303,1),NA())","v":{"$error":"#N/A"}},{"$f":"IF($G303,INDEX(tab_data[Life Expectancy],$F303,1),NA())","v":{"$error":"#N/A"}},{"$f":"INDEX(tab_data[Population],$F303,1)","v":47572205}]
[null,null,"Mexico",1968,"Mexico/1968",{"$f":"MATCH($E304,tab_data[ID (Country/Year)],0)","v":7507},{"$f":"AND(D304<myCurrentValue,control!$C$28)","v":false},{"$f":"IF($G304,INDEX(tab_data[Fertility],$F304,1),NA())","v":{"$error":"#N/A"}},{"$f":"IF($G304,INDEX(tab_data[Life Expectancy],$F304,1),NA())","v":{"$error":"#N/A"}},{"$f":"INDEX(tab_data[Population],$F304,1)","v":48943844}]
[null,null,"Mexico",1969,"Mexico/1969",{"$f":"MATCH($E305,tab_data[ID (Country/Year)],0)","v":7508},{"$f":"AND(D305<myCurrentValue,control!$C$28)","v":false},{"$f":"IF($G305,INDEX(tab_data[Fertility],$F305,1),NA())","v":{"$error":"#N/A"}},{"$f":"IF($G305,INDEX(tab_data[Life Expectancy],$F305,1),NA())","v":{"$error":"#N/A"}},{"$f":"INDEX(tab_data[Population],$F305,1)","v":50370262}]
[null,null,"Mexico",1970,"Mexico/1970",{"$f":"MATCH($E306,tab_data[ID (Country/Year)],0)","v":7509},{"$f":"AND(D306<myCurrentValue,control!$C$28)","v":false},{"$f":"IF($G306,INDEX(tab_data[Fertility],$F306,1),NA())","v":{"$error":"#N/A"}},{"$f":"IF($G306,INDEX(tab_data[Life Expectancy],$F306,1),NA())","v":{"$error":"#N/A"}},{"$f":"INDEX(tab_data[Population],$F306,1)","v":51868335}]
[null,null,"Mexico",1971,"Mexico/1971",{"$f":"MATCH($E307,tab_data[ID (Country/Year)],0)","v":7510},{"$f":"AND(D307<myCurrentValue,control!$C$28)","v":false},{"$f":"IF($G307,INDEX(tab_data[Fertility],$F307,1),NA())","v":{"$error":"#N/A"}},{"$f":"IF($G307,INDEX(tab_data[Life Expectancy],$F307,1),NA())","v":{"$error":"#N/A"}},{"$f":"INDEX(tab_data[Population],$F307,1)","v":53441943}]
[null,null,"Mexico",1972,"Mexico/1972",{"$f":"MATCH($E308,tab_data[ID (Country/Year)],0)","v":7511},{"$f":"AND(D308<myCurrentValue,control!$C$28)","v":false},{"$f":"IF($G308,INDEX(tab_data[Fertility],$F308,1),NA())","v":{"$error":"#N/A"}},{"$f":"IF($G308,INDEX(tab_data[Life Expectancy],$F308,1),NA())","v":{"$error":"#N/A"}},{"$f":"INDEX(tab_data[Population],$F308,1)","v":55081201}]
[null,null,"Mexico",1973,"Mexico/1973",{"$f":"MATCH($E309,tab_data[ID (Country/Year)],0)","v":7512},{"$f":"AND(D309<myCurrentValue,control!$C$28)","v":false},{"$f":"IF($G309,INDEX(tab_data[Fertility],$F309,1),NA())","v":{"$error":"#N/A"}},{"$f":"IF($G309,INDEX(tab_data[Life Expectancy],$F309,1),NA())","v":{"$error":"#N/A"}},{"$f":"INDEX(tab_data[Population],$F309,1)","v":56771626}]
[null,null,"Mexico",1974,"Mexico/1974",{"$f":"MATCH($E310,tab_data[ID (Country/Year)],0)","v":7513},{"$f":"AND(D310<myCurrentValue,control!$C$28)","v":false},{"$f":"IF($G310,INDEX(tab_data[Fertility],$F310,1),NA())","v":{"$error":"#N/A"}},{"$f":"IF($G310,INDEX(tab_data[Life Expectancy],$F310,1),NA())","v":{"$error":"#N/A"}},{"$f":"INDEX(tab_data[Population],$F310,1)","v":58492118}]
[null,null,"Mexico",1975,"Mexico/1975",{"$f":"MATCH($E311,tab_data[ID (Country/Year)],0)","v":7514},{"$f":"AND(D311<myCurrentValue,control!$C$28)","v":false},{"$f":"IF($G311,INDEX(tab_data[Fertility],$F311,1),NA())","v":{"$error":"#N/A"}},{"$f":"IF($G311,INDEX(tab_data[Life Expectancy],$F311,1),NA())","v":{"$error":"#N/A"}},{"$f":"INDEX(tab_data[Population],$F311,1)","v":60224601}]
[null,null,"Mexico",1976,"Mexico/1976",{"$f":"MATCH($E312,tab_data[ID (Country/Year)],0)","v":7515},{"$f":"AND(D312<myCurrentValue,control!$C$28)","v":false},{"$f":"IF($G312,INDEX(tab_data[Fertility],$F312,1),NA())","v":{"$error":"#N/A"}},{"$f":"IF($G312,INDEX(tab_data[Life Expectancy],$F312,1),NA())","v":{"$error":"#N/A"}},{"$f":"INDEX(tab_data[Population],$F312,1)","v":61969362}]
[null,null,"Mexico",1977,"Mexico/1977",{"$f":"MATCH($E313,tab_data[ID (Country/Year)],0)","v":7516},{"$f":"AND(D313<myCurrentValue,control!$C$28)","v":false},{"$f":"IF($G313,INDEX(tab_data[Fertility],$F313,1),NA())","v":{"$error":"#N/A"}},{"$f":"IF($G313,INDEX(tab_data[Life Expectancy],$F313,1),NA())","v":{"$error":"#N/A"}},{"$f":"INDEX(tab_data[Population],$F313,1)","v":63723359}]
[null,null,"Mexico",1978,"Mexico/1978",{"$f":"MATCH($E314,tab_data[ID (Country/Year)],0)","v":7517},{"$f":"AND(D314<myCurrentValue,control!$C$28)","v":false},{"$f":"IF($G314,INDEX(tab_data[Fertility],$F314,1),NA())","v":{"$error":"#N/A"}},{"$f":"IF($G314,INDEX(tab_data[Life Expectancy],$F314,1),NA())","v":{"$error":"#N/A"}},{"$f":"INDEX(tab_data[Population],$F314,1)","v":65461471}]
[null,null,"Mexico",1979,"Mexico/1979",{"$f":"MATCH($E315,tab_data[ID (Country/Year)],0)","v":7518},{"$f":"AND(D315<myCurrentValue,control!$C$28)","v":false},{"$f":"IF($G315,INDEX(tab_data[Fertility],$F315,1),NA())","v":{"$error":"#N/A"}},{"$f":"IF($G315,INDEX(tab_data[Life Expectancy],$F315,1),NA())","v":{"$error":"#N/A"}},{"$f":"INDEX(tab_data[Population],$F315,1)","v":67152555}]
[null,null,"Mexico",1980,"Mexico/1980",{"$f":"MATCH($E316,tab_data[ID (Country/Year)],0)","v":7519},{"$f":"AND(D316<myCurrentValue,control!$C$28)","v":false},{"$f":"IF($G316,INDEX(tab_data[Fertility],$F316,1),NA())","v":{"$error":"#N/A"}},{"$f":"IF($G316,INDEX(tab_data[Life Expectancy],$F316,1),NA())","v":{"$error":"#N/A"}},{"$f":"INDEX(tab_data[Population],$F316,1)","v":68776411}]
[null,null,"Mexico",1981,"Mexico/1981",{"$f":"MATCH($E317,tab_data[ID (Country/Year)],0)","v":7520},{"$f":"AND(D317<myCurrentValue,control!$C$28)","v":false},{"$f":"IF($G317,INDEX(tab_data[Fertility],$F317,1),NA())","v":{"$error":"#N/A"}},{"$f":"IF($G317,INDEX(tab_data[Life Expectancy],$F317,1),NA())","v":{"$error":"#N/A"}},{"$f":"INDEX(tab_data[Population],$F317,1)","v":70318386}]
[null,null,"Mexico",1982,"Mexico/1982",{"$f":"MATCH($E318,tab_data[ID (Country/Year)],0)","v":7521},{"$f":"AND(D318<myCurrentValue,control!$C$28)","v":false},{"$f":"IF($G318,INDEX(tab_data[Fertility],$F318,1),NA())","v":{"$error":"#N/A"}},{"$f":"IF($G318,INDEX(tab_data[Life Expectancy],$F318,1),NA())","v":{"$error":"#N/A"}},{"$f":"INDEX(tab_data[Population],$F318,1)","v":71788766}]
[null,null,"Mexico",1983,"Mexico/1983",{"$f":"MATCH($E319,tab_data[ID (Country/Year)],0)","v":7522},{"$f":"AND(D319<myCurrentValue,control!$C$28)","v":false},{"$f":"IF($G319,INDEX(tab_data[Fertility],$F319,1),NA())","v":{"$error":"#N/A"}},{"$f":"IF($G319,INDEX(tab_data[Life Expectancy],$F319,1),NA())","v":{"$error":"#N/A"}},{"$f":"INDEX(tab_data[Population],$F319,1)","v":73223336}]
[null,null,"Mexico",1984,"Mexico/1984",{"$f":"MATCH($E320,tab_data[ID (Country/Year)],0)","v":7523},{"$f":"AND(D320<myCurrentValue,control!$C$28)","v":false},{"$f":"IF($G320,INDEX(tab_data[Fertility],$F320,1),NA())","v":{"$error":"#N/A"}},{"$f":"IF($G320,INDEX(tab_data[Life Expectancy],$F320,1),NA())","v":{"$error":"#N/A"}},{"$f":"INDEX(tab_data[Population],$F320,1)","v":74673296}]
[null,null,"Mexico",1985,"Mexico/1985",{"$f":"MATCH($E321,tab_data[ID (Country/Year)],0)","v":7524},{"$f":"AND(D321<myCurrentValue,control!$C$28)","v":false},{"$f":"IF($G321,INDEX(tab_data[Fertility],$F321,1),NA())","v":{"$error":"#N/A"}},{"$f":"IF($G321,INDEX(tab_data[Life Expectancy],$F321,1),NA())","v":{"$error":"#N/A"}},{"$f":"INDEX(tab_data[Population],$F321,1)","v":76175154}]
[null,null,"Mexico",1986,"Mexico/1986",{"$f":"MATCH($E322,tab_data[ID (Country/Year)],0)","v":7525},{"$f":"AND(D322<myCurrentValue,control!$C$28)","v":false},{"$f":"IF($G322,INDEX(tab_data[Fertility],$F322,1),NA())","v":{"$error":"#N/A"}},{"$f":"IF($G322,INDEX(tab_data[Life Expectancy],$F322,1),NA())","v":{"$error":"#N/A"}},{"$f":"INDEX(tab_data[Population],$F322,1)","v":77741110}]
[null,null,"Mexico",1987,"Mexico/1987",{"$f":"MATCH($E323,tab_data[ID (Country/Year)],0)","v":7526},{"$f":"AND(D323<myCurrentValue,control!$C$28)","v":false},{"$f":"IF($G323,INDEX(tab_data[Fertility],$F323,1),NA())","v":{"$error":"#N/A"}},{"$f":"IF($G323,INDEX(tab_data[Life Expectancy],$F323,1),NA())","v":{"$error":"#N/A"}},{"$f":"INDEX(tab_data[Population],$F323,1)","v":79358780}]
[null,null,"Mexico",1988,"Mexico/1988",{"$f":"MATCH($E324,tab_data[ID (Country/Year)],0)","v":7527},{"$f":"AND(D324<myCurrentValue,control!$C$28)","v":false},{"$f":"IF($G324,INDEX(tab_data[Fertility],$F324,1),NA())","v":{"$error":"#N/A"}},{"$f":"IF($G324,INDEX(tab_data[Life Expectancy],$F324,1),NA())","v":{"$error":"#N/A"}},{"$f":"INDEX(tab_data[Population],$F324,1)","v":81010093}]
[null,null,"Mexico",1989,"Mexico/1989",{"$f":"MATCH($E325,tab_data[ID (Country/Year)],0)","v":7528},{"$f":"AND(D325<myCurrentValue,control!$C$28)","v":false},{"$f":"IF($G325,INDEX(tab_data[Fertility],$F325,1),NA())","v":{"$error":"#N/A"}},{"$f":"IF($G325,INDEX(tab_data[Life Expectancy],$F325,1),NA())","v":{"$error":"#N/A"}},{"$f":"INDEX(tab_data[Population],$F325,1)","v":82666457}]
[null,null,"Mexico",1990,"Mexico/1990",{"$f":"MATCH($E326,tab_data[ID (Country/Year)],0)","v":7529},{"$f":"AND(D326<myCurrentValue,control!$C$28)","v":false},{"$f":"IF($G326,INDEX(tab_data[Fertility],$F326,1),NA())","v":{"$error":"#N/A"}},{"$f":"IF($G326,INDEX(tab_data[Life Expectancy],$F326,1),NA())","v":{"$error":"#N/A"}},{"$f":"INDEX(tab_data[Population],$F326,1)","v":84306602}]
[null,null,"Mexico",1991,"Mexico/1991",{"$f":"MATCH($E327,tab_data[ID (Country/Year)],0)","v":7530},{"$f":"AND(D327<myCurrentValue,control!$C$28)","v":false},{"$f":"IF($G327,INDEX(tab_data[Fertility],$F327,1),NA())","v":{"$error":"#N/A"}},{"$f":"IF($G327,INDEX(tab_data[Life Expectancy],$F327,1),NA())","v":{"$error":"#N/A"}},{"$f":"INDEX(tab_data[Population],$F327,1)","v":85923799}]
[null,null,"Mexico",1992,"Mexico/1992",{"$f":"MATCH($E328,tab_data[ID (Country/Year)],0)","v":7531},{"$f":"AND(D328<myCurrentValue,control!$C$28)","v":false},{"$f":"IF($G328,INDEX(tab_data[Fertility],$F328,1),NA())","v":{"$error":"#N/A"}},{"$f":"IF($G328,INDEX(tab_data[Life Expectancy],$F328,1),NA())","v":{"$error":"#N/A"}},{"$f":"INDEX(tab_data[Population],$F328,1)","v":87523328}]
[null,null,"Mexico",1993,"Mexico/1993",{"$f":"MATCH($E329,tab_data[ID (Country/Year)],0)","v":7532},{"$f":"AND(D329<myCurrentValue,control!$C$28)","v":false},{"$f":"IF($G329,INDEX(tab_data[Fertility],$F329,1),NA())","v":{"$error":"#N/A"}},{"$f":"IF($G329,INDEX(tab_data[Life Expectancy],$F329,1),NA())","v":{"$error":"#N/A"}},{"$f":"INDEX(tab_data[Population],$F329,1)","v":89109703}]
[null,null,"Mexico",1994,"Mexico/1994",{"$f":"MATCH($E330,tab_data[ID (Country/Year)],0)","v":7533},{"$f":"AND(D330<myCurrentValue,control!$C$28)","v":false},{"$f":"IF($G330,INDEX(tab_data[Fertility],$F330,1),NA())","v":{"$error":"#N/A"}},{"$f":"IF($G330,INDEX(tab_data[Life Expectancy],$F330,1),NA())","v":{"$error":"#N/A"}},{"$f":"INDEX(tab_data[Population],$F330,1)","v":90691331}]
[null,null,"Mexico",1995,"Mexico/1995",{"$f":"MATCH($E331,tab_data[ID (Country/Year)],0)","v":7534},{"$f":"AND(D331<myCurrentValue,control!$C$28)","v":false},{"$f":"IF($G331,INDEX(tab_data[Fertility],$F331,1),NA())","v":{"$error":"#N/A"}},{"$f":"IF($G331,INDEX(tab_data[Life Expectancy],$F331,1),NA())","v":{"$error":"#N/A"}},{"$f":"INDEX(tab_data[Population],$F331,1)","v":92272749}]
[null,null,"Mexico",1996,"Mexico/1996",{"$f":"MATCH($E332,tab_data[ID (Country/Year)],0)","v":7535},{"$f":"AND(D332<myCurrentValue,control!$C$28)","v":false},{"$f":"IF($G332,INDEX(tab_data[Fertility],$F332,1),NA())","v":{"$error":"#N/A"}},{"$f":"IF($G332,INDEX(tab_data[Life Expectancy],$F332,1),NA())","v":{"$error":"#N/A"}},{"$f":"INDEX(tab_data[Population],$F332,1)","v":93858373}]
[null,null,"Mexico",1997,"Mexico/1997",{"$f":"MATCH($E333,tab_data[ID (Country/Year)],0)","v":7536},{"$f":"AND(D333<myCurrentValue,control!$C$28)","v":false},{"$f":"IF($G333,INDEX(tab_data[Fertility],$F333,1),NA())","v":{"$error":"#N/A"}},{"$f":"IF($G333,INDEX(tab_data[Life Expectancy],$F333,1),NA())","v":{"$error":"#N/A"}},{"$f":"INDEX(tab_data[Population],$F333,1)","v":95441345}]
[null,null,"Mexico",1998,"Mexico/1998",{"$f":"MATCH($E334,tab_data[ID (Country/Year)],0)","v":7537},{"$f":"AND(D334<myCurrentValue,control!$C$28)","v":false},{"$f":"IF($G334,INDEX(tab_data[Fertility],$F334,1),NA())","v":{"$error":"#N/A"}},{"$f":"IF($G334,INDEX(tab_data[Life Expectancy],$F334,1),NA())","v":{"$error":"#N/A"}},{"$f":"INDEX(tab_data[Population],$F334,1)","v":97001933}]
[null,null,"Mexico",1999,"Mexico/1999",{"$f":"MATCH($E335,tab_data[ID (Country/Year)],0)","v":7538},{"$f":"AND(D335<myCurrentValue,control!$C$28)","v":false},{"$f":"IF($G335,INDEX(tab_data[Fertility],$F335,1),NA())","v":{"$error":"#N/A"}},{"$f":"IF($G335,INDEX(tab_data[Life Expectancy],$F335,1),NA())","v":{"$error":"#N/A"}},{"$f":"INDEX(tab_data[Population],$F335,1)","v":98513690}]
[null,null,"Mexico",2000,"Mexico/2000",{"$f":"MATCH($E336,tab_data[ID (Country/Year)],0)","v":7539},{"$f":"AND(D336<myCurrentValue,control!$C$28)","v":false},{"$f":"IF($G336,INDEX(tab_data[Fertility],$F336,1),NA())","v":{"$error":"#N/A"}},{"$f":"IF($G336,INDEX(tab_data[Life Expectancy],$F336,1),NA())","v":{"$error":"#N/A"}},{"$f":"INDEX(tab_data[Population],$F336,1)","v":99959594}]
[null,null,"Mexico",2001,"Mexico/2001",{"$f":"MATCH($E337,tab_data[ID (Country/Year)],0)","v":7540},{"$f":"AND(D337<myCurrentValue,control!$C$28)","v":false},{"$f":"IF($G337,INDEX(tab_data[Fertility],$F337,1),NA())","v":{"$error":"#N/A"}},{"$f":"IF($G337,INDEX(tab_data[Life Expectancy],$F337,1),NA())","v":{"$error":"#N/A"}},{"$f":"INDEX(tab_data[Population],$F337,1)","v":101329543}]
[null,null,"Mexico",2002,"Mexico/2002",{"$f":"MATCH($E338,tab_data[ID (Country/Year)],0)","v":7541},{"$f":"AND(D338<myCurrentValue,control!$C$28)","v":false},{"$f":"IF($G338,INDEX(tab_data[Fertility],$F338,1),NA())","v":{"$error":"#N/A"}},{"$f":"IF($G338,INDEX(tab_data[Life Expectancy],$F338,1),NA())","v":{"$error":"#N/A"}},{"$f":"INDEX(tab_data[Population],$F338,1)","v":102634153}]
[null,null,"Mexico",2003,"Mexico/2003",{"$f":"MATCH($E339,tab_data[ID (Country/Year)],0)","v":7542},{"$f":"AND(D339<myCurrentValue,control!$C$28)","v":false},{"$f":"IF($G339,INDEX(tab_data[Fertility],$F339,1),NA())","v":{"$error":"#N/A"}},{"$f":"IF($G339,INDEX(tab_data[Life Expectancy],$F339,1),NA())","v":{"$error":"#N/A"}},{"$f":"INDEX(tab_data[Population],$F339,1)","v":103902569}]
[null,null,"Mexico",2004,"Mexico/2004",{"$f":"MATCH($E340,tab_data[ID (Country/Year)],0)","v":7543},{"$f":"AND(D340<myCurrentValue,control!$C$28)","v":false},{"$f":"IF($G340,INDEX(tab_data[Fertility],$F340,1),NA())","v":{"$error":"#N/A"}},{"$f":"IF($G340,INDEX(tab_data[Life Expectancy],$F340,1),NA())","v":{"$error":"#N/A"}},{"$f":"INDEX(tab_data[Population],$F340,1)","v":105175967}]
[null,null,"Mexico",2005,"Mexico/2005",{"$f":"MATCH($E341,tab_data[ID (Country/Year)],0)","v":7544},{"$f":"AND(D341<myCurrentValue,control!$C$28)","v":false},{"$f":"IF($G341,INDEX(tab_data[Fertility],$F341,1),NA())","v":{"$error":"#N/A"}},{"$f":"IF($G341,INDEX(tab_data[Life Expectancy],$F341,1),NA())","v":{"$error":"#N/A"}},{"$f":"INDEX(tab_data[Population],$F341,1)","v":106483757}]
[null,null,"Mexico",2006,"Mexico/2006",{"$f":"MATCH($E342,tab_data[ID (Country/Year)],0)","v":7545},{"$f":"AND(D342<myCurrentValue,control!$C$28)","v":false},{"$f":"IF($G342,INDEX(tab_data[Fertility],$F342,1),NA())","v":{"$error":"#N/A"}},{"$f":"IF($G342,INDEX(tab_data[Life Expectancy],$F342,1),NA())","v":{"$error":"#N/A"}},{"$f":"INDEX(tab_data[Population],$F342,1)","v":107835259}]
[null,null,"Mexico",2007,"Mexico/2007",{"$f":"MATCH($E343,tab_data[ID (Country/Year)],0)","v":7546},{"$f":"AND(D343<myCurrentValue,control!$C$28)","v":false},{"$f":"IF($G343,INDEX(tab_data[Fertility],$F343,1),NA())","v":{"$error":"#N/A"}},{"$f":"IF($G343,INDEX(tab_data[Life Expectancy],$F343,1),NA())","v":{"$error":"#N/A"}},{"$f":"INDEX(tab_data[Population],$F343,1)","v":109220753}]
[null,null,"Mexico",2008,"Mexico/2008",{"$f":"MATCH($E344,tab_data[ID (Country/Year)],0)","v":7547},{"$f":"AND(D344<myCurrentValue,control!$C$28)","v":false},{"$f":"IF($G344,INDEX(tab_data[Fertility],$F344,1),NA())","v":{"$error":"#N/A"}},{"$f":"IF($G344,INDEX(tab_data[Life Expectancy],$F344,1),NA())","v":{"$error":"#N/A"}},{"$f":"INDEX(tab_data[Population],$F344,1)","v":110627158}]
[null,null,"Mexico",2009,"Mexico/2009",{"$f":"MATCH($E345,tab_data[ID (Country/Year)],0)","v":7548},{"$f":"AND(D345<myCurrentValue,control!$C$28)","v":false},{"$f":"IF($G345,INDEX(tab_data[Fertility],$F345,1),NA())","v":{"$error":"#N/A"}},{"$f":"IF($G345,INDEX(tab_data[Life Expectancy],$F345,1),NA())","v":{"$error":"#N/A"}},{"$f":"INDEX(tab_data[Population],$F345,1)","v":112033369}]
[null,null,"Mexico",2010,"Mexico/2010",{"$f":"MATCH($E346,tab_data[ID (Country/Year)],0)","v":7549},{"$f":"AND(D346<myCurrentValue,control!$C$28)","v":false},{"$f":"IF($G346,INDEX(tab_data[Fertility],$F346,1),NA())","v":{"$error":"#N/A"}},{"$f":"IF($G346,INDEX(tab_data[Life Expectancy],$F346,1),NA())","v":{"$error":"#N/A"}},{"$f":"INDEX(tab_data[Population],$F346,1)","v":113423047}]
[null,null,"Mexico",2011,"Mexico/2011",{"$f":"MATCH($E347,tab_data[ID (Country/Year)],0)","v":7550},{"$f":"AND(D347<myCurrentValue,control!$C$28)","v":false},{"$f":"IF($G347,INDEX(tab_data[Fertility],$F347,1),NA())","v":{"$error":"#N/A"}},{"$f":"IF($G347,INDEX(tab_data[Life Expectancy],$F347,1),NA())","v":{"$error":"#N/A"}},{"$f":"INDEX(tab_data[Population],$F347,1)","v":114793341}]
[null,null,"Mexico",2012,"Mexico/2012",{"$f":"MATCH($E348,tab_data[ID (Country/Year)],0)","v":7551},{"$f":"AND(D348<myCurrentValue,control!$C$28)","v":false},{"$f":"IF($G348,INDEX(tab_data[Fertility],$F348,1),NA())","v":{"$error":"#N/A"}},{"$f":"IF($G348,INDEX(tab_data[Life Expectancy],$F348,1),NA())","v":{"$error":"#N/A"}},{"$f":"INDEX(tab_data[Population],$F348,1)","v":116146768}]
[null,null,"Mexico",2013,"Mexico/2013",{"$f":"MATCH($E349,tab_data[ID (Country/Year)],0)","v":7552},{"$f":"AND(D349<myCurrentValue,control!$C$28)","v":false},{"$f":"IF($G349,INDEX(tab_data[Fertility],$F349,1),NA())","v":{"$error":"#N/A"}},{"$f":"IF($G349,INDEX(tab_data[Life Expectancy],$F349,1),NA())","v":{"$error":"#N/A"}},{"$f":"INDEX(tab_data[Population],$F349,1)","v":117478371}]
[null,null,{"$f":"$C$9","v":"South Africa"},1950,{"$f":"C350&\"/\"&D350","v":"South Africa/1950"},{"$f":"MATCH($E350,tab_data[ID (Country/Year)],0)","v":10497},{"$f":"AND(D350<myCurrentValue,control!$C$29)","v":false},{"$f":"IF($G350,INDEX(tab_data[Fertility],$F350,1),NA())","v":{"$error":"#N/A"}},{"$f":"IF($G350,INDEX(tab_data[Life Expectancy],$F350,1),NA())","v":{"$error":"#N/A"}},{"$f":"INDEX(tab_data[Population],$F350,1)","v":13683162}]
[null,null,{"$f":"$C$9","v":"South Africa"},1951,{"$f":"C351&\"/\"&D351","v":"South Africa/1951"},{"$f":"MATCH($E351,tab_data[ID (Country/Year)],0)","v":10498},{"$f":"AND(D351<myCurrentValue,control!$C$29)","v":false},{"$f":"IF($G351,INDEX(tab_data[Fertility],$F351,1),NA())","v":{"$error":"#N/A"}},{"$f":"IF($G351,INDEX(tab_data[Life Expectancy],$F351,1),NA())","v":{"$error":"#N/A"}},{"$f":"INDEX(tab_data[Population],$F351,1)","v":13993912}]
[null,null,"South Africa",1952,"South Africa/1952",{"$f":"MATCH($E352,tab_data[ID (Country/Year)],0)","v":10499},{"$f":"AND(D352<myCurrentValue,control!$C$29)","v":false},{"$f":"IF($G352,INDEX(tab_data[Fertility],$F352,1),NA())","v":{"$error":"#N/A"}},{"$f":"IF($G352,INDEX(tab_data[Life Expectancy],$F352,1),NA())","v":{"$error":"#N/A"}},{"$f":"INDEX(tab_data[Population],$F352,1)","v":14322458}]
[null,null,"South Africa",1953,"South Africa/1953",{"$f":"MATCH($E353,tab_data[ID (Country/Year)],0)","v":10500},{"$f":"AND(D353<myCurrentValue,control!$C$29)","v":false},{"$f":"IF($G353,INDEX(tab_data[Fertility],$F353,1),NA())","v":{"$error":"#N/A"}},{"$f":"IF($G353,INDEX(tab_data[Life Expectancy],$F353,1),NA())","v":{"$error":"#N/A"}},{"$f":"INDEX(tab_data[Population],$F353,1)","v":14665211}]
[null,null,"South Africa",1954,"South Africa/1954",{"$f":"MATCH($E354,tab_data[ID (Country/Year)],0)","v":10501},{"$f":"AND(D354<myCurrentValue,control!$C$29)","v":false},{"$f":"IF($G354,INDEX(tab_data[Fertility],$F354,1),NA())","v":{"$error":"#N/A"}},{"$f":"IF($G354,INDEX(tab_data[Life Expectancy],$F354,1),NA())","v":{"$error":"#N/A"}},{"$f":"INDEX(tab_data[Population],$F354,1)","v":15019719}]
[null,null,"South Africa",1955,"South Africa/1955",{"$f":"MATCH($E355,tab_data[ID (Country/Year)],0)","v":10502},{"$f":"AND(D355<myCurrentValue,control!$C$29)","v":false},{"$f":"IF($G355,INDEX(tab_data[Fertility],$F355,1),NA())","v":{"$error":"#N/A"}},{"$f":"IF($G355,INDEX(tab_data[Life Expectancy],$F355,1),NA())","v":{"$error":"#N/A"}},{"$f":"INDEX(tab_data[Population],$F355,1)","v":15384665}]
[null,null,"South Africa",1956,"South Africa/1956",{"$f":"MATCH($E356,tab_data[ID (Country/Year)],0)","v":10503},{"$f":"AND(D356<myCurrentValue,control!$C$29)","v":false},{"$f":"IF($G356,INDEX(tab_data[Fertility],$F356,1),NA())","v":{"$error":"#N/A"}},{"$f":"IF($G356,INDEX(tab_data[Life Expectancy],$F356,1),NA())","v":{"$error":"#N/A"}},{"$f":"INDEX(tab_data[Population],$F356,1)","v":15759932}]
[null,null,"South Africa",1957,"South Africa/1957",{"$f":"MATCH($E357,tab_data[ID (Country/Year)],0)","v":10504},{"$f":"AND(D357<myCurrentValue,control!$C$29)","v":false},{"$f":"IF($G357,INDEX(tab_data[Fertility],$F357,1),NA())","v":{"$error":"#N/A"}},{"$f":"IF($G357,INDEX(tab_data[Life Expectancy],$F357,1),NA())","v":{"$error":"#N/A"}},{"$f":"INDEX(tab_data[Population],$F357,1)","v":16146536}]
[null,null,"South Africa",1958,"South Africa/1958",{"$f":"MATCH($E358,tab_data[ID (Country/Year)],0)","v":10505},{"$f":"AND(D358<myCurrentValue,control!$C$29)","v":false},{"$f":"IF($G358,INDEX(tab_data[Fertility],$F358,1),NA())","v":{"$error":"#N/A"}},{"$f":"IF($G358,INDEX(tab_data[Life Expectancy],$F358,1),NA())","v":{"$error":"#N/A"}},{"$f":"INDEX(tab_data[Population],$F358,1)","v":16546450}]
[null,null,"South Africa",1959,"South Africa/1959",{"$f":"MATCH($E359,tab_data[ID (Country/Year)],0)","v":10506},{"$f":"AND(D359<myCurrentValue,control!$C$29)","v":false},{"$f":"IF($G359,INDEX(tab_data[Fertility],$F359,1),NA())","v":{"$error":"#N/A"}},{"$f":"IF($G359,INDEX(tab_data[Life Expectancy],$F359,1),NA())","v":{"$error":"#N/A"}},{"$f":"INDEX(tab_data[Population],$F359,1)","v":16962304}]
[null,null,"South Africa",1960,"South Africa/1960",{"$f":"MATCH($E360,tab_data[ID (Country/Year)],0)","v":10507},{"$f":"AND(D360<myCurrentValue,control!$C$29)","v":false},{"$f":"IF($G360,INDEX(tab_data[Fertility],$F360,1),NA())","v":{"$error":"#N/A"}},{"$f":"IF($G360,INDEX(tab_data[Life Expectancy],$F360,1),NA())","v":{"$error":"#N/A"}},{"$f":"INDEX(tab_data[Population],$F360,1)","v":17396477}]
[null,null,"South Africa",1961,"South Africa/1961",{"$f":"MATCH($E361,tab_data[ID (Country/Year)],0)","v":10508},{"$f":"AND(D361<myCurrentValue,control!$C$29)","v":false},{"$f":"IF($G361,INDEX(tab_data[Fertility],$F361,1),NA())","v":{"$error":"#N/A"}},{"$f":"IF($G361,INDEX(tab_data[Life Expectancy],$F361,1),NA())","v":{"$error":"#N/A"}},{"$f":"INDEX(tab_data[Population],$F361,1)","v":17850139}]
[null,null,"South Africa",1962,"South Africa/1962",{"$f":"MATCH($E362,tab_data[ID (Country/Year)],0)","v":10509},{"$f":"AND(D362<myCurrentValue,control!$C$29)","v":false},{"$f":"IF($G362,INDEX(tab_data[Fertility],$F362,1),NA())","v":{"$error":"#N/A"}},{"$f":"IF($G362,INDEX(tab_data[Life Expectancy],$F362,1),NA())","v":{"$error":"#N/A"}},{"$f":"INDEX(tab_data[Population],$F362,1)","v":18322409}]
[null,null,"South Africa",1963,"South Africa/1963",{"$f":"MATCH($E363,tab_data[ID (Country/Year)],0)","v":10510},{"$f":"AND(D363<myCurrentValue,control!$C$29)","v":false},{"$f":"IF($G363,INDEX(tab_data[Fertility],$F363,1),NA())","v":{"$error":"#N/A"}},{"$f":"IF($G363,INDEX(tab_data[Life Expectancy],$F363,1),NA())","v":{"$error":"#N/A"}},{"$f":"INDEX(tab_data[Population],$F363,1)","v":18809986}]
[null,null,"South Africa",1964,"South Africa/1964",{"$f":"MATCH($E364,tab_data[ID (Country/Year)],0)","v":10511},{"$f":"AND(D364<myCurrentValue,control!$C$29)","v":false},{"$f":"IF($G364,INDEX(tab_data[Fertility],$F364,1),NA())","v":{"$error":"#N/A"}},{"$f":"IF($G364,INDEX(tab_data[Life Expectancy],$F364,1),NA())","v":{"$error":"#N/A"}},{"$f":"INDEX(tab_data[Population],$F364,1)","v":19308185}]
[null,null,"South Africa",1965,"South Africa/1965",{"$f":"MATCH($E365,tab_data[ID (Country/Year)],0)","v":10512},{"$f":"AND(D365<myCurrentValue,control!$C$29)","v":false},{"$f":"IF($G365,INDEX(tab_data[Fertility],$F365,1),NA())","v":{"$error":"#N/A"}},{"$f":"IF($G365,INDEX(tab_data[Life Expectancy],$F365,1),NA())","v":{"$error":"#N/A"}},{"$f":"INDEX(tab_data[Population],$F365,1)","v":19813932}]
[null,null,"South Africa",1966,"South Africa/1966",{"$f":"MATCH($E366,tab_data[ID (Country/Year)],0)","v":10513},{"$f":"AND(D366<myCurrentValue,control!$C$29)","v":false},{"$f":"IF($G366,INDEX(tab_data[Fertility],$F366,1),NA())","v":{"$error":"#N/A"}},{"$f":"IF($G366,INDEX(tab_data[Life Expectancy],$F366,1),NA())","v":{"$error":"#N/A"}},{"$f":"INDEX(tab_data[Population],$F366,1)","v":20325179}]
[null,null,"South Africa",1967,"South Africa/1967",{"$f":"MATCH($E367,tab_data[ID (Country/Year)],0)","v":10514},{"$f":"AND(D367<myCurrentValue,control!$C$29)","v":false},{"$f":"IF($G367,INDEX(tab_data[Fertility],$F367,1),NA())","v":{"$error":"#N/A"}},{"$f":"IF($G367,INDEX(tab_data[Life Expectancy],$F367,1),NA())","v":{"$error":"#N/A"}},{"$f":"INDEX(tab_data[Population],$F367,1)","v":20843695}]
[null,null,"South Africa",1968,"South Africa/1968",{"$f":"MATCH($E368,tab_data[ID (Country/Year)],0)","v":10515},{"$f":"AND(D368<myCurrentValue,control!$C$29)","v":false},{"$f":"IF($G368,INDEX(tab_data[Fertility],$F368,1),NA())","v":{"$error":"#N/A"}},{"$f":"IF($G368,INDEX(tab_data[Life Expectancy],$F368,1),NA())","v":{"$error":"#N/A"}},{"$f":"INDEX(tab_data[Population],$F368,1)","v":21374801}]
[null,null,"South Africa",1969,"South Africa/1969",{"$f":"MATCH($E369,tab_data[ID (Country/Year)],0)","v":10516},{"$f":"AND(D369<myCurrentValue,control!$C$29)","v":false},{"$f":"IF($G369,INDEX(tab_data[Fertility],$F369,1),NA())","v":{"$error":"#N/A"}},{"$f":"IF($G369,INDEX(tab_data[Life Expectancy],$F369,1),NA())","v":{"$error":"#N/A"}},{"$f":"INDEX(tab_data[Population],$F369,1)","v":21926000}]
[null,null,"South Africa",1970,"South Africa/1970",{"$f":"MATCH($E370,tab_data[ID (Country/Year)],0)","v":10517},{"$f":"AND(D370<myCurrentValue,control!$C$29)","v":false},{"$f":"IF($G370,INDEX(tab_data[Fertility],$F370,1),NA())","v":{"$error":"#N/A"}},{"$f":"IF($G370,INDEX(tab_data[Life Expectancy],$F370,1),NA())","v":{"$error":"#N/A"}},{"$f":"INDEX(tab_data[Population],$F370,1)","v":22502306}]
[null,null,"South Africa",1971,"South Africa/1971",{"$f":"MATCH($E371,tab_data[ID (Country/Year)],0)","v":10518},{"$f":"AND(D371<myCurrentValue,control!$C$29)","v":false},{"$f":"IF($G371,INDEX(tab_data[Fertility],$F371,1),NA())","v":{"$error":"#N/A"}},{"$f":"IF($G371,INDEX(tab_data[Life Expectancy],$F371,1),NA())","v":{"$error":"#N/A"}},{"$f":"INDEX(tab_data[Population],$F371,1)","v":23106584}]
[null,null,"South Africa",1972,"South Africa/1972",{"$f":"MATCH($E372,tab_data[ID (Country/Year)],0)","v":10519},{"$f":"AND(D372<myCurrentValue,control!$C$29)","v":false},{"$f":"IF($G372,INDEX(tab_data[Fertility],$F372,1),NA())","v":{"$error":"#N/A"}},{"$f":"IF($G372,INDEX(tab_data[Life Expectancy],$F372,1),NA())","v":{"$error":"#N/A"}},{"$f":"INDEX(tab_data[Population],$F372,1)","v":23736249}]
[null,null,"South Africa",1973,"South Africa/1973",{"$f":"MATCH($E373,tab_data[ID (Country/Year)],0)","v":10520},{"$f":"AND(D373<myCurrentValue,control!$C$29)","v":false},{"$f":"IF($G373,INDEX(tab_data[Fertility],$F373,1),NA())","v":{"$error":"#N/A"}},{"$f":"IF($G373,INDEX(tab_data[Life Expectancy],$F373,1),NA())","v":{"$error":"#N/A"}},{"$f":"INDEX(tab_data[Population],$F373,1)","v":24384286}]
[null,null,"South Africa",1974,"South Africa/1974",{"$f":"MATCH($E374,tab_data[ID (Country/Year)],0)","v":10521},{"$f":"AND(D374<myCurrentValue,control!$C$29)","v":false},{"$f":"IF($G374,INDEX(tab_data[Fertility],$F374,1),NA())","v":{"$error":"#N/A"}},{"$f":"IF($G374,INDEX(tab_data[Life Expectancy],$F374,1),NA())","v":{"$error":"#N/A"}},{"$f":"INDEX(tab_data[Population],$F374,1)","v":25040691}]
[null,null,"South Africa",1975,"South Africa/1975",{"$f":"MATCH($E375,tab_data[ID (Country/Year)],0)","v":10522},{"$f":"AND(D375<myCurrentValue,control!$C$29)","v":false},{"$f":"IF($G375,INDEX(tab_data[Fertility],$F375,1),NA())","v":{"$error":"#N/A"}},{"$f":"IF($G375,INDEX(tab_data[Life Expectancy],$F375,1),NA())","v":{"$error":"#N/A"}},{"$f":"INDEX(tab_data[Population],$F375,1)","v":25698624}]
[null,null,"South Africa",1976,"South Africa/1976",{"$f":"MATCH($E376,tab_data[ID (Country/Year)],0)","v":10523},{"$f":"AND(D376<myCurrentValue,control!$C$29)","v":false},{"$f":"IF($G376,INDEX(tab_data[Fertility],$F376,1),NA())","v":{"$error":"#N/A"}},{"$f":"IF($G376,INDEX(tab_data[Life Expectancy],$F376,1),NA())","v":{"$error":"#N/A"}},{"$f":"INDEX(tab_data[Population],$F376,1)","v":26353940}]
[null,null,"South Africa",1977,"South Africa/1977",{"$f":"MATCH($E377,tab_data[ID (Country/Year)],0)","v":10524},{"$f":"AND(D377<myCurrentValue,control!$C$29)","v":false},{"$f":"IF($G377,INDEX(tab_data[Fertility],$F377,1),NA())","v":{"$error":"#N/A"}},{"$f":"IF($G377,INDEX(tab_data[Life Expectancy],$F377,1),NA())","v":{"$error":"#N/A"}},{"$f":"INDEX(tab_data[Population],$F377,1)","v":27009603}]
[null,null,"South Africa",1978,"South Africa/1978",{"$f":"MATCH($E378,tab_data[ID (Country/Year)],0)","v":10525},{"$f":"AND(D378<myCurrentValue,control!$C$29)","v":false},{"$f":"IF($G378,INDEX(tab_data[Fertility],$F378,1),NA())","v":{"$error":"#N/A"}},{"$f":"IF($G378,INDEX(tab_data[Life Expectancy],$F378,1),NA())","v":{"$error":"#N/A"}},{"$f":"INDEX(tab_data[Population],$F378,1)","v":27674353}]
[null,null,"South Africa",1979,"South Africa/1979",{"$f":"MATCH($E379,tab_data[ID (Country/Year)],0)","v":10526},{"$f":"AND(D379<myCurrentValue,control!$C$29)","v":false},{"$f":"IF($G379,INDEX(tab_data[Fertility],$F379,1),NA())","v":{"$error":"#N/A"}},{"$f":"IF($G379,INDEX(tab_data[Life Expectancy],$F379,1),NA())","v":{"$error":"#N/A"}},{"$f":"INDEX(tab_data[Population],$F379,1)","v":28360792}]
[null,null,"South Africa",1980,"South Africa/1980",{"$f":"MATCH($E380,tab_data[ID (Country/Year)],0)","v":10527},{"$f":"AND(D380<myCurrentValue,control!$C$29)","v":false},{"$f":"IF($G380,INDEX(tab_data[Fertility],$F380,1),NA())","v":{"$error":"#N/A"}},{"$f":"IF($G380,INDEX(tab_data[Life Expectancy],$F380,1),NA())","v":{"$error":"#N/A"}},{"$f":"INDEX(tab_data[Population],$F380,1)","v":29077186}]
[null,null,"South Africa",1981,"South Africa/1981",{"$f":"MATCH($E381,tab_data[ID (Country/Year)],0)","v":10528},{"$f":"AND(D381<myCurrentValue,control!$C$29)","v":false},{"$f":"IF($G381,INDEX(tab_data[Fertility],$F381,1),NA())","v":{"$error":"#N/A"}},{"$f":"IF($G381,INDEX(tab_data[Life Expectancy],$F381,1),NA())","v":{"$error":"#N/A"}},{"$f":"INDEX(tab_data[Population],$F381,1)","v":29828924}]
[null,null,"South Africa",1982,"South Africa/1982",{"$f":"MATCH($E382,tab_data[ID (Country/Year)],0)","v":10529},{"$f":"AND(D382<myCurrentValue,control!$C$29)","v":false},{"$f":"IF($G382,INDEX(tab_data[Fertility],$F382,1),NA())","v":{"$error":"#N/A"}},{"$f":"IF($G382,INDEX(tab_data[Life Expectancy],$F382,1),NA())","v":{"$error":"#N/A"}},{"$f":"INDEX(tab_data[Population],$F382,1)","v":30611185}]
[null,null,"South Africa",1983,"South Africa/1983",{"$f":"MATCH($E383,tab_data[ID (Country/Year)],0)","v":10530},{"$f":"AND(D383<myCurrentValue,control!$C$29)","v":false},{"$f":"IF($G383,INDEX(tab_data[Fertility],$F383,1),NA())","v":{"$error":"#N/A"}},{"$f":"IF($G383,INDEX(tab_data[Life Expectancy],$F383,1),NA())","v":{"$error":"#N/A"}},{"$f":"INDEX(tab_data[Population],$F383,1)","v":31409842}]
[null,null,"South Africa",1984,"South Africa/1984",{"$f":"MATCH($E384,tab_data[ID (Country/Year)],0)","v":10531},{"$f":"AND(D384<myCurrentValue,control!$C$29)","v":false},{"$f":"IF($G384,INDEX(tab_data[Fertility],$F384,1),NA())","v":{"$error":"#N/A"}},{"$f":"IF($G384,INDEX(tab_data[Life Expectancy],$F384,1),NA())","v":{"$error":"#N/A"}},{"$f":"INDEX(tab_data[Population],$F384,1)","v":32204995}]
[null,null,"South Africa",1985,"South Africa/1985",{"$f":"MATCH($E385,tab_data[ID (Country/Year)],0)","v":10532},{"$f":"AND(D385<myCurrentValue,control!$C$29)","v":false},{"$f":"IF($G385,INDEX(tab_data[Fertility],$F385,1),NA())","v":{"$error":"#N/A"}},{"$f":"IF($G385,INDEX(tab_data[Life Expectancy],$F385,1),NA())","v":{"$error":"#N/A"}},{"$f":"INDEX(tab_data[Population],$F385,1)","v":32983394}]
[null,null,"South Africa",1986,"South Africa/1986",{"$f":"MATCH($E386,tab_data[ID (Country/Year)],0)","v":10533},{"$f":"AND(D386<myCurrentValue,control!$C$29)","v":false},{"$f":"IF($G386,INDEX(tab_data[Fertility],$F386,1),NA())","v":{"$error":"#N/A"}},{"$f":"IF($G386,INDEX(tab_data[Life Expectancy],$F386,1),NA())","v":{"$error":"#N/A"}},{"$f":"INDEX(tab_data[Population],$F386,1)","v":33734360}]
[null,null,"South Africa",1987,"South Africa/1987",{"$f":"MATCH($E387,tab_data[ID (Country/Year)],0)","v":10534},{"$f":"AND(D387<myCurrentValue,control!$C$29)","v":false},{"$f":"IF($G387,INDEX(tab_data[Fertility],$F387,1),NA())","v":{"$error":"#N/A"}},{"$f":"IF($G387,INDEX(tab_data[Life Expectancy],$F387,1),NA())","v":{"$error":"#N/A"}},{"$f":"INDEX(tab_data[Population],$F387,1)","v":34464223}]
[null,null,"South Africa",1988,"South Africa/1988",{"$f":"MATCH($E388,tab_data[ID (Country/Year)],0)","v":10535},{"$f":"AND(D388<myCurrentValue,control!$C$29)","v":false},{"$f":"IF($G388,INDEX(tab_data[Fertility],$F388,1),NA())","v":{"$error":"#N/A"}},{"$f":"IF($G388,INDEX(tab_data[Life Expectancy],$F388,1),NA())","v":{"$error":"#N/A"}},{"$f":"INDEX(tab_data[Population],$F388,1)","v":35196881}]
[null,null,"South Africa",1989,"South Africa/1989",{"$f":"MATCH($E389,tab_data[ID (Country/Year)],0)","v":10536},{"$f":"AND(D389<myCurrentValue,control!$C$29)","v":false},{"$f":"IF($G389,INDEX(tab_data[Fertility],$F389,1),NA())","v":{"$error":"#N/A"}},{"$f":"IF($G389,INDEX(tab_data[Life Expectancy],$F389,1),NA())","v":{"$error":"#N/A"}},{"$f":"INDEX(tab_data[Population],$F389,1)","v":35966236}]
[null,null,"South Africa",1990,"South Africa/1990",{"$f":"MATCH($E390,tab_data[ID (Country/Year)],0)","v":10537},{"$f":"AND(D390<myCurrentValue,control!$C$29)","v":false},{"$f":"IF($G390,INDEX(tab_data[Fertility],$F390,1),NA())","v":{"$error":"#N/A"}},{"$f":"IF($G390,INDEX(tab_data[Life Expectancy],$F390,1),NA())","v":{"$error":"#N/A"}},{"$f":"INDEX(tab_data[Population],$F390,1)","v":36793907}]
[null,null,"South Africa",1991,"South Africa/1991",{"$f":"MATCH($E391,tab_data[ID (Country/Year)],0)","v":10538},{"$f":"AND(D391<myCurrentValue,control!$C$29)","v":false},{"$f":"IF($G391,INDEX(tab_data[Fertility],$F391,1),NA())","v":{"$error":"#N/A"}},{"$f":"IF($G391,INDEX(tab_data[Life Expectancy],$F391,1),NA())","v":{"$error":"#N/A"}},{"$f":"INDEX(tab_data[Population],$F391,1)","v":37690924}]
[null,null,"South Africa",1992,"South Africa/1992",{"$f":"MATCH($E392,tab_data[ID (Country/Year)],0)","v":10539},{"$f":"AND(D392<myCurrentValue,control!$C$29)","v":false},{"$f":"IF($G392,INDEX(tab_data[Fertility],$F392,1),NA())","v":{"$error":"#N/A"}},{"$f":"IF($G392,INDEX(tab_data[Life Expectancy],$F392,1),NA())","v":{"$error":"#N/A"}},{"$f":"INDEX(tab_data[Population],$F392,1)","v":38641823}]
[null,null,"South Africa",1993,"South Africa/1993",{"$f":"MATCH($E393,tab_data[ID (Country/Year)],0)","v":10540},{"$f":"AND(D393<myCurrentValue,control!$C$29)","v":false},{"$f":"IF($G393,INDEX(tab_data[Fertility],$F393,1),NA())","v":{"$error":"#N/A"}},{"$f":"IF($G393,INDEX(tab_data[Life Expectancy],$F393,1),NA())","v":{"$error":"#N/A"}},{"$f":"INDEX(tab_data[Population],$F393,1)","v":39609488}]
[null,null,"South Africa",1994,"South Africa/1994",{"$f":"MATCH($E394,tab_data[ID (Country/Year)],0)","v":10541},{"$f":"AND(D394<myCurrentValue,control!$C$29)","v":false},{"$f":"IF($G394,INDEX(tab_data[Fertility],$F394,1),NA())","v":{"$error":"#N/A"}},{"$f":"IF($G394,INDEX(tab_data[Life Expectancy],$F394,1),NA())","v":{"$error":"#N/A"}},{"$f":"INDEX(tab_data[Population],$F394,1)","v":40542036}]
[null,null,"South Africa",1995,"South Africa/1995",{"$f":"MATCH($E395,tab_data[ID (Country/Year)],0)","v":10542},{"$f":"AND(D395<myCurrentValue,control!$C$29)","v":false},{"$f":"IF($G395,INDEX(tab_data[Fertility],$F395,1),NA())","v":{"$error":"#N/A"}},{"$f":"IF($G395,INDEX(tab_data[Life Expectancy],$F395,1),NA())","v":{"$error":"#N/A"}},{"$f":"INDEX(tab_data[Population],$F395,1)","v":41402400}]
[null,null,"South Africa",1996,"South Africa/1996",{"$f":"MATCH($E396,tab_data[ID (Country/Year)],0)","v":10543},{"$f":"AND(D396<myCurrentValue,control!$C$29)","v":false},{"$f":"IF($G396,INDEX(tab_data[Fertility],$F396,1),NA())","v":{"$error":"#N/A"}},{"$f":"IF($G396,INDEX(tab_data[Life Expectancy],$F396,1),NA())","v":{"$error":"#N/A"}},{"$f":"INDEX(tab_data[Population],$F396,1)","v":42175740}]
[null,null,"South Africa",1997,"South Africa/1997",{"$f":"MATCH($E397,tab_data[ID (Country/Year)],0)","v":10544},{"$f":"AND(D397<myCurrentValue,control!$C$29)","v":false},{"$f":"IF($G397,INDEX(tab_data[Fertility],$F397,1),NA())","v":{"$error":"#N/A"}},{"$f":"IF($G397,INDEX(tab_data[Life Expectancy],$F397,1),NA())","v":{"$error":"#N/A"}},{"$f":"INDEX(tab_data[Population],$F397,1)","v":42873355}]
[null,null,"South Africa",1998,"South Africa/1998",{"$f":"MATCH($E398,tab_data[ID (Country/Year)],0)","v":10545},{"$f":"AND(D398<myCurrentValue,control!$C$29)","v":false},{"$f":"IF($G398,INDEX(tab_data[Fertility],$F398,1),NA())","v":{"$error":"#N/A"}},{"$f":"IF($G398,INDEX(tab_data[Life Expectancy],$F398,1),NA())","v":{"$error":"#N/A"}},{"$f":"INDEX(tab_data[Population],$F398,1)","v":43516225}]
[null,null,"South Africa",1999,"South Africa/1999",{"$f":"MATCH($E399,tab_data[ID (Country/Year)],0)","v":10546},{"$f":"AND(D399<myCurrentValue,control!$C$29)","v":false},{"$f":"IF($G399,INDEX(tab_data[Fertility],$F399,1),NA())","v":{"$error":"#N/A"}},{"$f":"IF($G399,INDEX(tab_data[Life Expectancy],$F399,1),NA())","v":{"$error":"#N/A"}},{"$f":"INDEX(tab_data[Population],$F399,1)","v":44137342}]
[null,null,"South Africa",2000,"South Africa/2000",{"$f":"MATCH($E400,tab_data[ID (Country/Year)],0)","v":10547},{"$f":"AND(D400<myCurrentValue,control!$C$29)","v":false},{"$f":"IF($G400,INDEX(tab_data[Fertility],$F400,1),NA())","v":{"$error":"#N/A"}},{"$f":"IF($G400,INDEX(tab_data[Life Expectancy],$F400,1),NA())","v":{"$error":"#N/A"}},{"$f":"INDEX(tab_data[Population],$F400,1)","v":44760380}]
[null,null,"South Africa",2001,"South Africa/2001",{"$f":"MATCH($E401,tab_data[ID (Country/Year)],0)","v":10548},{"$f":"AND(D401<myCurrentValue,control!$C$29)","v":false},{"$f":"IF($G401,INDEX(tab_data[Fertility],$F401,1),NA())","v":{"$error":"#N/A"}},{"$f":"IF($G401,INDEX(tab_data[Life Expectancy],$F401,1),NA())","v":{"$error":"#N/A"}},{"$f":"INDEX(tab_data[Population],$F401,1)","v":45389577}]
[null,null,"South Africa",2002,"South Africa/2002",{"$f":"MATCH($E402,tab_data[ID (Country/Year)],0)","v":10549},{"$f":"AND(D402<myCurrentValue,control!$C$29)","v":false},{"$f":"IF($G402,INDEX(tab_data[Fertility],$F402,1),NA())","v":{"$error":"#N/A"}},{"$f":"IF($G402,INDEX(tab_data[Life Expectancy],$F402,1),NA())","v":{"$error":"#N/A"}},{"$f":"INDEX(tab_data[Population],$F402,1)","v":46015405}]
[null,null,"South Africa",2003,"South Africa/2003",{"$f":"MATCH($E403,tab_data[ID (Country/Year)],0)","v":10550},{"$f":"AND(D403<myCurrentValue,control!$C$29)","v":false},{"$f":"IF($G403,INDEX(tab_data[Fertility],$F403,1),NA())","v":{"$error":"#N/A"}},{"$f":"IF($G403,INDEX(tab_data[Life Expectancy],$F403,1),NA())","v":{"$error":"#N/A"}},{"$f":"INDEX(tab_data[Population],$F403,1)","v":46631364}]
[null,null,"South Africa",2004,"South Africa/2004",{"$f":"MATCH($E404,tab_data[ID (Country/Year)],0)","v":10551},{"$f":"AND(D404<myCurrentValue,control!$C$29)","v":false},{"$f":"IF($G404,INDEX(tab_data[Fertility],$F404,1),NA())","v":{"$error":"#N/A"}},{"$f":"IF($G404,INDEX(tab_data[Life Expectancy],$F404,1),NA())","v":{"$error":"#N/A"}},{"$f":"INDEX(tab_data[Population],$F404,1)","v":47226670}]
[null,null,"South Africa",2005,"South Africa/2005",{"$f":"MATCH($E405,tab_data[ID (Country/Year)],0)","v":10552},{"$f":"AND(D405<myCurrentValue,control!$C$29)","v":false},{"$f":"IF($G405,INDEX(tab_data[Fertility],$F405,1),NA())","v":{"$error":"#N/A"}},{"$f":"IF($G405,INDEX(tab_data[Life Expectancy],$F405,1),NA())","v":{"$error":"#N/A"}},{"$f":"INDEX(tab_data[Population],$F405,1)","v":47792787}]
[null,null,"South Africa",2006,"South Africa/2006",{"$f":"MATCH($E406,tab_data[ID (Country/Year)],0)","v":10553},{"$f":"AND(D406<myCurrentValue,control!$C$29)","v":false},{"$f":"IF($G406,INDEX(tab_data[Fertility],$F406,1),NA())","v":{"$error":"#N/A"}},{"$f":"IF($G406,INDEX(tab_data[Life Expectancy],$F406,1),NA())","v":{"$error":"#N/A"}},{"$f":"INDEX(tab_data[Population],$F406,1)","v":48330914}]
[null,null,"South Africa",2007,"South Africa/2007",{"$f":"MATCH($E407,tab_data[ID (Country/Year)],0)","v":10554},{"$f":"AND(D407<myCurrentValue,control!$C$29)","v":false},{"$f":"IF($G407,INDEX(tab_data[Fertility],$F407,1),NA())","v":{"$error":"#N/A"}},{"$f":"IF($G407,INDEX(tab_data[Life Expectancy],$F407,1),NA())","v":{"$error":"#N/A"}},{"$f":"INDEX(tab_data[Population],$F407,1)","v":48842462}]
[null,null,"South Africa",2008,"South Africa/2008",{"$f":"MATCH($E408,tab_data[ID (Country/Year)],0)","v":10555},{"$f":"AND(D408<myCurrentValue,control!$C$29)","v":false},{"$f":"IF($G408,INDEX(tab_data[Fertility],$F408,1),NA())","v":{"$error":"#N/A"}},{"$f":"IF($G408,INDEX(tab_data[Life Expectancy],$F408,1),NA())","v":{"$error":"#N/A"}},{"$f":"INDEX(tab_data[Population],$F408,1)","v":49319363}]
[null,null,"South Africa",2009,"South Africa/2009",{"$f":"MATCH($E409,tab_data[ID (Country/Year)],0)","v":10556},{"$f":"AND(D409<myCurrentValue,control!$C$29)","v":false},{"$f":"IF($G409,INDEX(tab_data[Fertility],$F409,1),NA())","v":{"$error":"#N/A"}},{"$f":"IF($G409,INDEX(tab_data[Life Expectancy],$F409,1),NA())","v":{"$error":"#N/A"}},{"$f":"INDEX(tab_data[Population],$F409,1)","v":49751503}]
[null,null,"South Africa",2010,"South Africa/2010",{"$f":"MATCH($E410,tab_data[ID (Country/Year)],0)","v":10557},{"$f":"AND(D410<myCurrentValue,control!$C$29)","v":false},{"$f":"IF($G410,INDEX(tab_data[Fertility],$F410,1),NA())","v":{"$error":"#N/A"}},{"$f":"IF($G410,INDEX(tab_data[Life Expectancy],$F410,1),NA())","v":{"$error":"#N/A"}},{"$f":"INDEX(tab_data[Population],$F410,1)","v":50132817}]
[null,null,"South Africa",2011,"South Africa/2011",{"$f":"MATCH($E411,tab_data[ID (Country/Year)],0)","v":10558},{"$f":"AND(D411<myCurrentValue,control!$C$29)","v":false},{"$f":"IF($G411,INDEX(tab_data[Fertility],$F411,1),NA())","v":{"$error":"#N/A"}},{"$f":"IF($G411,INDEX(tab_data[Life Expectancy],$F411,1),NA())","v":{"$error":"#N/A"}},{"$f":"INDEX(tab_data[Population],$F411,1)","v":50459978}]
[null,null,"South Africa",2012,"South Africa/2012",{"$f":"MATCH($E412,tab_data[ID (Country/Year)],0)","v":10559},{"$f":"AND(D412<myCurrentValue,control!$C$29)","v":false},{"$f":"IF($G412,INDEX(tab_data[Fertility],$F412,1),NA())","v":{"$error":"#N/A"}},{"$f":"IF($G412,INDEX(tab_data[Life Expectancy],$F412,1),NA())","v":{"$error":"#N/A"}},{"$f":"INDEX(tab_data[Population],$F412,1)","v":50738255}]
[null,null,"South Africa",2013,"South Africa/2013",{"$f":"MATCH($E413,tab_data[ID (Country/Year)],0)","v":10560},{"$f":"AND(D413<myCurrentValue,control!$C$29)","v":false},{"$f":"IF($G413,INDEX(tab_data[Fertility],$F413,1),NA())","v":{"$error":"#N/A"}},{"$f":"IF($G413,INDEX(tab_data[Life Expectancy],$F413,1),NA())","v":{"$error":"#N/A"}},{"$f":"INDEX(tab_data[Population],$F413,1)","v":50981076}]
[]
[null,"Aggregated Measures per Region"]
[]
[null,null,"Region",null,null,null,null,"Fertility","Life Expectancy","Population"]
[null,null,"Africa",null,null,null,null,{"$f":"SUM(($C418=tab_data[Region])*(myCurrentValue=tab_data[Year])*tab_data[Fertility]*tab_data[Population])/$J418","v":6.5947920656801013},{"$f":"SUM(($C418=tab_data[Region])*(myCurrentValue=tab_data[Year])*tab_data[Life Expectancy]*tab_data[Population])/$J418","v":36.905676372247932},{"$f":"SUMIFS(tab_data[Population],tab_data[Region],$C418,tab_data[Year],myCurrentValue)","v":229371871}]
[null,null,"Asia + Pacific",null,null,null,null,{"$f":"SUM(($C419=tab_data[Region])*(myCurrentValue=tab_data[Year])*tab_data[Fertility]*tab_data[Population])/$J419","v":5.4576565015204173},{"$f":"SUM(($C419=tab_data[Region])*(myCurrentValue=tab_data[Year])*tab_data[Life Expectancy]*tab_data[Population])/$J419","v":40.302801670709279},{"$f":"SUMIFS(tab_data[Population],tab_data[Region],$C419,tab_data[Year],myCurrentValue)","v":1365443435}]
[null,null,"Europe",null,null,null,null,{"$f":"SUM(($C420=tab_data[Region])*(myCurrentValue=tab_data[Year])*tab_data[Fertility]*tab_data[Population])/$J420","v":2.834827472902862},{"$f":"SUM(($C420=tab_data[Region])*(myCurrentValue=tab_data[Year])*tab_data[Life Expectancy]*tab_data[Population])/$J420","v":62.59142913449304},{"$f":"SUMIFS(tab_data[Population],tab_data[Region],$C420,tab_data[Year],myCurrentValue)","v":577893213}]
[null,null,"Latin America + Caribbean",null,null,null,null,{"$f":"SUM(($C421=tab_data[Region])*(myCurrentValue=tab_data[Year])*tab_data[Fertility]*tab_data[Population])/$J421","v":5.9071577479291468},{"$f":"SUM(($C421=tab_data[Region])*(myCurrentValue=tab_data[Year])*tab_data[Life Expectancy]*tab_data[Population])/$J421","v":50.788964567229726},{"$f":"SUMIFS(tab_data[Population],tab_data[Region],$C421,tab_data[Year],myCurrentValue)","v":167158169}]
[null,null,"North America",null,null,null,null,{"$f":"SUM(($C422=tab_data[Region])*(myCurrentValue=tab_data[Year])*tab_data[Fertility]*tab_data[Population])/$J422","v":3.0532129177364453},{"$f":"SUM(($C422=tab_data[Region])*(myCurrentValue=tab_data[Year])*tab_data[Life Expectancy]*tab_data[Population])/$J422","v":68.128278066576271},{"$f":"SUMIFS(tab_data[Population],tab_data[Region],$C422,tab_data[Year],myCurrentValue)","v":171623133}]
[null,null,"West Asia",null,null,null,null,{"$f":"SUM(($C423=tab_data[Region])*(myCurrentValue=tab_data[Year])*tab_data[Fertility]*tab_data[Population])/$J423","v":7.3904497133211828},{"$f":"SUM(($C423=tab_data[Region])*(myCurrentValue=tab_data[Year])*tab_data[Life Expectancy]*tab_data[Population])/$J423","v":38.187004041540753},{"$f":"SUMIFS(tab_data[Population],tab_data[Region],$C423,tab_data[Year],myCurrentValue)","v":20212341}]
[]
[null,null,"Total",null,null,null,null,{"$f":"SUM((myCurrentValue=tab_data[Year])*tab_data[Fertility]*tab_data[Population])/$J425","v":4.8441000310717532},{"$f":"SUM((myCurrentValue=tab_data[Year])*tab_data[Life Expectancy]*tab_data[Population])/$J425","v":47.644431280378605},{"$f":"SUMIF(tab_data[Year],myCurrentValue,tab_data[Population])","v":2531702162}]