{"text_format":"1","workbook":"xlsx","n_sheets":6,"sheets":["Dashboard","Results","Calculation Table","Calculation Results","Calculation Positions","Control"],"not_rendered":{"charts":41,"images":0,"macros":1,"external_links":0,"defined_names":20,"comments":1,"pivot_tables":0},"unopened":[],"bounds":{"document_bytes":16777216,"sheet_cells":100000,"rows_first":2000,"rows_last":500,"rows_between":2000,"halvings":0,"cell_chars":16384,"cell_head_chars":4096},"cells_cut":0,"cells_raw":0,"read":"whole","date_system":"1900"}

{"sheet":"Dashboard","index":0,"n_rows":23,"n_cols":34,"rows_kept":23,"cut":false,"hidden":false,"merged":[[4,13,4,14],[21,31,21,32],[22,31,22,32],[16,31,16,32],[17,31,17,32],[18,31,18,32],[19,31,19,32],[20,31,20,32],[4,15,4,16],[4,17,4,18],[4,30,4,33],[4,19,4,20],[15,31,15,32]]}
[]
[null,"German 1. Bundesliga",null,null,null,null,null,null,null,null,"Match day",{"$f":"Control!C4","v":34},null,null,"Season",null,null,null,null,"Points for a Win",null,null,null,null,null,null,null,null,null,null,null,null,null,"www.cs-analytics.de"]
[]
[]
[null,"#","P","PW","T",null,"M","W","D","L","W% D% L%","GF","GA","Goal Difference",null,"Average Goals for",null,"Average Goals against",null,"Points",null,"PpM","PtH","PtA","Last 10 matches","Last 10 positions","B","Avg.","W",null,{"$f":"\"Results Match day \"&myMatchDay","v":"Results Match day 34"}]
[null,{"$f":"'Calculation Table'!C31","v":1},{"$f":"'Calculation Table'!D31","v":1},{"$f":"'Calculation Table'!E31","v":1},{"$f":"'Calculation Table'!F31","v":"↔"},{"$f":"'Calculation Table'!H31","v":"FC Bayern München"},{"$f":"'Calculation Table'!I31","v":34},{"$f":"'Calculation Table'!J31","v":28},{"$f":"'Calculation Table'!K31","v":4},{"$f":"'Calculation Table'!L31","v":2},null,{"$f":"'Calculation Table'!M31","v":80},{"$f":"'Calculation Table'!N31","v":17},{"$f":"'Calculation Table'!O31","v":63},null,{"$f":"'Calculation Table'!P31","v":2.3529411764705883},null,null,{"$f":"'Calculation Table'!Q31","v":0.5},null,{"$f":"'Calculation Table'!R31","v":88},{"$f":"'Calculation Table'!S31","v":2.5882352941176472},{"$f":"'Calculation Table'!T31","v":46},{"$f":"'Calculation Table'!U31","v":42},null,null,{"$f":"'Calculation Table'!AP31","v":1},{"$f":"'Calculation Table'!AQ31","v":1},{"$f":"'Calculation Table'!AR31","v":1},null,{"$f":"'Calculation Table'!H100","v":"FC Augsburg"},{"$f":"'Calculation Table'!I100","v":1},{"$f":"'Calculation Table'!J100","v":3},{"$f":"'Calculation Table'!K100","v":"Hamburger SV"}]
[null,{"$f":"'Calculation Table'!C32","v":2},{"$f":"'Calculation Table'!D32","v":2},{"$f":"'Calculation Table'!E32","v":2},{"$f":"'Calculation Table'!F32","v":"↔"},{"$f":"'Calculation Table'!H32","v":"Borussia Dortmund"},{"$f":"'Calculation Table'!I32","v":34},{"$f":"'Calculation Table'!J32","v":24},{"$f":"'Calculation Table'!K32","v":6},{"$f":"'Calculation Table'!L32","v":4},null,{"$f":"'Calculation Table'!M32","v":82},{"$f":"'Calculation Table'!N32","v":34},{"$f":"'Calculation Table'!O32","v":48},null,{"$f":"'Calculation Table'!P32","v":2.4117647058823528},null,null,{"$f":"'Calculation Table'!Q32","v":1},null,{"$f":"'Calculation Table'!R32","v":78},{"$f":"'Calculation Table'!S32","v":2.2941176470588234},{"$f":"'Calculation Table'!T32","v":45},{"$f":"'Calculation Table'!U32","v":33},null,null,{"$f":"'Calculation Table'!AP32","v":2},{"$f":"'Calculation Table'!AQ32","v":2},{"$f":"'Calculation Table'!AR32","v":2},null,{"$f":"'Calculation Table'!H101","v":"FC Bayern München"},{"$f":"'Calculation Table'!I101","v":3},{"$f":"'Calculation Table'!J101","v":1},{"$f":"'Calculation Table'!K101","v":"Hannover 96"}]
[null,{"$f":"'Calculation Table'!C33","v":3},{"$f":"'Calculation Table'!D33","v":3},{"$f":"'Calculation Table'!E33","v":3},{"$f":"'Calculation Table'!F33","v":"↔"},{"$f":"'Calculation Table'!H33","v":"Bayer Leverkusen"},{"$f":"'Calculation Table'!I33","v":34},{"$f":"'Calculation Table'!J33","v":18},{"$f":"'Calculation Table'!K33","v":6},{"$f":"'Calculation Table'!L33","v":10},null,{"$f":"'Calculation Table'!M33","v":56},{"$f":"'Calculation Table'!N33","v":40},{"$f":"'Calculation Table'!O33","v":16},null,{"$f":"'Calculation Table'!P33","v":1.6470588235294117},null,null,{"$f":"'Calculation Table'!Q33","v":1.1764705882352942},null,{"$f":"'Calculation Table'!R33","v":60},{"$f":"'Calculation Table'!S33","v":1.7647058823529411},{"$f":"'Calculation Table'!T33","v":33},{"$f":"'Calculation Table'!U33","v":27},null,null,{"$f":"'Calculation Table'!AP33","v":3},{"$f":"'Calculation Table'!AQ33","v":4.5},{"$f":"'Calculation Table'!AR33","v":8},null,{"$f":"'Calculation Table'!H102","v":"Darmstadt 98"},{"$f":"'Calculation Table'!I102","v":0},{"$f":"'Calculation Table'!J102","v":2},{"$f":"'Calculation Table'!K102","v":"Borussia M'gladbach"}]
[null,{"$f":"'Calculation Table'!C34","v":4},{"$f":"'Calculation Table'!D34","v":4},{"$f":"'Calculation Table'!E34","v":4},{"$f":"'Calculation Table'!F34","v":"↔"},{"$f":"'Calculation Table'!H34","v":"Borussia M'gladbach"},{"$f":"'Calculation Table'!I34","v":34},{"$f":"'Calculation Table'!J34","v":17},{"$f":"'Calculation Table'!K34","v":4},{"$f":"'Calculation Table'!L34","v":13},null,{"$f":"'Calculation Table'!M34","v":67},{"$f":"'Calculation Table'!N34","v":50},{"$f":"'Calculation Table'!O34","v":17},null,{"$f":"'Calculation Table'!P34","v":1.9705882352941178},null,null,{"$f":"'Calculation Table'!Q34","v":1.4705882352941178},null,{"$f":"'Calculation Table'!R34","v":55},{"$f":"'Calculation Table'!S34","v":1.6176470588235294},{"$f":"'Calculation Table'!T34","v":40},{"$f":"'Calculation Table'!U34","v":15},null,null,{"$f":"'Calculation Table'!AP34","v":4},{"$f":"'Calculation Table'!AQ34","v":4.5999999999999996},{"$f":"'Calculation Table'!AR34","v":6},null,{"$f":"'Calculation Table'!H103","v":"Borussia Dortmund"},{"$f":"'Calculation Table'!I103","v":2},{"$f":"'Calculation Table'!J103","v":2},{"$f":"'Calculation Table'!K103","v":"1.FC Köln"}]
[null,{"$f":"'Calculation Table'!C35","v":5},{"$f":"'Calculation Table'!D35","v":5},{"$f":"'Calculation Table'!E35","v":7},{"$f":"'Calculation Table'!F35","v":"▲"},{"$f":"'Calculation Table'!H35","v":"FC Schalke 04"},{"$f":"'Calculation Table'!I35","v":34},{"$f":"'Calculation Table'!J35","v":15},{"$f":"'Calculation Table'!K35","v":7},{"$f":"'Calculation Table'!L35","v":12},null,{"$f":"'Calculation Table'!M35","v":51},{"$f":"'Calculation Table'!N35","v":49},{"$f":"'Calculation Table'!O35","v":2},null,{"$f":"'Calculation Table'!P35","v":1.5},null,null,{"$f":"'Calculation Table'!Q35","v":1.4411764705882353},null,{"$f":"'Calculation Table'!R35","v":52},{"$f":"'Calculation Table'!S35","v":1.5294117647058822},{"$f":"'Calculation Table'!T35","v":29},{"$f":"'Calculation Table'!U35","v":23},null,null,{"$f":"'Calculation Table'!AP35","v":4},{"$f":"'Calculation Table'!AQ35","v":5.9},{"$f":"'Calculation Table'!AR35","v":7},null,{"$f":"'Calculation Table'!H104","v":"TSG 1899 Hoffenheim"},{"$f":"'Calculation Table'!I104","v":1},{"$f":"'Calculation Table'!J104","v":4},{"$f":"'Calculation Table'!K104","v":"FC Schalke 04"}]
[null,{"$f":"'Calculation Table'!C36","v":6},{"$f":"'Calculation Table'!D36","v":6},{"$f":"'Calculation Table'!E36","v":5},{"$f":"'Calculation Table'!F36","v":"▼"},{"$f":"'Calculation Table'!H36","v":"FSV Mainz 05"},{"$f":"'Calculation Table'!I36","v":34},{"$f":"'Calculation Table'!J36","v":14},{"$f":"'Calculation Table'!K36","v":8},{"$f":"'Calculation Table'!L36","v":12},null,{"$f":"'Calculation Table'!M36","v":46},{"$f":"'Calculation Table'!N36","v":42},{"$f":"'Calculation Table'!O36","v":4},null,{"$f":"'Calculation Table'!P36","v":1.3529411764705883},null,null,{"$f":"'Calculation Table'!Q36","v":1.2352941176470589},null,{"$f":"'Calculation Table'!R36","v":50},{"$f":"'Calculation Table'!S36","v":1.4705882352941178},{"$f":"'Calculation Table'!T36","v":28},{"$f":"'Calculation Table'!U36","v":22},null,null,{"$f":"'Calculation Table'!AP36","v":5},{"$f":"'Calculation Table'!AQ36","v":6},{"$f":"'Calculation Table'!AR36","v":7},null,{"$f":"'Calculation Table'!H105","v":"Bayer Leverkusen"},{"$f":"'Calculation Table'!I105","v":3},{"$f":"'Calculation Table'!J105","v":2},{"$f":"'Calculation Table'!K105","v":"FC Ingolstadt"}]
[null,{"$f":"'Calculation Table'!C37","v":7},{"$f":"'Calculation Table'!D37","v":7},{"$f":"'Calculation Table'!E37","v":6},{"$f":"'Calculation Table'!F37","v":"▼"},{"$f":"'Calculation Table'!H37","v":"Hertha BSC Berlin"},{"$f":"'Calculation Table'!I37","v":34},{"$f":"'Calculation Table'!J37","v":14},{"$f":"'Calculation Table'!K37","v":8},{"$f":"'Calculation Table'!L37","v":12},null,{"$f":"'Calculation Table'!M37","v":42},{"$f":"'Calculation Table'!N37","v":42},{"$f":"'Calculation Table'!O37","v":0},null,{"$f":"'Calculation Table'!P37","v":1.2352941176470589},null,null,{"$f":"'Calculation Table'!Q37","v":1.2352941176470589},null,{"$f":"'Calculation Table'!R37","v":50},{"$f":"'Calculation Table'!S37","v":1.4705882352941178},{"$f":"'Calculation Table'!T37","v":32},{"$f":"'Calculation Table'!U37","v":18},null,null,{"$f":"'Calculation Table'!AP37","v":3},{"$f":"'Calculation Table'!AQ37","v":4.0999999999999996},{"$f":"'Calculation Table'!AR37","v":7},null,{"$f":"'Calculation Table'!H106","v":"FSV Mainz 05"},{"$f":"'Calculation Table'!I106","v":0},{"$f":"'Calculation Table'!J106","v":0},{"$f":"'Calculation Table'!K106","v":"Hertha BSC Berlin"}]
[null,{"$f":"'Calculation Table'!C38","v":8},{"$f":"'Calculation Table'!D38","v":8},{"$f":"'Calculation Table'!E38","v":8},{"$f":"'Calculation Table'!F38","v":"↔"},{"$f":"'Calculation Table'!H38","v":"VfL Wolfsburg"},{"$f":"'Calculation Table'!I38","v":34},{"$f":"'Calculation Table'!J38","v":12},{"$f":"'Calculation Table'!K38","v":9},{"$f":"'Calculation Table'!L38","v":13},null,{"$f":"'Calculation Table'!M38","v":47},{"$f":"'Calculation Table'!N38","v":49},{"$f":"'Calculation Table'!O38","v":-2},null,{"$f":"'Calculation Table'!P38","v":1.3823529411764706},null,null,{"$f":"'Calculation Table'!Q38","v":1.4411764705882353},null,{"$f":"'Calculation Table'!R38","v":45},{"$f":"'Calculation Table'!S38","v":1.3235294117647058},{"$f":"'Calculation Table'!T38","v":32},{"$f":"'Calculation Table'!U38","v":13},null,null,{"$f":"'Calculation Table'!AP38","v":7},{"$f":"'Calculation Table'!AQ38","v":8.3000000000000007},{"$f":"'Calculation Table'!AR38","v":10},null,{"$f":"'Calculation Table'!H107","v":"Werder Bremen"},{"$f":"'Calculation Table'!I107","v":1},{"$f":"'Calculation Table'!J107","v":0},{"$f":"'Calculation Table'!K107","v":"Eintracht Frankfurt"}]
[null,{"$f":"'Calculation Table'!C39","v":9},{"$f":"'Calculation Table'!D39","v":9},{"$f":"'Calculation Table'!E39","v":9},{"$f":"'Calculation Table'!F39","v":"↔"},{"$f":"'Calculation Table'!H39","v":"1.FC Köln"},{"$f":"'Calculation Table'!I39","v":34},{"$f":"'Calculation Table'!J39","v":10},{"$f":"'Calculation Table'!K39","v":13},{"$f":"'Calculation Table'!L39","v":11},null,{"$f":"'Calculation Table'!M39","v":38},{"$f":"'Calculation Table'!N39","v":42},{"$f":"'Calculation Table'!O39","v":-4},null,{"$f":"'Calculation Table'!P39","v":1.1176470588235294},null,null,{"$f":"'Calculation Table'!Q39","v":1.2352941176470589},null,{"$f":"'Calculation Table'!R39","v":43},{"$f":"'Calculation Table'!S39","v":1.2647058823529411},{"$f":"'Calculation Table'!T39","v":20},{"$f":"'Calculation Table'!U39","v":23},null,null,{"$f":"'Calculation Table'!AP39","v":8},{"$f":"'Calculation Table'!AQ39","v":9.6},{"$f":"'Calculation Table'!AR39","v":12},null,{"$f":"'Calculation Table'!H108","v":"VfL Wolfsburg"},{"$f":"'Calculation Table'!I108","v":3},{"$f":"'Calculation Table'!J108","v":1},{"$f":"'Calculation Table'!K108","v":"VfB Stuttgart"}]
[null,{"$f":"'Calculation Table'!C40","v":10},{"$f":"'Calculation Table'!D40","v":10},{"$f":"'Calculation Table'!E40","v":12},{"$f":"'Calculation Table'!F40","v":"▲"},{"$f":"'Calculation Table'!H40","v":"Hamburger SV"},{"$f":"'Calculation Table'!I40","v":34},{"$f":"'Calculation Table'!J40","v":11},{"$f":"'Calculation Table'!K40","v":8},{"$f":"'Calculation Table'!L40","v":15},null,{"$f":"'Calculation Table'!M40","v":40},{"$f":"'Calculation Table'!N40","v":46},{"$f":"'Calculation Table'!O40","v":-6},null,{"$f":"'Calculation Table'!P40","v":1.1764705882352942},null,null,{"$f":"'Calculation Table'!Q40","v":1.3529411764705883},null,{"$f":"'Calculation Table'!R40","v":41},{"$f":"'Calculation Table'!S40","v":1.2058823529411764},{"$f":"'Calculation Table'!T40","v":19},{"$f":"'Calculation Table'!U40","v":22},null,null,{"$f":"'Calculation Table'!AP40","v":10},{"$f":"'Calculation Table'!AQ40","v":11},{"$f":"'Calculation Table'!AR40","v":12}]
[null,{"$f":"'Calculation Table'!C41","v":11},{"$f":"'Calculation Table'!D41","v":11},{"$f":"'Calculation Table'!E41","v":10},{"$f":"'Calculation Table'!F41","v":"▼"},{"$f":"'Calculation Table'!H41","v":"FC Ingolstadt"},{"$f":"'Calculation Table'!I41","v":34},{"$f":"'Calculation Table'!J41","v":10},{"$f":"'Calculation Table'!K41","v":10},{"$f":"'Calculation Table'!L41","v":14},null,{"$f":"'Calculation Table'!M41","v":33},{"$f":"'Calculation Table'!N41","v":42},{"$f":"'Calculation Table'!O41","v":-9},null,{"$f":"'Calculation Table'!P41","v":0.97058823529411764},null,null,{"$f":"'Calculation Table'!Q41","v":1.2352941176470589},null,{"$f":"'Calculation Table'!R41","v":40},{"$f":"'Calculation Table'!S41","v":1.1764705882352942},{"$f":"'Calculation Table'!T41","v":26},{"$f":"'Calculation Table'!U41","v":14},null,null,{"$f":"'Calculation Table'!AP41","v":9},{"$f":"'Calculation Table'!AQ41","v":9.5},{"$f":"'Calculation Table'!AR41","v":11},null,null,"Match day",null,"Total"]
[null,{"$f":"'Calculation Table'!C42","v":12},{"$f":"'Calculation Table'!D42","v":12},{"$f":"'Calculation Table'!E42","v":11},{"$f":"'Calculation Table'!F42","v":"▼"},{"$f":"'Calculation Table'!H42","v":"FC Augsburg"},{"$f":"'Calculation Table'!I42","v":34},{"$f":"'Calculation Table'!J42","v":9},{"$f":"'Calculation Table'!K42","v":11},{"$f":"'Calculation Table'!L42","v":14},null,{"$f":"'Calculation Table'!M42","v":42},{"$f":"'Calculation Table'!N42","v":52},{"$f":"'Calculation Table'!O42","v":-10},null,{"$f":"'Calculation Table'!P42","v":1.2352941176470589},null,null,{"$f":"'Calculation Table'!Q42","v":1.5294117647058822},null,{"$f":"'Calculation Table'!R42","v":38},{"$f":"'Calculation Table'!S42","v":1.1176470588235294},{"$f":"'Calculation Table'!T42","v":15},{"$f":"'Calculation Table'!U42","v":23},null,null,{"$f":"'Calculation Table'!AP42","v":11},{"$f":"'Calculation Table'!AQ42","v":13.4},{"$f":"'Calculation Table'!AR42","v":16},null,"Goals",{"$f":"'Calculation Table'!I115","v":29},null,{"$f":"'Calculation Table'!J115","v":866}]
[null,{"$f":"'Calculation Table'!C43","v":13},{"$f":"'Calculation Table'!D43","v":13},{"$f":"'Calculation Table'!E43","v":16},{"$f":"'Calculation Table'!F43","v":"▲"},{"$f":"'Calculation Table'!H43","v":"Werder Bremen"},{"$f":"'Calculation Table'!I43","v":34},{"$f":"'Calculation Table'!J43","v":10},{"$f":"'Calculation Table'!K43","v":8},{"$f":"'Calculation Table'!L43","v":16},null,{"$f":"'Calculation Table'!M43","v":50},{"$f":"'Calculation Table'!N43","v":65},{"$f":"'Calculation Table'!O43","v":-15},null,{"$f":"'Calculation Table'!P43","v":1.4705882352941178},null,null,{"$f":"'Calculation Table'!Q43","v":1.911764705882353},null,{"$f":"'Calculation Table'!R43","v":38},{"$f":"'Calculation Table'!S43","v":1.1176470588235294},{"$f":"'Calculation Table'!T43","v":20},{"$f":"'Calculation Table'!U43","v":18},null,null,{"$f":"'Calculation Table'!AP43","v":13},{"$f":"'Calculation Table'!AQ43","v":14.9},{"$f":"'Calculation Table'!AR43","v":16},null,"Goals per match",{"$f":"'Calculation Table'!I116","v":3.2222222222222223},null,{"$f":"'Calculation Table'!J116","v":2.8300653594771243}]
[null,{"$f":"'Calculation Table'!C44","v":14},{"$f":"'Calculation Table'!D44","v":14},{"$f":"'Calculation Table'!E44","v":13},{"$f":"'Calculation Table'!F44","v":"▼"},{"$f":"'Calculation Table'!H44","v":"Darmstadt 98"},{"$f":"'Calculation Table'!I44","v":34},{"$f":"'Calculation Table'!J44","v":9},{"$f":"'Calculation Table'!K44","v":11},{"$f":"'Calculation Table'!L44","v":14},null,{"$f":"'Calculation Table'!M44","v":38},{"$f":"'Calculation Table'!N44","v":53},{"$f":"'Calculation Table'!O44","v":-15},null,{"$f":"'Calculation Table'!P44","v":1.1176470588235294},null,null,{"$f":"'Calculation Table'!Q44","v":1.5588235294117647},null,{"$f":"'Calculation Table'!R44","v":38},{"$f":"'Calculation Table'!S44","v":1.1176470588235294},{"$f":"'Calculation Table'!T44","v":12},{"$f":"'Calculation Table'!U44","v":26},null,null,{"$f":"'Calculation Table'!AP44","v":11},{"$f":"'Calculation Table'!AQ44","v":13.3},{"$f":"'Calculation Table'!AR44","v":15},null,"Goals per match (home)",{"$f":"'Calculation Table'!I117","v":1.5555555555555556},null,{"$f":"'Calculation Table'!J117","v":1.565359477124183}]
[null,{"$f":"'Calculation Table'!C45","v":15},{"$f":"'Calculation Table'!D45","v":15},{"$f":"'Calculation Table'!E45","v":14},{"$f":"'Calculation Table'!F45","v":"▼"},{"$f":"'Calculation Table'!H45","v":"TSG 1899 Hoffenheim"},{"$f":"'Calculation Table'!I45","v":34},{"$f":"'Calculation Table'!J45","v":9},{"$f":"'Calculation Table'!K45","v":10},{"$f":"'Calculation Table'!L45","v":15},null,{"$f":"'Calculation Table'!M45","v":39},{"$f":"'Calculation Table'!N45","v":54},{"$f":"'Calculation Table'!O45","v":-15},null,{"$f":"'Calculation Table'!P45","v":1.1470588235294117},null,null,{"$f":"'Calculation Table'!Q45","v":1.588235294117647},null,{"$f":"'Calculation Table'!R45","v":37},{"$f":"'Calculation Table'!S45","v":1.088235294117647},{"$f":"'Calculation Table'!T45","v":24},{"$f":"'Calculation Table'!U45","v":13},null,null,{"$f":"'Calculation Table'!AP45","v":13},{"$f":"'Calculation Table'!AQ45","v":14.7},{"$f":"'Calculation Table'!AR45","v":17},null,"Goals per match (away)",{"$f":"'Calculation Table'!I118","v":1.6666666666666667},null,{"$f":"'Calculation Table'!J118","v":1.2647058823529411}]
[null,{"$f":"'Calculation Table'!C46","v":16},{"$f":"'Calculation Table'!D46","v":16},{"$f":"'Calculation Table'!E46","v":15},{"$f":"'Calculation Table'!F46","v":"▼"},{"$f":"'Calculation Table'!H46","v":"Eintracht Frankfurt"},{"$f":"'Calculation Table'!I46","v":34},{"$f":"'Calculation Table'!J46","v":9},{"$f":"'Calculation Table'!K46","v":9},{"$f":"'Calculation Table'!L46","v":16},null,{"$f":"'Calculation Table'!M46","v":34},{"$f":"'Calculation Table'!N46","v":52},{"$f":"'Calculation Table'!O46","v":-18},null,{"$f":"'Calculation Table'!P46","v":1},null,null,{"$f":"'Calculation Table'!Q46","v":1.5294117647058822},null,{"$f":"'Calculation Table'!R46","v":36},{"$f":"'Calculation Table'!S46","v":1.0588235294117647},{"$f":"'Calculation Table'!T46","v":24},{"$f":"'Calculation Table'!U46","v":12},null,null,{"$f":"'Calculation Table'!AP46","v":15},{"$f":"'Calculation Table'!AQ46","v":16.399999999999999},{"$f":"'Calculation Table'!AR46","v":17},null,"Home wins",{"$f":"'Calculation Table'!I119","v":4},null,{"$f":"'Calculation Table'!J119","v":0.44117647058823528}]
[null,{"$f":"'Calculation Table'!C47","v":17},{"$f":"'Calculation Table'!D47","v":17},{"$f":"'Calculation Table'!E47","v":17},{"$f":"'Calculation Table'!F47","v":"↔"},{"$f":"'Calculation Table'!H47","v":"VfB Stuttgart"},{"$f":"'Calculation Table'!I47","v":34},{"$f":"'Calculation Table'!J47","v":9},{"$f":"'Calculation Table'!K47","v":6},{"$f":"'Calculation Table'!L47","v":19},null,{"$f":"'Calculation Table'!M47","v":50},{"$f":"'Calculation Table'!N47","v":75},{"$f":"'Calculation Table'!O47","v":-25},null,{"$f":"'Calculation Table'!P47","v":1.4705882352941178},null,null,{"$f":"'Calculation Table'!Q47","v":2.2058823529411766},null,{"$f":"'Calculation Table'!R47","v":33},{"$f":"'Calculation Table'!S47","v":0.97058823529411764},{"$f":"'Calculation Table'!T47","v":19},{"$f":"'Calculation Table'!U47","v":14},null,null,{"$f":"'Calculation Table'!AP47","v":11},{"$f":"'Calculation Table'!AQ47","v":13.8},{"$f":"'Calculation Table'!AR47","v":17},null,"Draws",{"$f":"'Calculation Table'!I120","v":2},null,{"$f":"'Calculation Table'!J120","v":0.23202614379084968}]
[null,{"$f":"'Calculation Table'!C48","v":18},{"$f":"'Calculation Table'!D48","v":18},{"$f":"'Calculation Table'!E48","v":18},{"$f":"'Calculation Table'!F48","v":"↔"},{"$f":"'Calculation Table'!H48","v":"Hannover 96"},{"$f":"'Calculation Table'!I48","v":34},{"$f":"'Calculation Table'!J48","v":7},{"$f":"'Calculation Table'!K48","v":4},{"$f":"'Calculation Table'!L48","v":23},null,{"$f":"'Calculation Table'!M48","v":31},{"$f":"'Calculation Table'!N48","v":62},{"$f":"'Calculation Table'!O48","v":-31},null,{"$f":"'Calculation Table'!P48","v":0.91176470588235292},null,null,{"$f":"'Calculation Table'!Q48","v":1.8235294117647058},null,{"$f":"'Calculation Table'!R48","v":25},{"$f":"'Calculation Table'!S48","v":0.73529411764705888},{"$f":"'Calculation Table'!T48","v":12},{"$f":"'Calculation Table'!U48","v":13},null,null,{"$f":"'Calculation Table'!AP48","v":18},{"$f":"'Calculation Table'!AQ48","v":18},{"$f":"'Calculation Table'!AR48","v":18},null,"Away wins",{"$f":"'Calculation Table'!I121","v":3},null,{"$f":"'Calculation Table'!J121","v":0.32679738562091498}]

{"sheet":"Results","index":1,"n_rows":15784,"n_cols":7,"rows_kept":4500,"cut":true,"hidden":false,"merged":[],"bounds":{"rows_first":2000,"rows_last":500,"rows_between":2000,"halvings":0}}
[]
[null,"Results"]
[]
[null,"Season","Matchday","Home Team","Away Team","Goals Home","Goals Away"]
[null,"1963/1964",1,"1.FC Saarbrücken","1.FC Köln",0,2]
[null,"1963/1964",1,"Eintracht Frankfurt","1.FC Kaiserslautern",1,1]
[null,"1963/1964",1,"FC Schalke 04","VfB Stuttgart",2,0]
[null,"1963/1964",1,"Hertha BSC Berlin","1.FC Nürnberg",1,1]
[null,"1963/1964",1,"Karlsruher SC","MSV Duisburg",1,4]
[null,"1963/1964",1,"Preußen Münster","Hamburger SV",1,1]
[null,"1963/1964",1,"TSV 1860 München","Eintracht Braunschweig",1,1]
[null,"1963/1964",1,"Werder Bremen","Borussia Dortmund",3,2]
[null,"1963/1964",2,"1.FC Kaiserslautern","FC Schalke 04",2,3]
[null,"1963/1964",2,"1.FC Köln","Karlsruher SC",4,0]
[null,"1963/1964",2,"1.FC Nürnberg","Werder Bremen",3,0]
[null,"1963/1964",2,"Borussia Dortmund","TSV 1860 München",3,3]
[null,"1963/1964",2,"Eintracht Braunschweig","Preußen Münster",1,0]
[null,"1963/1964",2,"Hamburger SV","1.FC Saarbrücken",4,2]
[null,"1963/1964",2,"MSV Duisburg","Eintracht Frankfurt",3,1]
[null,"1963/1964",2,"VfB Stuttgart","Hertha BSC Berlin",2,0]
[null,"1963/1964",3,"1.FC Saarbrücken","Eintracht Braunschweig",2,2]
[null,"1963/1964",3,"Eintracht Frankfurt","1.FC Nürnberg",2,3]
[null,"1963/1964",3,"FC Schalke 04","Borussia Dortmund",3,1]
[null,"1963/1964",3,"Hertha BSC Berlin","1.FC Kaiserslautern",2,2]
[null,"1963/1964",3,"Karlsruher SC","Hamburger SV",0,4]
[null,"1963/1964",3,"Preußen Münster","MSV Duisburg",4,2]
[null,"1963/1964",3,"TSV 1860 München","1.FC Köln",1,3]
[null,"1963/1964",3,"Werder Bremen","VfB Stuttgart",2,2]
[null,"1963/1964",4,"1.FC Kaiserslautern","Werder Bremen",3,0]
[null,"1963/1964",4,"1.FC Köln","FC Schalke 04",2,2]
[null,"1963/1964",4,"1.FC Nürnberg","Preußen Münster",2,2]
[null,"1963/1964",4,"Borussia Dortmund","1.FC Saarbrücken",2,1]
[null,"1963/1964",4,"Eintracht Braunschweig","Karlsruher SC",2,0]
[null,"1963/1964",4,"Hamburger SV","Eintracht Frankfurt",3,0]
[null,"1963/1964",4,"MSV Duisburg","Hertha BSC Berlin",1,3]
[null,"1963/1964",4,"VfB Stuttgart","TSV 1860 München",1,1]
[null,"1963/1964",5,"1.FC Saarbrücken","1.FC Nürnberg",3,5]
[null,"1963/1964",5,"Eintracht Frankfurt","Eintracht Braunschweig",3,0]
[null,"1963/1964",5,"FC Schalke 04","Hamburger SV",1,0]
[null,"1963/1964",5,"Hertha BSC Berlin","1.FC Köln",0,3]
[null,"1963/1964",5,"Karlsruher SC","Borussia Dortmund",1,3]
[null,"1963/1964",5,"Preußen Münster","VfB Stuttgart",4,2]
[null,"1963/1964",5,"TSV 1860 München","1.FC Kaiserslautern",3,0]
[null,"1963/1964",5,"Werder Bremen","MSV Duisburg",1,1]
[null,"1963/1964",6,"1.FC Kaiserslautern","Preußen Münster",0,0]
[null,"1963/1964",6,"1.FC Köln","Werder Bremen",4,3]
[null,"1963/1964",6,"1.FC Nürnberg","Karlsruher SC",2,4]
[null,"1963/1964",6,"Borussia Dortmund","Eintracht Frankfurt",3,0]
[null,"1963/1964",6,"Eintracht Braunschweig","FC Schalke 04",4,3]
[null,"1963/1964",6,"Hamburger SV","Hertha BSC Berlin",5,1]
[null,"1963/1964",6,"MSV Duisburg","TSV 1860 München",3,0]
[null,"1963/1964",6,"VfB Stuttgart","1.FC Saarbrücken",3,1]
[null,"1963/1964",7,"1.FC Saarbrücken","1.FC Kaiserslautern",2,4]
[null,"1963/1964",7,"Eintracht Frankfurt","1.FC Köln",2,1]
[null,"1963/1964",7,"FC Schalke 04","MSV Duisburg",2,2]
[null,"1963/1964",7,"Hertha BSC Berlin","Eintracht Braunschweig",1,2]
[null,"1963/1964",7,"Karlsruher SC","VfB Stuttgart",0,3]
[null,"1963/1964",7,"Preußen Münster","Borussia Dortmund",1,2]
[null,"1963/1964",7,"TSV 1860 München","1.FC Nürnberg",5,0]
[null,"1963/1964",7,"Werder Bremen","Hamburger SV",4,2]
[null,"1963/1964",8,"1.FC Kaiserslautern","Karlsruher SC",1,0]
[null,"1963/1964",8,"1.FC Köln","Preußen Münster",3,0]
[null,"1963/1964",8,"1.FC Nürnberg","FC Schalke 04",0,2]
[null,"1963/1964",8,"Borussia Dortmund","Hertha BSC Berlin",7,2]
[null,"1963/1964",8,"Eintracht Braunschweig","Werder Bremen",1,1]
[null,"1963/1964",8,"Hamburger SV","TSV 1860 München",5,0]
[null,"1963/1964",8,"MSV Duisburg","1.FC Saarbrücken",3,1]
[null,"1963/1964",8,"VfB Stuttgart","Eintracht Frankfurt",0,0]
[null,"1963/1964",9,"1.FC Köln","MSV Duisburg",3,3]
[null,"1963/1964",9,"1.FC Nürnberg","1.FC Kaiserslautern",0,5]
[null,"1963/1964",9,"1.FC Saarbrücken","Karlsruher SC",1,3]
[null,"1963/1964",9,"FC Schalke 04","Werder Bremen",2,3]
[null,"1963/1964",9,"Hamburger SV","Eintracht Braunschweig",2,1]
[null,"1963/1964",9,"Hertha BSC Berlin","Eintracht Frankfurt",1,3]
[null,"1963/1964",9,"Preußen Münster","TSV 1860 München",0,0]
[null,"1963/1964",9,"VfB Stuttgart","Borussia Dortmund",2,1]
[null,"1963/1964",10,"1.FC Kaiserslautern","VfB Stuttgart",1,3]
[null,"1963/1964",10,"Borussia Dortmund","1.FC Nürnberg",3,1]
[null,"1963/1964",10,"Eintracht Braunschweig","1.FC Köln",1,1]
[null,"1963/1964",10,"Eintracht Frankfurt","FC Schalke 04",4,2]
[null,"1963/1964",10,"Karlsruher SC","Preußen Münster",4,2]
[null,"1963/1964",10,"MSV Duisburg","Hamburger SV",4,0]
[null,"1963/1964",10,"TSV 1860 München","1.FC Saarbrücken",7,1]
[null,"1963/1964",10,"Werder Bremen","Hertha BSC Berlin",2,2]
[null,"1963/1964",11,"1.FC Köln","Hamburger SV",4,1]
[null,"1963/1964",11,"1.FC Saarbrücken","Preußen Münster",1,1]
[null,"1963/1964",11,"Borussia Dortmund","1.FC Kaiserslautern",9,3]
[null,"1963/1964",11,"Eintracht Braunschweig","MSV Duisburg",0,0]
[null,"1963/1964",11,"FC Schalke 04","Hertha BSC Berlin",1,0]
[null,"1963/1964",11,"TSV 1860 München","Karlsruher SC",1,0]
[null,"1963/1964",11,"VfB Stuttgart","1.FC Nürnberg",1,0]
[null,"1963/1964",11,"Werder Bremen","Eintracht Frankfurt",4,1]
[null,"1963/1964",12,"1.FC Kaiserslautern","Eintracht Braunschweig",2,1]
[null,"1963/1964",12,"1.FC Nürnberg","1.FC Köln",2,2]
[null,"1963/1964",12,"Eintracht Frankfurt","TSV 1860 München",5,2]
[null,"1963/1964",12,"Hamburger SV","VfB Stuttgart",1,1]
[null,"1963/1964",12,"Hertha BSC Berlin","1.FC Saarbrücken",3,2]
[null,"1963/1964",12,"Karlsruher SC","Werder Bremen",1,1]
[null,"1963/1964",12,"MSV Duisburg","Borussia Dortmund",3,3]
[null,"1963/1964",12,"Preußen Münster","FC Schalke 04",2,2]
[null,"1963/1964",13,"1.FC Kaiserslautern","Hamburger SV",3,2]
[null,"1963/1964",13,"1.FC Nürnberg","MSV Duisburg",2,0]
[null,"1963/1964",13,"Borussia Dortmund","1.FC Köln",2,3]
[null,"1963/1964",13,"Eintracht Frankfurt","Preußen Münster",3,0]
[null,"1963/1964",13,"FC Schalke 04","TSV 1860 München",2,1]
[null,"1963/1964",13,"Hertha BSC Berlin","Karlsruher SC",2,3]
[null,"1963/1964",13,"VfB Stuttgart","Eintracht Braunschweig",5,0]
[null,"1963/1964",13,"Werder Bremen","1.FC Saarbrücken",0,3]
[null,"1963/1964",14,"1.FC Köln","1.FC Kaiserslautern",5,1]
[null,"1963/1964",14,"1.FC Saarbrücken","Eintracht Frankfurt",0,4]
[null,"1963/1964",14,"Eintracht Braunschweig","1.FC Nürnberg",2,0]
[null,"1963/1964",14,"Hamburger SV","Borussia Dortmund",2,1]
[null,"1963/1964",14,"Karlsruher SC","FC Schalke 04",1,1]
[null,"1963/1964",14,"MSV Duisburg","VfB Stuttgart",3,0]
[null,"1963/1964",14,"Preußen Münster","Werder Bremen",1,3]
[null,"1963/1964",14,"TSV 1860 München","Hertha BSC Berlin",1,2]
[null,"1963/1964",15,"1.FC Kaiserslautern","MSV Duisburg",1,1]
[null,"1963/1964",15,"1.FC Nürnberg","Hamburger SV",3,2]
[null,"1963/1964",15,"Borussia Dortmund","Eintracht Braunschweig",3,0]
[null,"1963/1964",15,"Eintracht Frankfurt","Karlsruher SC",0,3]
[null,"1963/1964",15,"FC Schalke 04","1.FC Saarbrücken",4,1]
[null,"1963/1964",15,"Hertha BSC Berlin","Preußen Münster",2,0]
[null,"1963/1964",15,"VfB Stuttgart","1.FC Köln",0,1]
[null,"1963/1964",15,"Werder Bremen","TSV 1860 München",4,1]
[null,"1963/1964",16,"1.FC Kaiserslautern","Eintracht Frankfurt",1,1]
[null,"1963/1964",16,"1.FC Köln","1.FC Saarbrücken",1,3]
[null,"1963/1964",16,"1.FC Nürnberg","Hertha BSC Berlin",2,3]
[null,"1963/1964",16,"Borussia Dortmund","Werder Bremen",4,3]
[null,"1963/1964",16,"Eintracht Braunschweig","TSV 1860 München",0,1]
[null,"1963/1964",16,"Hamburger SV","Preußen Münster",5,0]
[null,"1963/1964",16,"MSV Duisburg","Karlsruher SC",2,0]
[null,"1963/1964",16,"VfB Stuttgart","FC Schalke 04",2,0]
[null,"1963/1964",17,"1.FC Saarbrücken","Hamburger SV",1,1]
[null,"1963/1964",17,"Eintracht Frankfurt","MSV Duisburg",2,2]
[null,"1963/1964",17,"FC Schalke 04","1.FC Kaiserslautern",4,0]
[null,"1963/1964",17,"Hertha BSC Berlin","VfB Stuttgart",0,2]
[null,"1963/1964",17,"Karlsruher SC","1.FC Köln",2,2]
[null,"1963/1964",17,"Preußen Münster","Eintracht Braunschweig",0,2]
[null,"1963/1964",17,"TSV 1860 München","Borussia Dortmund",6,1]
[null,"1963/1964",17,"Werder Bremen","1.FC Nürnberg",2,1]
[null,"1963/1964",18,"1.FC Kaiserslautern","Hertha BSC Berlin",3,0]
[null,"1963/1964",18,"1.FC Köln","TSV 1860 München",2,2]
[null,"1963/1964",18,"1.FC Nürnberg","Eintracht Frankfurt",1,0]
[null,"1963/1964",18,"Borussia Dortmund","FC Schalke 04",3,0]
[null,"1963/1964",18,"Eintracht Braunschweig","1.FC Saarbrücken",3,1]
[null,"1963/1964",18,"Hamburger SV","Karlsruher SC",1,1]
[null,"1963/1964",18,"MSV Duisburg","Preußen Münster",0,0]
[null,"1963/1964",18,"VfB Stuttgart","Werder Bremen",2,0]
[null,"1963/1964",19,"1.FC Saarbrücken","Borussia Dortmund",2,1]
[null,"1963/1964",19,"Eintracht Frankfurt","Hamburger SV",2,2]
[null,"1963/1964",19,"FC Schalke 04","1.FC Köln",2,3]
[null,"1963/1964",19,"Hertha BSC Berlin","MSV Duisburg",5,2]
[null,"1963/1964",19,"Karlsruher SC","Eintracht Braunschweig",3,1]
[null,"1963/1964",19,"Preußen Münster","1.FC Nürnberg",0,1]
[null,"1963/1964",19,"TSV 1860 München","VfB Stuttgart",1,1]
[null,"1963/1964",19,"Werder Bremen","1.FC Kaiserslautern",2,0]
[null,"1963/1964",20,"1.FC Kaiserslautern","TSV 1860 München",2,1]
[null,"1963/1964",20,"1.FC Köln","Hertha BSC Berlin",3,1]
[null,"1963/1964",20,"1.FC Nürnberg","1.FC Saarbrücken",2,0]
[null,"1963/1964",20,"Borussia Dortmund","Karlsruher SC",3,2]
[null,"1963/1964",20,"Eintracht Braunschweig","Eintracht Frankfurt",0,3]
[null,"1963/1964",20,"Hamburger SV","FC Schalke 04",3,1]
[null,"1963/1964",20,"MSV Duisburg","Werder Bremen",1,0]
[null,"1963/1964",20,"VfB Stuttgart","Preußen Münster",0,3]
[null,"1963/1964",21,"1.FC Saarbrücken","VfB Stuttgart",0,1]
[null,"1963/1964",21,"Eintracht Frankfurt","Borussia Dortmund",2,1]
[null,"1963/1964",21,"FC Schalke 04","Eintracht Braunschweig",2,0]
[null,"1963/1964",21,"Hertha BSC Berlin","Hamburger SV",1,2]
[null,"1963/1964",21,"Karlsruher SC","1.FC Nürnberg",1,3]
[null,"1963/1964",21,"Preußen Münster","1.FC Kaiserslautern",1,0]
[null,"1963/1964",21,"TSV 1860 München","MSV Duisburg",0,0]
[null,"1963/1964",21,"Werder Bremen","1.FC Köln",1,1]
[null,"1963/1964",22,"1.FC Kaiserslautern","1.FC Saarbrücken",2,4]
[null,"1963/1964",22,"1.FC Köln","Eintracht Frankfurt",1,1]
[null,"1963/1964",22,"1.FC Nürnberg","TSV 1860 München",2,2]
[null,"1963/1964",22,"Borussia Dortmund","Preußen Münster",0,0]
[null,"1963/1964",22,"Eintracht Braunschweig","Hertha BSC Berlin",1,1]
[null,"1963/1964",22,"Hamburger SV","Werder Bremen",1,1]
[null,"1963/1964",22,"MSV Duisburg","FC Schalke 04",3,0]
[null,"1963/1964",22,"VfB Stuttgart","Karlsruher SC",4,1]
[null,"1963/1964",23,"1.FC Saarbrücken","MSV Duisburg",0,2]
[null,"1963/1964",23,"Eintracht Frankfurt","VfB Stuttgart",3,2]
[null,"1963/1964",23,"FC Schalke 04","1.FC Nürnberg",4,1]
[null,"1963/1964",23,"Hertha BSC Berlin","Borussia Dortmund",0,0]
[null,"1963/1964",23,"Karlsruher SC","1.FC Kaiserslautern",5,1]
[null,"1963/1964",23,"Preußen Münster","1.FC Köln",0,2]
[null,"1963/1964",23,"TSV 1860 München","Hamburger SV",9,2]
[null,"1963/1964",23,"Werder Bremen","Eintracht Braunschweig",2,3]
[null,"1963/1964",24,"1.FC Kaiserslautern","1.FC Nürnberg",3,1]
[null,"1963/1964",24,"Borussia Dortmund","VfB Stuttgart",7,1]
[null,"1963/1964",24,"Eintracht Braunschweig","Hamburger SV",2,1]
[null,"1963/1964",24,"Eintracht Frankfurt","Hertha BSC Berlin",4,0]
[null,"1963/1964",24,"Karlsruher SC","1.FC Saarbrücken",2,2]
[null,"1963/1964",24,"MSV Duisburg","1.FC Köln",2,2]
[null,"1963/1964",24,"TSV 1860 München","Preußen Münster",3,1]
[null,"1963/1964",24,"Werder Bremen","FC Schalke 04",1,0]
[null,"1963/1964",25,"1.FC Köln","Eintracht Braunschweig",4,1]
[null,"1963/1964",25,"1.FC Nürnberg","Borussia Dortmund",4,0]
[null,"1963/1964",25,"1.FC Saarbrücken","TSV 1860 München",1,2]
[null,"1963/1964",25,"FC Schalke 04","Eintracht Frankfurt",1,2]
[null,"1963/1964",25,"Hamburger SV","MSV Duisburg",3,3]
[null,"1963/1964",25,"Hertha BSC Berlin","Werder Bremen",5,2]
[null,"1963/1964",25,"Preußen Münster","Karlsruher SC",0,0]
[null,"1963/1964",25,"VfB Stuttgart","1.FC Kaiserslautern",4,0]
[null,"1963/1964",26,"1.FC Kaiserslautern","Borussia Dortmund",0,1]
[null,"1963/1964",26,"1.FC Nürnberg","VfB Stuttgart",0,0]
[null,"1963/1964",26,"Eintracht Frankfurt","Werder Bremen",7,0]
[null,"1963/1964",26,"Hamburger SV","1.FC Köln",1,1]
[null,"1963/1964",26,"Hertha BSC Berlin","FC Schalke 04",1,0]
[null,"1963/1964",26,"Karlsruher SC","TSV 1860 München",1,0]
[null,"1963/1964",26,"MSV Duisburg","Eintracht Braunschweig",5,1]
[null,"1963/1964",26,"Preußen Münster","1.FC Saarbrücken",2,1]
[null,"1963/1964",27,"1.FC Köln","1.FC Nürnberg",5,0]
[null,"1963/1964",27,"1.FC Saarbrücken","Hertha BSC Berlin",3,0]
[null,"1963/1964",27,"Borussia Dortmund","MSV Duisburg",0,0]
[null,"1963/1964",27,"Eintracht Braunschweig","1.FC Kaiserslautern",0,1]
[null,"1963/1964",27,"FC Schalke 04","Preußen Münster",1,2]
[null,"1963/1964",27,"TSV 1860 München","Eintracht Frankfurt",1,1]
[null,"1963/1964",27,"VfB Stuttgart","Hamburger SV",2,2]
[null,"1963/1964",27,"Werder Bremen","Karlsruher SC",0,0]
[null,"1963/1964",28,"1.FC Köln","Borussia Dortmund",5,2]
[null,"1963/1964",28,"1.FC Saarbrücken","Werder Bremen",3,2]
[null,"1963/1964",28,"Eintracht Braunschweig","VfB Stuttgart",2,0]
[null,"1963/1964",28,"Hamburger SV","1.FC Kaiserslautern",7,3]
[null,"1963/1964",28,"Karlsruher SC","Hertha BSC Berlin",1,1]
[null,"1963/1964",28,"MSV Duisburg","1.FC Nürnberg",0,0]
[null,"1963/1964",28,"Preußen Münster","Eintracht Frankfurt",1,3]
[null,"1963/1964",28,"TSV 1860 München","FC Schalke 04",7,1]
[null,"1963/1964",29,"1.FC Kaiserslautern","1.FC Köln",3,3]
[null,"1963/1964",29,"1.FC Nürnberg","Eintracht Braunschweig",1,0]
[null,"1963/1964",29,"Borussia Dortmund","Hamburger SV",5,2]
[null,"1963/1964",29,"Eintracht Frankfurt","1.FC Saarbrücken",3,1]
[null,"1963/1964",29,"FC Schalke 04","Karlsruher SC",2,1]
[null,"1963/1964",29,"Hertha BSC Berlin","TSV 1860 München",3,1]
[null,"1963/1964",29,"VfB Stuttgart","MSV Duisburg",1,2]
[null,"1963/1964",29,"Werder Bremen","Preußen Münster",4,2]
[null,"1963/1964",30,"1.FC Köln","VfB Stuttgart",2,1]
[null,"1963/1964",30,"1.FC Saarbrücken","FC Schalke 04",1,1]
[null,"1963/1964",30,"Eintracht Braunschweig","Borussia Dortmund",2,0]
[null,"1963/1964",30,"Hamburger SV","1.FC Nürnberg",2,2]
[null,"1963/1964",30,"Karlsruher SC","Eintracht Frankfurt",1,2]
[null,"1963/1964",30,"MSV Duisburg","1.FC Kaiserslautern",3,0]
[null,"1963/1964",30,"Preußen Münster","Hertha BSC Berlin",4,2]
[null,"1963/1964",30,"TSV 1860 München","Werder Bremen",3,2]
[null,"1964/1965",1,"1.FC Kaiserslautern","Werder Bremen",2,1]
[null,"1964/1965",1,"1.FC Köln","Hertha BSC Berlin",2,3]
[null,"1964/1965",1,"1.FC Nürnberg","Borussia Neunkirchen",2,0]
[null,"1964/1965",1,"Borussia Dortmund","Hannover 96",0,2]
[null,"1964/1965",1,"Eintracht Braunschweig","TSV 1860 München",1,1]
[null,"1964/1965",1,"Eintracht Frankfurt","FC Schalke 04",2,2]
[null,"1964/1965",1,"Hamburger SV","VfB Stuttgart",2,2]
[null,"1964/1965",1,"Karlsruher SC","MSV Duisburg",2,1]
[null,"1964/1965",2,"Borussia Neunkirchen","Borussia Dortmund",1,2]
[null,"1964/1965",2,"FC Schalke 04","Karlsruher SC",1,1]
[null,"1964/1965",2,"Hannover 96","1.FC Köln",2,0]
[null,"1964/1965",2,"Hertha BSC Berlin","Hamburger SV",0,0]
[null,"1964/1965",2,"MSV Duisburg","1.FC Kaiserslautern",3,1]
[null,"1964/1965",2,"TSV 1860 München","Eintracht Frankfurt",0,1]
[null,"1964/1965",2,"VfB Stuttgart","1.FC Nürnberg",3,1]
[null,"1964/1965",2,"Werder Bremen","Eintracht Braunschweig",5,1]
[null,"1964/1965",3,"1.FC Kaiserslautern","FC Schalke 04",3,0]
[null,"1964/1965",3,"1.FC Köln","Borussia Neunkirchen",4,3]
[null,"1964/1965",3,"1.FC Nürnberg","Hertha BSC Berlin",2,0]
[null,"1964/1965",3,"Borussia Dortmund","VfB Stuttgart",1,0]
[null,"1964/1965",3,"Eintracht Braunschweig","MSV Duisburg",0,1]
[null,"1964/1965",3,"Eintracht Frankfurt","Werder Bremen",0,2]
[null,"1964/1965",3,"Hamburger SV","Hannover 96",3,0]
[null,"1964/1965",3,"Karlsruher SC","TSV 1860 München",1,5]
[null,"1964/1965",4,"Borussia Neunkirchen","Hamburger SV",3,1]
[null,"1964/1965",4,"FC Schalke 04","Eintracht Braunschweig",0,3]
[null,"1964/1965",4,"Hannover 96","1.FC Nürnberg",2,2]
[null,"1964/1965",4,"Hertha BSC Berlin","Borussia Dortmund",0,0]
[null,"1964/1965",4,"MSV Duisburg","Eintracht Frankfurt",1,3]
[null,"1964/1965",4,"TSV 1860 München","1.FC Kaiserslautern",2,2]
[null,"1964/1965",4,"VfB Stuttgart","1.FC Köln",3,3]
[null,"1964/1965",4,"Werder Bremen","Karlsruher SC",1,0]
[null,"1964/1965",5,"1.FC Kaiserslautern","Hannover 96",1,0]
[null,"1964/1965",5,"1.FC Köln","Werder Bremen",4,2]
[null,"1964/1965",5,"1.FC Nürnberg","FC Schalke 04",3,2]
[null,"1964/1965",5,"Borussia Dortmund","TSV 1860 München",1,1]
[null,"1964/1965",5,"Eintracht Braunschweig","Borussia Neunkirchen",1,0]
[null,"1964/1965",5,"Eintracht Frankfurt","Karlsruher SC",0,7]
[null,"1964/1965",5,"Hamburger SV","MSV Duisburg",3,0]
[null,"1964/1965",5,"VfB Stuttgart","Hertha BSC Berlin",1,1]
[null,"1964/1965",6,"Borussia Neunkirchen","1.FC Kaiserslautern",0,3]
[null,"1964/1965",6,"FC Schalke 04","Borussia Dortmund",2,6]
[null,"1964/1965",6,"Hannover 96","Eintracht Braunschweig",2,2]
[null,"1964/1965",6,"Hertha BSC Berlin","Eintracht Frankfurt",1,3]
[null,"1964/1965",6,"Karlsruher SC","VfB Stuttgart",0,0]
[null,"1964/1965",6,"MSV Duisburg","1.FC Köln",0,3]
[null,"1964/1965",6,"TSV 1860 München","1.FC Nürnberg",2,0]
[null,"1964/1965",6,"Werder Bremen","Hamburger SV",0,0]
[null,"1964/1965",7,"1.FC Köln","Eintracht Braunschweig",5,1]
[null,"1964/1965",7,"1.FC Nürnberg","Karlsruher SC",4,1]
[null,"1964/1965",7,"Borussia Dortmund","1.FC Kaiserslautern",3,2]
[null,"1964/1965",7,"Borussia Neunkirchen","MSV Duisburg",4,2]
[null,"1964/1965",7,"Hamburger SV","Eintracht Frankfurt",2,1]
[null,"1964/1965",7,"Hannover 96","Werder Bremen",1,2]
[null,"1964/1965",7,"Hertha BSC Berlin","TSV 1860 München",2,1]
[null,"1964/1965",7,"VfB Stuttgart","FC Schalke 04",2,1]
[null,"1964/1965",8,"1.FC Kaiserslautern","1.FC Nürnberg",3,2]
[null,"1964/1965",8,"Eintracht Braunschweig","Borussia Dortmund",0,1]
[null,"1964/1965",8,"Eintracht Frankfurt","1.FC Köln",1,4]
[null,"1964/1965",8,"FC Schalke 04","Hertha BSC Berlin",3,0]
[null,"1964/1965",8,"Karlsruher SC","Hamburger SV",2,2]
[null,"1964/1965",8,"MSV Duisburg","VfB Stuttgart",3,3]
[null,"1964/1965",8,"TSV 1860 München","Hannover 96",4,0]
[null,"1964/1965",8,"Werder Bremen","Borussia Neunkirchen",2,0]
[null,"1964/1965",9,"1.FC Köln","Karlsruher SC",4,1]
[null,"1964/1965",9,"1.FC Nürnberg","Eintracht Braunschweig",3,2]
[null,"1964/1965",9,"Borussia Dortmund","Eintracht Frankfurt",1,3]
[null,"1964/1965",9,"Borussia Neunkirchen","TSV 1860 München",3,0]
[null,"1964/1965",9,"Hamburger SV","1.FC Kaiserslautern",3,2]
[null,"1964/1965",9,"Hannover 96","FC Schalke 04",1,0]
[null,"1964/1965",9,"Hertha BSC Berlin","MSV Duisburg",2,2]
[null,"1964/1965",9,"VfB Stuttgart","Werder Bremen",1,1]
[null,"1964/1965",10,"1.FC Kaiserslautern","1.FC Köln",2,2]
[null,"1964/1965",10,"Eintracht Braunschweig","Hamburger SV",2,0]
[null,"1964/1965",10,"Eintracht Frankfurt","1.FC Nürnberg",1,1]
[null,"1964/1965",10,"FC Schalke 04","Borussia Neunkirchen",1,1]
[null,"1964/1965",10,"Karlsruher SC","Borussia Dortmund",2,0]
[null,"1964/1965",10,"MSV Duisburg","Hannover 96",1,0]
[null,"1964/1965",10,"TSV 1860 München","VfB Stuttgart",1,0]
[null,"1964/1965",10,"Werder Bremen","Hertha BSC Berlin",5,1]
[null,"1964/1965",11,"1.FC Köln","TSV 1860 München",1,1]
[null,"1964/1965",11,"1.FC Nürnberg","Hamburger SV",2,3]
[null,"1964/1965",11,"Borussia Dortmund","MSV Duisburg",0,0]
[null,"1964/1965",11,"Borussia Neunkirchen","Karlsruher SC",1,0]
[null,"1964/1965",11,"Hannover 96","Eintracht Frankfurt",3,2]
[null,"1964/1965",11,"Hertha BSC Berlin","1.FC Kaiserslautern",5,3]
[null,"1964/1965",11,"VfB Stuttgart","Eintracht Braunschweig",3,1]
[null,"1964/1965",11,"Werder Bremen","FC Schalke 04",2,2]
[null,"1964/1965",12,"1.FC Kaiserslautern","VfB Stuttgart",2,1]
[null,"1964/1965",12,"Eintracht Braunschweig","Hertha BSC Berlin",1,1]
[null,"1964/1965",12,"Eintracht Frankfurt","Borussia Neunkirchen",1,0]
[null,"1964/1965",12,"FC Schalke 04","1.FC Köln",2,3]
[null,"1964/1965",12,"Hamburger SV","Borussia Dortmund",1,4]
[null,"1964/1965",12,"Karlsruher SC","Hannover 96",2,3]
[null,"1964/1965",12,"MSV Duisburg","1.FC Nürnberg",2,0]
[null,"1964/1965",12,"TSV 1860 München","Werder Bremen",3,1]
[null,"1964/1965",13,"1.FC Köln","Hamburger SV",3,0]
[null,"1964/1965",13,"1.FC Nürnberg","Borussia Dortmund",1,0]
[null,"1964/1965",13,"Borussia Neunkirchen","Hannover 96",2,1]
[null,"1964/1965",13,"Eintracht Braunschweig","1.FC Kaiserslautern",2,0]
[null,"1964/1965",13,"FC Schalke 04","TSV 1860 München",2,2]
[null,"1964/1965",13,"Hertha BSC Berlin","Karlsruher SC",2,1]
[null,"1964/1965",13,"VfB Stuttgart","Eintracht Frankfurt",1,2]
[null,"1964/1965",13,"Werder Bremen","MSV Duisburg",1,0]
[null,"1964/1965",14,"1.FC Nürnberg","1.FC Köln",3,0]
[null,"1964/1965",14,"Borussia Dortmund","Werder Bremen",1,2]
[null,"1964/1965",14,"Borussia Neunkirchen","Hertha BSC Berlin",2,2]
[null,"1964/1965",14,"Eintracht Frankfurt","Eintracht Braunschweig",2,2]
[null,"1964/1965",14,"Hamburger SV","TSV 1860 München",3,2]
[null,"1964/1965",14,"Hannover 96","VfB Stuttgart",2,1]
[null,"1964/1965",14,"Karlsruher SC","1.FC Kaiserslautern",6,1]
[null,"1964/1965",14,"MSV Duisburg","FC Schalke 04",2,1]
[null,"1964/1965",15,"1.FC Kaiserslautern","Eintracht Frankfurt",0,1]
[null,"1964/1965",15,"1.FC Köln","Borussia Dortmund",3,3]
[null,"1964/1965",15,"Eintracht Braunschweig","Karlsruher SC",3,0]
[null,"1964/1965",15,"FC Schalke 04","Hamburger SV",3,1]
[null,"1964/1965",15,"Hertha BSC Berlin","Hannover 96",1,1]
[null,"1964/1965",15,"TSV 1860 München","MSV Duisburg",2,1]
[null,"1964/1965",15,"VfB Stuttgart","Borussia Neunkirchen",3,2]
[null,"1964/1965",15,"Werder Bremen","1.FC Nürnberg",1,1]
[null,"1964/1965",16,"Borussia Neunkirchen","1.FC Nürnberg",1,1]
[null,"1964/1965",16,"FC Schalke 04","Eintracht Frankfurt",1,1]
[null,"1964/1965",16,"Hannover 96","Borussia Dortmund",2,0]
[null,"1964/1965",16,"Hertha BSC Berlin","1.FC Köln",1,3]
[null,"1964/1965",16,"MSV Duisburg","Karlsruher SC",1,1]
[null,"1964/1965",16,"TSV 1860 München","Eintracht Braunschweig",2,0]
[null,"1964/1965",16,"VfB Stuttgart","Hamburger SV",2,4]
[null,"1964/1965",16,"Werder Bremen","1.FC Kaiserslautern",1,1]
[null,"1964/1965",17,"1.FC Kaiserslautern","MSV Duisburg",2,0]
[null,"1964/1965",17,"1.FC Köln","Hannover 96",0,1]
[null,"1964/1965",17,"1.FC Nürnberg","VfB Stuttgart",1,1]
[null,"1964/1965",17,"Borussia Dortmund","Borussia Neunkirchen",5,1]
[null,"1964/1965",17,"Eintracht Braunschweig","Werder Bremen",1,1]
[null,"1964/1965",17,"Eintracht Frankfurt","TSV 1860 München",4,1]
[null,"1964/1965",17,"Hamburger SV","Hertha BSC Berlin",4,1]
[null,"1964/1965",17,"Karlsruher SC","FC Schalke 04",2,2]
[null,"1964/1965",18,"Borussia Neunkirchen","1.FC Köln",1,1]
[null,"1964/1965",18,"FC Schalke 04","1.FC Kaiserslautern",1,0]
[null,"1964/1965",18,"Hannover 96","Hamburger SV",1,2]
[null,"1964/1965",18,"Hertha BSC Berlin","1.FC Nürnberg",1,2]
[null,"1964/1965",18,"MSV Duisburg","Eintracht Braunschweig",2,0]
[null,"1964/1965",18,"TSV 1860 München","Karlsruher SC",9,0]
[null,"1964/1965",18,"VfB Stuttgart","Borussia Dortmund",3,2]
[null,"1964/1965",18,"Werder Bremen","Eintracht Frankfurt",2,2]
[null,"1964/1965",19,"1.FC Kaiserslautern","TSV 1860 München",1,2]
[null,"1964/1965",19,"1.FC Köln","VfB Stuttgart",2,1]
[null,"1964/1965",19,"1.FC Nürnberg","Hannover 96",1,0]
[null,"1964/1965",19,"Borussia Dortmund","Hertha BSC Berlin",6,3]
[null,"1964/1965",19,"Eintracht Braunschweig","FC Schalke 04",1,2]
[null,"1964/1965",19,"Eintracht Frankfurt","MSV Duisburg",2,3]
[null,"1964/1965",19,"Hamburger SV","Borussia Neunkirchen",1,2]
[null,"1964/1965",19,"Karlsruher SC","Werder Bremen",0,2]
[null,"1964/1965",20,"Borussia Neunkirchen","Eintracht Braunschweig",0,0]
[null,"1964/1965",20,"FC Schalke 04","1.FC Nürnberg",1,3]
[null,"1964/1965",20,"Hannover 96","1.FC Kaiserslautern",4,0]
[null,"1964/1965",20,"Hertha BSC Berlin","VfB Stuttgart",0,0]
[null,"1964/1965",20,"Karlsruher SC","Eintracht Frankfurt",3,1]
[null,"1964/1965",20,"MSV Duisburg","Hamburger SV",3,2]
[null,"1964/1965",20,"TSV 1860 München","Borussia Dortmund",4,4]
[null,"1964/1965",20,"Werder Bremen","1.FC Köln",0,0]
[null,"1964/1965",21,"1.FC Kaiserslautern","Borussia Neunkirchen",2,0]
[null,"1964/1965",21,"1.FC Köln","MSV Duisburg",1,2]
[null,"1964/1965",21,"1.FC Nürnberg","TSV 1860 München",2,2]
[null,"1964/1965",21,"Borussia Dortmund","FC Schalke 04",4,0]
[null,"1964/1965",21,"Eintracht Braunschweig","Hannover 96",2,2]
[null,"1964/1965",21,"Eintracht Frankfurt","Hertha BSC Berlin",3,0]
[null,"1964/1965",21,"Hamburger SV","Werder Bremen",0,4]
[null,"1964/1965",21,"VfB Stuttgart","Karlsruher SC",1,2]
[null,"1964/1965",22,"1.FC Kaiserslautern","Borussia Dortmund",1,3]
[null,"1964/1965",22,"Eintracht Braunschweig","1.FC Köln",1,1]
[null,"1964/1965",22,"Eintracht Frankfurt","Hamburger SV",2,1]
[null,"1964/1965",22,"FC Schalke 04","VfB Stuttgart",3,1]
[null,"1964/1965",22,"Karlsruher SC","1.FC Nürnberg",1,1]
[null,"1964/1965",22,"MSV Duisburg","Borussia Neunkirchen",1,1]
[null,"1964/1965",22,"TSV 1860 München","Hertha BSC Berlin",6,4]
[null,"1964/1965",22,"Werder Bremen","Hannover 96",3,0]
[null,"1964/1965",23,"1.FC Köln","Eintracht Frankfurt",3,4]
[null,"1964/1965",23,"1.FC Nürnberg","1.FC Kaiserslautern",1,0]
[null,"1964/1965",23,"Borussia Dortmund","Eintracht Braunschweig",5,4]
[null,"1964/1965",23,"Borussia Neunkirchen","Werder Bremen",1,1]
[null,"1964/1965",23,"Hamburger SV","Karlsruher SC",2,1]
[null,"1964/1965",23,"Hannover 96","TSV 1860 München",0,2]
[null,"1964/1965",23,"Hertha BSC Berlin","FC Schalke 04",2,1]
[null,"1964/1965",23,"VfB Stuttgart","MSV Duisburg",4,2]
[null,"1964/1965",24,"1.FC Kaiserslautern","Hamburger SV",2,1]
[null,"1964/1965",24,"Eintracht Braunschweig","1.FC Nürnberg",1,0]
[null,"1964/1965",24,"Eintracht Frankfurt","Borussia Dortmund",0,2]
[null,"1964/1965",24,"FC Schalke 04","Hannover 96",2,2]
[null,"1964/1965",24,"Karlsruher SC","1.FC Köln",2,4]
[null,"1964/1965",24,"MSV Duisburg","Hertha BSC Berlin",2,2]
[null,"1964/1965",24,"TSV 1860 München","Borussia Neunkirchen",4,2]
[null,"1964/1965",24,"Werder Bremen","VfB Stuttgart",1,0]
[null,"1964/1965",25,"1.FC Köln","1.FC Kaiserslautern",3,0]
[null,"1964/1965",25,"1.FC Nürnberg","Eintracht Frankfurt",0,0]
[null,"1964/1965",25,"Borussia Dortmund","Karlsruher SC",5,1]
[null,"1964/1965",25,"Borussia Neunkirchen","FC Schalke 04",3,2]
[null,"1964/1965",25,"Hamburger SV","Eintracht Braunschweig",0,1]
[null,"1964/1965",25,"Hannover 96","MSV Duisburg",2,0]
[null,"1964/1965",25,"Hertha BSC Berlin","Werder Bremen",0,0]
[null,"1964/1965",25,"VfB Stuttgart","TSV 1860 München",3,0]
[null,"1964/1965",26,"1.FC Kaiserslautern","Hertha BSC Berlin",1,2]
[null,"1964/1965",26,"Eintracht Braunschweig","VfB Stuttgart",2,1]
[null,"1964/1965",26,"Eintracht Frankfurt","Hannover 96",3,3]
[null,"1964/1965",26,"FC Schalke 04","Werder Bremen",1,0]
[null,"1964/1965",26,"Hamburger SV","1.FC Nürnberg",2,1]
[null,"1964/1965",26,"Karlsruher SC","Borussia Neunkirchen",2,1]
[null,"1964/1965",26,"MSV Duisburg","Borussia Dortmund",3,2]
[null,"1964/1965",26,"TSV 1860 München","1.FC Köln",2,3]
[null,"1964/1965",27,"1.FC Köln","FC Schalke 04",2,1]
[null,"1964/1965",27,"1.FC Nürnberg","MSV Duisburg",1,1]
[null,"1964/1965",27,"Borussia Dortmund","Hamburger SV",2,0]
[null,"1964/1965",27,"Borussia Neunkirchen","Eintracht Frankfurt",4,0]
[null,"1964/1965",27,"Hannover 96","Karlsruher SC",4,2]
[null,"1964/1965",27,"Hertha BSC Berlin","Eintracht Braunschweig",0,3]
[null,"1964/1965",27,"VfB Stuttgart","1.FC Kaiserslautern",1,0]
[null,"1964/1965",27,"Werder Bremen","TSV 1860 München",3,2]
[null,"1964/1965",28,"1.FC Kaiserslautern","Eintracht Braunschweig",2,1]
[null,"1964/1965",28,"Borussia Dortmund","1.FC Nürnberg",2,1]
[null,"1964/1965",28,"Eintracht Frankfurt","VfB Stuttgart",2,3]
[null,"1964/1965",28,"Hamburger SV","1.FC Köln",0,0]
[null,"1964/1965",28,"Hannover 96","Borussia Neunkirchen",1,1]
[null,"1964/1965",28,"Karlsruher SC","Hertha BSC Berlin",0,1]
[null,"1964/1965",28,"MSV Duisburg","Werder Bremen",2,2]
[null,"1964/1965",28,"TSV 1860 München","FC Schalke 04",3,1]
[null,"1964/1965",29,"1.FC Kaiserslautern","Karlsruher SC",0,1]
[null,"1964/1965",29,"1.FC Köln","1.FC Nürnberg",0,0]
[null,"1964/1965",29,"Eintracht Braunschweig","Eintracht Frankfurt",3,2]
[null,"1964/1965",29,"FC Schalke 04","MSV Duisburg",1,2]
[null,"1964/1965",29,"Hertha BSC Berlin","Borussia Neunkirchen",1,1]
[null,"1964/1965",29,"TSV 1860 München","Hamburger SV",4,1]
[null,"1964/1965",29,"VfB Stuttgart","Hannover 96",0,3]
[null,"1964/1965",29,"Werder Bremen","Borussia Dortmund",3,0]
[null,"1964/1965",30,"1.FC Nürnberg","Werder Bremen",2,3]
[null,"1964/1965",30,"Borussia Dortmund","1.FC Köln",2,2]
[null,"1964/1965",30,"Borussia Neunkirchen","VfB Stuttgart",3,1]
[null,"1964/1965",30,"Eintracht Frankfurt","1.FC Kaiserslautern",1,2]
[null,"1964/1965",30,"Hamburger SV","FC Schalke 04",2,4]
[null,"1964/1965",30,"Hannover 96","Hertha BSC Berlin",3,1]
[null,"1964/1965",30,"Karlsruher SC","Eintracht Braunschweig",3,0]
[null,"1964/1965",30,"MSV Duisburg","TSV 1860 München",3,0]
[null,"1965/1966",1,"1.FC Köln","Hannover 96",0,1]
[null,"1965/1966",1,"Borussia Neunkirchen","Borussia M'gladbach",1,1]
[null,"1965/1966",1,"Werder Bremen","1.FC Nürnberg",1,0]
[null,"1965/1966",1,"TSV 1860 München","FC Bayern München",1,0]
[null,"1965/1966",1,"VfB Stuttgart","FC Schalke 04",1,0]
[null,"1965/1966",1,"Tasmania Berlin","Karlsruher SC",2,0]
[null,"1965/1966",1,"Eintracht Frankfurt","Hamburger SV",2,0]
[null,"1965/1966",1,"MSV Duisburg","1.FC Kaiserslautern",2,2]
[null,"1965/1966",1,"Eintracht Braunschweig","Borussia Dortmund",4,0]
[null,"1965/1966",2,"FC Schalke 04","Karlsruher SC",0,0]
[null,"1965/1966",2,"Borussia Dortmund","Borussia Neunkirchen",1,0]
[null,"1965/1966",2,"1.FC Nürnberg","TSV 1860 München",1,4]
[null,"1965/1966",2,"VfB Stuttgart","MSV Duisburg",2,0]
[null,"1965/1966",2,"Hannover 96","Werder Bremen",2,1]
[null,"1965/1966",2,"Hamburger SV","Eintracht Braunschweig",2,1]
[null,"1965/1966",2,"FC Bayern München","Eintracht Frankfurt",2,0]
[null,"1965/1966",2,"1.FC Kaiserslautern","1.FC Köln",3,2]
[null,"1965/1966",2,"Borussia M'gladbach","Tasmania Berlin",5,0]
[null,"1965/1966",3,"Tasmania Berlin","Borussia Dortmund",0,2]
[null,"1965/1966",3,"Borussia Neunkirchen","Hamburger SV",1,1]
[null,"1965/1966",3,"Eintracht Frankfurt","1.FC Nürnberg",1,2]
[null,"1965/1966",3,"Eintracht Braunschweig","FC Bayern München",2,4]
[null,"1965/1966",3,"Karlsruher SC","Borussia M'gladbach",3,3]
[null,"1965/1966",3,"1.FC Köln","VfB Stuttgart",3,1]
[null,"1965/1966",3,"Werder Bremen","1.FC Kaiserslautern",4,1]
[null,"1965/1966",3,"TSV 1860 München","Hannover 96",5,0]
[null,"1965/1966",3,"MSV Duisburg","FC Schalke 04",5,1]
[null,"1965/1966",4,"VfB Stuttgart","Werder Bremen",0,2]
[null,"1965/1966",4,"FC Schalke 04","Borussia M'gladbach",0,0]
[null,"1965/1966",4,"1.FC Nürnberg","Eintracht Braunschweig",1,1]
[null,"1965/1966",4,"MSV Duisburg","1.FC Köln",2,3]
[null,"1965/1966",4,"1.FC Kaiserslautern","TSV 1860 München",3,0]
[null,"1965/1966",4,"Borussia Dortmund","Karlsruher SC",4,1]
[null,"1965/1966",4,"Hannover 96","Eintracht Frankfurt",4,1]
[null,"1965/1966",4,"Hamburger SV","Tasmania Berlin",5,1]
[null,"1965/1966",4,"FC Bayern München","Borussia Neunkirchen",6,0]
[null,"1965/1966",5,"Tasmania Berlin","FC Bayern München",0,2]
[null,"1965/1966",5,"TSV 1860 München","VfB Stuttgart",0,0]
[null,"1965/1966",5,"Karlsruher SC","Hamburger SV",1,4]
[null,"1965/1966",5,"Borussia Neunkirchen","1.FC Nürnberg",2,1]
[null,"1965/1966",5,"1.FC Köln","FC Schalke 04",2,1]
[null,"1965/1966",5,"Eintracht Braunschweig","Hannover 96",2,1]
[null,"1965/1966",5,"Werder Bremen","MSV Duisburg",2,0]
[null,"1965/1966",5,"Borussia M'gladbach","Borussia Dortmund",4,5]
[null,"1965/1966",5,"Eintracht Frankfurt","1.FC Kaiserslautern",6,0]
[null,"1965/1966",6,"VfB Stuttgart","Eintracht Frankfurt",0,0]
[null,"1965/1966",6,"1.FC Kaiserslautern","Eintracht Braunschweig",1,1]
[null,"1965/1966",6,"1.FC Köln","Werder Bremen",2,0]
[null,"1965/1966",6,"FC Schalke 04","Borussia Dortmund",2,3]
[null,"1965/1966",6,"MSV Duisburg","TSV 1860 München",2,3]
[null,"1965/1966",6,"FC Bayern München","Karlsruher SC",5,1]
[null,"1965/1966",6,"Hamburger SV","Borussia M'gladbach",5,0]
[null,"1965/1966",6,"Hannover 96","Borussia Neunkirchen",6,0]
[null,"1965/1966",6,"1.FC Nürnberg","Tasmania Berlin",7,2]
[null,"1965/1966",7,"Borussia M'gladbach","FC Bayern München",1,2]
[null,"1965/1966",7,"Tasmania Berlin","Hannover 96",1,5]
[null,"1965/1966",7,"Borussia Neunkirchen","1.FC Kaiserslautern",1,4]
[null,"1965/1966",7,"Eintracht Braunschweig","VfB Stuttgart",1,1]
[null,"1965/1966",7,"Karlsruher SC","1.FC Nürnberg",1,2]
[null,"1965/1966",7,"TSV 1860 München","1.FC Köln",2,1]
[null,"1965/1966",7,"Borussia Dortmund","Hamburger SV",2,2]
[null,"1965/1966",7,"Werder Bremen","FC Schalke 04",2,0]
[null,"1965/1966",7,"Eintracht Frankfurt","MSV Duisburg",2,0]
[null,"1965/1966",8,"Werder Bremen","TSV 1860 München",0,2]
[null,"1965/1966",8,"1.FC Kaiserslautern","Tasmania Berlin",0,0]
[null,"1965/1966",8,"FC Bayern München","Borussia Dortmund",0,2]
[null,"1965/1966",8,"1.FC Köln","Eintracht Frankfurt",1,0]
[null,"1965/1966",8,"1.FC Nürnberg","Borussia M'gladbach",2,2]
[null,"1965/1966",8,"VfB Stuttgart","Borussia Neunkirchen",2,0]
[null,"1965/1966",8,"FC Schalke 04","Hamburger SV",2,1]
[null,"1965/1966",8,"MSV Duisburg","Eintracht Braunschweig",4,1]
[null,"1965/1966",8,"Hannover 96","Karlsruher SC",5,2]
[null,"1965/1966",9,"Tasmania Berlin","VfB Stuttgart",0,2]
[null,"1965/1966",9,"Borussia Neunkirchen","MSV Duisburg",0,1]
[null,"1965/1966",9,"Hamburger SV","FC Bayern München",0,4]
[null,"1965/1966",9,"Karlsruher SC","1.FC Kaiserslautern",1,0]
[null,"1965/1966",9,"Eintracht Frankfurt","Werder Bremen",1,0]
[null,"1965/1966",9,"Eintracht Braunschweig","1.FC Köln",1,2]
[null,"1965/1966",9,"Borussia Dortmund","1.FC Nürnberg",2,0]
[null,"1965/1966",9,"Borussia M'gladbach","Hannover 96",2,0]
[null,"1965/1966",9,"TSV 1860 München","FC Schalke 04",3,0]
[null,"1965/1966",10,"FC Schalke 04","FC Bayern München",1,1]
[null,"1965/1966",10,"VfB Stuttgart","Karlsruher SC",1,0]
[null,"1965/1966",10,"Hannover 96","Borussia Dortmund",1,1]
[null,"1965/1966",10,"1.FC Kaiserslautern","Borussia M'gladbach",1,2]
[null,"1965/1966",10,"MSV Duisburg","Tasmania Berlin",3,0]
[null,"1965/1966",10,"TSV 1860 München","Eintracht Frankfurt",4,2]
[null,"1965/1966",10,"1.FC Köln","Borussia Neunkirchen",4,2]
[null,"1965/1966",10,"Werder Bremen","Eintracht Braunschweig",4,0]
[null,"1965/1966",10,"1.FC Nürnberg","Hamburger SV",5,0]
[null,"1965/1966",11,"FC Bayern München","1.FC Nürnberg",0,0]
[null,"1965/1966",11,"Karlsruher SC","MSV Duisburg",0,4]
[null,"1965/1966",11,"Tasmania Berlin","1.FC Köln",0,6]
[null,"1965/1966",11,"Borussia Neunkirchen","Werder Bremen",1,2]
[null,"1965/1966",11,"Borussia M'gladbach","VfB Stuttgart",1,0]
[null,"1965/1966",11,"Eintracht Braunschweig","TSV 1860 München",2,2]
[null,"1965/1966",11,"Hamburger SV","Hannover 96",2,1]
[null,"1965/1966",11,"Borussia Dortmund","1.FC Kaiserslautern",4,0]
[null,"1965/1966",11,"Eintracht Frankfurt","FC Schalke 04",4,1]
[null,"1965/1966",12,"FC Schalke 04","1.FC Nürnberg",1,0]
[null,"1965/1966",12,"VfB Stuttgart","Borussia Dortmund",1,1]
[null,"1965/1966",12,"1.FC Köln","Karlsruher SC",2,0]
[null,"1965/1966",12,"1.FC Kaiserslautern","Hamburger SV",2,1]
[null,"1965/1966",12,"Hannover 96","FC Bayern München",3,4]
[null,"1965/1966",12,"MSV Duisburg","Borussia M'gladbach",3,2]
[null,"1965/1966",12,"TSV 1860 München","Borussia Neunkirchen",4,1]
[null,"1965/1966",12,"Eintracht Frankfurt","Eintracht Braunschweig",4,1]
[null,"1965/1966",12,"Werder Bremen","Tasmania Berlin",5,0]
[null,"1965/1966",13,"Tasmania Berlin","TSV 1860 München",0,5]
[null,"1965/1966",13,"Borussia Dortmund","MSV Duisburg",1,1]
[null,"1965/1966",13,"Borussia Neunkirchen","Eintracht Frankfurt",1,6]
[null,"1965/1966",13,"Borussia M'gladbach","1.FC Köln",2,3]
[null,"1965/1966",13,"1.FC Nürnberg","Hannover 96",2,1]
[null,"1965/1966",13,"Karlsruher SC","Werder Bremen",3,2]
[null,"1965/1966",13,"FC Bayern München","1.FC Kaiserslautern",3,0]
[null,"1965/1966",13,"Eintracht Braunschweig","FC Schalke 04",3,0]
[null,"1965/1966",13,"Hamburger SV","VfB Stuttgart",4,1]
[null,"1965/1966",14,"VfB Stuttgart","FC Bayern München",0,1]
[null,"1965/1966",14,"1.FC Kaiserslautern","1.FC Nürnberg",0,0]
[null,"1965/1966",14,"1.FC Köln","Borussia Dortmund",1,2]
[null,"1965/1966",14,"FC Schalke 04","Hannover 96",1,0]
[null,"1965/1966",14,"Eintracht Braunschweig","Borussia Neunkirchen",1,2]
[null,"1965/1966",14,"Werder Bremen","Borussia M'gladbach",2,0]
[null,"1965/1966",14,"TSV 1860 München","Karlsruher SC",2,0]
[null,"1965/1966",14,"MSV Duisburg","Hamburger SV",3,1]
[null,"1965/1966",14,"Eintracht Frankfurt","Tasmania Berlin",4,0]
[null,"1965/1966",15,"Tasmania Berlin","Eintracht Braunschweig",0,2]
[null,"1965/1966",15,"1.FC Nürnberg","VfB Stuttgart",1,1]
[null,"1965/1966",15,"Borussia Neunkirchen","FC Schalke 04",1,0]
[null,"1965/1966",15,"Borussia M'gladbach","TSV 1860 München",1,1]
[null,"1965/1966",15,"Hamburger SV","1.FC Köln",2,2]
[null,"1965/1966",15,"Borussia Dortmund","Werder Bremen",2,1]
[null,"1965/1966",15,"FC Bayern München","MSV Duisburg",3,0]
[null,"1965/1966",15,"Karlsruher SC","Eintracht Frankfurt",4,0]
[null,"1965/1966",15,"Hannover 96","1.FC Kaiserslautern",4,0]
[null,"1965/1966",16,"MSV Duisburg","1.FC Nürnberg",1,2]
[null,"1965/1966",16,"TSV 1860 München","Borussia Dortmund",2,1]
[null,"1965/1966",16,"Eintracht Braunschweig","Karlsruher SC",2,0]
[null,"1965/1966",16,"FC Schalke 04","1.FC Kaiserslautern",2,1]
[null,"1965/1966",16,"Werder Bremen","Hamburger SV",2,0]
[null,"1965/1966",16,"Borussia Neunkirchen","Tasmania Berlin",3,1]
[null,"1965/1966",16,"Eintracht Frankfurt","Borussia M'gladbach",3,1]
[null,"1965/1966",16,"VfB Stuttgart","Hannover 96",4,2]
[null,"1965/1966",16,"1.FC Köln","FC Bayern München",6,1]
[null,"1965/1966",17,"Hannover 96","MSV Duisburg",0,3]
[null,"1965/1966",17,"Hamburger SV","TSV 1860 München",1,2]
[null,"1965/1966",17,"Borussia M'gladbach","Eintracht Braunschweig",1,0]
[null,"1965/1966",17,"Karlsruher SC","Borussia Neunkirchen",1,1]
[null,"1965/1966",17,"1.FC Kaiserslautern","VfB Stuttgart",1,2]
[null,"1965/1966",17,"Tasmania Berlin","FC Schalke 04",1,2]
[null,"1965/1966",17,"1.FC Nürnberg","1.FC Köln",2,0]
[null,"1965/1966",17,"FC Bayern München","Werder Bremen",3,1]
[null,"1965/1966",17,"Borussia Dortmund","Eintracht Frankfurt",3,0]
[null,"1965/1966",18,"Hamburger SV","Eintracht Frankfurt",0,1]
[null,"1965/1966",18,"Borussia Dortmund","Eintracht Braunschweig",1,1]
[null,"1965/1966",18,"Hannover 96","1.FC Köln",1,1]
[null,"1965/1966",18,"1.FC Kaiserslautern","MSV Duisburg",1,0]
[null,"1965/1966",18,"1.FC Nürnberg","Werder Bremen",2,1]
[null,"1965/1966",18,"FC Schalke 04","VfB Stuttgart",2,0]
[null,"1965/1966",18,"Karlsruher SC","Tasmania Berlin",3,0]
[null,"1965/1966",18,"FC Bayern München","TSV 1860 München",3,0]
[null,"1965/1966",18,"Borussia M'gladbach","Borussia Neunkirchen",4,1]
[null,"1965/1966",19,"Tasmania Berlin","Borussia M'gladbach",0,0]
[null,"1965/1966",19,"Eintracht Frankfurt","FC Bayern München",0,0]
[null,"1965/1966",19,"Eintracht Braunschweig","Hamburger SV",1,4]
[null,"1965/1966",19,"Karlsruher SC","FC Schalke 04",1,0]
[null,"1965/1966",19,"Borussia Neunkirchen","Borussia Dortmund",1,3]
[null,"1965/1966",19,"TSV 1860 München","1.FC Nürnberg",1,1]
[null,"1965/1966",19,"Werder Bremen","Hannover 96",3,3]
[null,"1965/1966",19,"1.FC Köln","1.FC Kaiserslautern",3,2]
[null,"1965/1966",19,"MSV Duisburg","VfB Stuttgart",5,2]
[null,"1965/1966",20,"VfB Stuttgart","1.FC Köln",0,1]
[null,"1965/1966",20,"1.FC Nürnberg","Eintracht Frankfurt",0,0]
[null,"1965/1966",20,"Hannover 96","TSV 1860 München",0,1]
[null,"1965/1966",20,"FC Schalke 04","MSV Duisburg",0,0]
[null,"1965/1966",20,"Borussia M'gladbach","Karlsruher SC",1,1]
[null,"1965/1966",20,"1.FC Kaiserslautern","Werder Bremen",2,3]
[null,"1965/1966",20,"FC Bayern München","Eintracht Braunschweig",2,2]
[null,"1965/1966",20,"Borussia Dortmund","Tasmania Berlin",3,1]
[null,"1965/1966",20,"Hamburger SV","Borussia Neunkirchen",3,0]
[null,"1965/1966",21,"Borussia Neunkirchen","FC Bayern München",0,4]
[null,"1965/1966",21,"Karlsruher SC","Borussia Dortmund",0,0]
[null,"1965/1966",21,"Eintracht Frankfurt","Hannover 96",0,1]
[null,"1965/1966",21,"Tasmania Berlin","Hamburger SV",0,4]
[null,"1965/1966",21,"1.FC Köln","MSV Duisburg",1,1]
[null,"1965/1966",21,"Borussia M'gladbach","FC Schalke 04",2,0]
[null,"1965/1966",21,"Werder Bremen","VfB Stuttgart",3,1]
[null,"1965/1966",21,"Eintracht Braunschweig","1.FC Nürnberg",3,0]
[null,"1965/1966",21,"TSV 1860 München","1.FC Kaiserslautern",4,2]
[null,"1965/1966",22,"VfB Stuttgart","TSV 1860 München",0,0]
[null,"1965/1966",22,"FC Schalke 04","1.FC Köln",0,0]
[null,"1965/1966",22,"Hannover 96","Eintracht Braunschweig",1,1]
[null,"1965/1966",22,"MSV Duisburg","Werder Bremen",1,2]
[null,"1965/1966",22,"FC Bayern München","Tasmania Berlin",2,1]
[null,"1965/1966",22,"1.FC Nürnberg","Borussia Neunkirchen",3,1]
[null,"1965/1966",22,"Borussia Dortmund","Borussia M'gladbach",3,1]
[null,"1965/1966",22,"1.FC Kaiserslautern","Eintracht Frankfurt",5,2]
[null,"1965/1966",22,"Hamburger SV","Karlsruher SC",8,0]
[null,"1965/1966",23,"Borussia M'gladbach","Hamburger SV",0,0]
[null,"1965/1966",23,"Tasmania Berlin","1.FC Nürnberg",0,1]
[null,"1965/1966",23,"Eintracht Braunschweig","1.FC Kaiserslautern",1,1]
[null,"1965/1966",23,"Karlsruher SC","FC Bayern München",1,0]
[null,"1965/1966",23,"Borussia Neunkirchen","Hannover 96",1,0]
[null,"1965/1966",23,"Werder Bremen","1.FC Köln",2,1]
[null,"1965/1966",23,"Eintracht Frankfurt","VfB Stuttgart",3,2]
[null,"1965/1966",23,"TSV 1860 München","MSV Duisburg",3,3]
[null,"1965/1966",23,"Borussia Dortmund","FC Schalke 04",7,0]
[null,"1965/1966",24,"1.FC Kaiserslautern","Borussia Neunkirchen",0,0]
[null,"1965/1966",24,"MSV Duisburg","Eintracht Frankfurt",0,0]
[null,"1965/1966",24,"VfB Stuttgart","Eintracht Braunschweig",0,1]
[null,"1965/1966",24,"Hamburger SV","Borussia Dortmund",1,1]
[null,"1965/1966",24,"FC Schalke 04","Werder Bremen",1,6]
[null,"1965/1966",24,"1.FC Köln","TSV 1860 München",3,1]
[null,"1965/1966",24,"1.FC Nürnberg","Karlsruher SC",3,0]
[null,"1965/1966",24,"FC Bayern München","Borussia M'gladbach",5,2]
[null,"1965/1966",24,"Hannover 96","Tasmania Berlin",5,0]
[null,"1965/1966",25,"Eintracht Frankfurt","1.FC Köln",0,0]
[null,"1965/1966",25,"Borussia Neunkirchen","VfB Stuttgart",1,2]
[null,"1965/1966",25,"Tasmania Berlin","1.FC Kaiserslautern",1,1]
[null,"1965/1966",25,"Hamburger SV","FC Schalke 04",1,1]
[null,"1965/1966",25,"Karlsruher SC","Hannover 96",1,0]
[null,"1965/1966",25,"Eintracht Braunschweig","MSV Duisburg",1,0]
[null,"1965/1966",25,"TSV 1860 München","Werder Bremen",3,1]
[null,"1965/1966",25,"Borussia Dortmund","FC Bayern München",3,0]
[null,"1965/1966",25,"Borussia M'gladbach","1.FC Nürnberg",8,3]
[null,"1965/1966",26,"FC Schalke 04","TSV 1860 München",0,2]
[null,"1965/1966",26,"1.FC Nürnberg","Borussia Dortmund",0,0]
[null,"1965/1966",26,"1.FC Kaiserslautern","Karlsruher SC",1,0]
[null,"1965/1966",26,"MSV Duisburg","Borussia Neunkirchen",1,0]
[null,"1965/1966",26,"Hannover 96","Borussia M'gladbach",2,1]
[null,"1965/1966",26,"VfB Stuttgart","Tasmania Berlin",2,0]
[null,"1965/1966",26,"FC Bayern München","Hamburger SV",3,0]
[null,"1965/1966",26,"Werder Bremen","Eintracht Frankfurt",3,2]
[null,"1965/1966",26,"1.FC Köln","Eintracht Braunschweig",3,0]
[null,"1965/1966",27,"Tasmania Berlin","MSV Duisburg",0,9]
[null,"1965/1966",27,"Hamburger SV","1.FC Nürnberg",0,2]
[null,"1965/1966",27,"FC Bayern München","FC Schalke 04",1,0]
[null,"1965/1966",27,"Eintracht Braunschweig","Werder Bremen",1,0]
[null,"1965/1966",27,"Borussia M'gladbach","1.FC Kaiserslautern",2,0]
[null,"1965/1966",27,"Borussia Neunkirchen","1.FC Köln",2,1]
[null,"1965/1966",27,"Karlsruher SC","VfB Stuttgart",3,0]
[null,"1965/1966",27,"Borussia Dortmund","Hannover 96",4,0]
[null,"1965/1966",27,"Eintracht Frankfurt","TSV 1860 München",5,2]
[null,"1965/1966",28,"1.FC Kaiserslautern","Borussia Dortmund",0,0]
[null,"1965/1966",28,"Hannover 96","Hamburger SV",0,0]
[null,"1965/1966",28,"TSV 1860 München","Eintracht Braunschweig",1,1]
[null,"1965/1966",28,"1.FC Nürnberg","FC Bayern München",2,2]
[null,"1965/1966",28,"FC Schalke 04","Eintracht Frankfurt",3,2]
[null,"1965/1966",28,"1.FC Köln","Tasmania Berlin",4,0]
[null,"1965/1966",28,"Werder Bremen","Borussia Neunkirchen",5,2]
[null,"1965/1966",28,"VfB Stuttgart","Borussia M'gladbach",5,0]
[null,"1965/1966",28,"MSV Duisburg","Karlsruher SC",8,2]
[null,"1965/1966",29,"1.FC Nürnberg","FC Schalke 04",1,0]
[null,"1965/1966",29,"Tasmania Berlin","Werder Bremen",1,1]
[null,"1965/1966",29,"Borussia M'gladbach","MSV Duisburg",1,2]
[null,"1965/1966",29,"Borussia Neunkirchen","TSV 1860 München",1,9]
[null,"1965/1966",29,"Karlsruher SC","1.FC Köln",2,1]
[null,"1965/1966",29,"Eintracht Braunschweig","Eintracht Frankfurt",2,2]
[null,"1965/1966",29,"FC Bayern München","Hannover 96",3,1]
[null,"1965/1966",29,"Borussia Dortmund","VfB Stuttgart",4,0]
[null,"1965/1966",29,"Hamburger SV","1.FC Kaiserslautern",4,1]
[null,"1965/1966",30,"VfB Stuttgart","Hamburger SV",1,3]
[null,"1965/1966",30,"1.FC Kaiserslautern","FC Bayern München",1,2]
[null,"1965/1966",30,"Eintracht Frankfurt","Borussia Neunkirchen",1,2]
[null,"1965/1966",30,"FC Schalke 04","Eintracht Braunschweig",1,1]
[null,"1965/1966",30,"MSV Duisburg","Borussia Dortmund",2,1]
[null,"1965/1966",30,"1.FC Köln","Borussia M'gladbach",2,2]
[null,"1965/1966",30,"Hannover 96","1.FC Nürnberg",2,2]
[null,"1965/1966",30,"Werder Bremen","Karlsruher SC",3,1]
[null,"1965/1966",30,"TSV 1860 München","Tasmania Berlin",4,0]
[null,"1965/1966",31,"FC Bayern München","VfB Stuttgart",0,1]
[null,"1965/1966",31,"Hannover 96","FC Schalke 04",0,3]
[null,"1965/1966",31,"Borussia M'gladbach","Werder Bremen",0,7]
[null,"1965/1966",31,"Tasmania Berlin","Eintracht Frankfurt",0,3]
[null,"1965/1966",31,"1.FC Nürnberg","1.FC Kaiserslautern",1,1]
[null,"1965/1966",31,"Borussia Neunkirchen","Eintracht Braunschweig",1,0]
[null,"1965/1966",31,"Karlsruher SC","TSV 1860 München",1,1]
[null,"1965/1966",31,"Hamburger SV","MSV Duisburg",2,0]
[null,"1965/1966",31,"Borussia Dortmund","1.FC Köln",3,2]
[null,"1965/1966",32,"Werder Bremen","Borussia Dortmund",1,0]
[null,"1965/1966",32,"MSV Duisburg","FC Bayern München",1,1]
[null,"1965/1966",32,"Eintracht Frankfurt","Karlsruher SC",1,0]
[null,"1965/1966",32,"1.FC Kaiserslautern","Hannover 96",1,1]
[null,"1965/1966",32,"VfB Stuttgart","1.FC Nürnberg",1,0]
[null,"1965/1966",32,"FC Schalke 04","Borussia Neunkirchen",2,0]
[null,"1965/1966",32,"TSV 1860 München","Borussia M'gladbach",3,3]
[null,"1965/1966",32,"Eintracht Braunschweig","Tasmania Berlin",3,1]
[null,"1965/1966",32,"1.FC Köln","Hamburger SV",5,1]
[null,"1965/1966",33,"Borussia Dortmund","TSV 1860 München",0,2]
[null,"1965/1966",33,"FC Bayern München","1.FC Köln",1,4]
[null,"1965/1966",33,"Karlsruher SC","Eintracht Braunschweig",1,4]
[null,"1965/1966",33,"Hamburger SV","Werder Bremen",1,3]
[null,"1965/1966",33,"Borussia M'gladbach","Eintracht Frankfurt",1,2]
[null,"1965/1966",33,"Tasmania Berlin","Borussia Neunkirchen",2,1]
[null,"1965/1966",33,"1.FC Kaiserslautern","FC Schalke 04",3,2]
[null,"1965/1966",33,"Hannover 96","VfB Stuttgart",4,2]
[null,"1965/1966",33,"1.FC Nürnberg","MSV Duisburg",4,1]
[null,"1965/1966",34,"Werder Bremen","FC Bayern München",1,1]
[null,"1965/1966",34,"TSV 1860 München","Hamburger SV",1,1]
[null,"1965/1966",34,"Eintracht Braunschweig","Borussia M'gladbach",1,1]
[null,"1965/1966",34,"Borussia Neunkirchen","Karlsruher SC",1,0]
[null,"1965/1966",34,"1.FC Köln","1.FC Nürnberg",2,1]
[null,"1965/1966",34,"MSV Duisburg","Hannover 96",2,2]
[null,"1965/1966",34,"VfB Stuttgart","1.FC Kaiserslautern",4,1]
[null,"1965/1966",34,"FC Schalke 04","Tasmania Berlin",4,0]
[null,"1965/1966",34,"Eintracht Frankfurt","Borussia Dortmund",4,1]
[null,"1966/1967",1,"FC Schalke 04","Borussia M'gladbach",0,0]
[null,"1966/1967",1,"Borussia Dortmund","Fortuna Düsseldorf",1,2]
[null,"1966/1967",1,"VfB Stuttgart","1.FC Nürnberg",1,0]
[null,"1966/1967",1,"FC Bayern München","Eintracht Frankfurt",1,2]
[null,"1966/1967",1,"1.FC Köln","TSV 1860 München",2,0]
[null,"1966/1967",1,"Eintracht Braunschweig","Werder Bremen",2,0]
[null,"1966/1967",1,"Hamburger SV","Hannover 96",2,1]
[null,"1966/1967",1,"MSV Duisburg","Rot-Weiß Essen",2,0]
[null,"1966/1967",1,"1.FC Kaiserslautern","Karlsruher SC",3,1]
[null,"1966/1967",2,"Fortuna Düsseldorf","FC Bayern München",0,0]
[null,"1966/1967",2,"Werder Bremen","VfB Stuttgart",1,2]
[null,"1966/1967",2,"Borussia M'gladbach","1.FC Kaiserslautern",1,1]
[null,"1966/1967",2,"Karlsruher SC","Hamburger SV",1,1]
[null,"1966/1967",2,"TSV 1860 München","Eintracht Braunschweig",2,1]
[null,"1966/1967",2,"Hannover 96","Borussia Dortmund",2,0]
[null,"1966/1967",2,"1.FC Nürnberg","MSV Duisburg",3,1]
[null,"1966/1967",2,"Rot-Weiß Essen","FC Schalke 04",4,1]
[null,"1966/1967",2,"Eintracht Frankfurt","1.FC Köln",4,0]
[null,"1966/1967",3,"FC Bayern München","Hannover 96",0,0]
[null,"1966/1967",3,"MSV Duisburg","Werder Bremen",1,0]
[null,"1966/1967",3,"FC Schalke 04","1.FC Nürnberg",1,0]
[null,"1966/1967",3,"Eintracht Braunschweig","1.FC Köln",1,0]
[null,"1966/1967",3,"VfB Stuttgart","TSV 1860 München",2,0]
[null,"1966/1967",3,"Hamburger SV","Borussia M'gladbach",2,0]
[null,"1966/1967",3,"Borussia Dortmund","Karlsruher SC",2,1]
[null,"1966/1967",3,"Fortuna Düsseldorf","Eintracht Frankfurt",2,4]
[null,"1966/1967",3,"1.FC Kaiserslautern","Rot-Weiß Essen",5,2]
[null,"1966/1967",4,"Eintracht Frankfurt","Eintracht Braunschweig",0,1]
[null,"1966/1967",4,"Hannover 96","Fortuna Düsseldorf",0,2]
[null,"1966/1967",4,"Karlsruher SC","FC Bayern München",1,6]
[null,"1966/1967",4,"Rot-Weiß Essen","Hamburger SV",1,1]
[null,"1966/1967",4,"1.FC Nürnberg","1.FC Kaiserslautern",1,2]
[null,"1966/1967",4,"Werder Bremen","FC Schalke 04",2,1]
[null,"1966/1967",4,"TSV 1860 München","MSV Duisburg",3,3]
[null,"1966/1967",4,"1.FC Köln","VfB Stuttgart",3,1]
[null,"1966/1967",4,"Borussia M'gladbach","Borussia Dortmund",4,0]
[null,"1966/1967",5,"Hamburger SV","1.FC Nürnberg",0,1]
[null,"1966/1967",5,"Borussia Dortmund","Rot-Weiß Essen",0,0]
[null,"1966/1967",5,"FC Schalke 04","TSV 1860 München",1,0]
[null,"1966/1967",5,"MSV Duisburg","1.FC Köln",1,0]
[null,"1966/1967",5,"Fortuna Düsseldorf","Karlsruher SC",1,0]
[null,"1966/1967",5,"VfB Stuttgart","Eintracht Braunschweig",1,2]
[null,"1966/1967",5,"1.FC Kaiserslautern","Werder Bremen",2,0]
[null,"1966/1967",5,"Hannover 96","Eintracht Frankfurt",2,1]
[null,"1966/1967",5,"FC Bayern München","Borussia M'gladbach",4,3]
[null,"1966/1967",6,"Eintracht Braunschweig","MSV Duisburg",0,0]
[null,"1966/1967",6,"Karlsruher SC","Hannover 96",0,0]
[null,"1966/1967",6,"1.FC Nürnberg","Borussia Dortmund",2,0]
[null,"1966/1967",6,"1.FC Köln","FC Schalke 04",2,1]
[null,"1966/1967",6,"TSV 1860 München","1.FC Kaiserslautern",3,0]
[null,"1966/1967",6,"Rot-Weiß Essen","FC Bayern München",3,1]
[null,"1966/1967",6,"Borussia M'gladbach","Fortuna Düsseldorf",3,1]
[null,"1966/1967",6,"Eintracht Frankfurt","VfB Stuttgart",4,0]
[null,"1966/1967",6,"Werder Bremen","Hamburger SV",5,1]
[null,"1966/1967",7,"FC Bayern München","1.FC Nürnberg",0,1]
[null,"1966/1967",7,"1.FC Kaiserslautern","1.FC Köln",0,0]
[null,"1966/1967",7,"FC Schalke 04","Eintracht Braunschweig",0,0]
[null,"1966/1967",7,"MSV Duisburg","VfB Stuttgart",0,0]
[null,"1966/1967",7,"Hannover 96","Borussia M'gladbach",1,1]
[null,"1966/1967",7,"Borussia Dortmund","Werder Bremen",2,0]
[null,"1966/1967",7,"Fortuna Düsseldorf","Rot-Weiß Essen",2,0]
[null,"1966/1967",7,"Hamburger SV","TSV 1860 München",3,2]
[null,"1966/1967",7,"Karlsruher SC","Eintracht Frankfurt",3,2]
[null,"1966/1967",8,"1.FC Köln","Hamburger SV",0,0]
[null,"1966/1967",8,"TSV 1860 München","Borussia Dortmund",1,2]
[null,"1966/1967",8,"VfB Stuttgart","FC Schalke 04",1,1]
[null,"1966/1967",8,"Eintracht Frankfurt","MSV Duisburg",1,0]
[null,"1966/1967",8,"Eintracht Braunschweig","1.FC Kaiserslautern",2,0]
[null,"1966/1967",8,"Rot-Weiß Essen","Hannover 96",3,0]
[null,"1966/1967",8,"Borussia M'gladbach","Karlsruher SC",3,1]
[null,"1966/1967",8,"Werder Bremen","FC Bayern München",4,1]
[null,"1966/1967",8,"1.FC Nürnberg","Fortuna Düsseldorf",4,2]
[null,"1966/1967",9,"Fortuna Düsseldorf","Werder Bremen",0,1]
[null,"1966/1967",9,"Karlsruher SC","Rot-Weiß Essen",0,1]
[null,"1966/1967",9,"Borussia M'gladbach","Eintracht Frankfurt",0,0]
[null,"1966/1967",9,"Hamburger SV","Eintracht Braunschweig",1,0]
[null,"1966/1967",9,"Hannover 96","1.FC Nürnberg",2,0]
[null,"1966/1967",9,"FC Schalke 04","MSV Duisburg",2,1]
[null,"1966/1967",9,"FC Bayern München","TSV 1860 München",3,0]
[null,"1966/1967",9,"1.FC Kaiserslautern","VfB Stuttgart",3,3]
[null,"1966/1967",9,"Borussia Dortmund","1.FC Köln",6,1]
[null,"1966/1967",10,"MSV Duisburg","1.FC Kaiserslautern",1,1]
[null,"1966/1967",10,"VfB Stuttgart","Hamburger SV",1,3]
[null,"1966/1967",10,"1.FC Nürnberg","Karlsruher SC",2,2]
[null,"1966/1967",10,"Rot-Weiß Essen","Borussia M'gladbach",2,1]
[null,"1966/1967",10,"1.FC Köln","FC Bayern München",2,4]
[null,"1966/1967",10,"TSV 1860 München","Fortuna Düsseldorf",3,0]
[null,"1966/1967",10,"Eintracht Braunschweig","Borussia Dortmund",3,1]
[null,"1966/1967",10,"Werder Bremen","Hannover 96",3,0]
[null,"1966/1967",10,"Eintracht Frankfurt","FC Schalke 04",4,2]
[null,"1966/1967",11,"Hamburger SV","MSV Duisburg",0,0]
[null,"1966/1967",11,"1.FC Kaiserslautern","FC Schalke 04",1,0]
[null,"1966/1967",11,"Rot-Weiß Essen","Eintracht Frankfurt",1,1]
[null,"1966/1967",11,"Borussia Dortmund","VfB Stuttgart",1,1]
[null,"1966/1967",11,"Fortuna Düsseldorf","1.FC Köln",1,3]
[null,"1966/1967",11,"Hannover 96","TSV 1860 München",2,2]
[null,"1966/1967",11,"FC Bayern München","Eintracht Braunschweig",2,0]
[null,"1966/1967",11,"Borussia M'gladbach","1.FC Nürnberg",2,0]
[null,"1966/1967",11,"Karlsruher SC","Werder Bremen",4,4]
[null,"1966/1967",12,"1.FC Nürnberg","Rot-Weiß Essen",1,1]
[null,"1966/1967",12,"Eintracht Frankfurt","1.FC Kaiserslautern",1,1]
[null,"1966/1967",12,"MSV Duisburg","Borussia Dortmund",1,5]
[null,"1966/1967",12,"1.FC Köln","Hannover 96",1,1]
[null,"1966/1967",12,"VfB Stuttgart","FC Bayern München",2,4]
[null,"1966/1967",12,"Werder Bremen","Borussia M'gladbach",2,2]
[null,"1966/1967",12,"FC Schalke 04","Hamburger SV",2,0]
[null,"1966/1967",12,"TSV 1860 München","Karlsruher SC",3,0]
[null,"1966/1967",12,"Eintracht Braunschweig","Fortuna Düsseldorf",4,0]
[null,"1966/1967",13,"Rot-Weiß Essen","Werder Bremen",0,1]
[null,"1966/1967",13,"1.FC Nürnberg","Eintracht Frankfurt",0,1]
[null,"1966/1967",13,"Hamburger SV","1.FC Kaiserslautern",1,0]
[null,"1966/1967",13,"Karlsruher SC","1.FC Köln",1,1]
[null,"1966/1967",13,"Borussia M'gladbach","TSV 1860 München",2,3]
[null,"1966/1967",13,"FC Bayern München","MSV Duisburg",2,1]
[null,"1966/1967",13,"Fortuna Düsseldorf","VfB Stuttgart",3,3]
[null,"1966/1967",13,"Hannover 96","Eintracht Braunschweig",4,2]
[null,"1966/1967",13,"Borussia Dortmund","FC Schalke 04",6,2]
[null,"1966/1967",14,"TSV 1860 München","Rot-Weiß Essen",1,0]
[null,"1966/1967",14,"Eintracht Frankfurt","Hamburger SV",1,3]
[null,"1966/1967",14,"1.FC Kaiserslautern","Borussia Dortmund",1,1]
[null,"1966/1967",14,"1.FC Köln","Borussia M'gladbach",1,2]
[null,"1966/1967",14,"MSV Duisburg","Fortuna Düsseldorf",1,1]
[null,"1966/1967",14,"VfB Stuttgart","Hannover 96",1,2]
[null,"1966/1967",14,"FC Schalke 04","FC Bayern München",2,1]
[null,"1966/1967",14,"Werder Bremen","1.FC Nürnberg",4,4]
[null,"1966/1967",14,"Eintracht Braunschweig","Karlsruher SC",4,1]
[null,"1966/1967",15,"Borussia M'gladbach","Eintracht Braunschweig",0,0]
[null,"1966/1967",15,"Hamburger SV","Borussia Dortmund",1,1]
[null,"1966/1967",15,"Rot-Weiß Essen","1.FC Köln",1,3]
[null,"1966/1967",15,"1.FC Nürnberg","TSV 1860 München",2,2]
[null,"1966/1967",15,"Fortuna Düsseldorf","FC Schalke 04",3,1]
[null,"1966/1967",15,"Hannover 96","MSV Duisburg",3,0]
[null,"1966/1967",15,"Eintracht Frankfurt","Werder Bremen",4,1]
[null,"1966/1967",15,"Karlsruher SC","VfB Stuttgart",4,1]
[null,"1966/1967",15,"FC Bayern München","1.FC Kaiserslautern",5,0]
[null,"1966/1967",16,"Eintracht Braunschweig","Rot-Weiß Essen",0,0]
[null,"1966/1967",16,"VfB Stuttgart","Borussia M'gladbach",0,2]
[null,"1966/1967",16,"MSV Duisburg","Karlsruher SC",0,1]
[null,"1966/1967",16,"TSV 1860 München","Werder Bremen",2,1]
[null,"1966/1967",16,"FC Schalke 04","Hannover 96",2,1]
[null,"1966/1967",16,"1.FC Kaiserslautern","Fortuna Düsseldorf",2,1]
[null,"1966/1967",16,"1.FC Köln","1.FC Nürnberg",2,0]
[null,"1966/1967",16,"Hamburger SV","FC Bayern München",3,1]
[null,"1966/1967",16,"Borussia Dortmund","Eintracht Frankfurt",3,1]
[null,"1966/1967",17,"1.FC Nürnberg","Eintracht Braunschweig",0,4]
[null,"1966/1967",17,"Werder Bremen","1.FC Köln",1,3]
[null,"1966/1967",17,"FC Bayern München","Borussia Dortmund",1,0]
[null,"1966/1967",17,"Rot-Weiß Essen","VfB Stuttgart",1,3]
[null,"1966/1967",17,"Karlsruher SC","FC Schalke 04",1,0]
[null,"1966/1967",17,"Hannover 96","1.FC Kaiserslautern",2,1]
[null,"1966/1967",17,"Fortuna Düsseldorf","Hamburger SV",2,2]
[null,"1966/1967",17,"Eintracht Frankfurt","TSV 1860 München",3,3]
[null,"1966/1967",17,"Borussia M'gladbach","MSV Duisburg",3,3]
[null,"1966/1967",18,"Fortuna Düsseldorf","Borussia Dortmund",0,5]
[null,"1966/1967",18,"Rot-Weiß Essen","MSV Duisburg",0,1]
[null,"1966/1967",18,"Hannover 96","Hamburger SV",1,0]
[null,"1966/1967",18,"TSV 1860 München","1.FC Köln",2,1]
[null,"1966/1967",18,"Werder Bremen","Eintracht Braunschweig",2,3]
[null,"1966/1967",18,"Eintracht Frankfurt","FC Bayern München",2,1]
[null,"1966/1967",18,"Karlsruher SC","1.FC Kaiserslautern",2,2]
[null,"1966/1967",18,"1.FC Nürnberg","VfB Stuttgart",3,3]
[null,"1966/1967",18,"Borussia M'gladbach","FC Schalke 04",11,0]
[null,"1966/1967",19,"Eintracht Braunschweig","TSV 1860 München",1,0]
[null,"1966/1967",19,"FC Bayern München","Fortuna Düsseldorf",1,2]
[null,"1966/1967",19,"VfB Stuttgart","Werder Bremen",1,1]
[null,"1966/1967",19,"Hamburger SV","Karlsruher SC",1,0]
[null,"1966/1967",19,"1.FC Kaiserslautern","Borussia M'gladbach",1,0]
[null,"1966/1967",19,"FC Schalke 04","Rot-Weiß Essen",1,1]
[null,"1966/1967",19,"1.FC Köln","Eintracht Frankfurt",1,4]
[null,"1966/1967",19,"MSV Duisburg","1.FC Nürnberg",2,0]
[null,"1966/1967",19,"Borussia Dortmund","Hannover 96",3,0]
[null,"1966/1967",20,"1.FC Nürnberg","FC Schalke 04",0,4]
[null,"1966/1967",20,"TSV 1860 München","VfB Stuttgart",1,1]
[null,"1966/1967",20,"Werder Bremen","MSV Duisburg",1,1]
[null,"1966/1967",20,"Rot-Weiß Essen","1.FC Kaiserslautern",1,1]
[null,"1966/1967",20,"1.FC Köln","Eintracht Braunschweig",1,0]
[null,"1966/1967",20,"Hannover 96","FC Bayern München",2,1]
[null,"1966/1967",20,"Karlsruher SC","Borussia Dortmund",2,0]
[null,"1966/1967",20,"Eintracht Frankfurt","Fortuna Düsseldorf",3,0]
[null,"1966/1967",20,"Borussia M'gladbach","Hamburger SV",4,2]
[null,"1966/1967",21,"FC Schalke 04","Werder Bremen",0,1]
[null,"1966/1967",21,"MSV Duisburg","TSV 1860 München",1,2]
[null,"1966/1967",21,"Fortuna Düsseldorf","Hannover 96",1,0]
[null,"1966/1967",21,"Hamburger SV","Rot-Weiß Essen",1,1]
[null,"1966/1967",21,"1.FC Kaiserslautern","1.FC Nürnberg",1,1]
[null,"1966/1967",21,"FC Bayern München","Karlsruher SC",2,2]
[null,"1966/1967",21,"VfB Stuttgart","1.FC Köln",2,2]
[null,"1966/1967",21,"Eintracht Braunschweig","Eintracht Frankfurt",3,0]
[null,"1966/1967",21,"Borussia Dortmund","Borussia M'gladbach",3,2]
[null,"1966/1967",22,"TSV 1860 München","FC Schalke 04",0,2]
[null,"1966/1967",22,"Borussia M'gladbach","FC Bayern München",1,2]
[null,"1966/1967",22,"Werder Bremen","1.FC Kaiserslautern",1,1]
[null,"1966/1967",22,"1.FC Nürnberg","Hamburger SV",1,0]
[null,"1966/1967",22,"Rot-Weiß Essen","Borussia Dortmund",1,1]
[null,"1966/1967",22,"1.FC Köln","MSV Duisburg",1,1]
[null,"1966/1967",22,"Eintracht Braunschweig","VfB Stuttgart",1,1]
[null,"1966/1967",22,"Karlsruher SC","Fortuna Düsseldorf",3,2]
[null,"1966/1967",22,"Eintracht Frankfurt","Hannover 96",3,3]
[null,"1966/1967",23,"1.FC Kaiserslautern","TSV 1860 München",0,3]
[null,"1966/1967",23,"Borussia Dortmund","1.FC Nürnberg",0,1]
[null,"1966/1967",23,"MSV Duisburg","Eintracht Braunschweig",0,0]
[null,"1966/1967",23,"Hamburger SV","Werder Bremen",1,1]
[null,"1966/1967",23,"FC Schalke 04","1.FC Köln",1,0]
[null,"1966/1967",23,"Fortuna Düsseldorf","Borussia M'gladbach",2,2]
[null,"1966/1967",23,"Hannover 96","Karlsruher SC",3,1]
[null,"1966/1967",23,"VfB Stuttgart","Eintracht Frankfurt",3,0]
[null,"1966/1967",23,"FC Bayern München","Rot-Weiß Essen",4,1]
[null,"1966/1967",24,"1.FC Nürnberg","FC Bayern München",0,1]
[null,"1966/1967",24,"Rot-Weiß Essen","Fortuna Düsseldorf",0,4]
[null,"1966/1967",24,"Eintracht Braunschweig","FC Schalke 04",1,0]
[null,"1966/1967",24,"VfB Stuttgart","MSV Duisburg",1,3]
[null,"1966/1967",24,"TSV 1860 München","Hamburger SV",2,0]
[null,"1966/1967",24,"Werder Bremen","Borussia Dortmund",2,1]
[null,"1966/1967",24,"Borussia M'gladbach","Hannover 96",2,0]
[null,"1966/1967",24,"1.FC Köln","1.FC Kaiserslautern",2,1]
[null,"1966/1967",24,"Eintracht Frankfurt","Karlsruher SC",5,1]
[null,"1966/1967",25,"MSV Duisburg","Eintracht Frankfurt",0,0]
[null,"1966/1967",25,"Borussia Dortmund","TSV 1860 München",1,1]
[null,"1966/1967",25,"FC Bayern München","Werder Bremen",1,0]
[null,"1966/1967",25,"Hamburger SV","1.FC Köln",1,3]
[null,"1966/1967",25,"Hannover 96","Rot-Weiß Essen",1,0]
[null,"1966/1967",25,"Fortuna Düsseldorf","1.FC Nürnberg",2,2]
[null,"1966/1967",25,"1.FC Kaiserslautern","Eintracht Braunschweig",2,0]
[null,"1966/1967",25,"FC Schalke 04","VfB Stuttgart",2,0]
[null,"1966/1967",25,"Karlsruher SC","Borussia M'gladbach",3,3]
[null,"1966/1967",26,"VfB Stuttgart","1.FC Kaiserslautern",0,1]
[null,"1966/1967",26,"TSV 1860 München","FC Bayern München",1,0]
[null,"1966/1967",26,"Werder Bremen","Fortuna Düsseldorf",1,0]
[null,"1966/1967",26,"1.FC Nürnberg","Hannover 96",1,1]
[null,"1966/1967",26,"Eintracht Frankfurt","Borussia M'gladbach",1,0]
[null,"1966/1967",26,"1.FC Köln","Borussia Dortmund",1,1]
[null,"1966/1967",26,"Eintracht Braunschweig","Hamburger SV",2,0]
[null,"1966/1967",26,"Rot-Weiß Essen","Karlsruher SC",3,1]
[null,"1966/1967",26,"MSV Duisburg","FC Schalke 04",3,0]
[null,"1966/1967",27,"Fortuna Düsseldorf","TSV 1860 München",0,1]
[null,"1966/1967",27,"Karlsruher SC","1.FC Nürnberg",0,1]
[null,"1966/1967",27,"1.FC Kaiserslautern","MSV Duisburg",0,0]
[null,"1966/1967",27,"Borussia Dortmund","Eintracht Braunschweig",0,0]
[null,"1966/1967",27,"Hamburger SV","VfB Stuttgart",1,1]
[null,"1966/1967",27,"FC Schalke 04","Eintracht Frankfurt",1,1]
[null,"1966/1967",27,"FC Bayern München","1.FC Köln",2,0]
[null,"1966/1967",27,"Hannover 96","Werder Bremen",2,1]
[null,"1966/1967",27,"Borussia M'gladbach","Rot-Weiß Essen",4,3]
[null,"1966/1967",28,"Werder Bremen","Karlsruher SC",0,3]
[null,"1966/1967",28,"FC Schalke 04","1.FC Kaiserslautern",0,3]
[null,"1966/1967",28,"1.FC Nürnberg","Borussia M'gladbach",1,0]
[null,"1966/1967",28,"VfB Stuttgart","Borussia Dortmund",1,0]
[null,"1966/1967",28,"MSV Duisburg","Hamburger SV",2,1]
[null,"1966/1967",28,"1.FC Köln","Fortuna Düsseldorf",2,0]
[null,"1966/1967",28,"TSV 1860 München","Hannover 96",3,0]
[null,"1966/1967",28,"Eintracht Braunschweig","FC Bayern München",5,2]
[null,"1966/1967",28,"Eintracht Frankfurt","Rot-Weiß Essen",5,0]
[null,"1966/1967",29,"Hannover 96","1.FC Köln",0,1]
[null,"1966/1967",29,"FC Bayern München","VfB Stuttgart",1,1]
[null,"1966/1967",29,"Borussia M'gladbach","Werder Bremen",1,1]
[null,"1966/1967",29,"Hamburger SV","FC Schalke 04",1,1]
[null,"1966/1967",29,"Rot-Weiß Essen","1.FC Nürnberg",1,1]
[null,"1966/1967",29,"1.FC Kaiserslautern","Eintracht Frankfurt",1,1]
[null,"1966/1967",29,"Fortuna Düsseldorf","Eintracht Braunschweig",1,1]
[null,"1966/1967",29,"Karlsruher SC","TSV 1860 München",3,1]
[null,"1966/1967",29,"Borussia Dortmund","MSV Duisburg",4,1]
[null,"1966/1967",30,"MSV Duisburg","FC Bayern München",0,0]
[null,"1966/1967",30,"Werder Bremen","Rot-Weiß Essen",0,0]
[null,"1966/1967",30,"Eintracht Braunschweig","Hannover 96",0,1]
[null,"1966/1967",30,"FC Schalke 04","Borussia Dortmund",1,4]
[null,"1966/1967",30,"Eintracht Frankfurt","1.FC Nürnberg",1,4]
[null,"1966/1967",30,"1.FC Kaiserslautern","Hamburger SV",2,1]
[null,"1966/1967",30,"1.FC Köln","Karlsruher SC",2,2]
[null,"1966/1967",30,"VfB Stuttgart","Fortuna Düsseldorf",3,1]
[null,"1966/1967",30,"TSV 1860 München","Borussia M'gladbach",4,3]
[null,"1966/1967",31,"Hamburger SV","Eintracht Frankfurt",0,2]
[null,"1966/1967",31,"Fortuna Düsseldorf","MSV Duisburg",1,5]
[null,"1966/1967",31,"Rot-Weiß Essen","TSV 1860 München",2,2]
[null,"1966/1967",31,"1.FC Nürnberg","Werder Bremen",2,1]
[null,"1966/1967",31,"Borussia Dortmund","1.FC Kaiserslautern",2,1]
[null,"1966/1967",31,"Hannover 96","VfB Stuttgart",2,2]
[null,"1966/1967",31,"Borussia M'gladbach","1.FC Köln",3,0]
[null,"1966/1967",31,"Karlsruher SC","Eintracht Braunschweig",3,0]
[null,"1966/1967",31,"FC Bayern München","FC Schalke 04",5,0]
[null,"1966/1967",32,"TSV 1860 München","1.FC Nürnberg",1,2]
[null,"1966/1967",32,"1.FC Kaiserslautern","FC Bayern München",1,0]
[null,"1966/1967",32,"Eintracht Braunschweig","Borussia M'gladbach",2,1]
[null,"1966/1967",32,"1.FC Köln","Rot-Weiß Essen",2,1]
[null,"1966/1967",32,"FC Schalke 04","Fortuna Düsseldorf",2,1]
[null,"1966/1967",32,"VfB Stuttgart","Karlsruher SC",2,0]
[null,"1966/1967",32,"MSV Duisburg","Hannover 96",3,0]
[null,"1966/1967",32,"Werder Bremen","Eintracht Frankfurt",3,0]
[null,"1966/1967",32,"Borussia Dortmund","Hamburger SV",7,0]
[null,"1966/1967",33,"Rot-Weiß Essen","Eintracht Braunschweig",0,0]
[null,"1966/1967",33,"1.FC Nürnberg","1.FC Köln",1,1]
[null,"1966/1967",33,"Hannover 96","FC Schalke 04",1,2]
[null,"1966/1967",33,"Borussia M'gladbach","VfB Stuttgart",1,2]
[null,"1966/1967",33,"Werder Bremen","TSV 1860 München",2,4]
[null,"1966/1967",33,"FC Bayern München","Hamburger SV",3,1]
[null,"1966/1967",33,"Fortuna Düsseldorf","1.FC Kaiserslautern",3,1]
[null,"1966/1967",33,"Karlsruher SC","MSV Duisburg",3,0]
[null,"1966/1967",33,"Eintracht Frankfurt","Borussia Dortmund",3,3]
[null,"1966/1967",34,"1.FC Kaiserslautern","Hannover 96",1,0]
[null,"1966/1967",34,"VfB Stuttgart","Rot-Weiß Essen",1,0]
[null,"1966/1967",34,"FC Schalke 04","Karlsruher SC",1,3]
[null,"1966/1967",34,"MSV Duisburg","Borussia M'gladbach",1,3]
[null,"1966/1967",34,"TSV 1860 München","Eintracht Frankfurt",2,1]
[null,"1966/1967",34,"Hamburger SV","Fortuna Düsseldorf",2,1]
[null,"1966/1967",34,"Borussia Dortmund","FC Bayern München",4,0]
[null,"1966/1967",34,"1.FC Köln","Werder Bremen",4,1]
[null,"1966/1967",34,"Eintracht Braunschweig","1.FC Nürnberg",4,1]
[null,"1967/1968",1,"Alemannia Aachen","FC Bayern München",0,4]
[null,"1967/1968",1,"TSV 1860 München","Eintracht Braunschweig",1,0]
[null,"1967/1968",1,"Werder Bremen","Hamburger SV",1,4]
[null,"1967/1968",1,"MSV Duisburg","Borussia Dortmund",2,2]
[null,"1967/1968",1,"1.FC Nürnberg","Karlsruher SC",2,0]
[null,"1967/1968",1,"1.FC Kaiserslautern","Borussia Neunkirchen",2,1]
[null,"1967/1968",1,"FC Schalke 04","Borussia M'gladbach",3,4]
[null,"1967/1968",1,"Hannover 96","1.FC Köln",3,0]
[null,"1967/1968",1,"VfB Stuttgart","Eintracht Frankfurt",4,0]
[null,"1967/1968",2,"Karlsruher SC","MSV Duisburg",0,2]
[null,"1967/1968",2,"Eintracht Braunschweig","FC Schalke 04",1,0]
[null,"1967/1968",2,"Hamburger SV","1.FC Kaiserslautern",1,1]
[null,"1967/1968",2,"1.FC Köln","TSV 1860 München",1,0]
[null,"1967/1968",2,"FC Bayern München","Hannover 96",1,0]
[null,"1967/1968",2,"Borussia M'gladbach","VfB Stuttgart",1,1]
[null,"1967/1968",2,"Borussia Dortmund","Alemannia Aachen",1,0]
[null,"1967/1968",2,"Borussia Neunkirchen","1.FC Nürnberg",2,2]
[null,"1967/1968",2,"Eintracht Frankfurt","Werder Bremen",5,3]
[null,"1967/1968",3,"VfB Stuttgart","Eintracht Braunschweig",0,0]
[null,"1967/1968",3,"Werder Bremen","Borussia M'gladbach",0,4]
[null,"1967/1968",3,"FC Schalke 04","TSV 1860 München",0,0]
[null,"1967/1968",3,"FC Bayern München","1.FC Köln",0,3]
[null,"1967/1968",3,"1.FC Kaiserslautern","Eintracht Frankfurt",1,1]
[null,"1967/1968",3,"Hannover 96","Borussia Dortmund",2,2]
[null,"1967/1968",3,"Alemannia Aachen","Karlsruher SC",2,1]
[null,"1967/1968",3,"MSV Duisburg","Borussia Neunkirchen",3,1]
[null,"1967/1968",3,"1.FC Nürnberg","Hamburger SV",4,0]
[null,"1967/1968",4,"Borussia Neunkirchen","Alemannia Aachen",0,1]
[null,"1967/1968",4,"Eintracht Braunschweig","Werder Bremen",0,3]
[null,"1967/1968",4,"Eintracht Frankfurt","1.FC Nürnberg",1,2]
[null,"1967/1968",4,"Hamburger SV","MSV Duisburg",1,3]
[null,"1967/1968",4,"TSV 1860 München","VfB Stuttgart",3,3]
[null,"1967/1968",4,"Karlsruher SC","Hannover 96",3,1]
[null,"1967/1968",4,"Borussia Dortmund","FC Bayern München",6,3]
[null,"1967/1968",4,"1.FC Köln","FC Schalke 04",7,0]
[null,"1967/1968",4,"Borussia M'gladbach","1.FC Kaiserslautern",8,2]
[null,"1967/1968",5,"MSV Duisburg","Eintracht Frankfurt",0,1]
[null,"1967/1968",5,"1.FC Nürnberg","Borussia M'gladbach",1,0]
[null,"1967/1968",5,"Borussia Dortmund","1.FC Köln",2,0]
[null,"1967/1968",5,"1.FC Kaiserslautern","Eintracht Braunschweig",2,2]
[null,"1967/1968",5,"Hannover 96","Borussia Neunkirchen",2,0]
[null,"1967/1968",5,"Alemannia Aachen","Hamburger SV",2,0]
[null,"1967/1968",5,"Werder Bremen","TSV 1860 München",2,2]
[null,"1967/1968",5,"VfB Stuttgart","FC Schalke 04",2,0]
[null,"1967/1968",5,"FC Bayern München","Karlsruher SC",3,0]
[null,"1967/1968",6,"FC Schalke 04","Werder Bremen",0,2]
[null,"1967/1968",6,"TSV 1860 München","1.FC Kaiserslautern",0,3]
[null,"1967/1968",6,"Eintracht Braunschweig","1.FC Nürnberg",0,3]
[null,"1967/1968",6,"Borussia M'gladbach","MSV Duisburg",1,1]
[null,"1967/1968",6,"Borussia Neunkirchen","FC Bayern München",1,1]
[null,"1967/1968",6,"Eintracht Frankfurt","Alemannia Aachen",1,1]
[null,"1967/1968",6,"1.FC Köln","VfB Stuttgart",2,2]
[null,"1967/1968",6,"Karlsruher SC","Borussia Dortmund",2,0]
[null,"1967/1968",6,"Hamburger SV","Hannover 96",2,3]
[null,"1967/1968",7,"Karlsruher SC","1.FC Köln",0,1]
[null,"1967/1968",7,"Alemannia Aachen","Borussia M'gladbach",0,0]
[null,"1967/1968",7,"1.FC Kaiserslautern","FC Schalke 04",1,0]
[null,"1967/1968",7,"FC Bayern München","Hamburger SV",1,0]
[null,"1967/1968",7,"1.FC Nürnberg","TSV 1860 München",1,1]
[null,"1967/1968",7,"MSV Duisburg","Eintracht Braunschweig",2,3]
[null,"1967/1968",7,"Hannover 96","Eintracht Frankfurt",2,1]
[null,"1967/1968",7,"Werder Bremen","VfB Stuttgart",3,1]
[null,"1967/1968",7,"Borussia Dortmund","Borussia Neunkirchen",6,0]
[null,"1967/1968",8,"TSV 1860 München","MSV Duisburg",0,1]
[null,"1967/1968",8,"FC Schalke 04","1.FC Nürnberg",0,0]
[null,"1967/1968",8,"VfB Stuttgart","1.FC Kaiserslautern",0,1]
[null,"1967/1968",8,"1.FC Köln","Werder Bremen",1,4]
[null,"1967/1968",8,"Eintracht Frankfurt","FC Bayern München",2,3]
[null,"1967/1968",8,"Eintracht Braunschweig","Alemannia Aachen",2,0]
[null,"1967/1968",8,"Borussia Neunkirchen","Karlsruher SC",3,2]
[null,"1967/1968",8,"Hamburger SV","Borussia Dortmund",3,2]
[null,"1967/1968",8,"Borussia M'gladbach","Hannover 96",5,1]
[null,"1967/1968",9,"MSV Duisburg","FC Schalke 04",1,1]
[null,"1967/1968",9,"Hannover 96","Eintracht Braunschweig",1,1]
[null,"1967/1968",9,"Borussia Dortmund","Eintracht Frankfurt",2,1]
[null,"1967/1968",9,"Karlsruher SC","Hamburger SV",2,1]
[null,"1967/1968",9,"1.FC Kaiserslautern","Werder Bremen",2,2]
[null,"1967/1968",9,"Borussia Neunkirchen","1.FC Köln",2,1]
[null,"1967/1968",9,"FC Bayern München","Borussia M'gladbach",3,1]
[null,"1967/1968",9,"Alemannia Aachen","TSV 1860 München",3,3]
[null,"1967/1968",9,"1.FC Nürnberg","VfB Stuttgart",5,1]
[null,"1967/1968",10,"Werder Bremen","1.FC Nürnberg",0,4]
[null,"1967/1968",10,"Hamburger SV","Borussia Neunkirchen",0,0]
[null,"1967/1968",10,"Eintracht Braunschweig","FC Bayern München",1,0]
[null,"1967/1968",10,"Eintracht Frankfurt","Karlsruher SC",2,0]
[null,"1967/1968",10,"Borussia M'gladbach","Borussia Dortmund",2,2]
[null,"1967/1968",10,"FC Schalke 04","Alemannia Aachen",2,1]
[null,"1967/1968",10,"TSV 1860 München","Hannover 96",3,1]
[null,"1967/1968",10,"VfB Stuttgart","MSV Duisburg",3,0]
[null,"1967/1968",10,"1.FC Köln","1.FC Kaiserslautern",5,0]
[null,"1967/1968",11,"Borussia Dortmund","Eintracht Braunschweig",0,1]
[null,"1967/1968",11,"MSV Duisburg","Werder Bremen",1,1]
[null,"1967/1968",11,"FC Bayern München","TSV 1860 München",2,2]
[null,"1967/1968",11,"Hannover 96","FC Schalke 04",2,1]
[null,"1967/1968",11,"Borussia Neunkirchen","Eintracht Frankfurt",2,2]
[null,"1967/1968",11,"Karlsruher SC","Borussia M'gladbach",3,2]
[null,"1967/1968",11,"Hamburger SV","1.FC Köln",3,1]
[null,"1967/1968",11,"Alemannia Aachen","VfB Stuttgart",3,2]
[null,"1967/1968",11,"1.FC Nürnberg","1.FC Kaiserslautern",4,1]
[null,"1967/1968",12,"FC Schalke 04","FC Bayern München",0,1]
[null,"1967/1968",12,"1.FC Kaiserslautern","MSV Duisburg",0,1]
[null,"1967/1968",12,"Werder Bremen","Alemannia Aachen",0,1]
[null,"1967/1968",12,"Eintracht Frankfurt","Hamburger SV",1,1]
[null,"1967/1968",12,"Eintracht Braunschweig","Karlsruher SC",1,0]
[null,"1967/1968",12,"VfB Stuttgart","Hannover 96",2,0]
[null,"1967/1968",12,"TSV 1860 München","Borussia Dortmund",3,0]
[null,"1967/1968",12,"1.FC Köln","1.FC Nürnberg",3,3]
[null,"1967/1968",12,"Borussia M'gladbach","Borussia Neunkirchen",10,0]
[null,"1967/1968",13,"Karlsruher SC","TSV 1860 München",0,3]
[null,"1967/1968",13,"Borussia Neunkirchen","Eintracht Braunschweig",1,2]
[null,"1967/1968",13,"Alemannia Aachen","1.FC Kaiserslautern",1,1]
[null,"1967/1968",13,"Eintracht Frankfurt","1.FC Köln",1,2]
[null,"1967/1968",13,"Hamburger SV","Borussia M'gladbach",2,3]
[null,"1967/1968",13,"Borussia Dortmund","FC Schalke 04",2,1]
[null,"1967/1968",13,"MSV Duisburg","1.FC Nürnberg",2,0]
[null,"1967/1968",13,"FC Bayern München","VfB Stuttgart",3,1]
[null,"1967/1968",13,"Hannover 96","Werder Bremen",4,2]
[null,"1967/1968",14,"Eintracht Braunschweig","Hamburger SV",0,1]
[null,"1967/1968",14,"1.FC Kaiserslautern","Hannover 96",0,0]
[null,"1967/1968",14,"Borussia M'gladbach","Eintracht Frankfurt",1,1]
[null,"1967/1968",14,"FC Schalke 04","Karlsruher SC",2,0]
[null,"1967/1968",14,"1.FC Köln","MSV Duisburg",3,0]
[null,"1967/1968",14,"VfB Stuttgart","Borussia Dortmund",4,1]
[null,"1967/1968",14,"1.FC Nürnberg","Alemannia Aachen",4,1]
[null,"1967/1968",14,"Werder Bremen","FC Bayern München",4,1]
[null,"1967/1968",14,"TSV 1860 München","Borussia Neunkirchen",5,0]
[null,"1967/1968",15,"Karlsruher SC","VfB Stuttgart",1,4]
[null,"1967/1968",15,"Hannover 96","1.FC Nürnberg",1,1]
[null,"1967/1968",15,"Borussia Dortmund","Werder Bremen",1,1]
[null,"1967/1968",15,"Borussia Neunkirchen","FC Schalke 04",1,5]
[null,"1967/1968",15,"Eintracht Frankfurt","Eintracht Braunschweig",2,0]
[null,"1967/1968",15,"1.FC Köln","Borussia M'gladbach",2,5]
[null,"1967/1968",15,"Hamburger SV","TSV 1860 München",2,2]
[null,"1967/1968",15,"MSV Duisburg","Alemannia Aachen",3,0]
[null,"1967/1968",15,"FC Bayern München","1.FC Kaiserslautern",4,1]
[null,"1967/1968",16,"MSV Duisburg","Hannover 96",1,2]
[null,"1967/1968",16,"1.FC Kaiserslautern","Borussia Dortmund",2,2]
[null,"1967/1968",16,"Eintracht Braunschweig","Borussia M'gladbach",2,1]
[null,"1967/1968",16,"VfB Stuttgart","Borussia Neunkirchen",2,1]
[null,"1967/1968",16,"FC Schalke 04","Hamburger SV",3,0]
[null,"1967/1968",16,"Alemannia Aachen","1.FC Köln",4,2]
[null,"1967/1968",16,"TSV 1860 München","Eintracht Frankfurt",5,0]
[null,"1967/1968",16,"Werder Bremen","Karlsruher SC",6,1]
[null,"1967/1968",16,"1.FC Nürnberg","FC Bayern München",7,3]
[null,"1967/1968",17,"Borussia Neunkirchen","Werder Bremen",0,0]
[null,"1967/1968",17,"FC Bayern München","MSV Duisburg",0,4]
[null,"1967/1968",17,"Borussia Dortmund","1.FC Nürnberg",1,2]
[null,"1967/1968",17,"Hamburger SV","VfB Stuttgart",1,1]
[null,"1967/1968",17,"Hannover 96","Alemannia Aachen",1,1]
[null,"1967/1968",17,"1.FC Köln","Eintracht Braunschweig",1,0]
[null,"1967/1968",17,"Borussia M'gladbach","TSV 1860 München",1,1]
[null,"1967/1968",17,"Eintracht Frankfurt","FC Schalke 04",2,2]
[null,"1967/1968",17,"Karlsruher SC","1.FC Kaiserslautern",2,2]
[null,"1967/1968",18,"Eintracht Braunschweig","TSV 1860 München",0,1]
[null,"1967/1968",18,"Karlsruher SC","1.FC Nürnberg",1,1]
[null,"1967/1968",18,"Borussia M'gladbach","FC Schalke 04",1,6]
[null,"1967/1968",18,"Hamburger SV","Werder Bremen",2,1]
[null,"1967/1968",18,"1.FC Köln","Hannover 96",2,1]
[null,"1967/1968",18,"Borussia Neunkirchen","1.FC Kaiserslautern",2,1]
[null,"1967/1968",18,"Borussia Dortmund","MSV Duisburg",4,3]
[null,"1967/1968",18,"FC Bayern München","Alemannia Aachen",4,1]
[null,"1967/1968",18,"Eintracht Frankfurt","VfB Stuttgart",4,0]
[null,"1967/1968",19,"TSV 1860 München","1.FC Köln",0,1]
[null,"1967/1968",19,"FC Schalke 04","Eintracht Braunschweig",0,2]
[null,"1967/1968",19,"VfB Stuttgart","Borussia M'gladbach",1,3]
[null,"1967/1968",19,"Hannover 96","FC Bayern München",2,1]
[null,"1967/1968",19,"MSV Duisburg","Karlsruher SC",2,1]
[null,"1967/1968",19,"Werder Bremen","Eintracht Frankfurt",2,0]
[null,"1967/1968",19,"1.FC Nürnberg","Borussia Neunkirchen",3,0]
[null,"1967/1968",19,"Alemannia Aachen","Borussia Dortmund",3,0]
[null,"1967/1968",19,"1.FC Kaiserslautern","Hamburger SV",3,3]
[null,"1967/1968",20,"TSV 1860 München","FC Schalke 04",1,2]
[null,"1967/1968",20,"Borussia Neunkirchen","MSV Duisburg",2,1]
[null,"1967/1968",20,"Karlsruher SC","Alemannia Aachen",2,4]
[null,"1967/1968",20,"Eintracht Braunschweig","VfB Stuttgart",2,1]
[null,"1967/1968",20,"Borussia M'gladbach","Werder Bremen",3,1]
[null,"1967/1968",20,"Borussia Dortmund","Hannover 96",3,1]
[null,"1967/1968",20,"Hamburger SV","1.FC Nürnberg",3,1]
[null,"1967/1968",20,"1.FC Köln","FC Bayern München",3,3]
[null,"1967/1968",20,"Eintracht Frankfurt","1.FC Kaiserslautern",5,2]
[null,"1967/1968",21,"1.FC Kaiserslautern","Borussia M'gladbach",0,1]
[null,"1967/1968",21,"1.FC Nürnberg","Eintracht Frankfurt",0,2]
[null,"1967/1968",21,"FC Schalke 04","1.FC Köln",1,1]
[null,"1967/1968",21,"MSV Duisburg","Hamburger SV",1,2]
[null,"1967/1968",21,"VfB Stuttgart","TSV 1860 München",2,1]
[null,"1967/1968",21,"Hannover 96","Karlsruher SC",2,0]
[null,"1967/1968",21,"FC Bayern München","Borussia Dortmund",2,0]
[null,"1967/1968",21,"Werder Bremen","Eintracht Braunschweig",3,2]
[null,"1967/1968",21,"Alemannia Aachen","Borussia Neunkirchen",5,1]
[null,"1967/1968",22,"Karlsruher SC","FC Bayern München",0,2]
[null,"1967/1968",22,"Eintracht Braunschweig","1.FC Kaiserslautern",1,0]
[null,"1967/1968",22,"Borussia M'gladbach","1.FC Nürnberg",1,1]
[null,"1967/1968",22,"TSV 1860 München","Werder Bremen",1,3]
[null,"1967/1968",22,"FC Schalke 04","VfB Stuttgart",2,1]
[null,"1967/1968",22,"Eintracht Frankfurt","MSV Duisburg",3,2]
[null,"1967/1968",22,"Borussia Neunkirchen","Hannover 96",3,1]
[null,"1967/1968",22,"1.FC Köln","Borussia Dortmund",3,0]
[null,"1967/1968",22,"Hamburger SV","Alemannia Aachen",5,1]
[null,"1967/1968",23,"1.FC Kaiserslautern","TSV 1860 München",0,0]
[null,"1967/1968",23,"Hannover 96","Hamburger SV",2,2]
[null,"1967/1968",23,"MSV Duisburg","Borussia M'gladbach",2,2]
[null,"1967/1968",23,"Alemannia Aachen","Eintracht Frankfurt",2,1]
[null,"1967/1968",23,"Werder Bremen","FC Schalke 04",2,0]
[null,"1967/1968",23,"VfB Stuttgart","1.FC Köln",2,0]
[null,"1967/1968",23,"1.FC Nürnberg","Eintracht Braunschweig",3,1]
[null,"1967/1968",23,"FC Bayern München","Borussia Neunkirchen",4,0]
[null,"1967/1968",23,"Borussia Dortmund","Karlsruher SC",5,0]
[null,"1967/1968",24,"VfB Stuttgart","Werder Bremen",0,3]
[null,"1967/1968",24,"TSV 1860 München","1.FC Nürnberg",1,2]
[null,"1967/1968",24,"FC Schalke 04","1.FC Kaiserslautern",2,1]
[null,"1967/1968",24,"Hamburger SV","FC Bayern München",2,1]
[null,"1967/1968",24,"Eintracht Braunschweig","MSV Duisburg",3,0]
[null,"1967/1968",24,"Borussia M'gladbach","Alemannia Aachen",3,0]
[null,"1967/1968",24,"Eintracht Frankfurt","Hannover 96",3,0]
[null,"1967/1968",24,"Borussia Neunkirchen","Borussia Dortmund",3,2]
[null,"1967/1968",24,"1.FC Köln","Karlsruher SC",4,0]
[null,"1967/1968",25,"Hannover 96","Borussia M'gladbach",1,1]
[null,"1967/1968",25,"1.FC Kaiserslautern","VfB Stuttgart",2,0]
[null,"1967/1968",25,"Alemannia Aachen","Eintracht Braunschweig",2,1]
[null,"1967/1968",25,"1.FC Nürnberg","FC Schalke 04",2,3]
[null,"1967/1968",25,"Borussia Dortmund","Hamburger SV",2,2]
[null,"1967/1968",25,"MSV Duisburg","TSV 1860 München",2,1]
[null,"1967/1968",25,"Werder Bremen","1.FC Köln",3,1]
[null,"1967/1968",25,"FC Bayern München","Eintracht Frankfurt",3,0]
[null,"1967/1968",25,"Karlsruher SC","Borussia Neunkirchen",5,1]
[null,"1967/1968",26,"FC Schalke 04","MSV Duisburg",0,3]
[null,"1967/1968",26,"Eintracht Braunschweig","Hannover 96",0,1]
[null,"1967/1968",26,"Hamburger SV","Karlsruher SC",0,0]
[null,"1967/1968",26,"VfB Stuttgart","1.FC Nürnberg",1,1]
[null,"1967/1968",26,"Borussia M'gladbach","FC Bayern München",1,1]
[null,"1967/1968",26,"Werder Bremen","1.FC Kaiserslautern",2,1]
[null,"1967/1968",26,"1.FC Köln","Borussia Neunkirchen",2,1]
[null,"1967/1968",26,"Eintracht Frankfurt","Borussia Dortmund",4,1]
[null,"1967/1968",26,"TSV 1860 München","Alemannia Aachen",6,0]
[null,"1967/1968",27,"1.FC Nürnberg","Werder Bremen",0,0]
[null,"1967/1968",27,"Karlsruher SC","Eintracht Frankfurt",0,1]
[null,"1967/1968",27,"Borussia Neunkirchen","Hamburger SV",0,3]
[null,"1967/1968",27,"Hannover 96","TSV 1860 München",1,2]
[null,"1967/1968",27,"Alemannia Aachen","FC Schalke 04",2,1]
[null,"1967/1968",27,"1.FC Kaiserslautern","1.FC Köln",2,1]
[null,"1967/1968",27,"MSV Duisburg","VfB Stuttgart",3,3]
[null,"1967/1968",27,"Borussia Dortmund","Borussia M'gladbach",3,1]
[null,"1967/1968",27,"FC Bayern München","Eintracht Braunschweig",3,0]
[null,"1967/1968",28,"Borussia M'gladbach","Karlsruher SC",0,0]
[null,"1967/1968",28,"FC Schalke 04","Hannover 96",1,1]
[null,"1967/1968",28,"1.FC Kaiserslautern","1.FC Nürnberg",1,0]
[null,"1967/1968",28,"Eintracht Braunschweig","Borussia Dortmund",2,0]
[null,"1967/1968",28,"1.FC Köln","Hamburger SV",2,1]
[null,"1967/1968",28,"Werder Bremen","MSV Duisburg",3,3]
[null,"1967/1968",28,"TSV 1860 München","FC Bayern München",3,2]
[null,"1967/1968",28,"Eintracht Frankfurt","Borussia Neunkirchen",4,1]
[null,"1967/1968",28,"VfB Stuttgart","Alemannia Aachen",4,1]
[null,"1967/1968",29,"Borussia Dortmund","TSV 1860 München",0,0]
[null,"1967/1968",29,"Hamburger SV","Eintracht Frankfurt",0,1]
[null,"1967/1968",29,"Borussia Neunkirchen","Borussia M'gladbach",0,3]
[null,"1967/1968",29,"Alemannia Aachen","Werder Bremen",1,1]
[null,"1967/1968",29,"Karlsruher SC","Eintracht Braunschweig",1,2]
[null,"1967/1968",29,"1.FC Nürnberg","1.FC Köln",2,1]
[null,"1967/1968",29,"FC Bayern München","FC Schalke 04",2,0]
[null,"1967/1968",29,"Hannover 96","VfB Stuttgart",2,1]
[null,"1967/1968",29,"MSV Duisburg","1.FC Kaiserslautern",7,0]
[null,"1967/1968",30,"Werder Bremen","Hannover 96",1,0]
[null,"1967/1968",30,"FC Schalke 04","Borussia Dortmund",1,0]
[null,"1967/1968",30,"1.FC Kaiserslautern","Alemannia Aachen",1,0]
[null,"1967/1968",30,"VfB Stuttgart","FC Bayern München",3,0]
[null,"1967/1968",30,"TSV 1860 München","Karlsruher SC",3,0]
[null,"1967/1968",30,"Borussia M'gladbach","Hamburger SV",4,1]
[null,"1967/1968",30,"1.FC Nürnberg","MSV Duisburg",4,1]
[null,"1967/1968",30,"Eintracht Braunschweig","Borussia Neunkirchen",4,2]
[null,"1967/1968",30,"1.FC Köln","Eintracht Frankfurt",5,1]
[null,"1967/1968",31,"Hamburger SV","Eintracht Braunschweig",0,0]
[null,"1967/1968",31,"Borussia Neunkirchen","TSV 1860 München",1,0]
[null,"1967/1968",31,"Karlsruher SC","FC Schalke 04",1,0]
[null,"1967/1968",31,"Borussia Dortmund","VfB Stuttgart",2,1]
[null,"1967/1968",31,"Hannover 96","1.FC Kaiserslautern",2,0]
[null,"1967/1968",31,"FC Bayern München","Werder Bremen",2,3]
[null,"1967/1968",31,"Alemannia Aachen","1.FC Nürnberg",2,0]
[null,"1967/1968",31,"MSV Duisburg","1.FC Köln",3,2]
[null,"1967/1968",31,"Eintracht Frankfurt","Borussia M'gladbach",3,1]
[null,"1967/1968",32,"Eintracht Braunschweig","Eintracht Frankfurt",0,0]
[null,"1967/1968",32,"TSV 1860 München","Hamburger SV",0,1]
[null,"1967/1968",32,"Borussia M'gladbach","1.FC Köln",1,0]
[null,"1967/1968",32,"1.FC Kaiserslautern","FC Bayern München",2,2]
[null,"1967/1968",32,"1.FC Nürnberg","Hannover 96",2,1]
[null,"1967/1968",32,"Werder Bremen","Borussia Dortmund",2,1]
[null,"1967/1968",32,"FC Schalke 04","Borussia Neunkirchen",2,0]
[null,"1967/1968",32,"VfB Stuttgart","Karlsruher SC",3,2]
[null,"1967/1968",32,"Alemannia Aachen","MSV Duisburg",4,4]
[null,"1967/1968",33,"FC Bayern München","1.FC Nürnberg",0,2]
[null,"1967/1968",33,"Borussia Neunkirchen","VfB Stuttgart",0,5]
[null,"1967/1968",33,"Hamburger SV","FC Schalke 04",1,1]
[null,"1967/1968",33,"Karlsruher SC","Werder Bremen",1,2]
[null,"1967/1968",33,"Borussia M'gladbach","Eintracht Braunschweig",2,0]
[null,"1967/1968",33,"Eintracht Frankfurt","TSV 1860 München",2,1]
[null,"1967/1968",33,"Hannover 96","MSV Duisburg",2,2]
[null,"1967/1968",33,"1.FC Köln","Alemannia Aachen",3,1]
[null,"1967/1968",33,"Borussia Dortmund","1.FC Kaiserslautern",4,0]
[null,"1967/1968",34,"FC Schalke 04","Eintracht Frankfurt",0,0]
[null,"1967/1968",34,"TSV 1860 München","Borussia M'gladbach",0,0]
[null,"1967/1968",34,"1.FC Kaiserslautern","Karlsruher SC",1,1]
[null,"1967/1968",34,"Eintracht Braunschweig","1.FC Köln",1,2]
[null,"1967/1968",34,"1.FC Nürnberg","Borussia Dortmund",2,1]
[null,"1967/1968",34,"Werder Bremen","Borussia Neunkirchen",2,1]
[null,"1967/1968",34,"Alemannia Aachen","Hannover 96",2,2]
[null,"1967/1968",34,"MSV Duisburg","FC Bayern München",3,3]
[null,"1967/1968",34,"VfB Stuttgart","Hamburger SV",4,1]
[null,"1968/1969",1,"1.FC Nürnberg","Alemannia Aachen",1,4]
[null,"1968/1969",1,"MSV Duisburg","FC Schalke 04",1,0]
[null,"1968/1969",1,"Borussia Dortmund","Borussia M'gladbach",1,3]
[null,"1968/1969",1,"Eintracht Braunschweig","Hamburger SV",1,0]
[null,"1968/1969",1,"VfB Stuttgart","TSV 1860 München",1,1]
[null,"1968/1969",1,"FC Bayern München","1.FC Kaiserslautern",2,0]
[null,"1968/1969",1,"Eintracht Frankfurt","Hertha BSC Berlin",2,0]
[null,"1968/1969",1,"1.FC Köln","Kickers Offenbach",2,1]
[null,"1968/1969",1,"Werder Bremen","Hannover 96",3,2]
[null,"1968/1969",2,"FC Schalke 04","Eintracht Braunschweig",0,2]
[null,"1968/1969",2,"TSV 1860 München","FC Bayern München",0,3]
[null,"1968/1969",2,"Hertha BSC Berlin","MSV Duisburg",1,1]
[null,"1968/1969",2,"Hannover 96","Borussia Dortmund",1,1]
[null,"1968/1969",2,"1.FC Kaiserslautern","Werder Bremen",1,0]
[null,"1968/1969",2,"Borussia M'gladbach","1.FC Köln",2,1]
[null,"1968/1969",2,"Kickers Offenbach","1.FC Nürnberg",2,1]
[null,"1968/1969",2,"Hamburger SV","VfB Stuttgart",2,1]
[null,"1968/1969",2,"Alemannia Aachen","Eintracht Frankfurt",4,2]
[null,"1968/1969",3,"MSV Duisburg","Eintracht Frankfurt",1,1]
[null,"1968/1969",3,"VfB Stuttgart","FC Schalke 04",1,1]
[null,"1968/1969",3,"1.FC Köln","Hannover 96",1,0]
[null,"1968/1969",3,"Kickers Offenbach","Alemannia Aachen",1,1]
[null,"1968/1969",3,"MSV Duisburg","Eintracht Frankfurt",1,1]
[null,"1968/1969",3,"VfB Stuttgart","FC Schalke 04",1,1]
[null,"1968/1969",3,"1.FC Köln","Hannover 96",1,0]
[null,"1968/1969",3,"Kickers Offenbach","Alemannia Aachen",1,1]
[null,"1968/1969",3,"Borussia Dortmund","1.FC Kaiserslautern",2,3]
[null,"1968/1969",3,"Borussia Dortmund","1.FC Kaiserslautern",2,3]
[null,"1968/1969",3,"Eintracht Braunschweig","Hertha BSC Berlin",3,3]
[null,"1968/1969",3,"Eintracht Braunschweig","Hertha BSC Berlin",3,3]
[null,"1968/1969",3,"1.FC Nürnberg","Borussia M'gladbach",4,0]
[null,"1968/1969",3,"Werder Bremen","TSV 1860 München",4,1]
[null,"1968/1969",3,"1.FC Nürnberg","Borussia M'gladbach",4,0]
[null,"1968/1969",3,"Werder Bremen","TSV 1860 München",4,1]
[null,"1968/1969",3,"FC Bayern München","Hamburger SV",5,1]
[null,"1968/1969",3,"FC Bayern München","Hamburger SV",5,1]
[null,"1968/1969",5,"1.FC Köln","TSV 1860 München",0,0]
[null,"1968/1969",5,"Eintracht Braunschweig","MSV Duisburg",0,0]
[null,"1968/1969",5,"1.FC Nürnberg","1.FC Kaiserslautern",1,0]
[null,"1968/1969",5,"Werder Bremen","FC Schalke 04",1,3]
[null,"1968/1969",5,"Kickers Offenbach","Hannover 96",1,1]
[null,"1968/1969",5,"Borussia M'gladbach","Alemannia Aachen",2,2]
[null,"1968/1969",5,"VfB Stuttgart","Eintracht Frankfurt",2,0]
[null,"1968/1969",5,"FC Bayern München","Hertha BSC Berlin",3,0]
[null,"1968/1969",5,"Borussia Dortmund","Hamburger SV",3,1]
[null,"1968/1969",6,"Alemannia Aachen","Eintracht Braunschweig",1,4]
[null,"1968/1969",6,"Hertha BSC Berlin","Werder Bremen",1,0]
[null,"1968/1969",6,"Eintracht Frankfurt","FC Bayern München",1,1]
[null,"1968/1969",6,"MSV Duisburg","VfB Stuttgart",2,0]
[null,"1968/1969",6,"Hannover 96","Borussia M'gladbach",2,3]
[null,"1968/1969",6,"TSV 1860 München","1.FC Nürnberg",2,0]
[null,"1968/1969",6,"1.FC Kaiserslautern","Kickers Offenbach",2,1]
[null,"1968/1969",6,"Hamburger SV","1.FC Köln",3,1]
[null,"1968/1969",6,"FC Schalke 04","Borussia Dortmund",4,1]
[null,"1968/1969",7,"1.FC Nürnberg","Hamburger SV",0,0]
[null,"1968/1969",7,"Werder Bremen","Eintracht Frankfurt",0,1]
[null,"1968/1969",7,"Kickers Offenbach","TSV 1860 München",2,3]
[null,"1968/1969",7,"VfB Stuttgart","Eintracht Braunschweig",2,2]
[null,"1968/1969",7,"1.FC Köln","FC Schalke 04",2,0]
[null,"1968/1969",7,"Borussia Dortmund","Hertha BSC Berlin",2,2]
[null,"1968/1969",7,"FC Bayern München","MSV Duisburg",2,2]
[null,"1968/1969",7,"Borussia M'gladbach","1.FC Kaiserslautern",4,0]
[null,"1968/1969",7,"Hannover 96","Alemannia Aachen",5,2]
[null,"1968/1969",8,"1.FC Kaiserslautern","Hannover 96",0,0]
[null,"1968/1969",8,"TSV 1860 München","Borussia M'gladbach",0,4]
[null,"1968/1969",8,"Eintracht Frankfurt","Borussia Dortmund",1,1]
[null,"1968/1969",8,"Alemannia Aachen","VfB Stuttgart",1,3]
[null,"1968/1969",8,"Hertha BSC Berlin","1.FC Köln",2,1]
[null,"1968/1969",8,"MSV Duisburg","Werder Bremen",2,0]
[null,"1968/1969",8,"Eintracht Braunschweig","FC Bayern München",2,3]
[null,"1968/1969",8,"Hamburger SV","Kickers Offenbach",3,0]
[null,"1968/1969",8,"FC Schalke 04","1.FC Nürnberg",4,1]
[null,"1968/1969",9,"Kickers Offenbach","FC Schalke 04",1,0]
[null,"1968/1969",9,"Borussia M'gladbach","Hamburger SV",1,2]
[null,"1968/1969",9,"1.FC Kaiserslautern","Alemannia Aachen",2,1]
[null,"1968/1969",9,"1.FC Köln","Eintracht Frankfurt",2,1]
[null,"1968/1969",9,"Borussia Dortmund","MSV Duisburg",2,1]
[null,"1968/1969",9,"Werder Bremen","Eintracht Braunschweig",2,1]
[null,"1968/1969",9,"FC Bayern München","VfB Stuttgart",2,0]
[null,"1968/1969",9,"1.FC Nürnberg","Hertha BSC Berlin",3,0]
[null,"1968/1969",9,"Hannover 96","TSV 1860 München",3,2]
[null,"1968/1969",10,"MSV Duisburg","1.FC Köln",0,0]
[null,"1968/1969",10,"FC Schalke 04","Borussia M'gladbach",1,1]
[null,"1968/1969",10,"TSV 1860 München","1.FC Kaiserslautern",1,0]
[null,"1968/1969",10,"Hertha BSC Berlin","Kickers Offenbach",1,0]
[null,"1968/1969",10,"Hamburger SV","Hannover 96",1,4]
[null,"1968/1969",10,"Alemannia Aachen","FC Bayern München",2,4]
[null,"1968/1969",10,"VfB Stuttgart","Werder Bremen",2,2]
[null,"1968/1969",10,"Eintracht Frankfurt","1.FC Nürnberg",3,0]
[null,"1968/1969",10,"Eintracht Braunschweig","Borussia Dortmund",4,3]
[null,"1968/1969",11,"TSV 1860 München","Alemannia Aachen",0,0]
[null,"1968/1969",11,"Borussia M'gladbach","Hertha BSC Berlin",0,1]
[null,"1968/1969",11,"1.FC Kaiserslautern","Hamburger SV",0,1]
[null,"1968/1969",11,"Werder Bremen","FC Bayern München",1,0]
[null,"1968/1969",11,"1.FC Nürnberg","MSV Duisburg",1,1]
[null,"1968/1969",11,"Hannover 96","FC Schalke 04",1,0]
[null,"1968/1969",11,"Borussia Dortmund","VfB Stuttgart",1,0]
[null,"1968/1969",11,"1.FC Köln","Eintracht Braunschweig",2,0]
[null,"1968/1969",11,"Kickers Offenbach","Eintracht Frankfurt",4,2]
[null,"1968/1969",12,"Eintracht Braunschweig","1.FC Nürnberg",0,2]
[null,"1968/1969",12,"FC Schalke 04","1.FC Kaiserslautern",1,0]
[null,"1968/1969",12,"Eintracht Frankfurt","Borussia M'gladbach",1,1]
[null,"1968/1969",12,"Hamburger SV","TSV 1860 München",2,0]
[null,"1968/1969",12,"Alemannia Aachen","Werder Bremen",2,1]
[null,"1968/1969",12,"MSV Duisburg","Kickers Offenbach",2,1]
[null,"1968/1969",12,"Hertha BSC Berlin","Hannover 96",2,1]
[null,"1968/1969",12,"FC Bayern München","Borussia Dortmund",4,1]
[null,"1968/1969",12,"VfB Stuttgart","1.FC Köln",6,1]
[null,"1968/1969",13,"Kickers Offenbach","Eintracht Braunschweig",0,1]
[null,"1968/1969",13,"1.FC Kaiserslautern","Hertha BSC Berlin",1,0]
[null,"1968/1969",13,"1.FC Nürnberg","VfB Stuttgart",1,1]
[null,"1968/1969",13,"Borussia M'gladbach","MSV Duisburg",1,0]
[null,"1968/1969",13,"Hannover 96","Eintracht Frankfurt",1,2]
[null,"1968/1969",13,"1.FC Köln","FC Bayern München",1,1]
[null,"1968/1969",13,"Hamburger SV","Alemannia Aachen",3,0]
[null,"1968/1969",13,"Borussia Dortmund","Werder Bremen",3,2]
[null,"1968/1969",13,"TSV 1860 München","FC Schalke 04",3,1]
[null,"1968/1969",14,"Alemannia Aachen","Borussia Dortmund",0,1]
[null,"1968/1969",14,"MSV Duisburg","Hannover 96",0,0]
[null,"1968/1969",14,"Eintracht Braunschweig","Borussia M'gladbach",0,0]
[null,"1968/1969",14,"Hertha BSC Berlin","TSV 1860 München",1,2]
[null,"1968/1969",14,"VfB Stuttgart","Kickers Offenbach",1,0]
[null,"1968/1969",14,"Eintracht Frankfurt","1.FC Kaiserslautern",2,2]
[null,"1968/1969",14,"FC Schalke 04","Hamburger SV",2,3]
[null,"1968/1969",14,"Werder Bremen","1.FC Köln",3,1]
[null,"1968/1969",14,"FC Bayern München","1.FC Nürnberg",3,0]
[null,"1968/1969",15,"Kickers Offenbach","FC Bayern München",0,0]
[null,"1968/1969",15,"Hamburger SV","Hertha BSC Berlin",0,0]
[null,"1968/1969",15,"Hannover 96","Eintracht Braunschweig",1,1]
[null,"1968/1969",15,"1.FC Nürnberg","Werder Bremen",1,1]
[null,"1968/1969",15,"Borussia Dortmund","1.FC Köln",1,1]
[null,"1968/1969",15,"TSV 1860 München","Eintracht Frankfurt",1,0]
[null,"1968/1969",15,"1.FC Kaiserslautern","MSV Duisburg",3,0]
[null,"1968/1969",15,"Alemannia Aachen","FC Schalke 04",4,1]
[null,"1968/1969",15,"Borussia M'gladbach","VfB Stuttgart",4,4]
[null,"1968/1969",16,"FC Bayern München","Borussia M'gladbach",0,0]
[null,"1968/1969",16,"VfB Stuttgart","Hannover 96",1,0]
[null,"1968/1969",16,"1.FC Köln","Alemannia Aachen",1,2]
[null,"1968/1969",16,"Hertha BSC Berlin","FC Schalke 04",1,0]
[null,"1968/1969",16,"Werder Bremen","Kickers Offenbach",2,0]
[null,"1968/1969",16,"Eintracht Frankfurt","Hamburger SV",2,2]
[null,"1968/1969",16,"Eintracht Braunschweig","1.FC Kaiserslautern",3,0]
[null,"1968/1969",16,"Borussia Dortmund","1.FC Nürnberg",3,1]
[null,"1968/1969",16,"MSV Duisburg","TSV 1860 München",3,4]
[null,"1968/1969",17,"1.FC Nürnberg","1.FC Köln",0,1]
[null,"1968/1969",17,"Alemannia Aachen","Hertha BSC Berlin",0,0]
[null,"1968/1969",17,"TSV 1860 München","Eintracht Braunschweig",0,1]
[null,"1968/1969",17,"Borussia M'gladbach","Werder Bremen",1,1]
[null,"1968/1969",17,"Hamburger SV","MSV Duisburg",1,2]
[null,"1968/1969",17,"Hannover 96","FC Bayern München",1,0]
[null,"1968/1969",17,"1.FC Kaiserslautern","VfB Stuttgart",1,3]
[null,"1968/1969",17,"FC Schalke 04","Eintracht Frankfurt",2,0]
[null,"1968/1969",17,"Kickers Offenbach","Borussia Dortmund",4,3]
[null,"1968/1969",18,"Hamburger SV","Eintracht Braunschweig",0,0]
[null,"1968/1969",18,"FC Schalke 04","MSV Duisburg",1,0]
[null,"1968/1969",18,"Borussia M'gladbach","Borussia Dortmund",1,0]
[null,"1968/1969",18,"Hannover 96","Werder Bremen",1,0]
[null,"1968/1969",18,"Hertha BSC Berlin","Eintracht Frankfurt",2,0]
[null,"1968/1969",18,"1.FC Kaiserslautern","FC Bayern München",3,1]
[null,"1968/1969",18,"Kickers Offenbach","1.FC Köln",3,1]
[null,"1968/1969",18,"TSV 1860 München","VfB Stuttgart",3,1]
[null,"1968/1969",18,"Alemannia Aachen","1.FC Nürnberg",4,2]
[null,"1968/1969",19,"FC Bayern München","TSV 1860 München",0,2]
[null,"1968/1969",19,"Eintracht Frankfurt","Alemannia Aachen",0,1]
[null,"1968/1969",19,"1.FC Köln","Borussia M'gladbach",1,4]
[null,"1968/1969",19,"Borussia Dortmund","Hannover 96",1,1]
[null,"1968/1969",19,"MSV Duisburg","Hertha BSC Berlin",2,1]
[null,"1968/1969",19,"1.FC Nürnberg","Kickers Offenbach",2,2]
[null,"1968/1969",19,"Werder Bremen","1.FC Kaiserslautern",2,1]
[null,"1968/1969",19,"Eintracht Braunschweig","FC Schalke 04",3,0]
[null,"1968/1969",19,"VfB Stuttgart","Hamburger SV",3,0]
[null,"1968/1969",20,"Hertha BSC Berlin","Eintracht Braunschweig",0,0]
[null,"1968/1969",20,"FC Schalke 04","VfB Stuttgart",1,1]
[null,"1968/1969",20,"Borussia M'gladbach","1.FC Nürnberg",1,1]
[null,"1968/1969",20,"Alemannia Aachen","Kickers Offenbach",1,2]
[null,"1968/1969",20,"1.FC Kaiserslautern","Borussia Dortmund",1,2]
[null,"1968/1969",20,"Eintracht Frankfurt","MSV Duisburg",2,1]
[null,"1968/1969",20,"Hamburger SV","FC Bayern München",2,2]
[null,"1968/1969",20,"Hannover 96","1.FC Köln",3,0]
[null,"1968/1969",20,"TSV 1860 München","Werder Bremen",4,3]
[null,"1968/1969",21,"FC Bayern München","FC Schalke 04",0,0]
[null,"1968/1969",21,"Kickers Offenbach","Borussia M'gladbach",1,0]
[null,"1968/1969",21,"MSV Duisburg","Alemannia Aachen",1,1]
[null,"1968/1969",21,"1.FC Nürnberg","Hannover 96",1,2]
[null,"1968/1969",21,"Werder Bremen","Hamburger SV",1,1]
[null,"1968/1969",21,"Eintracht Braunschweig","Eintracht Frankfurt",1,0]
[null,"1968/1969",21,"Borussia Dortmund","TSV 1860 München",2,0]
[null,"1968/1969",21,"1.FC Köln","1.FC Kaiserslautern",2,1]
[null,"1968/1969",21,"VfB Stuttgart","Hertha BSC Berlin",4,2]
[null,"1968/1969",22,"Hertha BSC Berlin","FC Bayern München",1,2]
[null,"1968/1969",22,"1.FC Kaiserslautern","1.FC Nürnberg",1,1]
[null,"1968/1969",22,"MSV Duisburg","Eintracht Braunschweig",1,1]
[null,"1968/1969",22,"TSV 1860 München","1.FC Köln",2,1]
[null,"1968/1969",22,"FC Schalke 04","Werder Bremen",2,1]
[null,"1968/1969",22,"Hamburger SV","Borussia Dortmund",2,0]
[null,"1968/1969",22,"Alemannia Aachen","Borussia M'gladbach",2,1]
[null,"1968/1969",22,"Hannover 96","Kickers Offenbach",2,2]
[null,"1968/1969",22,"Eintracht Frankfurt","VfB Stuttgart",3,0]
[null,"1968/1969",23,"Borussia Dortmund","FC Schalke 04",0,1]
[null,"1968/1969",23,"Eintracht Braunschweig","Alemannia Aachen",2,0]
[null,"1968/1969",23,"Werder Bremen","Hertha BSC Berlin",2,0]
[null,"1968/1969",23,"FC Bayern München","Eintracht Frankfurt",2,0]
[null,"1968/1969",23,"VfB Stuttgart","MSV Duisburg",3,2]
[null,"1968/1969",23,"Borussia M'gladbach","Hannover 96",3,2]
[null,"1968/1969",23,"1.FC Nürnberg","TSV 1860 München",3,0]
[null,"1968/1969",23,"Kickers Offenbach","1.FC Kaiserslautern",4,1]
[null,"1968/1969",23,"1.FC Köln","Hamburger SV",4,1]
[null,"1968/1969",24,"Hertha BSC Berlin","Borussia Dortmund",0,0]
[null,"1968/1969",24,"MSV Duisburg","FC Bayern München",0,0]
[null,"1968/1969",24,"Eintracht Braunschweig","VfB Stuttgart",1,2]
[null,"1968/1969",24,"TSV 1860 München","Kickers Offenbach",2,0]
[null,"1968/1969",24,"Alemannia Aachen","Hannover 96",2,0]
[null,"1968/1969",24,"Eintracht Frankfurt","Werder Bremen",2,1]
[null,"1968/1969",24,"1.FC Kaiserslautern","Borussia M'gladbach",2,0]
[null,"1968/1969",24,"FC Schalke 04","1.FC Köln",3,1]
[null,"1968/1969",24,"Hamburger SV","1.FC Nürnberg",4,2]
[null,"1968/1969",25,"Borussia Dortmund","Eintracht Frankfurt",0,1]
[null,"1968/1969",25,"Hannover 96","1.FC Kaiserslautern",0,2]
[null,"1968/1969",25,"1.FC Köln","Hertha BSC Berlin",1,0]
[null,"1968/1969",25,"1.FC Nürnberg","FC Schalke 04",1,1]
[null,"1968/1969",25,"Kickers Offenbach","Hamburger SV",1,1]
[null,"1968/1969",25,"Werder Bremen","MSV Duisburg",2,1]
[null,"1968/1969",25,"FC Bayern München","Eintracht Braunschweig",2,1]
[null,"1968/1969",25,"VfB Stuttgart","Alemannia Aachen",3,1]
[null,"1968/1969",25,"Borussia M'gladbach","TSV 1860 München",3,0]
[null,"1968/1969",26,"Eintracht Braunschweig","Werder Bremen",0,3]
[null,"1968/1969",26,"Alemannia Aachen","1.FC Kaiserslautern",1,0]
[null,"1968/1969",26,"Eintracht Frankfurt","1.FC Köln",1,2]
[null,"1968/1969",26,"Hertha BSC Berlin","1.FC Nürnberg",2,0]
[null,"1968/1969",26,"MSV Duisburg","Borussia Dortmund",2,0]
[null,"1968/1969",26,"Hamburger SV","Borussia M'gladbach",2,0]
[null,"1968/1969",26,"TSV 1860 München","Hannover 96",2,1]
[null,"1968/1969",26,"FC Schalke 04","Kickers Offenbach",3,0]
[null,"1968/1969",26,"VfB Stuttgart","FC Bayern München",3,0]
[null,"1968/1969",27,"FC Bayern München","Alemannia Aachen",1,1]
[null,"1968/1969",27,"Kickers Offenbach","Hertha BSC Berlin",1,0]
[null,"1968/1969",27,"1.FC Nürnberg","Eintracht Frankfurt",1,0]
[null,"1968/1969",27,"1.FC Köln","MSV Duisburg",1,1]
[null,"1968/1969",27,"Werder Bremen","VfB Stuttgart",1,0]
[null,"1968/1969",27,"Borussia Dortmund","Eintracht Braunschweig",2,1]
[null,"1968/1969",27,"Hannover 96","Hamburger SV",2,2]
[null,"1968/1969",27,"Borussia M'gladbach","FC Schalke 04",3,0]
[null,"1968/1969",27,"1.FC Kaiserslautern","TSV 1860 München",3,1]
[null,"1968/1969",28,"MSV Duisburg","1.FC Nürnberg",1,0]
[null,"1968/1969",28,"FC Schalke 04","Hannover 96",1,1]
[null,"1968/1969",28,"Hertha BSC Berlin","Borussia M'gladbach",2,1]
[null,"1968/1969",28,"VfB Stuttgart","Borussia Dortmund",2,2]
[null,"1968/1969",28,"Eintracht Braunschweig","1.FC Köln",2,1]
[null,"1968/1969",28,"Hamburger SV","1.FC Kaiserslautern",3,1]
[null,"1968/1969",28,"Eintracht Frankfurt","Kickers Offenbach",3,2]
[null,"1968/1969",28,"Alemannia Aachen","TSV 1860 München",4,0]
[null,"1968/1969",28,"FC Bayern München","Werder Bremen",6,0]
[null,"1968/1969",29,"Borussia Dortmund","FC Bayern München",0,1]
[null,"1968/1969",29,"Kickers Offenbach","MSV Duisburg",0,0]
[null,"1968/1969",29,"1.FC Kaiserslautern","FC Schalke 04",1,1]
[null,"1968/1969",29,"Werder Bremen","Alemannia Aachen",1,2]
[null,"1968/1969",29,"Hannover 96","Hertha BSC Berlin",1,1]
[null,"1968/1969",29,"1.FC Nürnberg","Eintracht Braunschweig",2,0]
[null,"1968/1969",29,"Borussia M'gladbach","Eintracht Frankfurt",2,3]
[null,"1968/1969",29,"TSV 1860 München","Hamburger SV",3,3]
[null,"1968/1969",29,"1.FC Köln","VfB Stuttgart",5,2]
[null,"1968/1969",30,"Eintracht Frankfurt","Hannover 96",0,0]
[null,"1968/1969",30,"Hertha BSC Berlin","1.FC Kaiserslautern",1,0]
[null,"1968/1969",30,"MSV Duisburg","Borussia M'gladbach",1,1]
[null,"1968/1969",30,"FC Bayern München","1.FC Köln",1,0]
[null,"1968/1969",30,"Eintracht Braunschweig","Kickers Offenbach",2,2]
[null,"1968/1969",30,"Alemannia Aachen","Hamburger SV",2,0]
[null,"1968/1969",30,"Werder Bremen","Borussia Dortmund",2,1]
[null,"1968/1969",30,"VfB Stuttgart","1.FC Nürnberg",2,3]
[null,"1968/1969",30,"FC Schalke 04","TSV 1860 München",2,0]
[null,"1968/1969",31,"TSV 1860 München","Hertha BSC Berlin",0,1]
[null,"1968/1969",31,"Hannover 96","MSV Duisburg",1,1]
[null,"1968/1969",31,"Borussia M'gladbach","Eintracht Braunschweig",1,1]
[null,"1968/1969",31,"Hamburger SV","FC Schalke 04",1,3]
[null,"1968/1969",31,"1.FC Kaiserslautern","Eintracht Frankfurt",2,2]
[null,"1968/1969",31,"Kickers Offenbach","VfB Stuttgart",2,1]
[null,"1968/1969",31,"1.FC Nürnberg","FC Bayern München",2,0]
[null,"1968/1969",31,"Borussia Dortmund","Alemannia Aachen",3,1]
[null,"1968/1969",31,"1.FC Köln","Werder Bremen",3,3]
[null,"1968/1969",32,"VfB Stuttgart","Borussia M'gladbach",0,3]
[null,"1968/1969",32,"MSV Duisburg","1.FC Kaiserslautern",0,0]
[null,"1968/1969",32,"1.FC Köln","Borussia Dortmund",2,1]
[null,"1968/1969",32,"Eintracht Braunschweig","Hannover 96",3,3]
[null,"1968/1969",32,"Hertha BSC Berlin","Hamburger SV",3,2]
[null,"1968/1969",32,"Werder Bremen","1.FC Nürnberg",3,3]
[null,"1968/1969",32,"FC Schalke 04","Alemannia Aachen",3,1]
[null,"1968/1969",32,"Eintracht Frankfurt","TSV 1860 München",3,0]
[null,"1968/1969",32,"FC Bayern München","Kickers Offenbach",5,1]
[null,"1968/1969",33,"Kickers Offenbach","Werder Bremen",0,3]
[null,"1968/1969",33,"Hannover 96","VfB Stuttgart",1,0]
[null,"1968/1969",33,"Borussia M'gladbach","FC Bayern München",1,1]
[null,"1968/1969",33,"Hamburger SV","Eintracht Frankfurt",1,4]
[null,"1968/1969",33,"Alemannia Aachen","1.FC Köln",2,1]
[null,"1968/1969",33,"1.FC Nürnberg","Borussia Dortmund",2,2]
[null,"1968/1969",33,"TSV 1860 München","MSV Duisburg",2,1]
[null,"1968/1969",33,"FC Schalke 04","Hertha BSC Berlin",2,0]
[null,"1968/1969",33,"1.FC Kaiserslautern","Eintracht Braunschweig",4,0]
[null,"1968/1969",34,"Hertha BSC Berlin","Alemannia Aachen",0,1]
[null,"1968/1969",34,"MSV Duisburg","Hamburger SV",0,0]
[null,"1968/1969",34,"Eintracht Frankfurt","FC Schalke 04",1,0]
[null,"1968/1969",34,"Eintracht Braunschweig","TSV 1860 München",2,1]
[null,"1968/1969",34,"FC Bayern München","Hannover 96",2,1]
[null,"1968/1969",34,"1.FC Köln","1.FC Nürnberg",3,0]
[null,"1968/1969",34,"Borussia Dortmund","Kickers Offenbach",3,0]
[null,"1968/1969",34,"VfB Stuttgart","1.FC Kaiserslautern",4,3]
[null,"1968/1969",34,"Werder Bremen","Borussia M'gladbach",6,5]
[null,"1969/1970",1,"Alemannia Aachen","TSV 1860 München",0,0]
[null,"1969/1970",1,"Hertha BSC Berlin","MSV Duisburg",1,0]
[null,"1969/1970",1,"VfB Stuttgart","Werder Bremen",1,1]
[null,"1969/1970",1,"FC Schalke 04","Borussia M'gladbach",2,0]
[null,"1969/1970",1,"Hamburger SV","1.FC Kaiserslautern",2,1]
[null,"1969/1970",1,"Rot-Weiß Oberhausen","Eintracht Frankfurt",3,1]
[null,"1969/1970",1,"1.FC Köln","Eintracht Braunschweig",3,2]
[null,"1969/1970",1,"Hannover 96","Borussia Dortmund",4,2]
[null,"1969/1970",1,"FC Bayern München","Rot-Weiß Essen",4,0]
[null,"1969/1970",2,"1.FC Kaiserslautern","Rot-Weiß Oberhausen",0,0]
[null,"1969/1970",2,"MSV Duisburg","VfB Stuttgart",1,1]
[null,"1969/1970",2,"Eintracht Braunschweig","Hannover 96",1,1]
[null,"1969/1970",2,"Eintracht Frankfurt","FC Schalke 04",2,1]
[null,"1969/1970",2,"Rot-Weiß Essen","Alemannia Aachen",2,0]
[null,"1969/1970",2,"TSV 1860 München","Hertha BSC Berlin",2,0]
[null,"1969/1970",2,"Borussia M'gladbach","FC Bayern München",2,1]
[null,"1969/1970",2,"Borussia Dortmund","Hamburger SV",2,1]
[null,"1969/1970",2,"Werder Bremen","1.FC Köln",2,1]
[null,"1969/1970",3,"FC Bayern München","Eintracht Frankfurt",2,1]
[null,"1969/1970",3,"Rot-Weiß Oberhausen","Borussia Dortmund",2,1]
[null,"1969/1970",3,"Borussia M'gladbach","Rot-Weiß Essen",2,1]
[null,"1969/1970",3,"Hertha BSC Berlin","Alemannia Aachen",2,1]
[null,"1969/1970",3,"VfB Stuttgart","TSV 1860 München",3,1]
[null,"1969/1970",3,"Hannover 96","Werder Bremen",3,2]
[null,"1969/1970",3,"Hamburger SV","Eintracht Braunschweig",3,3]
[null,"1969/1970",3,"FC Schalke 04","1.FC Kaiserslautern",4,2]
[null,"1969/1970",3,"1.FC Köln","MSV Duisburg",6,2]
[null,"1969/1970",4,"1.FC Kaiserslautern","FC Bayern München",0,0]
[null,"1969/1970",4,"Eintracht Braunschweig","Rot-Weiß Oberhausen",0,4]
[null,"1969/1970",4,"Eintracht Frankfurt","Borussia M'gladbach",1,2]
[null,"1969/1970",4,"MSV Duisburg","Hannover 96",1,0]
[null,"1969/1970",4,"TSV 1860 München","1.FC Köln",1,0]
[null,"1969/1970",4,"Werder Bremen","Hamburger SV",1,1]
[null,"1969/1970",4,"Borussia Dortmund","FC Schalke 04",1,1]
[null,"1969/1970",4,"Alemannia Aachen","VfB Stuttgart",4,2]
[null,"1969/1970",4,"Rot-Weiß Essen","Hertha BSC Berlin",5,2]
[null,"1969/1970",5,"Borussia M'gladbach","1.FC Kaiserslautern",1,1]
[null,"1969/1970",5,"FC Schalke 04","Eintracht Braunschweig",1,1]
[null,"1969/1970",5,"VfB Stuttgart","Hertha BSC Berlin",1,4]
[null,"1969/1970",5,"Eintracht Frankfurt","Rot-Weiß Essen",2,1]
[null,"1969/1970",5,"FC Bayern München","Borussia Dortmund",3,0]
[null,"1969/1970",5,"Rot-Weiß Oberhausen","Werder Bremen",3,1]
[null,"1969/1970",5,"1.FC Köln","Alemannia Aachen",3,0]
[null,"1969/1970",5,"Hannover 96","TSV 1860 München",3,1]
[null,"1969/1970",5,"Hamburger SV","MSV Duisburg",4,1]
[null,"1969/1970",6,"TSV 1860 München","Hamburger SV",0,2]
[null,"1969/1970",6,"Eintracht Braunschweig","FC Bayern München",0,4]
[null,"1969/1970",6,"Werder Bremen","FC Schalke 04",0,1]
[null,"1969/1970",6,"Hertha BSC Berlin","1.FC Köln",1,0]
[null,"1969/1970",6,"Alemannia Aachen","Hannover 96",1,1]
[null,"1969/1970",6,"MSV Duisburg","Rot-Weiß Oberhausen",2,1]
[null,"1969/1970",6,"1.FC Kaiserslautern","Eintracht Frankfurt",2,0]
[null,"1969/1970",6,"Borussia Dortmund","Borussia M'gladbach",2,1]
[null,"1969/1970",6,"Rot-Weiß Essen","VfB Stuttgart",3,3]
[null,"1969/1970",7,"1.FC Kaiserslautern","Rot-Weiß Essen",0,0]
[null,"1969/1970",7,"FC Schalke 04","MSV Duisburg",0,0]
[null,"1969/1970",7,"Borussia M'gladbach","Eintracht Braunschweig",1,0]
[null,"1969/1970",7,"Eintracht Frankfurt","Borussia Dortmund",2,0]
[null,"1969/1970",7,"Hannover 96","Hertha BSC Berlin",2,1]
[null,"1969/1970",7,"1.FC Köln","VfB Stuttgart",3,1]
[null,"1969/1970",7,"Rot-Weiß Oberhausen","TSV 1860 München",3,0]
[null,"1969/1970",7,"Hamburger SV","Alemannia Aachen",4,1]
[null,"1969/1970",7,"FC Bayern München","Werder Bremen",4,1]
[null,"1969/1970",8,"TSV 1860 München","FC Schalke 04",0,2]
[null,"1969/1970",8,"Rot-Weiß Essen","1.FC Köln",0,0]
[null,"1969/1970",8,"Werder Bremen","Borussia M'gladbach",0,0]
[null,"1969/1970",8,"Hertha BSC Berlin","Hamburger SV",1,0]
[null,"1969/1970",8,"VfB Stuttgart","Hannover 96",2,1]
[null,"1969/1970",8,"Alemannia Aachen","Rot-Weiß Oberhausen",2,0]
[null,"1969/1970",8,"Eintracht Braunschweig","Eintracht Frankfurt",3,1]
[null,"1969/1970",8,"MSV Duisburg","FC Bayern München",4,2]
[null,"1969/1970",8,"Borussia Dortmund","1.FC Kaiserslautern",5,1]
[null,"1969/1970",9,"Hamburger SV","VfB Stuttgart",1,3]
[null,"1969/1970",9,"Eintracht Frankfurt","Werder Bremen",2,1]
[null,"1969/1970",9,"1.FC Kaiserslautern","Eintracht Braunschweig",2,0]
[null,"1969/1970",9,"FC Bayern München","TSV 1860 München",2,0]
[null,"1969/1970",9,"Rot-Weiß Oberhausen","Hertha BSC Berlin",3,1]
[null,"1969/1970",9,"FC Schalke 04","Alemannia Aachen",3,0]
[null,"1969/1970",9,"Hannover 96","1.FC Köln",3,4]
[null,"1969/1970",9,"Borussia M'gladbach","MSV Duisburg",4,1]
[null,"1969/1970",9,"Borussia Dortmund","Rot-Weiß Essen",4,1]
[null,"1969/1970",10,"TSV 1860 München","Borussia M'gladbach",0,3]
[null,"1969/1970",10,"MSV Duisburg","Eintracht Frankfurt",1,1]
[null,"1969/1970",10,"Eintracht Braunschweig","Borussia Dortmund",1,1]
[null,"1969/1970",10,"Rot-Weiß Essen","Hannover 96",1,0]
[null,"1969/1970",10,"Alemannia Aachen","FC Bayern München",1,3]
[null,"1969/1970",10,"Werder Bremen","1.FC Kaiserslautern",3,2]
[null,"1969/1970",10,"1.FC Köln","Hamburger SV",3,0]
[null,"1969/1970",10,"Hertha BSC Berlin","FC Schalke 04",3,0]
[null,"1969/1970",10,"VfB Stuttgart","Rot-Weiß Oberhausen",4,2]
[null,"1969/1970",11,"Eintracht Braunschweig","Rot-Weiß Essen",0,0]
[null,"1969/1970",11,"1.FC Kaiserslautern","MSV Duisburg",0,2]
[null,"1969/1970",11,"Rot-Weiß Oberhausen","1.FC Köln",0,2]
[null,"1969/1970",11,"FC Bayern München","Hertha BSC Berlin",1,2]
[null,"1969/1970",11,"FC Schalke 04","VfB Stuttgart",1,2]
[null,"1969/1970",11,"Borussia Dortmund","Werder Bremen",2,1]
[null,"1969/1970",11,"Hamburger SV","Hannover 96",2,0]
[null,"1969/1970",11,"Eintracht Frankfurt","TSV 1860 München",4,3]
[null,"1969/1970",11,"Borussia M'gladbach","Alemannia Aachen",5,1]
[null,"1969/1970",12,"TSV 1860 München","1.FC Kaiserslautern",0,1]
[null,"1969/1970",12,"MSV Duisburg","Borussia Dortmund",0,1]
[null,"1969/1970",12,"Werder Bremen","Eintracht Braunschweig",0,1]
[null,"1969/1970",12,"Hertha BSC Berlin","Borussia M'gladbach",1,1]
[null,"1969/1970",12,"Hannover 96","Rot-Weiß Oberhausen",2,1]
[null,"1969/1970",12,"Rot-Weiß Essen","Hamburger SV",2,2]
[null,"1969/1970",12,"Alemannia Aachen","Eintracht Frankfurt",2,1]
[null,"1969/1970",12,"VfB Stuttgart","FC Bayern München",2,3]
[null,"1969/1970",12,"1.FC Köln","FC Schalke 04",8,0]
[null,"1969/1970",13,"Rot-Weiß Oberhausen","Hamburger SV",1,3]
[null,"1969/1970",13,"Eintracht Frankfurt","Hertha BSC Berlin",1,1]
[null,"1969/1970",13,"FC Bayern München","1.FC Köln",1,2]
[null,"1969/1970",13,"Eintracht Braunschweig","MSV Duisburg",2,1]
[null,"1969/1970",13,"Werder Bremen","Rot-Weiß Essen",2,1]
[null,"1969/1970",13,"FC Schalke 04","Hannover 96",2,0]
[null,"1969/1970",13,"1.FC Kaiserslautern","Alemannia Aachen",3,1]
[null,"1969/1970",13,"Borussia M'gladbach","VfB Stuttgart",3,0]
[null,"1969/1970",13,"Borussia Dortmund","TSV 1860 München",3,1]
[null,"1969/1970",14,"Hannover 96","FC Bayern München",0,1]
[null,"1969/1970",14,"1.FC Köln","Borussia M'gladbach",0,1]
[null,"1969/1970",14,"MSV Duisburg","Werder Bremen",1,1]
[null,"1969/1970",14,"TSV 1860 München","Eintracht Braunschweig",1,0]
[null,"1969/1970",14,"Rot-Weiß Essen","Rot-Weiß Oberhausen",1,0]
[null,"1969/1970",14,"Hamburger SV","FC Schalke 04",1,1]
[null,"1969/1970",14,"Alemannia Aachen","Borussia Dortmund",3,1]
[null,"1969/1970",14,"Hertha BSC Berlin","1.FC Kaiserslautern",3,0]
[null,"1969/1970",14,"VfB Stuttgart","Eintracht Frankfurt",4,0]
[null,"1969/1970",15,"Borussia Dortmund","Hertha BSC Berlin",0,0]
[null,"1969/1970",15,"Rot-Weiß Essen","MSV Duisburg",0,0]
[null,"1969/1970",15,"Eintracht Frankfurt","1.FC Köln",0,0]
[null,"1969/1970",15,"Rot-Weiß Oberhausen","FC Schalke 04",0,3]
[null,"1969/1970",15,"Werder Bremen","TSV 1860 München",1,1]
[null,"1969/1970",15,"FC Bayern München","Hamburger SV",2,1]
[null,"1969/1970",15,"Eintracht Braunschweig","Alemannia Aachen",3,0]
[null,"1969/1970",15,"1.FC Kaiserslautern","VfB Stuttgart",3,2]
[null,"1969/1970",15,"Borussia M'gladbach","Hannover 96",5,0]
[null,"1969/1970",16,"Alemannia Aachen","Werder Bremen",0,0]
[null,"1969/1970",16,"Hamburger SV","Borussia M'gladbach",1,3]
[null,"1969/1970",16,"Hannover 96","Eintracht Frankfurt",1,1]
[null,"1969/1970",16,"Hertha BSC Berlin","Eintracht Braunschweig",2,0]
[null,"1969/1970",16,"VfB Stuttgart","Borussia Dortmund",2,1]
[null,"1969/1970",16,"TSV 1860 München","MSV Duisburg",2,2]
[null,"1969/1970",16,"Rot-Weiß Oberhausen","FC Bayern München",3,3]
[null,"1969/1970",16,"FC Schalke 04","Rot-Weiß Essen",5,3]
[null,"1969/1970",16,"1.FC Köln","1.FC Kaiserslautern",6,1]
[null,"1969/1970",17,"Borussia Dortmund","1.FC Köln",1,0]
[null,"1969/1970",17,"Eintracht Braunschweig","VfB Stuttgart",1,0]
[null,"1969/1970",17,"Werder Bremen","Hertha BSC Berlin",1,0]
[null,"1969/1970",17,"Eintracht Frankfurt","Hamburger SV",2,2]
[null,"1969/1970",17,"MSV Duisburg","Alemannia Aachen",2,1]
[null,"1969/1970",17,"Rot-Weiß Essen","TSV 1860 München",3,0]
[null,"1969/1970",17,"1.FC Kaiserslautern","Hannover 96",5,2]
[null,"1969/1970",17,"Borussia M'gladbach","Rot-Weiß Oberhausen",6,1]
[null,"1969/1970",17,"FC Bayern München","FC Schalke 04",6,0]
[null,"1969/1970",18,"TSV 1860 München","Alemannia Aachen",0,0]
[null,"1969/1970",18,"MSV Duisburg","Hertha BSC Berlin",1,3]
[null,"1969/1970",18,"Werder Bremen","VfB Stuttgart",1,1]
[null,"1969/1970",18,"1.FC Kaiserslautern","Hamburger SV",1,1]
[null,"1969/1970",18,"Eintracht Braunschweig","1.FC Köln",1,2]
[null,"1969/1970",18,"Rot-Weiß Essen","FC Bayern München",1,1]
[null,"1969/1970",18,"Borussia M'gladbach","FC Schalke 04",2,0]
[null,"1969/1970",18,"Borussia Dortmund","Hannover 96",2,1]
[null,"1969/1970",18,"Eintracht Frankfurt","Rot-Weiß Oberhausen",5,1]
[null,"1969/1970",19,"FC Schalke 04","Eintracht Frankfurt",0,0]
[null,"1969/1970",19,"Alemannia Aachen","Rot-Weiß Essen",0,0]
[null,"1969/1970",19,"Rot-Weiß Oberhausen","1.FC Kaiserslautern",0,0]
[null,"1969/1970",19,"Hannover 96","Eintracht Braunschweig",0,2]
[null,"1969/1970",19,"FC Bayern München","Borussia M'gladbach",1,0]
[null,"1969/1970",19,"1.FC Köln","Werder Bremen",3,0]
[null,"1969/1970",19,"Hertha BSC Berlin","TSV 1860 München",4,2]
[null,"1969/1970",19,"VfB Stuttgart","MSV Duisburg",4,3]
[null,"1969/1970",19,"Hamburger SV","Borussia Dortmund",4,3]
[null,"1969/1970",20,"MSV Duisburg","1.FC Köln",1,1]
[null,"1969/1970",20,"Werder Bremen","Hannover 96",1,0]
[null,"1969/1970",20,"Rot-Weiß Essen","Borussia M'gladbach",1,0]
[null,"1969/1970",20,"1.FC Kaiserslautern","FC Schalke 04",1,1]
[null,"1969/1970",20,"Eintracht Frankfurt","FC Bayern München",2,1]
[null,"1969/1970",20,"Alemannia Aachen","Hertha BSC Berlin",2,4]
[null,"1969/1970",20,"Borussia Dortmund","Rot-Weiß Oberhausen",3,2]
[null,"1969/1970",20,"Eintracht Braunschweig","Hamburger SV",3,0]
[null,"1969/1970",20,"TSV 1860 München","VfB Stuttgart",4,1]
[null,"1969/1970",21,"Hannover 96","MSV Duisburg",0,0]
[null,"1969/1970",21,"Borussia M'gladbach","Eintracht Frankfurt",1,2]
[null,"1969/1970",21,"FC Bayern München","1.FC Kaiserslautern",1,1]
[null,"1969/1970",21,"FC Schalke 04","Borussia Dortmund",1,1]
[null,"1969/1970",21,"1.FC Köln","TSV 1860 München",2,1]
[null,"1969/1970",21,"Rot-Weiß Oberhausen","Eintracht Braunschweig",2,1]
[null,"1969/1970",21,"Hamburger SV","Werder Bremen",2,2]
[null,"1969/1970",21,"Hertha BSC Berlin","Rot-Weiß Essen",4,0]
[null,"1969/1970",21,"VfB Stuttgart","Alemannia Aachen",5,0]
[null,"1969/1970",22,"MSV Duisburg","Hamburger SV",0,0]
[null,"1969/1970",22,"Rot-Weiß Essen","Eintracht Frankfurt",1,1]
[null,"1969/1970",22,"1.FC Kaiserslautern","Borussia M'gladbach",1,4]
[null,"1969/1970",22,"Borussia Dortmund","FC Bayern München",1,3]
[null,"1969/1970",22,"Werder Bremen","Rot-Weiß Oberhausen",1,1]
[null,"1969/1970",22,"Alemannia Aachen","1.FC Köln",1,3]
[null,"1969/1970",22,"Eintracht Braunschweig","FC Schalke 04",3,0]
[null,"1969/1970",22,"TSV 1860 München","Hannover 96",3,0]
[null,"1969/1970",22,"Hertha BSC Berlin","VfB Stuttgart",3,1]
[null,"1969/1970",23,"Hamburger SV","TSV 1860 München",0,1]
[null,"1969/1970",23,"FC Schalke 04","Werder Bremen",0,0]
[null,"1969/1970",23,"Rot-Weiß Oberhausen","MSV Duisburg",2,0]
[null,"1969/1970",23,"Eintracht Frankfurt","1.FC Kaiserslautern",2,1]
[null,"1969/1970",23,"Borussia M'gladbach","Borussia Dortmund",4,2]
[null,"1969/1970",23,"VfB Stuttgart","Rot-Weiß Essen",4,1]
[null,"1969/1970",23,"1.FC Köln","Hertha BSC Berlin",5,1]
[null,"1969/1970",23,"FC Bayern München","Eintracht Braunschweig",5,1]
[null,"1969/1970",23,"Hannover 96","Alemannia Aachen",5,0]
[null,"1969/1970",24,"VfB Stuttgart","1.FC Köln",0,3]
[null,"1969/1970",24,"Eintracht Braunschweig","Borussia M'gladbach",0,1]
[null,"1969/1970",24,"Alemannia Aachen","Hamburger SV",0,2]
[null,"1969/1970",24,"Hertha BSC Berlin","Hannover 96",1,1]
[null,"1969/1970",24,"Rot-Weiß Essen","1.FC Kaiserslautern",1,1]
[null,"1969/1970",24,"Werder Bremen","FC Bayern München",1,0]
[null,"1969/1970",24,"Borussia Dortmund","Eintracht Frankfurt",2,1]
[null,"1969/1970",24,"MSV Duisburg","FC Schalke 04",2,0]
[null,"1969/1970",24,"TSV 1860 München","Rot-Weiß Oberhausen",4,1]
[null,"1969/1970",25,"Eintracht Frankfurt","Eintracht Braunschweig",0,0]
[null,"1969/1970",25,"Borussia M'gladbach","Werder Bremen",1,0]
[null,"1969/1970",25,"Hamburger SV","Hertha BSC Berlin",1,0]
[null,"1969/1970",25,"Rot-Weiß Oberhausen","Alemannia Aachen",1,0]
[null,"1969/1970",25,"FC Bayern München","MSV Duisburg",2,0]
[null,"1969/1970",25,"1.FC Kaiserslautern","Borussia Dortmund",2,2]
[null,"1969/1970",25,"Hannover 96","VfB Stuttgart",2,0]
[null,"1969/1970",25,"FC Schalke 04","TSV 1860 München",3,1]
[null,"1969/1970",25,"1.FC Köln","Rot-Weiß Essen",5,2]
[null,"1969/1970",26,"MSV Duisburg","Borussia M'gladbach",0,1]
[null,"1969/1970",26,"VfB Stuttgart","Hamburger SV",1,1]
[null,"1969/1970",26,"Eintracht Braunschweig","1.FC Kaiserslautern",1,0]
[null,"1969/1970",26,"Hertha BSC Berlin","Rot-Weiß Oberhausen",1,0]
[null,"1969/1970",26,"Alemannia Aachen","FC Schalke 04",1,2]
[null,"1969/1970",26,"TSV 1860 München","FC Bayern München",2,1]
[null,"1969/1970",26,"Werder Bremen","Eintracht Frankfurt",3,2]
[null,"1969/1970",26,"Rot-Weiß Essen","Borussia Dortmund",3,3]
[null,"1969/1970",26,"1.FC Köln","Hannover 96",5,0]
[null,"1969/1970",27,"Eintracht Frankfurt","MSV Duisburg",0,1]
[null,"1969/1970",27,"1.FC Kaiserslautern","Werder Bremen",1,0]
[null,"1969/1970",27,"FC Schalke 04","Hertha BSC Berlin",1,3]
[null,"1969/1970",27,"Hamburger SV","1.FC Köln",2,5]
[null,"1969/1970",27,"Borussia Dortmund","Eintracht Braunschweig",2,2]
[null,"1969/1970",27,"Rot-Weiß Oberhausen","VfB Stuttgart",3,0]
[null,"1969/1970",27,"Hannover 96","Rot-Weiß Essen",3,0]
[null,"1969/1970",27,"Borussia M'gladbach","TSV 1860 München",3,1]
[null,"1969/1970",27,"FC Bayern München","Alemannia Aachen",6,0]
[null,"1969/1970",28,"Hertha BSC Berlin","FC Bayern München",0,4]
[null,"1969/1970",28,"Alemannia Aachen","Borussia M'gladbach",0,3]
[null,"1969/1970",28,"MSV Duisburg","1.FC Kaiserslautern",0,0]
[null,"1969/1970",28,"1.FC Köln","Rot-Weiß Oberhausen",0,1]
[null,"1969/1970",28,"Werder Bremen","Borussia Dortmund",1,3]
[null,"1969/1970",28,"TSV 1860 München","Eintracht Frankfurt",1,1]
[null,"1969/1970",28,"Hannover 96","Hamburger SV",1,1]
[null,"1969/1970",28,"Rot-Weiß Essen","Eintracht Braunschweig",1,1]
[null,"1969/1970",28,"VfB Stuttgart","FC Schalke 04",2,0]
[null,"1969/1970",29,"Rot-Weiß Oberhausen","Hannover 96",0,0]
[null,"1969/1970",29,"Eintracht Braunschweig","Werder Bremen",1,2]
[null,"1969/1970",29,"Hamburger SV","Rot-Weiß Essen",1,0]
[null,"1969/1970",29,"FC Schalke 04","1.FC Köln",1,0]
[null,"1969/1970",29,"Borussia M'gladbach","Hertha BSC Berlin",1,1]
[null,"1969/1970",29,"FC Bayern München","VfB Stuttgart",1,2]
[null,"1969/1970",29,"1.FC Kaiserslautern","TSV 1860 München",3,2]
[null,"1969/1970",29,"Borussia Dortmund","MSV Duisburg",3,1]
[null,"1969/1970",29,"Eintracht Frankfurt","Alemannia Aachen",6,2]
[null,"1969/1970",30,"VfB Stuttgart","Borussia M'gladbach",0,0]
[null,"1969/1970",30,"1.FC Köln","FC Bayern München",0,2]
[null,"1969/1970",30,"MSV Duisburg","Eintracht Braunschweig",1,0]
[null,"1969/1970",30,"Alemannia Aachen","1.FC Kaiserslautern",1,1]
[null,"1969/1970",30,"Hamburger SV","Rot-Weiß Oberhausen",2,1]
[null,"1969/1970",30,"Hertha BSC Berlin","Eintracht Frankfurt",2,0]
[null,"1969/1970",30,"Rot-Weiß Essen","Werder Bremen",3,2]
[null,"1969/1970",30,"Hannover 96","FC Schalke 04",3,1]
[null,"1969/1970",30,"TSV 1860 München","Borussia Dortmund",3,0]
[null,"1969/1970",31,"Werder Bremen","MSV Duisburg",0,0]
[null,"1969/1970",31,"Rot-Weiß Oberhausen","Rot-Weiß Essen",1,1]
[null,"1969/1970",31,"FC Schalke 04","Hamburger SV",1,1]
[null,"1969/1970",31,"1.FC Kaiserslautern","Hertha BSC Berlin",1,0]
[null,"1969/1970",31,"Eintracht Braunschweig","TSV 1860 München",2,2]
[null,"1969/1970",31,"Borussia M'gladbach","1.FC Köln",2,0]
[null,"1969/1970",31,"Borussia Dortmund","Alemannia Aachen",3,1]
[null,"1969/1970",31,"Eintracht Frankfurt","VfB Stuttgart",4,0]
[null,"1969/1970",31,"FC Bayern München","Hannover 96",7,2]
[null,"1969/1970",32,"MSV Duisburg","Rot-Weiß Essen",0,1]
[null,"1969/1970",32,"TSV 1860 München","Werder Bremen",0,1]
[null,"1969/1970",32,"Hannover 96","Borussia M'gladbach",1,0]
[null,"1969/1970",32,"Alemannia Aachen","Eintracht Braunschweig",1,1]
[null,"1969/1970",32,"Hamburger SV","FC Bayern München",1,3]
[null,"1969/1970",32,"1.FC Köln","Eintracht Frankfurt",1,2]
[null,"1969/1970",32,"VfB Stuttgart","1.FC Kaiserslautern",2,1]
[null,"1969/1970",32,"FC Schalke 04","Rot-Weiß Oberhausen",2,2]
[null,"1969/1970",32,"Hertha BSC Berlin","Borussia Dortmund",9,1]
[null,"1969/1970",33,"Borussia Dortmund","VfB Stuttgart",0,0]
[null,"1969/1970",33,"Eintracht Braunschweig","Hertha BSC Berlin",1,2]
[null,"1969/1970",33,"Rot-Weiß Essen","FC Schalke 04",1,1]
[null,"1969/1970",33,"MSV Duisburg","TSV 1860 München",2,1]
[null,"1969/1970",33,"Borussia M'gladbach","Hamburger SV",4,3]
[null,"1969/1970",34,"VfB Stuttgart","Eintracht Braunschweig",3,2]
[null,"1970/1971",1,"Eintracht Frankfurt","Hamburger SV",0,0]
[null,"1970/1971",1,"Borussia Dortmund","Arminia Bielefeld",3,0]
[null,"1970/1971",2,"Hannover 96","Eintracht Frankfurt",1,2]
[null,"1970/1971",3,"Eintracht Frankfurt","Arminia Bielefeld",1,1]
[null,"1970/1971",3,"Rot-Weiß Essen","1.FC Kaiserslautern",4,0]
[null,"1970/1971",4,"FC Bayern München","Rot-Weiß Essen",2,2]
[null,"1970/1971",5,"VfB Stuttgart","Werder Bremen",3,0]
[null,"1970/1971",6,"Werder Bremen","Hertha BSC Berlin",0,0]
[null,"1970/1971",7,"Borussia Dortmund","Werder Bremen",0,1]
[null,"1970/1971",7,"Arminia Bielefeld","Kickers Offenbach",2,0]
[null,"1970/1971",8,"Werder Bremen","Rot-Weiß Essen",1,1]
[null,"1970/1971",9,"Hamburger SV","FC Schalke 04",1,2]
[null,"1970/1971",9,"Hertha BSC Berlin","VfB Stuttgart",2,0]
[null,"1970/1971",10,"1.FC Köln","Hamburger SV",3,0]
[null,"1970/1971",11,"Hamburger SV","Werder Bremen",1,1]
[null,"1970/1971",11,"1.FC Kaiserslautern","Rot-Weiß Oberhausen",4,1]
[null,"1970/1971",12,"Kickers Offenbach","Borussia Dortmund",3,0]
[null,"1970/1971",13,"FC Bayern München","FC Schalke 04",3,0]
[null,"1970/1971",14,"Kickers Offenbach","Rot-Weiß Essen",1,2]
[null,"1970/1971",15,"FC Bayern München","Werder Bremen",2,1]
[null,"1970/1971",16,"Hertha BSC Berlin","Hannover 96",0,0]
[null,"1970/1971",16,"MSV Duisburg","1.FC Kaiserslautern",1,1]
[null,"1970/1971",17,"Hannover 96","Borussia Dortmund",4,1]
[null,"1970/1971",18,"Kickers Offenbach","Borussia M'gladbach",1,3]
[null,"1970/1971",18,"1.FC Kaiserslautern","Hertha BSC Berlin",2,0]
[null,"1970/1971",19,"Eintracht Braunschweig","1.FC Köln",3,1]
[null,"1970/1971",20,"1.FC Köln","MSV Duisburg",2,1]
[null,"1970/1971",21,"VfB Stuttgart","1.FC Köln",1,2]
[null,"1970/1971",21,"Rot-Weiß Essen","FC Bayern München",3,1]
[null,"1970/1971",22,"Eintracht Braunschweig","MSV Duisburg",5,0]
[null,"1970/1971",23,"Hannover 96","Arminia Bielefeld",2,0]
[null,"1970/1971",24,"Eintracht Braunschweig","Hertha BSC Berlin",2,1]
[null,"1970/1971",25,"Eintracht Frankfurt","1.FC Köln",1,1]
[null,"1970/1971",25,"Arminia Bielefeld","1.FC Kaiserslautern",2,1]
[null,"1970/1971",26,"FC Schalke 04","Hamburger SV",3,1]
[null,"1970/1971",27,"Borussia M'gladbach","Werder Bremen",0,2]
[null,"1970/1971",27,"Eintracht Frankfurt","Eintracht Braunschweig",5,2]
[null,"1970/1971",28,"Eintracht Braunschweig","Borussia M'gladbach",1,1]
[null,"1970/1971",29,"Borussia M'gladbach","MSV Duisburg",1,0]
[null,"1970/1971",30,"FC Schalke 04","FC Bayern München",1,3]
[null,"1970/1971",30,"Kickers Offenbach","Rot-Weiß Oberhausen",3,2]
[null,"1970/1971",31,"Eintracht Frankfurt","Borussia Dortmund",2,0]
[null,"1970/1971",32,"Eintracht Braunschweig","1.FC Kaiserslautern",2,0]
[null,"1970/1971",32,"Eintracht Frankfurt","Rot-Weiß Essen",3,2]
[null,"1970/1971",33,"1.FC Kaiserslautern","MSV Duisburg",3,0]
[null,"1970/1971",34,"Werder Bremen","FC Schalke 04",0,1]
[null,"1971/1972",1,"1.FC Köln","Werder Bremen",0,0]
[null,"1971/1972",1,"Hamburger SV","Eintracht Frankfurt",5,1]
[null,"1971/1972",2,"Borussia M'gladbach","Arminia Bielefeld",5,1]
[null,"1971/1972",3,"Hamburger SV","FC Schalke 04",0,1]
[null,"1971/1972",4,"Fortuna Düsseldorf","Hamburger SV",0,0]
[null,"1971/1972",4,"Eintracht Braunschweig","Hannover 96",3,0]
[null,"1971/1972",5,"Hannover 96","Rot-Weiß Oberhausen",1,0]
[null,"1971/1972",6,"Arminia Bielefeld","VfB Stuttgart",1,0]
[null,"1971/1972",6,"Werder Bremen","VfL Bochum",2,0]
[null,"1971/1972",7,"FC Schalke 04","Werder Bremen",2,0]
[null,"1971/1972",8,"Hertha BSC Berlin","Borussia Dortmund",2,1]
[null,"1971/1972",9,"Fortuna Düsseldorf","Werder Bremen",1,3]
[null,"1971/1972",9,"Hamburger SV","1.FC Kaiserslautern",4,0]
[null,"1971/1972",10,"1.FC Kaiserslautern","1.FC Köln",2,0]
[null,"1971/1972",11,"1.FC Köln","Arminia Bielefeld",1,0]
[null,"1971/1972",12,"Arminia Bielefeld","Eintracht Frankfurt",3,4]
[null,"1971/1972",12,"1.FC Kaiserslautern","Borussia Dortmund",6,0]
[null,"1971/1972",13,"MSV Duisburg","Hannover 96",2,1]
[null,"1971/1972",14,"VfL Bochum","Borussia Dortmund",4,2]
[null,"1971/1972",15,"MSV Duisburg","Hamburger SV",2,4]
[null,"1971/1972",15,"1.FC Köln","Hannover 96",3,1]
[null,"1971/1972",16,"Hamburger SV","Werder Bremen",2,1]
[null,"1971/1972",17,"Hertha BSC Berlin","VfL Bochum",1,2]
[null,"1971/1972",18,"Borussia Dortmund","MSV Duisburg",2,3]
[null,"1971/1972",18,"Borussia M'gladbach","1.FC Kaiserslautern",2,1]
[null,"1971/1972",19,"1.FC Köln","Eintracht Frankfurt",1,1]
[null,"1971/1972",20,"1.FC Kaiserslautern","Arminia Bielefeld",2,1]
[null,"1971/1972",21,"VfB Stuttgart","Borussia M'gladbach",0,1]
[null,"1971/1972",21,"FC Bayern München","Rot-Weiß Oberhausen",7,0]
[null,"1971/1972",22,"Werder Bremen","Borussia Dortmund",3,1]
[null,"1971/1972",23,"VfB Stuttgart","Arminia Bielefeld",2,2]
[null,"1971/1972",24,"Hertha BSC Berlin","Eintracht Frankfurt",0,0]
[null,"1971/1972",25,"MSV Duisburg","1.FC Kaiserslautern",1,0]
[null,"1971/1972",25,"FC Schalke 04","Fortuna Düsseldorf",3,0]
[null,"1971/1972",26,"Arminia Bielefeld","MSV Duisburg",2,0]
[null,"1971/1972",26,"Borussia M'gladbach","1.FC Köln",3,0]
[null,"1971/1972",27,"1.FC Köln","1.FC Kaiserslautern",4,2]
[null,"1971/1972",28,"Rot-Weiß Oberhausen","FC Schalke 04",2,3]
[null,"1971/1972",29,"Fortuna Düsseldorf","Rot-Weiß Oberhausen",1,1]
[null,"1971/1972",29,"Eintracht Frankfurt","Arminia Bielefeld",5,2]
[null,"1971/1972",30,"FC Bayern München","Hamburger SV",4,3]
[null,"1971/1972",31,"MSV Duisburg","Werder Bremen",2,0]
[null,"1971/1972",32,"Arminia Bielefeld","Fortuna Düsseldorf",1,3]
[null,"1971/1972",33,"Rot-Weiß Oberhausen","Borussia M'gladbach",0,4]
[null,"1971/1972",33,"Eintracht Frankfurt","Hannover 96",3,1]
[null,"1971/1972",34,"Hamburger SV","1.FC Köln",1,1]
[null,"1972/1973",1,"Eintracht Braunschweig","VfL Bochum",0,2]
[null,"1972/1973",1,"FC Schalke 04","Hannover 96",3,1]
[null,"1972/1973",2,"1.FC Kaiserslautern","FC Schalke 04",2,0]
[null,"1972/1973",3,"MSV Duisburg","1.FC Köln",1,1]
[null,"1972/1973",3,"Borussia M'gladbach","Hannover 96",3,1]
[null,"1972/1973",4,"Hannover 96","VfB Stuttgart",3,1]
[null,"1972/1973",5,"MSV Duisburg","Hannover 96",3,1]
[null,"1972/1973",6,"Werder Bremen","Hertha BSC Berlin",1,1]
[null,"1972/1973",7,"MSV Duisburg","Fortuna Düsseldorf",0,0]
[null,"1972/1973",7,"VfB Stuttgart","VfL Bochum",4,0]
[null,"1972/1973",8,"VfL Bochum","MSV Duisburg",2,1]
[null,"1972/1973",8,"1.FC Köln","Hertha BSC Berlin",4,0]
[null,"1972/1973",10,"Rot-Weiß Oberhausen","VfB Stuttgart",2,2]
[null,"1972/1973",10,"FC Bayern München","MSV Duisburg",2,0]
[null,"1972/1973",11,"Eintracht Frankfurt","Hertha BSC Berlin",2,2]
[null,"1972/1973",11,"MSV Duisburg","Rot-Weiß Oberhausen",4,1]
[null,"1972/1973",13,"Borussia M'gladbach","Wuppertaler SV",2,1]
[null,"1972/1973",13,"VfB Stuttgart","Hertha BSC Berlin",4,0]
[null,"1972/1973",14,"Eintracht Braunschweig","Hamburger SV",1,1]
[null,"1972/1973",15,"1.FC Kaiserslautern","Werder Bremen",3,1]
[null,"1972/1973",16,"Rot-Weiß Oberhausen","VfL Bochum",1,1]
[null,"1972/1973",16,"FC Schalke 04","MSV Duisburg",1,1]
[null,"1972/1973",17,"1.FC Köln","FC Bayern München",2,1]
[null,"1972/1973",17,"VfB Stuttgart","Borussia M'gladbach",3,0]
[null,"1972/1973",19,"Werder Bremen","FC Bayern München",1,0]
[null,"1972/1973",19,"Borussia M'gladbach","Hamburger SV",6,1]
[null,"1972/1973",20,"Kickers Offenbach","Hertha BSC Berlin",0,0]
[null,"1972/1973",21,"FC Schalke 04","VfL Bochum",2,0]
[null,"1972/1973",22,"Fortuna Düsseldorf","Borussia M'gladbach",1,3]
[null,"1972/1973",22,"VfL Bochum","Eintracht Frankfurt",2,1]
[null,"1972/1973",23,"VfB Stuttgart","Fortuna Düsseldorf",2,2]
[null,"1972/1973",23,"MSV Duisburg","1.FC Kaiserslautern",3,4]
[null,"1972/1973",24,"VfL Bochum","VfB Stuttgart",3,1]
[null,"1972/1973",25,"Hamburger SV","Fortuna Düsseldorf",2,1]
[null,"1972/1973",26,"Fortuna Düsseldorf","Hannover 96",0,1]
[null,"1972/1973",27,"Hamburger SV","Kickers Offenbach",1,0]
[null,"1972/1973",27,"Borussia M'gladbach","Werder Bremen",3,1]
[null,"1972/1973",28,"Werder Bremen","VfB Stuttgart",0,2]
[null,"1972/1973",29,"Fortuna Düsseldorf","VfL Bochum",1,1]
[null,"1972/1973",30,"Kickers Offenbach","Fortuna Düsseldorf",1,1]
[null,"1972/1973",30,"Werder Bremen","Hamburger SV",1,4]
[null,"1972/1973",31,"Hannover 96","Werder Bremen",2,2]
[null,"1972/1973",31,"1.FC Kaiserslautern","Rot-Weiß Oberhausen",6,2]
[null,"1972/1973",32,"Wuppertaler SV","MSV Duisburg",5,0]
[null,"1972/1973",33,"Hannover 96","Hertha BSC Berlin",2,0]
[null,"1972/1973",34,"Wuppertaler SV","Hannover 96",0,4]
[null,"1973/1974",1,"Hamburger SV","Hertha BSC Berlin",0,2]
[null,"1973/1974",1,"FC Bayern München","Fortuna Düsseldorf",3,1]
[null,"1973/1974",2,"Hertha BSC Berlin","Kickers Offenbach",2,2]
[null,"1973/1974",3,"1.FC Kaiserslautern","Eintracht Frankfurt",1,4]
[null,"1973/1974",3,"VfB Stuttgart","Hannover 96",5,1]
[null,"1973/1974",4,"Fortuna Düsseldorf","MSV Duisburg",2,1]
[null,"1973/1974",5,"VfB Stuttgart","1.FC Köln",2,1]
[null,"1973/1974",6,"Wuppertaler SV","Fortuna Köln",0,0]
[null,"1973/1974",7,"Fortuna Köln","FC Schalke 04",1,1]
[null,"1973/1974",7,"Hamburger SV","1.FC Köln",3,1]
[null,"1973/1974",8,"Eintracht Frankfurt","Borussia M'gladbach",1,0]
[null,"1973/1974",9,"VfL Bochum","VfB Stuttgart",0,0]
[null,"1973/1974",9,"Kickers Offenbach","MSV Duisburg",2,0]
[null,"1973/1974",10,"Werder Bremen","Hertha BSC Berlin",4,1]
[null,"1973/1974",11,"Kickers Offenbach","VfB Stuttgart",2,1]
[null,"1973/1974",11,"Hamburger SV","VfL Bochum",5,0]
[null,"1973/1974",12,"1.FC Kaiserslautern","FC Bayern München",7,4]
[null,"1973/1974",13,"Hertha BSC Berlin","1.FC Köln",2,2]
[null,"1973/1974",14,"1.FC Köln","Wuppertaler SV",0,0]
[null,"1973/1974",15,"Kickers Offenbach","Borussia M'gladbach",2,3]
[null,"1973/1974",16,"VfL Bochum","Rot-Weiß Essen",1,2]
[null,"1973/1974",16,"Borussia M'gladbach","Fortuna Düsseldorf",1,2]
[null,"1973/1974",17,"Wuppertaler SV","VfB Stuttgart",3,4]
[null,"1973/1974",18,"FC Schalke 04","VfB Stuttgart",2,3]
[null,"1973/1974",18,"Werder Bremen","1.FC Kaiserslautern",3,1]
[null,"1973/1974",19,"1.FC Kaiserslautern","Hannover 96",2,1]
[null,"1973/1974",20,"Hertha BSC Berlin","Borussia M'gladbach",3,4]
[null,"1973/1974",21,"Kickers Offenbach","FC Schalke 04",1,2]
[null,"1973/1974",21,"Borussia M'gladbach","Wuppertaler SV",7,1]
[null,"1973/1974",22,"Fortuna Düsseldorf","Rot-Weiß Essen",3,0]
[null,"1973/1974",23,"Borussia M'gladbach","Werder Bremen",3,1]
[null,"1973/1974",24,"MSV Duisburg","VfL Bochum",0,0]
[null,"1973/1974",25,"Borussia M'gladbach","Eintracht Frankfurt",0,0]
[null,"1973/1974",25,"Hamburger SV","MSV Duisburg",2,0]
[null,"1973/1974",26,"Eintracht Frankfurt","FC Bayern München",1,1]
[null,"1973/1974",27,"Hertha BSC Berlin","Werder Bremen",0,0]
[null,"1973/1974",27,"VfL Bochum","Fortuna Düsseldorf",3,3]
[null,"1973/1974",28,"Hannover 96","Hertha BSC Berlin",3,1]
[null,"1973/1974",29,"Wuppertaler SV","Hannover 96",2,1]
[null,"1973/1974",29,"FC Schalke 04","Werder Bremen",4,2]
[null,"1973/1974",30,"1.FC Kaiserslautern","Fortuna Köln",2,1]
[null,"1973/1974",31,"Kickers Offenbach","Fortuna Düsseldorf",3,0]
[null,"1973/1974",32,"MSV Duisburg","Wuppertaler SV",0,0]
[null,"1973/1974",33,"Hannover 96","Eintracht Frankfurt",0,0]
[null,"1973/1974",33,"Fortuna Köln","Hamburger SV",3,0]
[null,"1973/1974",34,"Eintracht Frankfurt","Fortuna Düsseldorf",2,1]
[null,"1973/1974",34,"Borussia M'gladbach","FC Bayern München",5,0]
[null,"1974/1975",1,"VfB Stuttgart","VfL Bochum",1,0]
[null,"1974/1975",2,"FC Bayern München","Hertha BSC Berlin",2,1]
[null,"1974/1975",3,"1.FC Köln","Fortuna Düsseldorf",2,2]
[null,"1974/1975",3,"Eintracht Braunschweig","MSV Duisburg",4,1]
[null,"1974/1975",4,"MSV Duisburg","Werder Bremen",4,0]
[null,"1974/1975",5,"FC Schalke 04","Fortuna Düsseldorf",3,0]
[null,"1974/1975",6,"Rot-Weiß Essen","Borussia M'gladbach",1,3]
[null,"1974/1975",6,"Kickers Offenbach","Wuppertaler SV",3,1]
[null,"1974/1975",7,"FC Schalke 04","Kickers Offenbach",2,0]
[null,"1974/1975",8,"Hamburger SV","1.FC Köln",3,1]
[null,"1974/1975",8,"VfB Stuttgart","Wuppertaler SV",5,1]
[null,"1974/1975",9,"FC Schalke 04","VfB Stuttgart",2,0]
[null,"1974/1975",10,"Hertha BSC Berlin","Werder Bremen",2,0]
[null,"1974/1975",11,"Rot-Weiß Essen","Hamburger SV",0,0]
[null,"1974/1975",12,"Wuppertaler SV","Eintracht Braunschweig",0,1]
[null,"1974/1975",12,"VfL Bochum","Rot-Weiß Essen",2,2]
[null,"1974/1975",13,"Borussia M'gladbach","1.FC Köln",1,1]
[null,"1974/1975",14,"Fortuna Düsseldorf","VfL Bochum",0,1]
[null,"1974/1975",14,"FC Bayern München","Rot-Weiß Essen",2,2]
[null,"1974/1975",15,"VfL Bochum","FC Bayern München",3,0]
[null,"1974/1975",16,"FC Bayern München","Fortuna Düsseldorf",4,0]
[null,"1974/1975",16,"Hertha BSC Berlin","Rot-Weiß Essen",4,2]
[null,"1974/1975",17,"VfL Bochum","Hertha BSC Berlin",4,0]
[null,"1974/1975",19,"Wuppertaler SV","Rot-Weiß Essen",0,2]
[null,"1974/1975",19,"VfB Stuttgart","Fortuna Düsseldorf",1,1]
[null,"1974/1975",20,"Kickers Offenbach","Hertha BSC Berlin",3,1]
[null,"1974/1975",21,"FC Schalke 04","VfL Bochum",1,0]
[null,"1974/1975",21,"Wuppertaler SV","Fortuna Düsseldorf",2,3]
[null,"1974/1975",22,"MSV Duisburg","Borussia M'gladbach",1,1]
[null,"1974/1975",23,"FC Schalke 04","FC Bayern München",2,2]
[null,"1974/1975",23,"Werder Bremen","VfL Bochum",3,0]
[null,"1974/1975",24,"Kickers Offenbach","FC Schalke 04",3,0]
[null,"1974/1975",25,"Borussia M'gladbach","Fortuna Düsseldorf",3,1]
[null,"1974/1975",25,"Eintracht Frankfurt","VfL Bochum",4,1]
[null,"1974/1975",27,"Wuppertaler SV","Hamburger SV",0,4]
[null,"1974/1975",27,"Eintracht Braunschweig","VfB Stuttgart",6,0]
[null,"1974/1975",28,"Fortuna Düsseldorf","1.FC Kaiserslautern",2,0]
[null,"1974/1975",29,"MSV Duisburg","Fortuna Düsseldorf",0,3]
[null,"1974/1975",30,"FC Schalke 04","Eintracht Braunschweig",1,1]
[null,"1974/1975",30,"Hertha BSC Berlin","Tennis Borussia Berlin",2,1]
[null,"1974/1975",31,"Rot-Weiß Essen","FC Bayern München",2,2]
[null,"1974/1975",32,"Werder Bremen","Eintracht Braunschweig",0,0]
[null,"1974/1975",32,"1.FC Köln","Tennis Borussia Berlin",7,1]
[null,"1974/1975",33,"VfL Bochum","Kickers Offenbach",3,1]
[null,"1974/1975",34,"Werder Bremen","Borussia M'gladbach",1,4]
[null,"1975/1976",1,"VfL Bochum","Werder Bremen",0,3]
[null,"1975/1976",1,"Hamburger SV","FC Schalke 04",4,1]
[null,"1975/1976",2,"Kickers Offenbach","Hamburger SV",3,2]
[null,"1975/1976",3,"VfL Bochum","Fortuna Düsseldorf",0,1]
[null,"1975/1976",3,"FC Bayern München","Werder Bremen",4,0]
[null,"1975/1976",4,"Borussia M'gladbach","MSV Duisburg",3,0]
[null,"1975/1976",5,"Karlsruher SC","1.FC Köln",3,1]
[null,"1975/1976",6,"Hannover 96","Rot-Weiß Essen",0,0]
[null,"1975/1976",7,"Eintracht Frankfurt","Borussia M'gladbach",1,1]
[null,"1975/1976",7,"Hertha BSC Berlin","FC Schalke 04",2,1]
[null,"1975/1976",8,"Kickers Offenbach","Hertha BSC Berlin",2,1]
[null,"1975/1976",8,"Hamburger SV","Rot-Weiß Essen",4,1]
[null,"1975/1976",9,"FC Bayern München","Hannover 96",3,1]
[null,"1975/1976",10,"1.FC Köln","Rot-Weiß Essen",3,0]
[null,"1975/1976",11,"Eintracht Frankfurt","MSV Duisburg",1,1]
[null,"1975/1976",11,"Hertha BSC Berlin","1.FC Kaiserslautern",3,0]
[null,"1975/1976",13,"Fortuna Düsseldorf","Kickers Offenbach",0,0]
[null,"1975/1976",13,"Werder Bremen","Hannover 96",0,0]
[null,"1975/1976",14,"Kickers Offenbach","FC Schalke 04",1,1]
[null,"1975/1976",14,"Hannover 96","KfC Uerdingen 05",3,1]
[null,"1975/1976",15,"KfC Uerdingen 05","1.FC Kaiserslautern",2,2]
[null,"1975/1976",16,"Hannover 96","FC Schalke 04",1,1]
[null,"1975/1976",17,"Hertha BSC Berlin","FC Bayern München",2,1]
[null,"1975/1976",17,"Eintracht Braunschweig","Eintracht Frankfurt",2,0]
[null,"1975/1976",18,"Werder Bremen","VfL Bochum",4,1]
[null,"1975/1976",19,"FC Bayern München","Karlsruher SC",2,0]
[null,"1975/1976",19,"VfL Bochum","KfC Uerdingen 05",3,0]
[null,"1975/1976",20,"Kickers Offenbach","MSV Duisburg",2,1]
[null,"1975/1976",21,"Eintracht Frankfurt","Fortuna Düsseldorf",5,2]
[null,"1975/1976",22,"Hannover 96","MSV Duisburg",0,2]
[null,"1975/1976",23,"Eintracht Frankfurt","Kickers Offenbach",1,0]
[null,"1975/1976",24,"1.FC Köln","Werder Bremen",1,1]
[null,"1975/1976",24,"FC Schalke 04","Hertha BSC Berlin",2,2]
[null,"1975/1976",25,"MSV Duisburg","1.FC Köln",0,4]
[null,"1975/1976",26,"1.FC Kaiserslautern","Eintracht Frankfurt",3,1]
[null,"1975/1976",26,"Kickers Offenbach","Eintracht Braunschweig",4,2]
[null,"1975/1976",27,"Werder Bremen","FC Schalke 04",1,1]
[null,"1975/1976",28,"1.FC Köln","Fortuna Düsseldorf",4,0]
[null,"1975/1976",29,"VfL Bochum","1.FC Köln",1,0]
[null,"1975/1976",29,"Karlsruher SC","Hannover 96",3,2]
[null,"1975/1976",30,"VfL Bochum","Eintracht Frankfurt",5,3]
[null,"1975/1976",30,"Borussia M'gladbach","KfC Uerdingen 05",6,1]
[null,"1975/1976",32,"Kickers Offenbach","1.FC Köln",1,5]
[null,"1975/1976",32,"Hamburger SV","Werder Bremen",1,2]
[null,"1975/1976",33,"Eintracht Braunschweig","VfL Bochum",1,1]
[null,"1975/1976",34,"MSV Duisburg","KfC Uerdingen 05",2,0]
[null,"1975/1976",34,"FC Bayern München","Hertha BSC Berlin",7,4]
[null,"1976/1977",1,"Hamburger SV","Borussia Dortmund",3,4]
[null,"1976/1977",2,"Werder Bremen","Hamburger SV",2,2]
[null,"1976/1977",3,"MSV Duisburg","Hertha BSC Berlin",1,1]
[null,"1976/1977",3,"Tennis Borussia Berlin","Fortuna Düsseldorf",4,2]
[null,"1976/1977",4,"Hertha BSC Berlin","FC Bayern München",1,1]
[null,"1976/1977",5,"Karlsruher SC","1.FC Kaiserslautern",1,1]
[null,"1976/1977",6,"Eintracht Braunschweig","FC Schalke 04",1,0]
[null,"1976/1977",6,"Rot-Weiß Essen","Karlsruher SC",3,2]
[null,"1976/1977",7,"VfL Bochum","Borussia Dortmund",2,1]
[null,"1976/1977",8,"1.FC Kaiserslautern","Hertha BSC Berlin",0,2]
[null,"1976/1977",8,"Borussia Dortmund","FC Bayern München",3,3]
[null,"1976/1977",9,"Borussia M'gladbach","Fortuna Düsseldorf",3,1]
[null,"1976/1977",10,"Fortuna Düsseldorf","MSV Duisburg",2,0]
[null,"1976/1977",11,"Werder Bremen","1.FC Kaiserslautern",2,0]
[null,"1976/1977",12,"Hamburger SV","1.FC Saarbrücken",0,0]
[null,"1976/1977",12,"1.FC Kaiserslautern","FC Bayern München",1,1]
[null,"1976/1977",13,"Borussia M'gladbach","FC Schalke 04",2,0]
[null,"1976/1977",14,"Tennis Borussia Berlin","VfL Bochum",1,1]
[null,"1976/1977",14,"Eintracht Braunschweig","Borussia Dortmund",3,1]
[null,"1976/1977",15,"Borussia M'gladbach","1.FC Saarbrücken",3,0]
[null,"1976/1977",16,"FC Bayern München","Eintracht Frankfurt",0,3]
[null,"1976/1977",16,"Karlsruher SC","Borussia M'gladbach",4,0]
[null,"1976/1977",18,"Fortuna Düsseldorf","FC Bayern München",0,0]
[null,"1976/1977",18,"VfL Bochum","1.FC Saarbrücken",1,2]
[null,"1976/1977",19,"Tennis Borussia Berlin","Eintracht Frankfurt",1,1]
[null,"1976/1977",20,"Fortuna Düsseldorf","Tennis Borussia Berlin",0,0]
[null,"1976/1977",20,"1.FC Kaiserslautern","Hamburger SV",2,0]
[null,"1976/1977",21,"Borussia M'gladbach","Borussia Dortmund",1,1]
[null,"1976/1977",22,"Eintracht Frankfurt","Hamburger SV",2,1]
[null,"1976/1977",22,"1.FC Kaiserslautern","Karlsruher SC",3,1]
[null,"1976/1977",24,"Eintracht Braunschweig","Hamburger SV",0,1]
[null,"1976/1977",24,"Eintracht Frankfurt","Karlsruher SC",3,2]
[null,"1976/1977",24,"Fortuna Düsseldorf","1.FC Saarbrücken",5,1]
[null,"1976/1977",26,"Fortuna Düsseldorf","Borussia M'gladbach",0,1]
[null,"1976/1977",27,"MSV Duisburg","Fortuna Düsseldorf",1,0]
[null,"1976/1977",27,"FC Bayern München","Werder Bremen",1,0]
[null,"1976/1977",28,"Eintracht Braunschweig","MSV Duisburg",1,1]
[null,"1976/1977",29,"MSV Duisburg","Tennis Borussia Berlin",1,1]
[null,"1976/1977",29,"1.FC Saarbrücken","Hamburger SV",3,2]
[null,"1976/1977",30,"1.FC Köln","MSV Duisburg",5,2]
[null,"1976/1977",31,"Hertha BSC Berlin","1.FC Köln",2,4]
[null,"1976/1977",32,"Eintracht Braunschweig","Werder Bremen",0,1]
[null,"1976/1977",32,"Fortuna Düsseldorf","1.FC Kaiserslautern",2,3]
[null,"1976/1977",33,"MSV Duisburg","1.FC Saarbrücken",2,3]
[null,"1976/1977",34,"Karlsruher SC","MSV Duisburg",2,1]
[null,"1976/1977",34,"FC Schalke 04","Borussia Dortmund",4,2]
[null,"1977/1978",1,"Hertha BSC Berlin","Borussia Dortmund",3,1]
[null,"1977/1978",2,"Hamburger SV","TSV 1860 München",3,0]
[null,"1977/1978",3,"Eintracht Frankfurt","Hamburger SV",0,2]
[null,"1977/1978",3,"VfL Bochum","Hertha BSC Berlin",5,0]
[null,"1977/1978",4,"Werder Bremen","VfL Bochum",1,0]
[null,"1977/1978",5,"VfB Stuttgart","Hamburger SV",1,2]
[null,"1977/1978",6,"Hamburger SV","FC St. Pauli",0,2]
[null,"1977/1978",6,"Borussia M'gladbach","1.FC Kaiserslautern",2,2]
[null,"1977/1978",7,"1.FC Köln","FC Schalke 04",2,4]
[null,"1977/1978",8,"Hertha BSC Berlin","VfB Stuttgart",1,1]
[null,"1977/1978",8,"Eintracht Braunschweig","VfL Bochum",3,1]
[null,"1977/1978",9,"FC St. Pauli","Hertha BSC Berlin",3,0]
[null,"1977/1978",10,"Hertha BSC Berlin","Fortuna Düsseldorf",0,0]
[null,"1977/1978",10,"Borussia Dortmund","Werder Bremen",4,1]
[null,"1977/1978",11,"FC St. Pauli","TSV 1860 München",4,1]
[null,"1977/1978",12,"Borussia M'gladbach","FC Bayern München",2,0]
[null,"1977/1978",13,"FC Bayern München","Hertha BSC Berlin",0,2]
[null,"1977/1978",14,"TSV 1860 München","Werder Bremen",0,0]
[null,"1977/1978",14,"Hamburger SV","VfL Bochum",3,1]
[null,"1977/1978",15,"Eintracht Braunschweig","MSV Duisburg",1,0]
[null,"1977/1978",16,"1.FC Kaiserslautern","Werder Bremen",2,1]
[null,"1977/1978",16,"MSV Duisburg","1.FC Saarbrücken",5,0]
[null,"1977/1978",17,"Hamburger SV","Hertha BSC Berlin",2,2]
[null,"1977/1978",18,"FC Schalke 04","TSV 1860 München",2,1]
[null,"1977/1978",19,"MSV Duisburg","Borussia Dortmund",1,2]
[null,"1977/1978",19,"Eintracht Frankfurt","FC Schalke 04",3,0]
[null,"1977/1978",20,"Borussia Dortmund","TSV 1860 München",1,3]
[null,"1977/1978",21,"TSV 1860 München","Borussia M'gladbach",1,1]
[null,"1977/1978",22,"MSV Duisburg","VfL Bochum",0,0]
[null,"1977/1978",22,"FC Schalke 04","FC St. Pauli",4,1]
[null,"1977/1978",23,"FC St. Pauli","Hamburger SV",2,3]
[null,"1977/1978",24,"Borussia Dortmund","FC St. Pauli",1,1]
[null,"1977/1978",25,"VfL Bochum","Eintracht Braunschweig",1,1]
[null,"1977/1978",25,"Werder Bremen","FC Schalke 04",2,0]
[null,"1977/1978",26,"Eintracht Frankfurt","VfL Bochum",5,3]
[null,"1977/1978",27,"FC Bayern München","Hamburger SV",2,0]
[null,"1977/1978",27,"VfB Stuttgart","TSV 1860 München",3,1]
[null,"1977/1978",29,"FC Bayern München","Borussia M'gladbach",1,1]
[null,"1977/1978",29,"FC St. Pauli","Eintracht Frankfurt",5,3]
[null,"1977/1978",30,"MSV Duisburg","Werder Bremen",2,0]
[null,"1977/1978",31,"1.FC Saarbrücken","Borussia M'gladbach",0,1]
[null,"1977/1978",32,"1.FC Kaiserslautern","1.FC Köln",0,2]
[null,"1977/1978",32,"MSV Duisburg","Eintracht Braunschweig",3,1]
[null,"1977/1978",33,"FC Bayern München","Eintracht Frankfurt",2,1]
[null,"1977/1978",34,"TSV 1860 München","1.FC Saarbrücken",2,0]
[null,"1977/1978",34,"Borussia M'gladbach","Borussia Dortmund",12,0]
[null,"1978/1979",1,"Fortuna Düsseldorf","Werder Bremen",3,1]
[null,"1978/1979",2,"1.FC Köln","Darmstadt 98",2,1]
[null,"1978/1979",3,"Borussia Dortmund","Werder Bremen",1,0]
[null,"1978/1979",4,"Borussia M'gladbach","FC Schalke 04",0,0]
[null,"1978/1979",4,"Darmstadt 98","1.FC Kaiserslautern",2,2]
[null,"1978/1979",5,"Fortuna Düsseldorf","1.FC Köln",1,1]
[null,"1978/1979",6,"1.FC Köln","Hamburger SV",1,3]
[null,"1978/1979",6,"Borussia M'gladbach","Arminia Bielefeld",4,1]
[null,"1978/1979",7,"MSV Duisburg","Hertha BSC Berlin",3,2]
[null,"1978/1979",8,"VfL Bochum","Arminia Bielefeld",1,0]
[null,"1978/1979",8,"Darmstadt 98","Borussia Dortmund",3,2]
[null,"1978/1979",9,"Borussia M'gladbach","Werder Bremen",4,0]
[null,"1978/1979",10,"Fortuna Düsseldorf","Hamburger SV",0,2]
[null,"1978/1979",11,"FC Schalke 04","1.FC Kaiserslautern",1,1]
[null,"1978/1979",12,"1.FC Nürnberg","FC Schalke 04",0,2]
[null,"1978/1979",12,"Darmstadt 98","Arminia Bielefeld",1,1]
[null,"1978/1979",13,"VfL Bochum","VfB Stuttgart",1,2]
[null,"1978/1979",14,"1.FC Kaiserslautern","FC Bayern München",2,1]
[null,"1978/1979",14,"Borussia Dortmund","MSV Duisburg",4,1]
[null,"1978/1979",15,"Werder Bremen","Darmstadt 98",3,0]
[null,"1978/1979",16,"Eintracht Braunschweig","Hertha BSC Berlin",0,1]
[null,"1978/1979",16,"Fortuna Düsseldorf","FC Bayern München",7,1]
[null,"1978/1979",17,"Arminia Bielefeld","Borussia Dortmund",4,3]
[null,"1978/1979",18,"Hertha BSC Berlin","Darmstadt 98",1,0]
[null,"1978/1979",19,"Eintracht Braunschweig","Eintracht Frankfurt",0,0]
[null,"1978/1979",20,"Darmstadt 98","Eintracht Braunschweig",1,1]
[null,"1978/1979",20,"VfL Bochum","Hamburger SV",2,1]
[null,"1978/1979",21,"Fortuna Düsseldorf","Hertha BSC Berlin",3,1]
[null,"1978/1979",21,"Eintracht Braunschweig","Arminia Bielefeld",5,2]
[null,"1978/1979",22,"1.FC Köln","Fortuna Düsseldorf",2,2]
[null,"1978/1979",24,"VfL Bochum","Eintracht Frankfurt",0,0]
[null,"1978/1979",24,"Hertha BSC Berlin","MSV Duisburg",1,0]
[null,"1978/1979",24,"1.FC Köln","Borussia Dortmund",5,0]
[null,"1978/1979",26,"Darmstadt 98","MSV Duisburg",2,0]
[null,"1978/1979",26,"1.FC Nürnberg","Hamburger SV",3,3]
[null,"1978/1979",27,"Hamburger SV","Fortuna Düsseldorf",2,1]
[null,"1978/1979",27,"MSV Duisburg","1.FC Kaiserslautern",3,1]
[null,"1978/1979",28,"1.FC Köln","Arminia Bielefeld",2,1]
[null,"1978/1979",29,"FC Bayern München","1.FC Köln",5,1]
[null,"1978/1979",30,"1.FC Nürnberg","Eintracht Frankfurt",0,0]
[null,"1978/1979",30,"Fortuna Düsseldorf","FC Schalke 04",3,1]
[null,"1978/1979",32,"Eintracht Braunschweig","MSV Duisburg",0,2]
[null,"1978/1979",32,"Darmstadt 98","Werder Bremen",3,0]
[null,"1978/1979",33,"VfL Bochum","Darmstadt 98",1,2]
[null,"1978/1979",34,"1.FC Kaiserslautern","VfL Bochum",1,1]
[null,"1978/1979",34,"Fortuna Düsseldorf","Borussia M'gladbach",3,3]
[null,"1979/1980",1,"Borussia M'gladbach","FC Schalke 04",1,1]
[null,"1979/1980",2,"Fortuna Düsseldorf","Eintracht Frankfurt",1,3]
[null,"1979/1980",2,"TSV 1860 München","Werder Bremen",4,1]
[null,"1979/1980",3,"1.FC Kaiserslautern","Eintracht Braunschweig",2,0]
[null,"1979/1980",4,"Borussia M'gladbach","FC Bayern München",2,1]
[null,"1979/1980",5,"VfL Bochum","FC Bayern München",0,1]
[null,"1979/1980",6,"Hamburger SV","1.FC Kaiserslautern",1,0]
[null,"1979/1980",6,"Borussia Dortmund","VfL Bochum",2,2]
[null,"1979/1980",7,"KfC Uerdingen 05","Eintracht Braunschweig",2,1]
[null,"1979/1980",8,"Bayer Leverkusen","KfC Uerdingen 05",1,1]
[null,"1979/1980",8,"FC Schalke 04","Werder Bremen",3,0]
[null,"1979/1980",9,"VfL Bochum","MSV Duisburg",3,0]
[null,"1979/1980",10,"Hamburger SV","KfC Uerdingen 05",2,2]
[null,"1979/1980",11,"KfC Uerdingen 05","Borussia M'gladbach",0,1]
[null,"1979/1980",11,"Borussia Dortmund","FC Schalke 04",2,1]
[null,"1979/1980",12,"Bayer Leverkusen","VfB Stuttgart",1,3]
[null,"1979/1980",13,"Fortuna Düsseldorf","Hamburger SV",1,1]
[null,"1979/1980",14,"Hertha BSC Berlin","TSV 1860 München",1,1]
[null,"1979/1980",14,"Eintracht Frankfurt","1.FC Köln",3,0]
[null,"1979/1980",15,"1.FC Köln","VfL Bochum",2,1]
[null,"1979/1980",16,"Borussia M'gladbach","Eintracht Braunschweig",1,1]
[null,"1979/1980",17,"Bayer Leverkusen","Borussia M'gladbach",0,0]
[null,"1979/1980",17,"FC Schalke 04","Hamburger SV",1,0]
[null,"1979/1980",18,"TSV 1860 München","1.FC Köln",1,1]
[null,"1979/1980",19,"Borussia M'gladbach","Hamburger SV",2,2]
[null,"1979/1980",19,"1.FC Köln","Borussia Dortmund",4,1]
[null,"1979/1980",20,"Fortuna Düsseldorf","1.FC Köln",3,6]
[null,"1979/1980",21,"1.FC Kaiserslautern","Bayer Leverkusen",4,0]
[null,"1979/1980",22,"Borussia Dortmund","TSV 1860 München",0,0]
[null,"1979/1980",22,"VfB Stuttgart","Werder Bremen",5,1]
[null,"1979/1980",23,"MSV Duisburg","Borussia M'gladbach",3,0]
[null,"1979/1980",24,"FC Bayern München","MSV Duisburg",3,1]
[null,"1979/1980",25,"1.FC Köln","Hamburger SV",2,3]
[null,"1979/1980",25,"Borussia Dortmund","VfB Stuttgart",2,4]
[null,"1979/1980",26,"VfB Stuttgart","Fortuna Düsseldorf",5,1]
[null,"1979/1980",27,"Fortuna Düsseldorf","Eintracht Braunschweig",3,2]
[null,"1979/1980",28,"Hertha BSC Berlin","1.FC Köln",1,0]
[null,"1979/1980",29,"Werder Bremen","Hertha BSC Berlin",1,0]
[null,"1979/1980",29,"KfC Uerdingen 05","FC Bayern München",1,3]
[null,"1979/1980",30,"Borussia M'gladbach","Borussia Dortmund",2,2]
[null,"1979/1980",31,"Fortuna Düsseldorf","Borussia M'gladbach",1,4]
[null,"1979/1980",31,"VfB Stuttgart","Hamburger SV",2,2]
[null,"1979/1980",32,"Hertha BSC Berlin","Borussia Dortmund",3,2]
[null,"1979/1980",33,"Bayer Leverkusen","Hamburger SV",2,1]
[null,"1979/1980",34,"MSV Duisburg","Fortuna Düsseldorf",0,2]
[null,"1979/1980",34,"VfL Bochum","Werder Bremen",5,2]
[null,"1980/1981",1,"Bayer Leverkusen","1.FC Kaiserslautern",0,1]
[null,"1980/1981",2,"1.FC Köln","Bayer Leverkusen",1,1]
[null,"1980/1981",3,"Karlsruher SC","Borussia Dortmund",1,1]
[null,"1980/1981",3,"Hamburger SV","1.FC Kaiserslautern",3,2]
[null,"1980/1981",4,"MSV Duisburg","Karlsruher SC",2,2]
[null,"1980/1981",5,"TSV 1860 München","1.FC Köln",2,1]
[null,"1980/1981",5,"Hamburger SV","Eintracht Frankfurt",3,1]
[null,"1980/1981",6,"KfC Uerdingen 05","VfB Stuttgart",3,3]
[null,"1980/1981",7,"Arminia Bielefeld","Fortuna Düsseldorf",3,0]
[null,"1980/1981",7,"Bayer Leverkusen","Borussia Dortmund",4,1]
[null,"1980/1981",8,"Fortuna Düsseldorf","Bayer Leverkusen",4,3]
[null,"1980/1981",9,"MSV Duisburg","Borussia M'gladbach",4,0]
[null,"1980/1981",10,"Fortuna Düsseldorf","Hamburger SV",2,3]
[null,"1980/1981",11,"MSV Duisburg","FC Bayern München",0,1]
[null,"1980/1981",11,"VfB Stuttgart","Arminia Bielefeld",2,1]
[null,"1980/1981",12,"KfC Uerdingen 05","1.FC Kaiserslautern",1,0]
[null,"1980/1981",13,"Eintracht Frankfurt","Borussia M'gladbach",2,1]
[null,"1980/1981",13,"1.FC Kaiserslautern","FC Bayern München",4,2]
[null,"1980/1981",14,"VfB Stuttgart","Hamburger SV",3,2]
[null,"1980/1981",15,"MSV Duisburg","Arminia Bielefeld",1,1]
[null,"1980/1981",16,"FC Schalke 04","1.FC Kaiserslautern",0,2]
[null,"1980/1981",16,"VfB Stuttgart","VfL Bochum",4,1]
[null,"1980/1981",17,"1.FC Kaiserslautern","Arminia Bielefeld",1,3]
[null,"1980/1981",18,"Borussia M'gladbach","Fortuna Düsseldorf",2,2]
[null,"1980/1981",18,"VfL Bochum","TSV 1860 München",4,1]
[null,"1980/1981",19,"Borussia Dortmund","FC Bayern München",2,2]
[null,"1980/1981",20,"Eintracht Frankfurt","Bayer Leverkusen",2,0]
[null,"1980/1981",21,"Bayer Leverkusen","Borussia M'gladbach",1,5]
[null,"1980/1981",22,"1.FC Kaiserslautern","VfL Bochum",0,0]
[null,"1980/1981",22,"KfC Uerdingen 05","Bayer Leverkusen",3,0]
[null,"1980/1981",23,"VfL Bochum","1.FC Köln",1,1]
[null,"1980/1981",24,"Eintracht Frankfurt","VfL Bochum",1,2]
[null,"1980/1981",25,"Arminia Bielefeld","FC Schalke 04",1,0]
[null,"1980/1981",25,"Hamburger SV","FC Bayern München",2,2]
[null,"1980/1981",26,"Borussia M'gladbach","MSV Duisburg",4,1]
[null,"1980/1981",27,"Hamburger SV","Fortuna Düsseldorf",2,1]
[null,"1980/1981",27,"1.FC Kaiserslautern","Eintracht Frankfurt",2,0]
[null,"1980/1981",29,"1.FC Nürnberg","FC Bayern München",0,1]
[null,"1980/1981",29,"Hamburger SV","Arminia Bielefeld",4,1]
[null,"1980/1981",30,"FC Schalke 04","VfL Bochum",0,6]
[null,"1980/1981",31,"VfL Bochum","Arminia Bielefeld",0,2]
[null,"1980/1981",32,"Fortuna Düsseldorf","1.FC Kaiserslautern",0,2]
[null,"1980/1981",32,"Arminia Bielefeld","MSV Duisburg",2,1]
[null,"1980/1981",33,"Borussia M'gladbach","FC Bayern München",1,4]
[null,"1980/1981",34,"FC Schalke 04","1.FC Köln",1,2]
[null,"1980/1981",34,"Hamburger SV","VfL Bochum",2,1]
[null,"1981/1982",1,"VfL Bochum","1.FC Nürnberg",2,0]
[null,"1981/1982",2,"1.FC Nürnberg","1.FC Köln",1,3]
[null,"1981/1982",3,"Arminia Bielefeld","Fortuna Düsseldorf",1,1]
[null,"1981/1982",3,"Bayer Leverkusen","Darmstadt 98",3,2]
[null,"1981/1982",4,"Karlsruher SC","Arminia Bielefeld",2,1]
[null,"1981/1982",5,"Darmstadt 98","Werder Bremen",1,1]
[null,"1981/1982",6,"1.FC Nürnberg","VfB Stuttgart",0,0]
[null,"1981/1982",6,"Werder Bremen","VfL Bochum",3,1]
[null,"1981/1982",7,"Darmstadt 98","Karlsruher SC",2,6]
[null,"1981/1982",8,"Fortuna Düsseldorf","VfL Bochum",2,1]
[null,"1981/1982",8,"Hamburger SV","MSV Duisburg",7,0]
[null,"1981/1982",9,"Fortuna Düsseldorf","Karlsruher SC",2,0]
[null,"1981/1982",10,"MSV Duisburg","VfB Stuttgart",1,2]
[null,"1981/1982",11,"Karlsruher SC","Eintracht Braunschweig",2,1]
[null,"1981/1982",11,"Borussia M'gladbach","MSV Duisburg",4,2]
[null,"1981/1982",12,"1.FC Kaiserslautern","Karlsruher SC",2,1]
[null,"1981/1982",12,"Hamburger SV","FC Bayern München",4,1]
[null,"1981/1982",14,"VfB Stuttgart","FC Bayern München",0,3]
[null,"1981/1982",14,"Hamburger SV","Darmstadt 98",6,1]
[null,"1981/1982",15,"Fortuna Düsseldorf","Eintracht Frankfurt",2,2]
[null,"1981/1982",15,"Eintracht Braunschweig","1.FC Nürnberg",4,2]
[null,"1981/1982",17,"Darmstadt 98","Borussia M'gladbach",1,1]
[null,"1981/1982",17,"Bayer Leverkusen","Arminia Bielefeld",2,2]
[null,"1981/1982",18,"Werder Bremen","Borussia M'gladbach",0,1]
[null,"1981/1982",18,"1.FC Nürnberg","VfL Bochum",2,1]
[null,"1981/1982",19,"MSV Duisburg","Eintracht Braunschweig",5,2]
[null,"1981/1982",20,"Werder Bremen","FC Bayern München",2,0]
[null,"1981/1982",21,"VfL Bochum","Darmstadt 98",1,0]
[null,"1981/1982",21,"Eintracht Frankfurt","1.FC Köln",4,2]
[null,"1981/1982",22,"1.FC Kaiserslautern","Borussia M'gladbach",3,2]
[null,"1981/1982",23,"Arminia Bielefeld","1.FC Kaiserslautern",2,0]
[null,"1981/1982",23,"FC Bayern München","Eintracht Braunschweig",3,1]
[null,"1981/1982",24,"Karlsruher SC","Darmstadt 98",3,1]
[null,"1981/1982",26,"1.FC Nürnberg","FC Bayern München",0,3]
[null,"1981/1982",26,"1.FC Köln","Arminia Bielefeld",0,1]
[null,"1981/1982",27,"Werder Bremen","1.FC Kaiserslautern",0,1]
[null,"1981/1982",28,"1.FC Kaiserslautern","Fortuna Düsseldorf",1,1]
[null,"1981/1982",28,"Borussia Dortmund","Werder Bremen",1,0]
[null,"1981/1982",29,"Karlsruher SC","1.FC Kaiserslautern",1,1]
[null,"1981/1982",30,"Eintracht Frankfurt","Darmstadt 98",2,1]
[null,"1981/1982",30,"Borussia Dortmund","Karlsruher SC",4,0]
[null,"1981/1982",31,"Bayer Leverkusen","MSV Duisburg",2,1]
[null,"1981/1982",32,"Eintracht Frankfurt","Fortuna Düsseldorf",4,0]
[null,"1981/1982",32,"VfB Stuttgart","Bayer Leverkusen",4,2]
[null,"1981/1982",33,"Eintracht Braunschweig","1.FC Köln",4,4]
[null,"1981/1982",34,"Borussia M'gladbach","Darmstadt 98",6,1]
[null,"1982/1983",1,"Werder Bremen","FC Bayern München",1,0]
[null,"1982/1983",2,"Hertha BSC Berlin","Borussia Dortmund",1,3]
[null,"1982/1983",3,"1.FC Nürnberg","VfB Stuttgart",0,5]
[null,"1982/1983",3,"Bayer Leverkusen","VfL Bochum",1,0]
[null,"1982/1983",4,"VfB Stuttgart","Werder Bremen",4,1]
[null,"1982/1983",5,"Eintracht Braunschweig","Borussia Dortmund",0,0]
[null,"1982/1983",5,"1.FC Nürnberg","1.FC Köln",2,1]
[null,"1982/1983",6,"Hamburger SV","Arminia Bielefeld",3,1]
[null,"1982/1983",7,"Karlsruher SC","Hertha BSC Berlin",1,1]
[null,"1982/1983",8,"FC Schalke 04","1.FC Nürnberg",0,1]
[null,"1982/1983",8,"1.FC Köln","Karlsruher SC",4,1]
[null,"1982/1983",9,"Arminia Bielefeld","Hertha BSC Berlin",2,1]
[null,"1982/1983",10,"1.FC Nürnberg","Werder Bremen",2,0]
[null,"1982/1983",11,"Karlsruher SC","FC Schalke 04",2,2]
[null,"1982/1983",11,"Eintracht Braunschweig","Werder Bremen",3,1]
[null,"1982/1983",12,"Borussia M'gladbach","Eintracht Braunschweig",3,0]
[null,"1982/1983",13,"FC Bayern München","1.FC Köln",0,1]
[null,"1982/1983",13,"Arminia Bielefeld","FC Schalke 04",3,2]
[null,"1982/1983",14,"1.FC Kaiserslautern","FC Bayern München",3,2]
[null,"1982/1983",15,"Arminia Bielefeld","Werder Bremen",1,2]
[null,"1982/1983",16,"1.FC Nürnberg","VfL Bochum",1,1]
[null,"1982/1983",16,"Karlsruher SC","Bayer Leverkusen",2,2]
[null,"1982/1983",17,"VfB Stuttgart","1.FC Kaiserslautern",1,1]
[null,"1982/1983",18,"VfB Stuttgart","Borussia Dortmund",2,1]
[null,"1982/1983",18,"Hamburger SV","1.FC Nürnberg",3,0]
[null,"1982/1983",19,"Werder Bremen","Hamburger SV",3,2]
[null,"1982/1983",20,"1.FC Köln","Borussia Dortmund",2,2]
[null,"1982/1983",21,"FC Schalke 04","1.FC Köln",1,4]
[null,"1982/1983",22,"VfB Stuttgart","Fortuna Düsseldorf",1,1]
[null,"1982/1983",22,"1.FC Kaiserslautern","FC Schalke 04",2,0]
[null,"1982/1983",23,"Karlsruher SC","VfB Stuttgart",1,2]
[null,"1982/1983",24,"FC Schalke 04","Eintracht Braunschweig",3,3]
[null,"1982/1983",24,"Borussia Dortmund","1.FC Nürnberg",4,0]
[null,"1982/1983",25,"Arminia Bielefeld","VfB Stuttgart",2,2]
[null,"1982/1983",26,"1.FC Nürnberg","Eintracht Braunschweig",0,0]
[null,"1982/1983",26,"VfB Stuttgart","Eintracht Frankfurt",4,1]
[null,"1982/1983",27,"Werder Bremen","1.FC Nürnberg",3,2]
[null,"1982/1983",28,"Werder Bremen","Eintracht Braunschweig",6,0]
[null,"1982/1983",29,"Eintracht Braunschweig","Borussia M'gladbach",0,0]
[null,"1982/1983",30,"1.FC Köln","FC Bayern München",2,0]
[null,"1982/1983",31,"Eintracht Braunschweig","VfB Stuttgart",1,2]
[null,"1982/1983",31,"Bayer Leverkusen","Werder Bremen",1,1]
[null,"1982/1983",32,"Fortuna Düsseldorf","Bayer Leverkusen",4,0]
[null,"1982/1983",33,"Arminia Bielefeld","Fortuna Düsseldorf",2,1]
[null,"1982/1983",33,"Hertha BSC Berlin","Eintracht Braunschweig",3,3]
[null,"1982/1983",34,"Borussia Dortmund","Borussia M'gladbach",4,6]
[null,"1983/1984",1,"Eintracht Frankfurt","Borussia Dortmund",2,2]
[null,"1983/1984",1,"1.FC Köln","Arminia Bielefeld",2,3]
[null,"1983/1984",2,"Bayer Leverkusen","1.FC Nürnberg",3,0]
[null,"1983/1984",3,"Borussia M'gladbach","Werder Bremen",3,1]
[null,"1983/1984",4,"Fortuna Düsseldorf","1.FC Nürnberg",2,1]
[null,"1983/1984",4,"Eintracht Braunschweig","Borussia M'gladbach",3,1]
[null,"1983/1984",6,"VfL Bochum","Borussia M'gladbach",0,4]
[null,"1983/1984",6,"Arminia Bielefeld","1.FC Kaiserslautern",3,2]
[null,"1983/1984",7,"KfC Uerdingen 05","Bayer Leverkusen",2,1]
[null,"1983/1984",8,"Waldhof Mannheim","1.FC Nürnberg",1,0]
[null,"1983/1984",8,"Kickers Offenbach","1.FC Kaiserslautern",3,2]
[null,"1983/1984",9,"1.FC Kaiserslautern","Werder Bremen",3,3]
[null,"1983/1984",10,"Waldhof Mannheim","Hamburger SV",0,1]
[null,"1983/1984",10,"Kickers Offenbach","KfC Uerdingen 05",3,2]
[null,"1983/1984",11,"1.FC Kaiserslautern","Waldhof Mannheim",2,0]
[null,"1983/1984",12,"Werder Bremen","Bayer Leverkusen",3,0]
[null,"1983/1984",13,"Eintracht Frankfurt","FC Bayern München",0,0]
[null,"1983/1984",13,"Bayer Leverkusen","Eintracht Braunschweig",3,0]
[null,"1983/1984",14,"Werder Bremen","Fortuna Düsseldorf",2,0]
[null,"1983/1984",15,"Eintracht Frankfurt","VfB Stuttgart",1,3]
[null,"1983/1984",15,"Werder Bremen","Kickers Offenbach",8,1]
[null,"1983/1984",16,"1.FC Köln","KfC Uerdingen 05",3,0]
[null,"1983/1984",17,"Arminia Bielefeld","Borussia M'gladbach",2,2]
[null,"1983/1984",18,"Bayer Leverkusen","FC Bayern München",1,5]
[null,"1983/1984",18,"Werder Bremen","Waldhof Mannheim",5,0]
[null,"1983/1984",19,"FC Bayern München","Arminia Bielefeld",3,1]
[null,"1983/1984",20,"Werder Bremen","Borussia M'gladbach",2,0]
[null,"1983/1984",21,"VfL Bochum","Waldhof Mannheim",1,0]
[null,"1983/1984",21,"1.FC Kaiserslautern","KfC Uerdingen 05",5,2]
[null,"1983/1984",22,"KfC Uerdingen 05","Borussia Dortmund",2,1]
[null,"1983/1984",23,"Eintracht Frankfurt","Kickers Offenbach",3,0]
[null,"1983/1984",23,"1.FC Kaiserslautern","Arminia Bielefeld",6,0]
[null,"1983/1984",24,"Borussia M'gladbach","VfB Stuttgart",2,0]
[null,"1983/1984",25,"Hamburger SV","Werder Bremen",4,0]
[null,"1983/1984",26,"Kickers Offenbach","Borussia Dortmund",0,0]
[null,"1983/1984",27,"1.FC Nürnberg","Borussia M'gladbach",1,3]
[null,"1983/1984",27,"Bayer Leverkusen","Fortuna Düsseldorf",2,0]
[null,"1983/1984",28,"Borussia M'gladbach","Eintracht Frankfurt",1,1]
[null,"1983/1984",29,"1.FC Nürnberg","FC Bayern München",2,4]
[null,"1983/1984",29,"KfC Uerdingen 05","Eintracht Braunschweig",4,0]
[null,"1983/1984",30,"FC Bayern München","Eintracht Frankfurt",3,0]
[null,"1983/1984",31,"Fortuna Düsseldorf","Werder Bremen",3,4]
[null,"1983/1984",31,"VfB Stuttgart","Kickers Offenbach",5,1]
[null,"1983/1984",32,"FC Bayern München","1.FC Kaiserslautern",5,2]
[null,"1983/1984",33,"KfC Uerdingen 05","1.FC Köln",4,6]
[null,"1983/1984",34,"1.FC Nürnberg","Borussia Dortmund",0,2]
[null,"1984/1985",1,"1.FC Kaiserslautern","VfB Stuttgart",2,1]
[null,"1984/1985",2,"1.FC Köln","Arminia Bielefeld",1,1]
[null,"1984/1985",2,"Eintracht Frankfurt","Bayer Leverkusen",2,0]
[null,"1984/1985",3,"Bayer Leverkusen","FC Schalke 04",2,2]
[null,"1984/1985",4,"1.FC Köln","KfC Uerdingen 05",1,5]
[null,"1984/1985",5,"Werder Bremen","Waldhof Mannheim",1,1]
[null,"1984/1985",5,"KfC Uerdingen 05","VfB Stuttgart",3,2]
[null,"1984/1985",6,"Fortuna Düsseldorf","Werder Bremen",3,2]
[null,"1984/1985",7,"FC Bayern München","Waldhof Mannheim",1,2]
[null,"1984/1985",8,"Waldhof Mannheim","1.FC Köln",1,2]
[null,"1984/1985",8,"Borussia M'gladbach","Eintracht Braunschweig",10,0]
[null,"1984/1985",9,"Arminia Bielefeld","Borussia M'gladbach",3,3]
[null,"1984/1985",9,"FC Bayern München","Eintracht Frankfurt",4,2]
[null,"1984/1985",10,"FC Schalke 04","FC Bayern München",1,1]
[null,"1984/1985",11,"Eintracht Braunschweig","Karlsruher SC",3,1]
[null,"1984/1985",12,"Bayer Leverkusen","Werder Bremen",0,0]
[null,"1984/1985",13,"VfB Stuttgart","Hamburger SV",1,1]
[null,"1984/1985",14,"Eintracht Braunschweig","Arminia Bielefeld",0,0]
[null,"1984/1985",14,"FC Schalke 04","Fortuna Düsseldorf",1,0]
[null,"1984/1985",15,"FC Schalke 04","Eintracht Frankfurt",1,3]
[null,"1984/1985",15,"Werder Bremen","Eintracht Braunschweig",4,1]
[null,"1984/1985",16,"Karlsruher SC","1.FC Köln",1,4]
[null,"1984/1985",17,"1.FC Köln","1.FC Kaiserslautern",2,0]
[null,"1984/1985",18,"Eintracht Frankfurt","VfL Bochum",1,1]
[null,"1984/1985",18,"Hamburger SV","Borussia Dortmund",4,2]
[null,"1984/1985",19,"Eintracht Braunschweig","VfB Stuttgart",3,1]
[null,"1984/1985",20,"Fortuna Düsseldorf","1.FC Kaiserslautern",1,0]
[null,"1984/1985",21,"Arminia Bielefeld","Waldhof Mannheim",0,1]
[null,"1984/1985",21,"1.FC Kaiserslautern","Eintracht Frankfurt",2,1]
[null,"1984/1985",22,"Waldhof Mannheim","Werder Bremen",1,1]
[null,"1984/1985",23,"Bayer Leverkusen","VfL Bochum",1,1]
[null,"1984/1985",23,"Eintracht Braunschweig","FC Schalke 04",4,2]
[null,"1984/1985",24,"VfB Stuttgart","1.FC Köln",3,1]
[null,"1984/1985",25,"Werder Bremen","FC Schalke 04",2,1]
[null,"1984/1985",26,"VfL Bochum","Eintracht Braunschweig",1,0]
[null,"1984/1985",26,"Karlsruher SC","Borussia Dortmund",2,4]
[null,"1984/1985",27,"1.FC Kaiserslautern","Karlsruher SC",3,1]
[null,"1984/1985",28,"Fortuna Düsseldorf","Waldhof Mannheim",1,1]
[null,"1984/1985",29,"Borussia Dortmund","Fortuna Düsseldorf",1,2]
[null,"1984/1985",30,"VfL Bochum","FC Bayern München",1,1]
[null,"1984/1985",30,"Borussia M'gladbach","1.FC Köln",2,3]
[null,"1984/1985",31,"FC Bayern München","Bayer Leverkusen",2,1]
[null,"1984/1985",31,"Werder Bremen","1.FC Kaiserslautern",6,1]
[null,"1984/1985",32,"VfL Bochum","VfB Stuttgart",2,1]
[null,"1984/1985",33,"Werder Bremen","Arminia Bielefeld",2,1]
[null,"1984/1985",34,"Karlsruher SC","VfB Stuttgart",1,1]
[null,"1984/1985",34,"Borussia M'gladbach","Eintracht Frankfurt",3,3]
[null,"1985/1986",2,"1.FC Kaiserslautern","1.FC Köln",1,0]
[null,"1985/1986",2,"FC Bayern München","VfB Stuttgart",4,1]
[null,"1985/1986",3,"Fortuna Düsseldorf","Eintracht Frankfurt",0,1]
[null,"1985/1986",4,"Borussia Dortmund","1.FC Nürnberg",1,4]
[null,"1985/1986",4,"FC Bayern München","Hannover 96",6,0]
[null,"1985/1986",5,"Waldhof Mannheim","1.FC Kaiserslautern",1,1]
[null,"1985/1986",6,"1.FC Kaiserslautern","VfL Bochum",2,0]
[null,"1985/1986",7,"Eintracht Frankfurt","1.FC Kaiserslautern",1,1]
[null,"1985/1986",7,"VfL Bochum","Borussia Dortmund",6,1]
[null,"1985/1986",8,"Bayer Leverkusen","VfL Bochum",4,2]
[null,"1985/1986",9,"Hamburger SV","Hannover 96",3,0]
[null,"1985/1986",10,"FC Schalke 04","1.FC Nürnberg",2,0]
[null,"1985/1986",10,"Borussia Dortmund","KfC Uerdingen 05",5,2]
[null,"1985/1986",11,"1.FC Nürnberg","Hannover 96",3,3]
[null,"1985/1986",12,"Bayer Leverkusen","KfC Uerdingen 05",2,2]
[null,"1985/1986",13,"1.FC Kaiserslautern","FC Bayern München",0,2]
[null,"1985/1986",13,"KfC Uerdingen 05","1.FC Köln",3,2]
[null,"1985/1986",14,"1.FC Köln","1.FC Nürnberg",3,1]
[null,"1985/1986",15,"Bayer Leverkusen","FC Bayern München",1,2]
[null,"1985/1986",15,"VfL Bochum","1.FC Saarbrücken",3,1]
[null,"1985/1986",16,"Hannover 96","1.FC Kaiserslautern",3,2]
[null,"1985/1986",17,"VfL Bochum","1.FC Köln",2,0]
[null,"1985/1986",18,"Borussia M'gladbach","VfB Stuttgart",1,1]
[null,"1985/1986",19,"VfB Stuttgart","FC Bayern München",0,0]
[null,"1985/1986",19,"Fortuna Düsseldorf","VfL Bochum",2,1]
[null,"1985/1986",20,"Werder Bremen","1.FC Saarbrücken",1,0]
[null,"1985/1986",21,"Hamburger SV","Werder Bremen",0,1]
[null,"1985/1986",21,"1.FC Saarbrücken","Borussia M'gladbach",1,3]
[null,"1985/1986",22,"Borussia M'gladbach","Hamburger SV",2,1]
[null,"1985/1986",23,"Hannover 96","FC Schalke 04",1,2]
[null,"1985/1986",23,"VfL Bochum","1.FC Kaiserslautern",3,2]
[null,"1985/1986",24,"Bayer Leverkusen","Waldhof Mannheim",3,1]
[null,"1985/1986",25,"Fortuna Düsseldorf","Borussia M'gladbach",2,0]
[null,"1985/1986",26,"Werder Bremen","VfL Bochum",0,0]
[null,"1985/1986",26,"VfB Stuttgart","1.FC Nürnberg",3,1]
[null,"1985/1986",27,"VfL Bochum","Borussia M'gladbach",2,2]
[null,"1985/1986",28,"Borussia M'gladbach","Eintracht Frankfurt",1,1]
[null,"1985/1986",29,"1.FC Kaiserslautern","Borussia M'gladbach",1,1]
[null,"1985/1986",29,"1.FC Nürnberg","1.FC Saarbrücken",2,0]
[null,"1985/1986",30,"VfB Stuttgart","Eintracht Frankfurt",2,1]
[null,"1985/1986",31,"VfL Bochum","Hannover 96",3,2]
[null,"1985/1986",31,"Bayer Leverkusen","Borussia M'gladbach",3,1]
[null,"1985/1986",33,"Eintracht Frankfurt","1.FC Saarbrücken",1,3]
[null,"1985/1986",33,"1.FC Kaiserslautern","Hannover 96",1,0]
[null,"1985/1986",34,"Hannover 96","Borussia Dortmund",1,4]
[null,"1986/1987",1,"Waldhof Mannheim","VfB Stuttgart",3,2]
[null,"1986/1987",1,"Bayer Leverkusen","FC Schalke 04",4,2]
[null,"1986/1987",2,"Hamburger SV","Werder Bremen",3,0]
[null,"1986/1987",3,"FC Bayern München","1.FC Köln",3,0]
[null,"1986/1987",4,"1.FC Nürnberg","FC Bayern München",1,2]
[null,"1986/1987",5,"VfL Bochum","Borussia M'gladbach",1,1]
[null,"1986/1987",5,"Waldhof Mannheim","1.FC Köln",2,0]
[null,"1986/1987",5,"VfB Stuttgart","FC Schalke 04",4,0]
[null,"1986/1987",7,"FC Homburg","1.FC Nürnberg",2,0]
[null,"1986/1987",7,"FC Schalke 04","Borussia Dortmund",2,1]
[null,"1986/1987",8,"1.FC Kaiserslautern","Waldhof Mannheim",3,2]
[null,"1986/1987",9,"FC Schalke 04","1.FC Köln",2,4]
[null,"1986/1987",9,"Borussia Dortmund","Fortuna Düsseldorf",4,1]
[null,"1986/1987",10,"Werder Bremen","Waldhof Mannheim",4,2]
[null,"1986/1987",11,"Blau-Weiß 90 Berlin","FC Bayern München",1,1]
[null,"1986/1987",12,"FC Bayern München","Bayer Leverkusen",0,3]
[null,"1986/1987",13,"Blau-Weiß 90 Berlin","Bayer Leverkusen",0,1]
[null,"1986/1987",13,"Waldhof Mannheim","FC Bayern München",3,3]
[null,"1986/1987",14,"Eintracht Frankfurt","KfC Uerdingen 05",1,0]
[null,"1986/1987",15,"FC Homburg","Bayer Leverkusen",1,2]
[null,"1986/1987",15,"Borussia Dortmund","Werder Bremen",2,1]
[null,"1986/1987",16,"1.FC Kaiserslautern","1.FC Nürnberg",2,1]
[null,"1986/1987",17,"1.FC Nürnberg","Borussia M'gladbach",2,0]
[null,"1986/1987",17,"KfC Uerdingen 05","Waldhof Mannheim",3,2]
[null,"1986/1987",18,"Hamburger SV","Borussia M'gladbach",3,1]
[null,"1986/1987",19,"FC Homburg","VfB Stuttgart",2,1]
[null,"1986/1987",20,"Hamburger SV","VfL Bochum",1,1]
[null,"1986/1987",21,"Bayer Leverkusen","1.FC Köln",0,1]
[null,"1986/1987",21,"FC Bayern München","1.FC Nürnberg",4,0]
[null,"1986/1987",22,"1.FC Kaiserslautern","Eintracht Frankfurt",2,1]
[null,"1986/1987",23,"FC Homburg","1.FC Köln",1,3]
[null,"1986/1987",23,"KfC Uerdingen 05","Fortuna Düsseldorf",4,1]
[null,"1986/1987",24,"1.FC Köln","KfC Uerdingen 05",1,2]
[null,"1986/1987",25,"KfC Uerdingen 05","1.FC Nürnberg",3,4]
[null,"1986/1987",26,"Werder Bremen","Bayer Leverkusen",1,0]
[null,"1986/1987",26,"1.FC Kaiserslautern","FC Homburg",5,0]
[null,"1986/1987",27,"Blau-Weiß 90 Berlin","Fortuna Düsseldorf",1,2]
[null,"1986/1987",28,"FC Bayern München","Blau-Weiß 90 Berlin",2,0]
[null,"1986/1987",29,"Bayer Leverkusen","FC Bayern München",0,0]
[null,"1986/1987",29,"VfB Stuttgart","Borussia M'gladbach",2,4]
[null,"1986/1987",30,"Eintracht Frankfurt","FC Homburg",4,0]
[null,"1986/1987",31,"Blau-Weiß 90 Berlin","1.FC Nürnberg",1,4]
[null,"1986/1987",31,"FC Homburg","FC Bayern München",2,2]
[null,"1986/1987",33,"VfB Stuttgart","FC Bayern München",1,3]
[null,"1986/1987",33,"Borussia Dortmund","VfL Bochum",3,2]
[null,"1986/1987",34,"Blau-Weiß 90 Berlin","FC Homburg",2,2]
[null,"1986/1987",34,"Borussia M'gladbach","1.FC Nürnberg",4,2]
[null,"1987/1988",2,"Eintracht Frankfurt","VfL Bochum",0,1]
[null,"1987/1988",2,"Borussia M'gladbach","KfC Uerdingen 05",2,1]
[null,"1987/1988",3,"VfL Bochum","1.FC Köln",0,0]
[null,"1987/1988",4,"1.FC Köln","KfC Uerdingen 05",2,0]
[null,"1987/1988",5,"VfB Stuttgart","1.FC Köln",0,2]
[null,"1987/1988",5,"VfL Bochum","FC Schalke 04",1,3]
[null,"1987/1988",6,"Hannover 96","VfL Bochum",1,0]
[null,"1987/1988",6,"FC Schalke 04","KfC Uerdingen 05",2,1]
[null,"1987/1988",7,"Hamburger SV","1.FC Kaiserslautern",5,1]
[null,"1987/1988",8,"Werder Bremen","Borussia Dortmund",4,0]
[null,"1987/1988",9,"Hamburger SV","VfL Bochum",2,2]
[null,"1987/1988",10,"VfL Bochum","KfC Uerdingen 05",1,4]
[null,"1987/1988",10,"Borussia M'gladbach","Hamburger SV",8,2]
[null,"1987/1988",11,"Waldhof Mannheim","FC Schalke 04",2,0]
[null,"1987/1988",12,"FC Schalke 04","FC Homburg",3,0]
[null,"1987/1988",12,"VfL Bochum","Bayer Leverkusen",3,1]
[null,"1987/1988",13,"Hamburger SV","VfB Stuttgart",3,0]
[null,"1987/1988",14,"1.FC Kaiserslautern","Waldhof Mannheim",2,2]
[null,"1987/1988",15,"Bayer Leverkusen","Hamburger SV",2,0]
[null,"1987/1988",15,"1.FC Nürnberg","Karlsruher SC",4,0]
[null,"1987/1988",16,"VfB Stuttgart","FC Bayern München",3,0]
[null,"1987/1988",17,"Borussia M'gladbach","1.FC Kaiserslautern",1,0]
[null,"1987/1988",18,"FC Bayern München","Borussia Dortmund",1,3]
[null,"1987/1988",18,"1.FC Nürnberg","KfC Uerdingen 05",3,1]
[null,"1987/1988",19,"VfL Bochum","Eintracht Frankfurt",1,0]
[null,"1987/1988",20,"Waldhof Mannheim","FC Bayern München",1,2]
[null,"1987/1988",21,"KfC Uerdingen 05","1.FC Köln",1,1]
[null,"1987/1988",21,"Karlsruher SC","Hannover 96",2,1]
[null,"1987/1988",22,"FC Homburg","Waldhof Mannheim",1,1]
[null,"1987/1988",22,"Werder Bremen","KfC Uerdingen 05",5,1]
[null,"1987/1988",23,"KfC Uerdingen 05","FC Schalke 04",5,2]
[null,"1987/1988",24,"Eintracht Frankfurt","FC Bayern München",1,1]
[null,"1987/1988",25,"VfL Bochum","1.FC Kaiserslautern",1,1]
[null,"1987/1988",26,"Eintracht Frankfurt","FC Homburg",1,2]
[null,"1987/1988",26,"Werder Bremen","FC Bayern München",3,1]
[null,"1987/1988",27,"Borussia Dortmund","Hannover 96",3,3]
[null,"1987/1988",28,"KfC Uerdingen 05","Hamburger SV",1,1]
[null,"1987/1988",28,"VfL Bochum","VfB Stuttgart",5,1]
[null,"1987/1988",29,"Borussia Dortmund","1.FC Kaiserslautern",3,0]
[null,"1987/1988",30,"Karlsruher SC","Waldhof Mannheim",1,1]
[null,"1987/1988",31,"Eintracht Frankfurt","Werder Bremen",0,1]
[null,"1987/1988",31,"FC Bayern München","VfL Bochum",5,0]
[null,"1987/1988",32,"VfB Stuttgart","Borussia Dortmund",2,2]
[null,"1987/1988",33,"Waldhof Mannheim","KfC Uerdingen 05",2,2]
[null,"1987/1988",34,"Bayer Leverkusen","FC Bayern München",3,4]
[null,"1987/1988",34,"Hamburger SV","Borussia Dortmund",4,3]
[null,"1988/1989",1,"FC Bayern München","Eintracht Frankfurt",3,0]
[null,"1988/1989",2,"Karlsruher SC","FC Bayern München",2,2]
[null,"1988/1989",2,"Bayer Leverkusen","Borussia M'gladbach",3,1]
[null,"1988/1989",4,"1.FC Kaiserslautern","Hannover 96",0,0]
[null,"1988/1989",5,"Borussia Dortmund","Borussia M'gladbach",0,0]
[null,"1988/1989",5,"Stuttgarter Kickers","Hamburger SV",2,0]
[null,"1988/1989",6,"Eintracht Frankfurt","1.FC Nürnberg",1,0]
[null,"1988/1989",7,"FC St. Pauli","1.FC Kaiserslautern",1,1]
[null,"1988/1989",7,"1.FC Nürnberg","Karlsruher SC",1,3]
[null,"1988/1989",8,"Werder Bremen","FC Bayern München",2,2]
[null,"1988/1989",9,"VfL Bochum","VfB Stuttgart",1,0]
[null,"1988/1989",10,"Hannover 96","FC Bayern München",0,0]
[null,"1988/1989",10,"1.FC Kaiserslautern","1.FC Nürnberg",2,1]
[null,"1988/1989",11,"1.FC Köln","Werder Bremen",2,0]
[null,"1988/1989",12,"Bayer Leverkusen","VfL Bochum",1,1]
[null,"1988/1989",13,"FC St. Pauli","FC Bayern München",0,0]
[null,"1988/1989",13,"Karlsruher SC","1.FC Kaiserslautern",4,1]
[null,"1988/1989",14,"Werder Bremen","VfL Bochum",2,0]
[null,"1988/1989",15,"1.FC Kaiserslautern","Hamburger SV",0,0]
[null,"1988/1989",15,"Karlsruher SC","Borussia M'gladbach",2,2]
[null,"1988/1989",16,"Werder Bremen","Karlsruher SC",3,1]
[null,"1988/1989",17,"1.FC Köln","Waldhof Mannheim",1,0]
[null,"1988/1989",18,"1.FC Kaiserslautern","Borussia M'gladbach",0,0]
[null,"1988/1989",18,"Bayer Leverkusen","Waldhof Mannheim",3,0]
[null,"1988/1989",19,"Borussia M'gladbach","Bayer Leverkusen",2,0]
[null,"1988/1989",20,"1.FC Nürnberg","KfC Uerdingen 05",1,0]
[null,"1988/1989",21,"Stuttgarter Kickers","VfB Stuttgart",0,2]
[null,"1988/1989",21,"Waldhof Mannheim","1.FC Nürnberg",2,1]
[null,"1988/1989",22,"Werder Bremen","Waldhof Mannheim",2,1]
[null,"1988/1989",23,"FC St. Pauli","Hamburger SV",1,2]
[null,"1988/1989",23,"1.FC Köln","VfB Stuttgart",3,0]
[null,"1988/1989",24,"Werder Bremen","Hannover 96",1,0]
[null,"1988/1989",25,"FC Bayern München","Werder Bremen",0,0]
[null,"1988/1989",26,"Borussia Dortmund","FC Bayern München",1,1]
[null,"1988/1989",26,"Hamburger SV","1.FC Nürnberg",3,2]
[null,"1988/1989",27,"1.FC Nürnberg","1.FC Kaiserslautern",1,1]
[null,"1988/1989",28,"Hannover 96","Stuttgarter Kickers",3,4]
[null,"1988/1989",29,"1.FC Nürnberg","Borussia M'gladbach",0,0]
[null,"1988/1989",29,"1.FC Köln","Borussia Dortmund",2,0]
[null,"1988/1989",30,"Borussia M'gladbach","VfL Bochum",2,0]
[null,"1988/1989",30,"Borussia Dortmund","KfC Uerdingen 05",4,2]
[null,"1988/1989",31,"VfB Stuttgart","1.FC Kaiserslautern",3,1]
[null,"1988/1989",32,"Werder Bremen","Eintracht Frankfurt",2,0]
[null,"1988/1989",33,"Karlsruher SC","Werder Bremen",1,0]
[null,"1988/1989",34,"Bayer Leverkusen","1.FC Kaiserslautern",0,1]
[null,"1988/1989",34,"FC St. Pauli","KfC Uerdingen 05",5,1]
[null,"1989/1990",1,"Fortuna Düsseldorf","Hamburger SV",1,1]
[null,"1989/1990",2,"Karlsruher SC","KfC Uerdingen 05",0,0]
[null,"1989/1990",3,"Fortuna Düsseldorf","Eintracht Frankfurt",1,2]
[null,"1989/1990",3,"KfC Uerdingen 05","1.FC Köln",2,3]
[null,"1989/1990",4,"FC Homburg","Bayer Leverkusen",2,1]
[null,"1989/1990",5,"Fortuna Düsseldorf","VfL Bochum",2,2]
[null,"1989/1990",5,"FC Bayern München","1.FC Köln",5,1]
[null,"1989/1990",6,"VfL Bochum","VfB Stuttgart",2,0]
[null,"1989/1990",7,"Fortuna Düsseldorf","VfB Stuttgart",4,2]
[null,"1989/1990",8,"Hamburger SV","Bayer Leverkusen",0,1]
[null,"1989/1990",8,"1.FC Köln","Werder Bremen",4,2]
[null,"1989/1990",10,"VfL Bochum","Bayer Leverkusen",0,2]
[null,"1989/1990",10,"FC Homburg","Fortuna Düsseldorf",1,0]
[null,"1989/1990",11,"Borussia Dortmund","Hamburger SV",1,0]
[null,"1989/1990",12,"Eintracht Frankfurt","Borussia Dortmund",0,2]
[null,"1989/1990",12,"Hamburger SV","1.FC Nürnberg",1,0]
[null,"1989/1990",13,"Fortuna Düsseldorf","FC Bayern München",1,2]
[null,"1989/1990",14,"Hamburger SV","FC Homburg",2,0]
[null,"1989/1990",14,"VfL Bochum","1.FC Nürnberg",3,3]
[null,"1989/1990",15,"Werder Bremen","1.FC Kaiserslautern",4,0]
[null,"1989/1990",16,"VfL Bochum","FC Homburg",1,0]
[null,"1989/1990",17,"1.FC Nürnberg","1.FC Kaiserslautern",0,0]
[null,"1989/1990",18,"FC Homburg","KfC Uerdingen 05",1,2]
[null,"1989/1990",18,"1.FC Köln","VfL Bochum",2,0]
[null,"1989/1990",19,"FC St. Pauli","Borussia Dortmund",2,1]
[null,"1989/1990",20,"Borussia M'gladbach","Bayer Leverkusen",1,1]
[null,"1989/1990",20,"Borussia Dortmund","Werder Bremen",4,1]
[null,"1989/1990",21,"FC Bayern München","Karlsruher SC",4,1]
[null,"1989/1990",22,"1.FC Nürnberg","Borussia Dortmund",1,3]
[null,"1989/1990",23,"Bayer Leverkusen","1.FC Köln",0,2]
[null,"1989/1990",23,"Borussia Dortmund","Borussia M'gladbach",3,0]
[null,"1989/1990",24,"VfL Bochum","KfC Uerdingen 05",2,1]
[null,"1989/1990",25,"Borussia Dortmund","Karlsruher SC",2,0]
[null,"1989/1990",26,"Eintracht Frankfurt","Bayer Leverkusen",0,3]
[null,"1989/1990",26,"KfC Uerdingen 05","Fortuna Düsseldorf",0,1]
[null,"1989/1990",27,"FC St. Pauli","Eintracht Frankfurt",2,2]
[null,"1989/1990",28,"VfB Stuttgart","Bayer Leverkusen",0,0]
[null,"1989/1990",28,"1.FC Köln","Borussia M'gladbach",3,0]
[null,"1989/1990",30,"1.FC Köln","Karlsruher SC",0,5]
[null,"1989/1990",30,"KfC Uerdingen 05","FC St. Pauli",1,0]
[null,"1989/1990",31,"FC St. Pauli","1.FC Kaiserslautern",0,2]
[null,"1989/1990",31,"Borussia Dortmund","VfB Stuttgart",2,0]
[null,"1989/1990",32,"Fortuna Düsseldorf","Bayer Leverkusen",2,0]
[null,"1989/1990",33,"1.FC Köln","Hamburger SV",2,0]
[null,"1989/1990",33,"FC St. Pauli","Bayer Leverkusen",3,0]
[null,"1989/1990",34,"Eintracht Frankfurt","1.FC Köln",3,1]
[null,"1990/1991",1,"Eintracht Frankfurt","Karlsruher SC",3,0]
[null,"1990/1991",2,"FC St. Pauli","FC Bayern München",0,0]
[null,"1990/1991",2,"VfB Stuttgart","Hertha BSC Berlin",4,0]
[null,"1990/1991",4,"VfL Bochum","Eintracht Frankfurt",0,0]
[null,"1990/1991",4,"FC St. Pauli","KfC Uerdingen 05",1,1]
[null,"1990/1991",5,"Hertha BSC Berlin","Fortuna Düsseldorf",0,1]
[null,"1990/1991",6,"Fortuna Düsseldorf","FC Bayern München",1,2]
[null,"1990/1991",6,"1.FC Köln","Hamburger SV",1,0]
[null,"1990/1991",7,"KfC Uerdingen 05","1.FC Kaiserslautern",3,7]
[null,"1990/1991",8,"Karlsruher SC","FC St. Pauli",1,1]
[null,"1990/1991",8,"VfB Stuttgart","Wattenscheid 09",1,4]
[null,"1990/1991",9,"FC Bayern München","Borussia M'gladbach",4,1]
[null,"1990/1991",10,"Werder Bremen","KfC Uerdingen 05",4,3]
[null,"1990/1991",10,"1.FC Köln","FC Bayern München",4,0]
[null,"1990/1991",12,"1.FC Kaiserslautern","Wattenscheid 09",1,1]
[null,"1990/1991",13,"1.FC Nürnberg","Eintracht Frankfurt",0,2]
[null,"1990/1991",13,"FC Bayern München","Borussia Dortmund",2,3]
[null,"1990/1991",13,"Karlsruher SC","VfL Bochum",3,2]
[null,"1990/1991",15,"1.FC Nürnberg","Hertha BSC Berlin",1,4]
[null,"1990/1991",15,"VfB Stuttgart","1.FC Köln",3,2]
[null,"1990/1991",16,"Wattenscheid 09","VfL Bochum",0,4]
[null,"1990/1991",17,"Karlsruher SC","Hamburger SV",2,2]
[null,"1990/1991",18,"Fortuna Düsseldorf","1.FC Köln",0,2]
[null,"1990/1991",18,"VfL Bochum","Borussia M'gladbach",3,0]
[null,"1990/1991",19,"1.FC Köln","VfL Bochum",0,0]
[null,"1990/1991",19,"Borussia Dortmund","Karlsruher SC",2,2]
[null,"1990/1991",21,"Hertha BSC Berlin","1.FC Kaiserslautern",0,2]
[null,"1990/1991",21,"Borussia Dortmund","Fortuna Düsseldorf",1,1]
[null,"1990/1991",22,"Borussia M'gladbach","Hamburger SV",1,1]
[null,"1990/1991",22,"Fortuna Düsseldorf","Hertha BSC Berlin",4,2]
[null,"1990/1991",23,"Hertha BSC Berlin","VfL Bochum",2,4]
[null,"1990/1991",24,"VfB Stuttgart","FC St. Pauli",2,1]
[null,"1990/1991",25,"FC Bayern München","Werder Bremen",1,1]
[null,"1990/1991",26,"VfL Bochum","KfC Uerdingen 05",0,2]
[null,"1990/1991",26,"Hamburger SV","Borussia Dortmund",4,0]
[null,"1990/1991",27,"Hertha BSC Berlin","Hamburger SV",1,4]
[null,"1990/1991",28,"Fortuna Düsseldorf","VfB Stuttgart",0,4]
[null,"1990/1991",28,"1.FC Köln","1.FC Nürnberg",3,1]
[null,"1990/1991",29,"Hertha BSC Berlin","Borussia Dortmund",2,2]
[null,"1990/1991",30,"Werder Bremen","VfB Stuttgart",0,1]
[null,"1990/1991",30,"Hamburger SV","KfC Uerdingen 05",2,0]
[null,"1990/1991",31,"1.FC Kaiserslautern","VfL Bochum",4,1]
[null,"1990/1991",32,"Wattenscheid 09","FC Bayern München",3,2]
[null,"1990/1991",33,"VfL Bochum","Wattenscheid 09",0,0]
[null,"1990/1991",34,"Wattenscheid 09","1.FC Nürnberg",0,1]
[null,"1990/1991",34,"Eintracht Frankfurt","VfB Stuttgart",4,0]
[null,"1992/1993",1,"Bayer Leverkusen","1.FC Saarbrücken",1,1]
[null,"1992/1993",2,"Wattenscheid 09","KfC Uerdingen 05",1,1]
[null,"1992/1993",3,"Hamburger SV","1.FC Nürnberg",0,1]
[null,"1992/1993",3,"Bayer Leverkusen","VfB Stuttgart",4,0]
[null,"1992/1993",4,"Borussia Dortmund","1.FC Kaiserslautern",1,0]
[null,"1992/1993",4,"FC Bayern München","Dynamo Dresden",3,1]
[null,"1992/1993",5,"Dynamo Dresden","Wattenscheid 09",2,1]
[null,"1992/1993",6,"Wattenscheid 09","1.FC Köln",4,2]
[null,"1992/1993",7,"FC Schalke 04","1.FC Nürnberg",0,0]
[null,"1992/1993",8,"Werder Bremen","Eintracht Frankfurt",0,0]
[null,"1992/1993",9,"Wattenscheid 09","Borussia Dortmund",1,3]
[null,"1992/1993",9,"Hamburger SV","VfL Bochum",2,0]
[null,"1992/1993",10,"Borussia M'gladbach","Wattenscheid 09",4,1]
[null,"1992/1993",11,"Eintracht Frankfurt","Bayer Leverkusen",2,2]
[null,"1992/1993",11,"KfC Uerdingen 05","VfL Bochum",2,1]
[null,"1992/1993",12,"Karlsruher SC","Eintracht Frankfurt",4,1]
[null,"1992/1993",13,"1.FC Kaiserslautern","FC Schalke 04",3,0]
[null,"1992/1993",14,"FC Schalke 04","Eintracht Frankfurt",0,0]
[null,"1992/1993",14,"Karlsruher SC","1.FC Köln",3,1]
[null,"1992/1993",15,"Borussia Dortmund","1.FC Nürnberg",4,2]
[null,"1992/1993",16,"FC Schalke 04","1.FC Köln",1,0]
[null,"1992/1993",17,"FC Bayern München","FC Schalke 04",1,1]
[null,"1992/1993",18,"1.FC Köln","1.FC Kaiserslautern",0,3]
[null,"1992/1993",18,"Werder Bremen","1.FC Nürnberg",3,0]
[null,"1992/1993",19,"Eintracht Frankfurt","1.FC Köln",2,1]
[null,"1992/1993",20,"VfB Stuttgart","Bayer Leverkusen",0,3]
[null,"1992/1993",20,"1.FC Köln","Dynamo Dresden",3,1]
[null,"1992/1993",21,"KfC Uerdingen 05","Borussia M'gladbach",1,3]
[null,"1992/1993",22,"Wattenscheid 09","Dynamo Dresden",2,1]
[null,"1992/1993",23,"Eintracht Frankfurt","Borussia M'gladbach",1,3]
[null,"1992/1993",23,"1.FC Köln","Wattenscheid 09",3,0]
[null,"1992/1993",24,"1.FC Nürnberg","FC Schalke 04",1,4]
[null,"1992/1993",25,"KfC Uerdingen 05","1.FC Nürnberg",2,1]
[null,"1992/1993",25,"VfL Bochum","Karlsruher SC",2,2]
[null,"1992/1993",26,"VfB Stuttgart","Eintracht Frankfurt",2,2]
[null,"1992/1993",27,"Dynamo Dresden","VfB Stuttgart",0,0]
[null,"1992/1993",28,"1.FC Saarbrücken","Wattenscheid 09",0,1]
[null,"1992/1993",28,"VfL Bochum","KfC Uerdingen 05",4,1]
[null,"1992/1993",29,"FC Bayern München","VfB Stuttgart",5,3]
[null,"1992/1993",30,"1.FC Nürnberg","FC Bayern München",0,0]
[null,"1992/1993",31,"Dynamo Dresden","VfL Bochum",0,0]
[null,"1992/1993",31,"Hamburger SV","1.FC Saarbrücken",2,0]
[null,"1992/1993",32,"Hamburger SV","1.FC Kaiserslautern",2,2]
[null,"1992/1993",33,"Wattenscheid 09","Karlsruher SC",0,2]
[null,"1992/1993",33,"Eintracht Frankfurt","1.FC Kaiserslautern",3,0]
[null,"1992/1993",34,"Karlsruher SC","Borussia Dortmund",3,0]
[null,"1993/1994",1,"Hamburger SV","1.FC Nürnberg",5,2]
[null,"1993/1994",2,"Dynamo Dresden","MSV Duisburg",0,1]
[null,"1993/1994",2,"1.FC Kaiserslautern","Borussia M'gladbach",4,2]
[null,"1993/1994",3,"MSV Duisburg","VfB Stuttgart",2,2]
[null,"1993/1994",4,"VfB Leipzig","MSV Duisburg",1,1]
[null,"1993/1994",5,"1.FC Köln","SC Freiburg",2,0]
[null,"1993/1994",5,"FC Bayern München","VfB Leipzig",3,0]
[null,"1993/1994",6,"Dynamo Dresden","Hamburger SV",1,1]
[null,"1993/1994",7,"Hamburger SV","VfB Stuttgart",3,2]
[null,"1993/1994",8,"VfB Stuttgart","1.FC Köln",1,1]
[null,"1993/1994",8,"MSV Duisburg","Borussia Dortmund",2,2]
[null,"1993/1994",9,"Werder Bremen","Wattenscheid 09",0,0]
[null,"1993/1994",10,"MSV Duisburg","1.FC Köln",0,0]
[null,"1993/1994",11,"Hamburger SV","Wattenscheid 09",2,1]
[null,"1993/1994",11,"Werder Bremen","Borussia Dortmund",4,0]
[null,"1993/1994",12,"MSV Duisburg","Eintracht Frankfurt",1,0]
[null,"1993/1994",13,"1.FC Köln","Borussia Dortmund",2,0]
[null,"1993/1994",14,"Wattenscheid 09","Eintracht Frankfurt",0,0]
[null,"1993/1994",14,"Hamburger SV","1.FC Köln",2,4]
[null,"1993/1994",15,"1.FC Kaiserslautern","Wattenscheid 09",4,1]
[null,"1993/1994",16,"VfB Stuttgart","Bayer Leverkusen",1,4]
[null,"1993/1994",17,"1.FC Nürnberg","Borussia Dortmund",0,0]
[null,"1993/1994",18,"Eintracht Frankfurt","Borussia M'gladbach",0,3]
[null,"1993/1994",18,"1.FC Kaiserslautern","1.FC Köln",3,0]
[null,"1993/1994",19,"FC Bayern München","Bayer Leverkusen",1,1]
[null,"1993/1994",19,"Borussia M'gladbach","1.FC Kaiserslautern",3,1]
[null,"1993/1994",20,"1.FC Nürnberg","Borussia M'gladbach",2,4]
[null,"1993/1994",21,"Wattenscheid 09","Dynamo Dresden",1,1]
[null,"1993/1994",22,"MSV Duisburg","Werder Bremen",1,0]
[null,"1993/1994",22,"VfB Stuttgart","Wattenscheid 09",3,0]
[null,"1993/1994",23,"Wattenscheid 09","VfB Leipzig",2,2]
[null,"1993/1994",24,"FC Schalke 04","1.FC Kaiserslautern",2,0]
[null,"1993/1994",25,"1.FC Kaiserslautern","SC Freiburg",1,0]
[null,"1993/1994",26,"MSV Duisburg","Hamburger SV",0,1]
[null,"1993/1994",26,"Wattenscheid 09","Werder Bremen",2,2]
[null,"1993/1994",27,"1.FC Köln","MSV Duisburg",1,0]
[null,"1993/1994",28,"VfB Stuttgart","1.FC Kaiserslautern",1,1]
[null,"1993/1994",29,"Hamburger SV","Borussia Dortmund",0,0]
[null,"1993/1994",29,"1.FC Kaiserslautern","VfB Leipzig",1,0]
[null,"1993/1994",30,"Borussia Dortmund","1.FC Köln",2,1]
[null,"1993/1994",30,"VfB Stuttgart","Karlsruher SC",3,0]
[null,"1993/1994",31,"1.FC Kaiserslautern","FC Bayern München",4,0]
[null,"1993/1994",32,"VfB Leipzig","FC Schalke 04",2,2]
[null,"1993/1994",33,"Dynamo Dresden","Werder Bremen",1,0]
[null,"1993/1994",34,"MSV Duisburg","SC Freiburg",0,2]
[null,"1993/1994",34,"Wattenscheid 09","Karlsruher SC",5,1]
[null,"1994/1995",1,"Dynamo Dresden","Werder Bremen",1,1]
[null,"1994/1995",1,"Borussia Dortmund","TSV 1860 München",4,0]
[null,"1994/1995",3,"KfC Uerdingen 05","TSV 1860 München",1,1]
[null,"1994/1995",3,"FC Bayern München","Borussia M'gladbach",3,0]
[null,"1994/1995",4,"TSV 1860 München","FC Schalke 04",0,1]
[null,"1994/1995",4,"Eintracht Frankfurt","Borussia Dortmund",4,1]
[null,"1994/1995",5,"Dynamo Dresden","MSV Duisburg",4,2]
[null,"1994/1995",6,"Borussia Dortmund","VfB Stuttgart",5,0]
[null,"1994/1995",7,"KfC Uerdingen 05","Borussia Dortmund",0,2]
[null,"1994/1995",8,"1.FC Köln","Dynamo Dresden",1,2]
[null,"1994/1995",9,"Dynamo Dresden","1.FC Kaiserslautern",1,0]
[null,"1994/1995",9,"Borussia M'gladbach","MSV Duisburg",1,0]
[null,"1994/1995",10,"1.FC Köln","VfL Bochum",2,1]
[null,"1994/1995",10,"TSV 1860 München","SC Freiburg",4,0]
[null,"1994/1995",11,"Borussia M'gladbach","TSV 1860 München",2,0]
[null,"1994/1995",12,"VfB Stuttgart","Dynamo Dresden",4,2]
[null,"1994/1995",13,"Bayer Leverkusen","Karlsruher SC",0,0]
[null,"1994/1995",14,"KfC Uerdingen 05","Werder Bremen",1,3]
[null,"1994/1995",15,"Dynamo Dresden","Karlsruher SC",1,1]
[null,"1994/1995",15,"SC Freiburg","VfB Stuttgart",2,0]
[null,"1994/1995",16,"VfB Stuttgart","Borussia M'gladbach",2,4]
[null,"1994/1995",16,"Karlsruher SC","Werder Bremen",3,1]
[null,"1994/1995",17,"MSV Duisburg","VfB Stuttgart",2,0]
[null,"1994/1995",18,"SC Freiburg","Karlsruher SC",2,1]
[null,"1994/1995",19,"FC Schalke 04","MSV Duisburg",0,0]
[null,"1994/1995",20,"MSV Duisburg","Karlsruher SC",0,0]
[null,"1994/1995",20,"Hamburger SV","FC Schalke 04",3,0]
[null,"1994/1995",21,"Bayer Leverkusen","VfL Bochum",1,3]
[null,"1994/1995",22,"Hamburger SV","FC Bayern München",1,1]
[null,"1994/1995",23,"FC Schalke 04","1.FC Kaiserslautern",0,1]
[null,"1994/1995",23,"KfC Uerdingen 05","Eintracht Frankfurt",1,1]
[null,"1994/1995",24,"TSV 1860 München","Dynamo Dresden",3,1]
[null,"1994/1995",24,"VfB Stuttgart","Bayer Leverkusen",4,2]
[null,"1994/1995",25,"Bayer Leverkusen","Borussia M'gladbach",3,1]
[null,"1994/1995",26,"Borussia Dortmund","Karlsruher SC",2,1]
[null,"1994/1995",27,"SC Freiburg","TSV 1860 München",1,1]
[null,"1994/1995",28,"VfB Stuttgart","FC Bayern München",0,2]
[null,"1994/1995",28,"FC Schalke 04","Bayer Leverkusen",3,2]
[null,"1994/1995",29,"Dynamo Dresden","VfB Stuttgart",1,1]
[null,"1994/1995",30,"TSV 1860 München","Hamburger SV",1,1]
[null,"1994/1995",31,"FC Bayern München","Karlsruher SC",0,1]
[null,"1994/1995",31,"MSV Duisburg","1.FC Kaiserslautern",3,2]
[null,"1994/1995",32,"TSV 1860 München","1.FC Köln",2,1]
[null,"1994/1995",33,"Dynamo Dresden","FC Bayern München",0,1]
[null,"1994/1995",34,"FC Schalke 04","SC Freiburg",1,2]
[null,"1994/1995",34,"KfC Uerdingen 05","Borussia M'gladbach",3,2]
[null,"1995/1996",1,"Werder Bremen","Fortuna Düsseldorf",1,1]
[null,"1995/1996",2,"SC Freiburg","FC St. Pauli",0,2]
[null,"1995/1996",2,"Hamburger SV","Werder Bremen",3,3]
[null,"1995/1996",3,"1.FC Köln","Hamburger SV",3,2]
[null,"1995/1996",4,"Karlsruher SC","1.FC Köln",1,0]
[null,"1995/1996",4,"Borussia Dortmund","Borussia M'gladbach",2,1]
[null,"1995/1996",5,"Eintracht Frankfurt","1.FC Kaiserslautern",3,1]
[null,"1995/1996",6,"TSV 1860 München","1.FC Köln",2,1]
[null,"1995/1996",7,"Hamburger SV","Karlsruher SC",0,0]
[null,"1995/1996",8,"KfC Uerdingen 05","Hamburger SV",1,1]
[null,"1995/1996",9,"FC Bayern München","Borussia M'gladbach",1,2]
[null,"1995/1996",9,"FC Schalke 04","1.FC Kaiserslautern",1,1]
[null,"1995/1996",10,"Borussia M'gladbach","Werder Bremen",1,0]
[null,"1995/1996",11,"Hamburger SV","1.FC Kaiserslautern",1,0]
[null,"1995/1996",11,"KfC Uerdingen 05","TSV 1860 München",2,0]
[null,"1995/1996",12,"TSV 1860 München","Hansa Rostock",1,1]
[null,"1995/1996",13,"Hamburger SV","Borussia Dortmund",2,2]
[null,"1995/1996",14,"Eintracht Frankfurt","1.FC Köln",1,0]
[null,"1995/1996",14,"Borussia Dortmund","Karlsruher SC",4,1]
[null,"1995/1996",15,"FC Schalke 04","Eintracht Frankfurt",2,0]
[null,"1995/1996",16,"Eintracht Frankfurt","Fortuna Düsseldorf",3,0]
[null,"1995/1996",17,"Fortuna Düsseldorf","FC Bayern München",0,2]
[null,"1995/1996",18,"FC Schalke 04","1.FC Köln",0,0]
[null,"1995/1996",18,"Hamburger SV","FC Bayern München",2,1]
[null,"1995/1996",19,"FC Bayern München","Karlsruher SC",1,4]
[null,"1995/1996",20,"Bayer Leverkusen","Borussia M'gladbach",0,0]
[null,"1995/1996",20,"TSV 1860 München","Eintracht Frankfurt",3,1]
[null,"1995/1996",21,"Borussia M'gladbach","Borussia Dortmund",2,2]
[null,"1995/1996",22,"TSV 1860 München","Werder Bremen",1,1]
[null,"1995/1996",22,"Hamburger SV","Fortuna Düsseldorf",4,1]
[null,"1995/1996",23,"Hansa Rostock","Hamburger SV",2,0]
[null,"1995/1996",24,"TSV 1860 München","FC Schalke 04",1,1]
[null,"1995/1996",25,"Eintracht Frankfurt","Borussia M'gladbach",0,2]
[null,"1995/1996",26,"1.FC Kaiserslautern","FC Schalke 04",0,0]
[null,"1995/1996",26,"Borussia M'gladbach","FC Bayern München",3,1]
[null,"1995/1996",27,"Karlsruher SC","TSV 1860 München",1,1]
[null,"1995/1996",28,"Bayer Leverkusen","Fortuna Düsseldorf",0,0]
[null,"1995/1996",28,"FC St. Pauli","Werder Bremen",1,2]
[null,"1995/1996",29,"Hamburger SV","Bayer Leverkusen",2,2]
[null,"1995/1996",30,"FC Bayern München","Hansa Rostock",0,1]
[null,"1995/1996",30,"FC St. Pauli","FC Schalke 04",2,0]
[null,"1995/1996",31,"1.FC Köln","Eintracht Frankfurt",3,0]
[null,"1995/1996",32,"VfB Stuttgart","Fortuna Düsseldorf",2,3]
[null,"1995/1996",33,"1.FC Köln","Werder Bremen",1,2]
[null,"1995/1996",33,"TSV 1860 München","Borussia Dortmund",2,2]
[null,"1995/1996",34,"Eintracht Frankfurt","Hamburger SV",1,4]
[null,"1996/1997",1,"FC St. Pauli","FC Bayern München",1,2]
[null,"1996/1997",1,"VfL Bochum","MSV Duisburg",1,0]
[null,"1996/1997",2,"MSV Duisburg","Bayer Leverkusen",1,3]
[null,"1996/1997",3,"SC Freiburg","1.FC Köln",1,3]
[null,"1996/1997",4,"Arminia Bielefeld","MSV Duisburg",1,1]
[null,"1996/1997",5,"Bayer Leverkusen","TSV 1860 München",3,0]
[null,"1996/1997",5,"FC St. Pauli","Werder Bremen",0,3]
[null,"1996/1997",6,"Fortuna Düsseldorf","Hansa Rostock",0,2]
[null,"1996/1997",7,"FC Bayern München","Karlsruher SC",1,0]
[null,"1996/1997",7,"MSV Duisburg","Werder Bremen",3,2]
[null,"1996/1997",8,"SC Freiburg","Hansa Rostock",1,0]
[null,"1996/1997",9,"FC Bayern München","Hamburger SV",2,1]
[null,"1996/1997",9,"VfL Bochum","Borussia Dortmund",1,0]
[null,"1996/1997",10,"TSV 1860 München","FC St. Pauli",4,2]
[null,"1996/1997",12,"1.FC Köln","FC Schalke 04",3,1]
[null,"1996/1997",12,"Borussia Dortmund","Arminia Bielefeld",5,0]
[null,"1996/1997",13,"FC Bayern München","TSV 1860 München",1,1]
[null,"1996/1997",14,"Borussia M'gladbach","FC St. Pauli",0,0]
[null,"1996/1997",14,"Hansa Rostock","MSV Duisburg",0,1]
[null,"1996/1997",15,"FC St. Pauli","Bayer Leverkusen",3,1]
[null,"1996/1997",16,"FC St. Pauli","VfL Bochum",2,1]
[null,"1996/1997",16,"TSV 1860 München","Karlsruher SC",1,1]
[null,"1996/1997",17,"Werder Bremen","TSV 1860 München",1,1]
[null,"1996/1997",18,"MSV Duisburg","VfL Bochum",1,1]
[null,"1996/1997",19,"Borussia M'gladbach","FC Schalke 04",0,0]
[null,"1996/1997",20,"1.FC Köln","SC Freiburg",1,0]
[null,"1996/1997",20,"Werder Bremen","VfB Stuttgart",2,2]
[null,"1996/1997",21,"Hansa Rostock","1.FC Köln",0,0]
[null,"1996/1997",22,"Borussia Dortmund","Hansa Rostock",3,0]
[null,"1996/1997",23,"Borussia M'gladbach","1.FC Köln",2,1]
[null,"1996/1997",23,"MSV Duisburg","Karlsruher SC",2,2]
[null,"1996/1997",24,"Karlsruher SC","FC Bayern München",0,2]
[null,"1996/1997",25,"Arminia Bielefeld","Karlsruher SC",1,2]
[null,"1996/1997",25,"VfL Bochum","1.FC Köln",2,2]
[null,"1996/1997",26,"SC Freiburg","VfB Stuttgart",1,1]
[null,"1996/1997",27,"Bayer Leverkusen","Karlsruher SC",3,1]
[null,"1996/1997",28,"1.FC Köln","Arminia Bielefeld",2,5]
[null,"1996/1997",28,"VfB Stuttgart","Bayer Leverkusen",1,2]
[null,"1996/1997",29,"FC St. Pauli","Hansa Rostock",0,1]
[null,"1996/1997",30,"Borussia M'gladbach","Bayer Leverkusen",2,2]
[null,"1996/1997",30,"TSV 1860 München","FC Bayern München",3,3]
[null,"1996/1997",31,"Werder Bremen","1.FC Köln",3,2]
[null,"1996/1997",32,"Fortuna Düsseldorf","Karlsruher SC",0,3]
[null,"1996/1997",33,"1.FC Köln","Bayer Leverkusen",4,0]
[null,"1996/1997",34,"Borussia Dortmund","1.FC Köln",2,1]
[null,"1996/1997",34,"SC Freiburg","Karlsruher SC",1,1]
[null,"1997/1998",1,"Hansa Rostock","VfL Wolfsburg",0,1]
[null,"1997/1998",1,"VfB Stuttgart","TSV 1860 München",1,1]
[null,"1997/1998",2,"MSV Duisburg","FC Schalke 04",1,0]
[null,"1997/1998",3,"Werder Bremen","TSV 1860 München",3,3]
[null,"1997/1998",4,"Bayer Leverkusen","Karlsruher SC",6,1]
[null,"1997/1998",4,"TSV 1860 München","Hansa Rostock",0,1]
[null,"1997/1998",6,"1.FC Kaiserslautern","VfB Stuttgart",4,3]
[null,"1997/1998",6,"Arminia Bielefeld","Hansa Rostock",0,1]
[null,"1997/1998",7,"1.FC Köln","FC Bayern München",1,3]
[null,"1997/1998",7,"TSV 1860 München","MSV Duisburg",0,1]
[null,"1997/1998",8,"Borussia M'gladbach","Karlsruher SC",1,1]
[null,"1997/1998",9,"Hansa Rostock","1.FC Köln",1,2]
[null,"1997/1998",10,"1.FC Kaiserslautern","Arminia Bielefeld",3,1]
[null,"1997/1998",10,"Hamburger SV","Karlsruher SC",3,1]
[null,"1997/1998",11,"MSV Duisburg","Borussia Dortmund",0,0]
[null,"1997/1998",12,"1.FC Köln","VfB Stuttgart",4,2]
[null,"1997/1998",12,"FC Schalke 04","VfL Bochum",2,0]
[null,"1997/1998",13,"MSV Duisburg","Borussia M'gladbach",4,5]
[null,"1997/1998",14,"VfL Wolfsburg","MSV Duisburg",0,2]
[null,"1997/1998",15,"Arminia Bielefeld","Hertha BSC Berlin",1,3]
[null,"1997/1998",15,"VfB Stuttgart","Hansa Rostock",2,1]
[null,"1997/1998",17,"Arminia Bielefeld","FC Schalke 04",1,1]
[null,"1997/1998",17,"Bayer Leverkusen","1.FC Köln",4,0]
[null,"1997/1998",18,"1.FC Kaiserslautern","FC Bayern München",2,0]
[null,"1997/1998",19,"Hamburger SV","VfL Wolfsburg",1,2]
[null,"1997/1998",19,"Hertha BSC Berlin","1.FC Kaiserslautern",2,0]
[null,"1997/1998",20,"Borussia Dortmund","FC Schalke 04",2,2]
[null,"1997/1998",21,"FC Schalke 04","1.FC Kaiserslautern",1,1]
[null,"1997/1998",22,"Arminia Bielefeld","TSV 1860 München",1,1]
[null,"1997/1998",22,"Hamburger SV","Hertha BSC Berlin",1,1]
[null,"1997/1998",23,"VfB Stuttgart","1.FC Kaiserslautern",0,1]
[null,"1997/1998",23,"VfL Bochum","Borussia M'gladbach",3,1]
[null,"1997/1998",25,"Arminia Bielefeld","MSV Duisburg",3,3]
[null,"1997/1998",26,"1.FC Kaiserslautern","TSV 1860 München",1,0]
[null,"1997/1998",26,"Borussia Dortmund","Arminia Bielefeld",3,2]
[null,"1997/1998",27,"Karlsruher SC","Hamburger SV",0,1]
[null,"1997/1998",27,"VfL Bochum","Hertha BSC Berlin",2,1]
[null,"1997/1998",28,"Hamburger SV","Werder Bremen",2,1]
[null,"1997/1998",29,"Werder Bremen","FC Bayern München",0,3]
[null,"1997/1998",30,"1.FC Köln","Karlsruher SC",0,1]
[null,"1997/1998",30,"VfL Wolfsburg","Bayer Leverkusen",1,0]
[null,"1997/1998",31,"Karlsruher SC","FC Schalke 04",0,0]
[null,"1997/1998",32,"Hansa Rostock","VfB Stuttgart",1,1]
[null,"1997/1998",33,"Bayer Leverkusen","Hertha BSC Berlin",0,1]
[null,"1997/1998",33,"MSV Duisburg","FC Bayern München",0,0]
[null,"1997/1998",34,"Hertha BSC Berlin","MSV Duisburg",1,3]
[null,"1998/1999",1,"Hertha BSC Berlin","Werder Bremen",1,0]
[null,"1998/1999",1,"VfL Wolfsburg","FC Bayern München",0,1]
[null,"1998/1999",2,"FC Schalke 04","VfB Stuttgart",1,0]
[null,"1998/1999",3,"Borussia M'gladbach","Eintracht Frankfurt",1,1]
[null,"1998/1999",4,"Borussia Dortmund","VfL Bochum",0,1]
[null,"1998/1999",5,"Bayer Leverkusen","Borussia Dortmund",3,1]
[null,"1998/1999",5,"Hertha BSC Berlin","Eintracht Frankfurt",3,1]
[null,"1998/1999",6,"Eintracht Frankfurt","1.FC Nürnberg",3,2]
[null,"1998/1999",7,"Hertha BSC Berlin","Borussia M'gladbach",4,1]
[null,"1998/1999",7,"SC Freiburg","Hamburger SV",0,0]
[null,"1998/1999",8,"Werder Bremen","SC Freiburg",2,3]
[null,"1998/1999",9,"1.FC Nürnberg","VfB Stuttgart",2,2]
[null,"1998/1999",9,"VfL Wolfsburg","Eintracht Frankfurt",2,0]
[null,"1998/1999",11,"Bayer Leverkusen","VfB Stuttgart",0,0]
[null,"1998/1999",11,"Hansa Rostock","Eintracht Frankfurt",2,2]
[null,"1998/1999",12,"1.FC Nürnberg","VfL Bochum",2,2]
[null,"1998/1999",13,"Borussia Dortmund","FC Schalke 04",3,0]
[null,"1998/1999",13,"Hamburger SV","Eintracht Frankfurt",0,1]
[null,"1998/1999",14,"Eintracht Frankfurt","Werder Bremen",0,2]
[null,"1998/1999",15,"Hansa Rostock","Hertha BSC Berlin",1,2]
[null,"1998/1999",15,"SC Freiburg","VfB Stuttgart",2,0]
[null,"1998/1999",16,"MSV Duisburg","1.FC Kaiserslautern",3,1]
[null,"1998/1999",17,"Werder Bremen","VfB Stuttgart",2,2]
[null,"1998/1999",17,"VfL Wolfsburg","MSV Duisburg",4,2]
[null,"1998/1999",19,"1.FC Nürnberg","Werder Bremen",1,1]
[null,"1998/1999",20,"1.FC Kaiserslautern","VfB Stuttgart",1,1]
[null,"1998/1999",20,"Borussia Dortmund","1.FC Nürnberg",3,0]
[null,"1998/1999",21,"FC Bayern München","SC Freiburg",2,0]
[null,"1998/1999",22,"Borussia M'gladbach","MSV Duisburg",0,2]
[null,"1998/1999",22,"Werder Bremen","VfL Wolfsburg",0,1]
[null,"1998/1999",23,"VfB Stuttgart","Borussia M'gladbach",2,2]
[null,"1998/1999",24,"Hamburger SV","SC Freiburg",2,1]
[null,"1998/1999",25,"1.FC Nürnberg","Borussia M'gladbach",2,0]
[null,"1998/1999",25,"Hansa Rostock","Borussia Dortmund",2,0]
[null,"1998/1999",26,"Werder Bremen","Hamburger SV",0,0]
[null,"1998/1999",27,"FC Bayern München","Eintracht Frankfurt",3,1]
[null,"1998/1999",27,"SC Freiburg","FC Schalke 04",0,2]
[null,"1998/1999",28,"Hertha BSC Berlin","VfL Bochum",4,1]
[null,"1998/1999",29,"SC Freiburg","Eintracht Frankfurt",2,0]
[null,"1998/1999",30,"Borussia M'gladbach","Hansa Rostock",1,1]
[null,"1998/1999",30,"VfB Stuttgart","FC Bayern München",0,2]
[null,"1998/1999",31,"FC Bayern München","Hertha BSC Berlin",1,1]
[null,"1998/1999",32,"MSV Duisburg","Bayer Leverkusen",0,0]
[null,"1998/1999",33,"1.FC Kaiserslautern","MSV Duisburg",3,0]
[null,"1998/1999",33,"SC Freiburg","Hertha BSC Berlin",0,2]
[null,"1998/1999",34,"Eintracht Frankfurt","1.FC Kaiserslautern",5,1]
[null,"1999/2000",1,"FC Bayern München","Hamburger SV",2,2]
[null,"1999/2000",1,"VfL Wolfsburg","TSV 1860 München",2,1]
[null,"1999/2000",2,"SC Freiburg","Eintracht Frankfurt",2,3]
[null,"1999/2000",3,"SC Freiburg","TSV 1860 München",3,0]
[null,"1999/2000",4,"Arminia Bielefeld","VfL Wolfsburg",0,0]
[null,"1999/2000",4,"Werder Bremen","1.FC Kaiserslautern",5,0]
[null,"1999/2000",5,"FC Schalke 04","SpVgg Unterhaching",1,0]
[null,"1999/2000",6,"Bayer Leverkusen","1.FC Kaiserslautern",3,1]
[null,"1999/2000",7,"1.FC Kaiserslautern","SpVgg Unterhaching",4,2]
[null,"1999/2000",7,"TSV 1860 München","Arminia Bielefeld",5,0]
[null,"1999/2000",8,"Hansa Rostock","Eintracht Frankfurt",3,1]
[null,"1999/2000",9,"Eintracht Frankfurt","FC Schalke 04",0,2]
[null,"1999/2000",9,"VfL Wolfsburg","MSV Duisburg",1,0]
[null,"1999/2000",10,"FC Schalke 04","Hertha BSC Berlin",1,1]
[null,"1999/2000",11,"Hansa Rostock","Hamburger SV",3,3]
[null,"1999/2000",12,"Hamburger SV","Arminia Bielefeld",5,0]
[null,"1999/2000",12,"Werder Bremen","Eintracht Frankfurt",3,1]
[null,"1999/2000",13,"Werder Bremen","Hamburger SV",2,1]
[null,"1999/2000",14,"MSV Duisburg","Hansa Rostock",2,2]
[null,"1999/2000",15,"Arminia Bielefeld","MSV Duisburg",0,1]
[null,"1999/2000",15,"TSV 1860 München","FC Schalke 04",3,3]
[null,"1999/2000",16,"Hertha BSC Berlin","TSV 1860 München",1,1]
[null,"1999/2000",17,"Borussia Dortmund","Hertha BSC Berlin",4,0]
[null,"1999/2000",18,"Bayer Leverkusen","MSV Duisburg",3,0]
[null,"1999/2000",18,"SC Freiburg","SSV Ulm 1846",2,0]
[null,"1999/2000",19,"VfL Wolfsburg","Borussia Dortmund",1,0]
[null,"1999/2000",20,"Hamburger SV","FC Schalke 04",3,1]
[null,"1999/2000",20,"Werder Bremen","Hertha BSC Berlin",4,1]
[null,"1999/2000",22,"Bayer Leverkusen","Hertha BSC Berlin",3,1]
[null,"1999/2000",22,"SpVgg Unterhaching","FC Schalke 04",3,1]
[null,"1999/2000",23,"1.FC Kaiserslautern","Bayer Leverkusen",1,3]
[null,"1999/2000",24,"Hansa Rostock","Borussia Dortmund",1,0]
[null,"1999/2000",25,"Borussia Dortmund","Arminia Bielefeld",1,3]
[null,"1999/2000",25,"SSV Ulm 1846","Bayer Leverkusen",1,9]
[null,"1999/2000",26,"Hamburger SV","TSV 1860 München",2,0]
[null,"1999/2000",27,"Hansa Rostock","Werder Bremen",1,1]
[null,"1999/2000",27,"VfL Wolfsburg","FC Bayern München",1,1]
[null,"1999/2000",28,"SpVgg Unterhaching","TSV 1860 München",1,1]
[null,"1999/2000",29,"Borussia Dortmund","SpVgg Unterhaching",1,3]
[null,"1999/2000",30,"Bayer Leverkusen","Arminia Bielefeld",4,1]
[null,"1999/2000",31,"Arminia Bielefeld","SpVgg Unterhaching",1,0]
[null,"1999/2000",31,"SC Freiburg","FC Schalke 04",2,1]
[null,"1999/2000",32,"Hamburger SV","Bayer Leverkusen",0,2]
[null,"1999/2000",32,"FC Schalke 04","TSV 1860 München",2,2]
[null,"1999/2000",33,"SSV Ulm 1846","VfL Wolfsburg",2,0]
[null,"1999/2000",34,"FC Schalke 04","Hansa Rostock",0,2]
[null,"2000/2001",1,"1.FC Kaiserslautern","VfL Bochum",0,1]
[null,"2000/2001",1,"Werder Bremen","Energie Cottbus",3,1]
[null,"2000/2001",2,"VfL Wolfsburg","1.FC Kaiserslautern",4,0]
[null,"2000/2001",3,"Borussia Dortmund","TSV 1860 München",2,3]
[null,"2000/2001",4,"Energie Cottbus","Eintracht Frankfurt",2,0]
[null,"2000/2001",4,"TSV 1860 München","FC Schalke 04",1,1]
[null,"2000/2001",5,"Hamburger SV","Borussia Dortmund",2,3]
[null,"2000/2001",6,"Hansa Rostock","1.FC Kaiserslautern",1,0]
[null,"2000/2001",7,"FC Bayern München","Hansa Rostock",0,1]
[null,"2000/2001",7,"SC Freiburg","Werder Bremen",0,1]
[null,"2000/2001",8,"SpVgg Unterhaching","VfL Wolfsburg",0,3]
[null,"2000/2001",9,"1.FC Kaiserslautern","Werder Bremen",2,0]
[null,"2000/2001",9,"VfL Wolfsburg","1.FC Köln",6,0]
[null,"2000/2001",10,"TSV 1860 München","Hertha BSC Berlin",0,1]
[null,"2000/2001",11,"FC Bayern München","Borussia Dortmund",6,2]
[null,"2000/2001",12,"Borussia Dortmund","Hertha BSC Berlin",2,0]
[null,"2000/2001",13,"FC Bayern München","Eintracht Frankfurt",1,2]
[null,"2000/2001",13,"Hertha BSC Berlin","FC Schalke 04",0,4]
[null,"2000/2001",14,"Energie Cottbus","1.FC Köln",0,2]
[null,"2000/2001",14,"TSV 1860 München","SpVgg Unterhaching",0,2]
[null,"2000/2001",15,"VfB Stuttgart","Borussia Dortmund",0,2]
[null,"2000/2001",17,"1.FC Köln","Borussia Dortmund",0,0]
[null,"2000/2001",17,"FC Bayern München","Hamburger SV",2,1]
[null,"2000/2001",17,"VfL Wolfsburg","SC Freiburg",1,2]
[null,"2000/2001",19,"Borussia Dortmund","Energie Cottbus",2,0]
[null,"2000/2001",19,"Hamburger SV","Hertha BSC Berlin",1,2]
[null,"2000/2001",20,"TSV 1860 München","Borussia Dortmund",1,0]
[null,"2000/2001",20,"VfL Bochum","Hertha BSC Berlin",1,3]
[null,"2000/2001",21,"FC Bayern München","VfB Stuttgart",1,0]
[null,"2000/2001",22,"VfB Stuttgart","Hertha BSC Berlin",0,1]
[null,"2000/2001",23,"Bayer Leverkusen","Energie Cottbus",1,3]
[null,"2000/2001",23,"SC Freiburg","TSV 1860 München",0,3]
[null,"2000/2001",25,"1.FC Kaiserslautern","TSV 1860 München",3,2]
[null,"2000/2001",25,"Hamburger SV","VfB Stuttgart",2,2]
[null,"2000/2001",26,"Energie Cottbus","Hertha BSC Berlin",3,0]
[null,"2000/2001",27,"FC Bayern München","Werder Bremen",2,3]
[null,"2000/2001",27,"VfL Bochum","Energie Cottbus",1,0]
[null,"2000/2001",28,"SC Freiburg","Hamburger SV",0,0]
[null,"2000/2001",29,"Hertha BSC Berlin","Borussia Dortmund",1,0]
[null,"2000/2001",30,"Borussia Dortmund","VfL Bochum",5,0]
[null,"2000/2001",30,"Werder Bremen","VfL Wolfsburg",2,3]
[null,"2000/2001",31,"Hamburger SV","Hansa Rostock",2,1]
[null,"2000/2001",32,"Borussia Dortmund","VfB Stuttgart",0,0]
[null,"2000/2001",33,"1.FC Köln","Werder Bremen",1,3]
[null,"2000/2001",33,"VfB Stuttgart","FC Schalke 04",1,0]
[null,"2000/2001",34,"Eintracht Frankfurt","VfB Stuttgart",2,1]
[null,"2001/2002",1,"Borussia M'gladbach","FC Bayern München",1,0]
[null,"2001/2002",1,"TSV 1860 München","1.FC Kaiserslautern",0,4]
[null,"2001/2002",2,"Hamburger SV","VfB Stuttgart",2,0]
[null,"2001/2002",3,"Energie Cottbus","1.FC Nürnberg",1,0]
[null,"2001/2002",4,"1.FC Nürnberg","VfB Stuttgart",2,4]
[null,"2001/2002",4,"Werder Bremen","TSV 1860 München",1,3]
[null,"2001/2002",5,"SC Freiburg","Hansa Rostock",1,1]
[null,"2001/2002",6,"Hamburger SV","Borussia M'gladbach",3,3]
[null,"2001/2002",7,"1.FC Kaiserslautern","Hertha BSC Berlin",4,1]
[null,"2001/2002",7,"SC Freiburg","FC Schalke 04",2,0]
[null,"2001/2002",8,"Hansa Rostock","TSV 1860 München",2,2]
[null,"2001/2002",9,"Borussia M'gladbach","Borussia Dortmund",1,2]
[null,"2001/2002",10,"1.FC Nürnberg","Borussia M'gladbach",1,2]
[null,"2001/2002",10,"FC St. Pauli","Energie Cottbus",4,0]
[null,"2001/2002",11,"Energie Cottbus","Borussia Dortmund",0,2]
[null,"2001/2002",12,"Hansa Rostock","Werder Bremen",0,1]
[null,"2001/2002",12,"FC Schalke 04","1.FC Köln",3,1]
[null,"2001/2002",13,"Borussia M'gladbach","Energie Cottbus",0,0]
[null,"2001/2002",14,"SC Freiburg","TSV 1860 München",1,3]
[null,"2001/2002",15,"1.FC Kaiserslautern","SC Freiburg",3,0]
[null,"2001/2002",15,"Hertha BSC Berlin","FC Bayern München",2,1]
[null,"2001/2002",16,"Energie Cottbus","1.FC Kaiserslautern",0,2]
[null,"2001/2002",17,"Werder Bremen","Borussia Dortmund",1,1]
[null,"2001/2002",18,"1.FC Nürnberg","Borussia Dortmund",2,2]
[null,"2001/2002",18,"Hamburger SV","Energie Cottbus",5,2]
[null,"2001/2002",19,"VfB Stuttgart","Hamburger SV",3,0]
[null,"2001/2002",20,"Hertha BSC Berlin","SC Freiburg",1,1]
[null,"2001/2002",20,"Werder Bremen","VfB Stuttgart",1,2]
[null,"2001/2002",22,"Bayer Leverkusen","Borussia M'gladbach",5,0]
[null,"2001/2002",22,"FC Bayern München","Borussia Dortmund",1,1]
[null,"2001/2002",23,"Energie Cottbus","Hansa Rostock",3,0]
[null,"2001/2002",24,"Hansa Rostock","VfB Stuttgart",1,1]
[null,"2001/2002",24,"Hertha BSC Berlin","1.FC Kaiserslautern",5,1]
[null,"2001/2002",25,"SC Freiburg","Bayer Leverkusen",2,2]
[null,"2001/2002",26,"Hansa Rostock","1.FC Kaiserslautern",2,1]
[null,"2001/2002",27,"1.FC Kaiserslautern","FC Bayern München",0,0]
[null,"2001/2002",27,"VfB Stuttgart","Bayer Leverkusen",0,2]
[null,"2001/2002",28,"Borussia Dortmund","Energie Cottbus",3,0]
[null,"2001/2002",29,"1.FC Nürnberg","VfL Wolfsburg",3,0]
[null,"2001/2002",30,"Borussia Dortmund","TSV 1860 München",2,1]
[null,"2001/2002",30,"Hansa Rostock","1.FC Nürnberg",1,0]
[null,"2001/2002",31,"Hamburger SV","Bayer Leverkusen",1,1]
[null,"2001/2002",32,"Energie Cottbus","TSV 1860 München",1,1]
[null,"2001/2002",32,"FC St. Pauli","Hamburger SV",0,4]
[null,"2001/2002",33,"Werder Bremen","FC St. Pauli",3,2]
[null,"2001/2002",34,"FC St. Pauli","1.FC Nürnberg",2,3]
[null,"2001/2002",34,"VfB Stuttgart","1.FC Kaiserslautern",4,3]
[null,"2002/2003",1,"VfB Stuttgart","1.FC Kaiserslautern",1,1]
[null,"2002/2003",2,"Hansa Rostock","1.FC Nürnberg",2,0]
[null,"2002/2003",3,"Bayer Leverkusen","VfL Bochum",2,4]
[null,"2002/2003",4,"FC Bayern München","TSV 1860 München",3,1]
[null,"2002/2003",4,"Hertha BSC Berlin","Borussia M'gladbach",1,2]
[null,"2002/2003",5,"Borussia M'gladbach","VfB Stuttgart",1,1]
[null,"2002/2003",6,"Hannover 96","VfL Bochum",2,2]
[null,"2002/2003",6,"VfB Stuttgart","Arminia Bielefeld",3,0]
[null,"2002/2003",7,"Hamburger SV","VfB Stuttgart",3,2]
[null,"2002/2003",8,"FC Bayern München","VfL Bochum",4,1]
[null,"2002/2003",9,"Bayer Leverkusen","1.FC Kaiserslautern",1,0]
[null,"2002/2003",9,"VfL Bochum","VfL Wolfsburg",4,2]
[null,"2002/2003",10,"Hertha BSC Berlin","Bayer Leverkusen",1,1]
[null,"2002/2003",11,"Hansa Rostock","1.FC Kaiserslautern",2,2]
[null,"2002/2003",12,"Arminia Bielefeld","1.FC Nürnberg",0,1]
[null,"2002/2003",12,"FC Schalke 04","Bayer Leverkusen",0,1]
[null,"2002/2003",13,"FC Bayern München","VfL Wolfsburg",1,0]
[null,"2002/2003",14,"1.FC Kaiserslautern","FC Bayern München",0,2]
[null,"2002/2003",15,"1.FC Kaiserslautern","VfL Wolfsburg",2,0]
[null,"2002/2003",15,"Hannover 96","FC Schalke 04",0,2]
[null,"2002/2003",16,"Borussia Dortmund","1.FC Kaiserslautern",3,1]
[null,"2002/2003",17,"FC Bayern München","FC Schalke 04",0,0]
[null,"2002/2003",17,"VfL Wolfsburg","VfB Stuttgart",1,2]
[null,"2002/2003",18,"Hannover 96","Hamburger SV",2,2]
[null,"2002/2003",19,"FC Schalke 04","1.FC Kaiserslautern",2,2]
[null,"2002/2003",20,"Werder Bremen","TSV 1860 München",1,2]
[null,"2002/2003",20,"VfB Stuttgart","Borussia Dortmund",1,0]
[null,"2002/2003",22,"1.FC Kaiserslautern","Hamburger SV",2,0]
[null,"2002/2003",22,"VfB Stuttgart","Borussia M'gladbach",4,0]
[null,"2002/2003",23,"Bayer Leverkusen","Werder Bremen",3,0]
[null,"2002/2003",24,"Borussia M'gladbach","Borussia Dortmund",1,0]
[null,"2002/2003",25,"1.FC Nürnberg","Hertha BSC Berlin",0,3]
[null,"2002/2003",25,"Hansa Rostock","Werder Bremen",1,0]
[null,"2002/2003",26,"FC Bayern München","Hansa Rostock",1,0]
[null,"2002/2003",27,"Borussia Dortmund","Werder Bremen",1,2]
[null,"2002/2003",27,"VfL Bochum","1.FC Kaiserslautern",1,1]
[null,"2002/2003",28,"Hertha BSC Berlin","VfL Bochum",1,0]
[null,"2002/2003",29,"Hansa Rostock","Hertha BSC Berlin",0,1]
[null,"2002/2003",30,"1.FC Kaiserslautern","Werder Bremen",1,0]
[null,"2002/2003",30,"VfB Stuttgart","Hansa Rostock",1,1]
[null,"2002/2003",31,"Hannover 96","VfB Stuttgart",1,2]
[null,"2002/2003",32,"Hamburger SV","Bayer Leverkusen",4,1]
[null,"2002/2003",33,"1.FC Kaiserslautern","Borussia Dortmund",0,0]
[null,"2002/2003",33,"Hannover 96","Borussia M'gladbach",2,2]
[null,"2002/2003",34,"Borussia M'gladbach","Werder Bremen",4,1]
[null,"2003/2004",1,"Borussia M'gladbach","1.FC Köln",1,0]
[null,"2003/2004",1,"VfL Wolfsburg","VfL Bochum",3,2]
[null,"2003/2004",2,"Werder Bremen","Borussia M'gladbach",1,1]
[null,"2003/2004",3,"FC Bayern München","VfL Bochum",2,0]
[null,"2003/2004",4,"Hamburger SV","FC Bayern München",0,2]
[null,"2003/2004",4,"VfB Stuttgart","1.FC Kaiserslautern",2,0]
[null,"2003/2004",5,"Borussia M'gladbach","Eintracht Frankfurt",0,2]
[null,"2003/2004",5,"VfL Wolfsburg","FC Bayern München",3,2]
[null,"2003/2004",7,"1.FC Kaiserslautern","Hannover 96",1,0]
[null,"2003/2004",7,"Hertha BSC Berlin","Hamburger SV",1,1]
[null,"2003/2004",8,"FC Bayern München","Hertha BSC Berlin",4,1]
[null,"2003/2004",9,"Borussia Dortmund","Hannover 96",6,2]
[null,"2003/2004",10,"Eintracht Frankfurt","1.FC Köln",2,0]
[null,"2003/2004",10,"Hannover 96","TSV 1860 München",1,1]
[null,"2003/2004",11,"1.FC Köln","Hannover 96",1,2]
[null,"2003/2004",11,"VfB Stuttgart","SC Freiburg",4,1]
[null,"2003/2004",12,"SC Freiburg","VfL Wolfsburg",3,2]
[null,"2003/2004",13,"SC Freiburg","Eintracht Frankfurt",1,0]
[null,"2003/2004",14,"Borussia M'gladbach","1.FC Kaiserslautern",2,1]
[null,"2003/2004",14,"Hannover 96","SC Freiburg",3,0]
[null,"2003/2004",15,"Werder Bremen","FC Bayern München",1,1]
[null,"2003/2004",16,"Hansa Rostock","1.FC Köln",1,1]
[null,"2003/2004",16,"VfL Wolfsburg","Hannover 96",2,1]
[null,"2003/2004",17,"TSV 1860 München","Borussia M'gladbach",1,2]
[null,"2003/2004",18,"VfB Stuttgart","Hansa Rostock",2,0]
[null,"2003/2004",19,"Bayer Leverkusen","Eintracht Frankfurt",1,2]
[null,"2003/2004",20,"1.FC Köln","FC Schalke 04",0,2]
[null,"2003/2004",21,"Borussia Dortmund","1.FC Köln",1,0]
[null,"2003/2004",21,"Borussia M'gladbach","SC Freiburg",2,2]
[null,"2003/2004",22,"Hamburger SV","Bayer Leverkusen",3,1]
[null,"2003/2004",23,"Hansa Rostock","Hamburger SV",3,0]
[null,"2003/2004",23,"Hertha BSC Berlin","VfL Bochum",1,1]
[null,"2003/2004",24,"Hannover 96","1.FC Kaiserslautern",0,1]
[null,"2003/2004",25,"FC Schalke 04","Hannover 96",2,2]
[null,"2003/2004",25,"TSV 1860 München","SC Freiburg",1,1]
[null,"2003/2004",26,"VfB Stuttgart","Werder Bremen",4,4]
[null,"2003/2004",27,"VfL Wolfsburg","VfB Stuttgart",1,5]
[null,"2003/2004",28,"FC Bayern München","FC Schalke 04",2,1]
[null,"2003/2004",29,"Borussia Dortmund","FC Bayern München",2,0]
[null,"2003/2004",30,"Borussia M'gladbach","VfL Wolfsburg",0,2]
[null,"2003/2004",30,"FC Bayern München","TSV 1860 München",1,0]
[null,"2003/2004",31,"FC Schalke 04","Hertha BSC Berlin",3,0]
[null,"2003/2004",32,"FC Bayern München","Werder Bremen",1,3]
[null,"2003/2004",32,"Hannover 96","Eintracht Frankfurt",3,0]
[null,"2003/2004",33,"Werder Bremen","Bayer Leverkusen",2,6]
[null,"2003/2004",34,"Hamburger SV","Eintracht Frankfurt",2,1]
[null,"2004/2005",1,"1.FC Kaiserslautern","1.FC Nürnberg",1,3]
[null,"2004/2005",1,"VfB Stuttgart","FSV Mainz 05",4,2]
[null,"2004/2005",2,"FSV Mainz 05","Hamburger SV",2,1]
[null,"2004/2005",3,"Borussia Dortmund","Hannover 96",1,1]
[null,"2004/2005",4,"Borussia M'gladbach","Werder Bremen",3,1]
[null,"2004/2005",4,"Hannover 96","SC Freiburg",2,2]
[null,"2004/2005",5,"Hansa Rostock","VfL Wolfsburg",1,2]
[null,"2004/2005",6,"1.FC Nürnberg","Arminia Bielefeld",1,2]
[null,"2004/2005",6,"VfL Wolfsburg","1.FC Kaiserslautern",2,1]
[null,"2004/2005",7,"FC Schalke 04","VfL Bochum",3,2]
[null,"2004/2005",8,"FC Bayern München","FC Schalke 04",0,1]
[null,"2004/2005",9,"Borussia Dortmund","Hamburger SV",0,2]
[null,"2004/2005",9,"VfL Wolfsburg","VfL Bochum",3,0]
[null,"2004/2005",10,"Hamburger SV","SC Freiburg",4,0]
[null,"2004/2005",11,"SC Freiburg","Hertha BSC Berlin",1,3]
[null,"2004/2005",11,"Werder Bremen","Hamburger SV",1,1]
[null,"2004/2005",12,"Hertha BSC Berlin","Werder Bremen",1,1]
[null,"2004/2005",13,"Hansa Rostock","Hamburger SV",0,6]
[null,"2004/2005",14,"1.FC Nürnberg","Hannover 96",1,1]
[null,"2004/2005",15,"Borussia M'gladbach","Hamburger SV",1,3]
[null,"2004/2005",15,"Werder Bremen","Borussia Dortmund",2,0]
[null,"2004/2005",16,"Arminia Bielefeld","Hansa Rostock",1,1]
[null,"2004/2005",17,"Hannover 96","Hertha BSC Berlin",0,1]
[null,"2004/2005",17,"FC Schalke 04","SC Freiburg",1,1]
[null,"2004/2005",18,"FSV Mainz 05","VfB Stuttgart",2,3]
[null,"2004/2005",19,"Arminia Bielefeld","Hannover 96",0,1]
[null,"2004/2005",19,"Werder Bremen","Hansa Rostock",3,2]
[null,"2004/2005",20,"VfB Stuttgart","1.FC Kaiserslautern",1,1]
[null,"2004/2005",21,"Werder Bremen","Borussia M'gladbach",2,0]
[null,"2004/2005",22,"1.FC Nürnberg","Bayer Leverkusen",2,4]
[null,"2004/2005",22,"VfL Wolfsburg","Hansa Rostock",4,0]
[null,"2004/2005",23,"Hertha BSC Berlin","Hamburger SV",4,1]
[null,"2004/2005",24,"FC Bayern München","Werder Bremen",1,0]
[null,"2004/2005",25,"1.FC Kaiserslautern","Borussia M'gladbach",1,0]
[null,"2004/2005",26,"FSV Mainz 05","FC Schalke 04",2,1]
[null,"2004/2005",26,"Hamburger SV","Borussia Dortmund",2,3]
[null,"2004/2005",27,"Werder Bremen","VfB Stuttgart",1,2]
[null,"2004/2005",28,"Hamburger SV","Werder Bremen",1,2]
[null,"2004/2005",28,"Hertha BSC Berlin","SC Freiburg",3,1]
[null,"2004/2005",29,"Hannover 96","FC Bayern München",0,1]
[null,"2004/2005",30,"Hertha BSC Berlin","FC Schalke 04",4,1]
[null,"2004/2005",31,"Hannover 96","1.FC Nürnberg",1,0]
[null,"2004/2005",31,"VfL Bochum","FSV Mainz 05",2,6]
[null,"2004/2005",33,"Borussia M'gladbach","Hertha BSC Berlin",0,0]
[null,"2004/2005",33,"FC Schalke 04","Borussia Dortmund",1,2]
[null,"2004/2005",34,"1.FC Nürnberg","FSV Mainz 05",1,2]
[null,"2005/2006",1,"FC Bayern München","Borussia M'gladbach",3,0]
[null,"2005/2006",1,"Hamburger SV","1.FC Nürnberg",3,0]
[null,"2005/2006",2,"Borussia M'gladbach","VfL Wolfsburg",1,1]
[null,"2005/2006",3,"Arminia Bielefeld","FSV Mainz 05",2,0]
[null,"2005/2006",3,"FC Schalke 04","Borussia M'gladbach",1,1]
[null,"2005/2006",4,"Hertha BSC Berlin","VfL Wolfsburg",3,0]
[null,"2005/2006",5,"FSV Mainz 05","VfB Stuttgart",1,2]
[null,"2005/2006",6,"1.FC Kaiserslautern","FSV Mainz 05",0,2]
[null,"2005/2006",7,"1.FC Köln","Hertha BSC Berlin",0,1]
[null,"2005/2006",7,"FC Schalke 04","Hannover 96",2,0]
[null,"2005/2006",8,"Borussia Dortmund","VfB Stuttgart",0,0]
[null,"2005/2006",8,"Hertha BSC Berlin","Werder Bremen",1,2]
[null,"2005/2006",9,"Werder Bremen","1.FC Nürnberg",6,2]
[null,"2005/2006",10,"Hannover 96","Werder Bremen",0,0]
[null,"2005/2006",11,"1.FC Köln","FC Bayern München",1,2]
[null,"2005/2006",11,"VfB Stuttgart","Hertha BSC Berlin",3,3]
[null,"2005/2006",12,"FC Bayern München","Werder Bremen",3,1]
[null,"2005/2006",13,"Borussia Dortmund","Hertha BSC Berlin",2,0]
[null,"2005/2006",14,"Eintracht Frankfurt","VfB Stuttgart",1,1]
[null,"2005/2006",14,"MSV Duisburg","1.FC Köln",1,1]
[null,"2005/2006",15,"FSV Mainz 05","VfL Wolfsburg",5,1]
[null,"2005/2006",16,"Hannover 96","Borussia M'gladbach",1,1]
[null,"2005/2006",16,"VfL Wolfsburg","VfB Stuttgart",0,1]
[null,"2005/2006",17,"Werder Bremen","Hamburger SV",1,1]
[null,"2005/2006",18,"FSV Mainz 05","1.FC Köln",4,2]
[null,"2005/2006",19,"Eintracht Frankfurt","Hertha BSC Berlin",1,1]
[null,"2005/2006",20,"1.FC Nürnberg","Eintracht Frankfurt",0,1]
[null,"2005/2006",20,"Borussia M'gladbach","FC Schalke 04",0,0]
[null,"2005/2006",21,"FC Bayern München","1.FC Nürnberg",2,1]
[null,"2005/2006",22,"Borussia M'gladbach","1.FC Köln",2,0]
[null,"2005/2006",22,"Hannover 96","FC Bayern München",1,1]
[null,"2005/2006",23,"MSV Duisburg","Hertha BSC Berlin",2,1]
[null,"2005/2006",24,"Eintracht Frankfurt","VfL Wolfsburg",1,1]
[null,"2005/2006",24,"Hertha BSC Berlin","1.FC Köln",2,4]
[null,"2005/2006",25,"VfB Stuttgart","Borussia Dortmund",0,0]
[null,"2005/2006",26,"VfL Wolfsburg","Hamburger SV",0,1]
[null,"2005/2006",27,"1.FC Köln","Eintracht Frankfurt",1,1]
[null,"2005/2006",28,"FC Bayern München","1.FC Köln",2,2]
[null,"2005/2006",29,"Arminia Bielefeld","Eintracht Frankfurt",1,0]
[null,"2005/2006",29,"Borussia Dortmund","Bayer Leverkusen",1,2]
[null,"2005/2006",30,"Hannover 96","VfB Stuttgart",3,3]
[null,"2005/2006",31,"Borussia M'gladbach","Hertha BSC Berlin",2,2]
[null,"2005/2006",31,"FSV Mainz 05","FC Bayern München",2,2]
[null,"2005/2006",32,"FC Schalke 04","Arminia Bielefeld",3,1]
[null,"2005/2006",33,"Hertha BSC Berlin","Hamburger SV",4,2]
[null,"2005/2006",34,"Eintracht Frankfurt","Borussia M'gladbach",0,2]
[null,"2006/2007",1,"Borussia M'gladbach","Energie Cottbus",2,0]
[null,"2006/2007",1,"VfL Wolfsburg","Hertha BSC Berlin",0,0]
[null,"2006/2007",2,"Eintracht Frankfurt","VfL Wolfsburg",0,0]
[null,"2006/2007",2,"Werder Bremen","Bayer Leverkusen",2,1]
[null,"2006/2007",3,"VfB Stuttgart","Borussia Dortmund",1,3]
[null,"2006/2007",4,"Hertha BSC Berlin","FC Schalke 04",2,0]
[null,"2006/2007",5,"Energie Cottbus","1.FC Nürnberg",1,1]
[null,"2006/2007",6,"1.FC Nürnberg","FSV Mainz 05",1,1]
[null,"2006/2007",7,"1.FC Nürnberg","Arminia Bielefeld",1,1]
[null,"2006/2007",7,"Hannover 96","Eintracht Frankfurt",1,1]
[null,"2006/2007",8,"Bayer Leverkusen","Hamburger SV",1,2]
[null,"2006/2007",8,"FC Schalke 04","Hannover 96",2,1]
[null,"2006/2007",9,"FSV Mainz 05","Werder Bremen",1,6]
[null,"2006/2007",10,"Hannover 96","VfL Bochum",0,2]
[null,"2006/2007",11,"1.FC Nürnberg","Werder Bremen",1,2]
[null,"2006/2007",11,"VfB Stuttgart","Hamburger SV",2,0]
[null,"2006/2007",12,"FC Schalke 04","FSV Mainz 05",4,0]
[null,"2006/2007",13,"Borussia Dortmund","Hertha BSC Berlin",1,2]
[null,"2006/2007",14,"Bayer Leverkusen","Energie Cottbus",3,1]
[null,"2006/2007",14,"VfL Wolfsburg","1.FC Nürnberg",1,1]
[null,"2006/2007",15,"Energie Cottbus","Hannover 96",0,1]
[null,"2006/2007",16,"Eintracht Frankfurt","Werder Bremen",2,6]
[null,"2006/2007",16,"VfL Wolfsburg","Alemannia Aachen",1,2]
[null,"2006/2007",17,"FSV Mainz 05","FC Bayern München",0,4]
[null,"2006/2007",18,"Eintracht Frankfurt","FC Schalke 04",1,3]
[null,"2006/2007",19,"Bayer Leverkusen","Werder Bremen",0,2]
[null,"2006/2007",19,"VfB Stuttgart","Arminia Bielefeld",3,2]
[null,"2006/2007",20,"Hertha BSC Berlin","Hamburger SV",2,1]
[null,"2006/2007",21,"FSV Mainz 05","Energie Cottbus",4,1]
[null,"2006/2007",22,"1.FC Nürnberg","Energie Cottbus",1,0]
[null,"2006/2007",22,"VfL Wolfsburg","FC Schalke 04",2,2]
[null,"2006/2007",23,"FC Schalke 04","Bayer Leverkusen",0,1]
[null,"2006/2007",24,"Bayer Leverkusen","VfB Stuttgart",3,1]
[null,"2006/2007",25,"Hamburger SV","Bayer Leverkusen",0,0]
[null,"2006/2007",26,"Alemannia Aachen","Arminia Bielefeld",2,0]
[null,"2006/2007",26,"Hannover 96","Hamburger SV",0,0]
[null,"2006/2007",27,"Borussia M'gladbach","Eintracht Frankfurt",1,1]
[null,"2006/2007",27,"VfB Stuttgart","Alemannia Aachen",3,1]
[null,"2006/2007",29,"Arminia Bielefeld","Eintracht Frankfurt",2,4]
[null,"2006/2007",29,"FC Bayern München","Bayer Leverkusen",2,1]
[null,"2006/2007",30,"Bayer Leverkusen","1.FC Nürnberg",2,0]
[null,"2006/2007",31,"Borussia Dortmund","Eintracht Frankfurt",2,0]
[null,"2006/2007",31,"VfL Bochum","FC Schalke 04",2,1]
[null,"2006/2007",32,"Eintracht Frankfurt","Alemannia Aachen",4,0]
[null,"2006/2007",33,"FSV Mainz 05","Borussia M'gladbach",3,0]
[null,"2006/2007",34,"Eintracht Frankfurt","Hertha BSC Berlin",1,2]
[null,"2006/2007",34,"VfL Wolfsburg","Werder Bremen",0,2]
[null,"2007/2008",1,"VfL Bochum","Werder Bremen",2,2]
[null,"2007/2008",2,"Karlsruher SC","Hannover 96",1,2]
[null,"2007/2008",3,"Arminia Bielefeld","Hertha BSC Berlin",2,0]
[null,"2007/2008",3,"VfL Bochum","Hamburger SV",2,1]
[null,"2007/2008",4,"FC Schalke 04","Bayer Leverkusen",1,1]
[null,"2007/2008",5,"Borussia Dortmund","Werder Bremen",3,0]
[null,"2007/2008",6,"Hansa Rostock","MSV Duisburg",2,0]
[null,"2007/2008",6,"FC Schalke 04","Arminia Bielefeld",3,0]
[null,"2007/2008",7,"Hertha BSC Berlin","Hansa Rostock",1,3]
[null,"2007/2008",8,"Hannover 96","MSV Duisburg",2,1]
[null,"2007/2008",8,"VfL Bochum","1.FC Nürnberg",3,3]
[null,"2007/2008",9,"VfB Stuttgart","Hannover 96",0,2]
[null,"2007/2008",10,"Hannover 96","VfL Wolfsburg",2,2]
[null,"2007/2008",11,"Borussia Dortmund","FC Bayern München",0,0]
[null,"2007/2008",12,"1.FC Nürnberg","VfB Stuttgart",0,1]
[null,"2007/2008",12,"Hamburger SV","Hertha BSC Berlin",2,1]
[null,"2007/2008",13,"Hertha BSC Berlin","Hannover 96",1,0]
[null,"2007/2008",14,"Energie Cottbus","Werder Bremen",0,2]
[null,"2007/2008",14,"Hannover 96","FC Schalke 04",2,3]
[null,"2007/2008",15,"FC Schalke 04","VfL Bochum",1,0]
[null,"2007/2008",16,"FC Bayern München","MSV Duisburg",0,0]
[null,"2007/2008",16,"VfL Bochum","Karlsruher SC",2,2]
[null,"2007/2008",17,"Werder Bremen","Bayer Leverkusen",5,2]
[null,"2007/2008",18,"FC Schalke 04","VfB Stuttgart",4,1]
[null,"2007/2008",19,"Bayer Leverkusen","Hamburger SV",1,1]
[null,"2007/2008",20,"Energie Cottbus","Borussia Dortmund",0,2]
[null,"2007/2008",20,"Hertha BSC Berlin","Arminia Bielefeld",1,0]
[null,"2007/2008",21,"Borussia Dortmund","Hansa Rostock",1,0]
[null,"2007/2008",22,"Hannover 96","1.FC Nürnberg",2,1]
[null,"2007/2008",22,"FC Schalke 04","FC Bayern München",0,1]
[null,"2007/2008",23,"FC Bayern München","Karlsruher SC",2,0]
[null,"2007/2008",24,"FC Schalke 04","MSV Duisburg",2,1]
[null,"2007/2008",24,"VfL Bochum","VfB Stuttgart",1,1]
[null,"2007/2008",26,"Energie Cottbus","Hertha BSC Berlin",2,1]
[null,"2007/2008",26,"Hansa Rostock","VfL Wolfsburg",0,1]
[null,"2007/2008",27,"Borussia Dortmund","Bayer Leverkusen",2,1]
[null,"2007/2008",28,"Hamburger SV","MSV Duisburg",0,1]
[null,"2007/2008",28,"Karlsruher SC","Hansa Rostock",1,2]
[null,"2007/2008",29,"Hansa Rostock","Werder Bremen",1,2]
[null,"2007/2008",30,"Hannover 96","Hertha BSC Berlin",2,2]
[null,"2007/2008",31,"Arminia Bielefeld","VfL Bochum",2,0]
[null,"2007/2008",32,"1.FC Nürnberg","MSV Duisburg",2,0]
[null,"2007/2008",32,"Borussia Dortmund","VfB Stuttgart",3,2]
[null,"2007/2008",32,"VfL Bochum","FC Schalke 04",0,3]
[null,"2007/2008",34,"Borussia Dortmund","VfL Wolfsburg",2,4]
[null,"2007/2008",34,"Hamburger SV","Karlsruher SC",7,0]
[null,"2008/2009",1,"FC Bayern München","Hamburger SV",2,2]
[null,"2008/2009",2,"Hertha BSC Berlin","Arminia Bielefeld",1,1]
[null,"2008/2009",2,"VfL Bochum","VfL Wolfsburg",2,2]
[null,"2008/2009",3,"VfB Stuttgart","Hannover 96",2,0]
[null,"2008/2009",4,"Werder Bremen","Energie Cottbus",3,0]
[null,"2008/2009",5,"Borussia M'gladbach","Hertha BSC Berlin",0,1]
[null,"2008/2009",6,"1.FC Köln","FC Schalke 04",1,0]
[null,"2008/2009",6,"VfL Bochum","Bayer Leverkusen",2,3]
[null,"2008/2009",7,"Borussia M'gladbach","1.FC Köln",1,2]
[null,"2008/2009",8,"Hamburger SV","FC Schalke 04",1,1]
[null,"2008/2009",8,"VfL Bochum","Borussia M'gladbach",2,2]
[null,"2008/2009",9,"Hannover 96","Werder Bremen",1,1]
[null,"2008/2009",10,"Hertha BSC Berlin","Hannover 96",3,0]
[null,"2008/2009",11,"Borussia Dortmund","VfL Bochum",1,1]
[null,"2008/2009",11,"TSG 1899 Hoffenheim","Karlsruher SC",4,1]
[null,"2008/2009",12,"FC Schalke 04","FC Bayern München",1,2]
[null,"2008/2009",13,"Borussia M'gladbach","FC Bayern München",2,2]
[null,"2008/2009",14,"1.FC Köln","TSG 1899 Hoffenheim",1,3]
[null,"2008/2009",14,"VfL Wolfsburg","VfB Stuttgart",4,1]
[null,"2008/2009",15,"Werder Bremen","Eintracht Frankfurt",5,0]
[null,"2008/2009",16,"Borussia M'gladbach","Bayer Leverkusen",1,3]
[null,"2008/2009",16,"FC Schalke 04","Hertha BSC Berlin",1,0]
[null,"2008/2009",17,"VfL Bochum","1.FC Köln",1,2]
[null,"2008/2009",18,"Hertha BSC Berlin","Eintracht Frankfurt",2,1]
[null,"2008/2009",19,"Bayer Leverkusen","VfB Stuttgart",2,4]
[null,"2008/2009",19,"FC Schalke 04","Werder Bremen",1,0]
[null,"2008/2009",20,"Werder Bremen","Borussia M'gladbach",1,1]
[null,"2008/2009",21,"FC Bayern München","1.FC Köln",1,2]
[null,"2008/2009",22,"1.FC Köln","Arminia Bielefeld",1,1]
[null,"2008/2009",22,"Hertha BSC Berlin","Borussia M'gladbach",2,1]
[null,"2008/2009",23,"VfB Stuttgart","Borussia Dortmund",2,1]
[null,"2008/2009",24,"Hamburger SV","Energie Cottbus",2,0]
[null,"2008/2009",24,"VfL Bochum","FC Bayern München",0,3]
[null,"2008/2009",26,"Arminia Bielefeld","FC Schalke 04",0,2]
[null,"2008/2009",26,"VfL Wolfsburg","FC Bayern München",5,1]
[null,"2008/2009",27,"Bayer Leverkusen","Werder Bremen",1,1]
[null,"2008/2009",27,"TSG 1899 Hoffenheim","VfL Bochum",0,3]
[null,"2008/2009",29,"Borussia Dortmund","Hamburger SV",2,0]
[null,"2008/2009",29,"Werder Bremen","VfL Bochum",3,2]
[null,"2008/2009",30,"1.FC Köln","Werder Bremen",1,0]
[null,"2008/2009",31,"Energie Cottbus","FC Bayern München",1,3]
[null,"2008/2009",32,"1.FC Köln","Hertha BSC Berlin",1,2]
[null,"2008/2009",32,"Karlsruher SC","Hannover 96",2,3]
[null,"2008/2009",33,"Werder Bremen","Karlsruher SC",1,3]
[null,"2008/2009",33,"TSG 1899 Hoffenheim","FC Bayern München",2,2]
[null,"2008/2009",34,"VfL Wolfsburg","Werder Bremen",5,1]
[null,"2009/2010",1,"VfL Bochum","Borussia M'gladbach",3,3]
[null,"2009/2010",2,"1.FC Köln","VfL Wolfsburg",1,3]
[null,"2009/2010",3,"1.FC Nürnberg","Hannover 96",0,2]
[null,"2009/2010",3,"VfL Wolfsburg","Hamburger SV",2,4]
[null,"2009/2010",4,"Hamburger SV","1.FC Köln",3,1]
[null,"2009/2010",5,"FSV Mainz 05","Hertha BSC Berlin",2,1]
[null,"2009/2010",5,"SC Freiburg","Eintracht Frankfurt",0,2]
[null,"2009/2010",6,"FC Schalke 04","VfL Wolfsburg",1,2]
[null,"2009/2010",7,"SC Freiburg","Borussia M'gladbach",3,0]
[null,"2009/2010",8,"FSV Mainz 05","TSG 1899 Hoffenheim",2,1]
[null,"2009/2010",8,"VfL Bochum","VfL Wolfsburg",1,1]
[null,"2009/2010",9,"VfB Stuttgart","FC Schalke 04",1,2]
[null,"2009/2010",10,"Bayer Leverkusen","Borussia Dortmund",1,1]
[null,"2009/2010",11,"1.FC Nürnberg","Werder Bremen",2,2]
[null,"2009/2010",12,"Bayer Leverkusen","Eintracht Frankfurt",4,0]
[null,"2009/2010",12,"FSV Mainz 05","1.FC Nürnberg",1,0]
[null,"2009/2010",13,"FC Bayern München","Bayer Leverkusen",1,1]
[null,"2009/2010",14,"Borussia M'gladbach","FC Schalke 04",1,0]
[null,"2009/2010",14,"Werder Bremen","VfL Wolfsburg",2,2]
[null,"2009/2010",15,"Hannover 96","Bayer Leverkusen",0,0]
[null,"2009/2010",15,"VfL Wolfsburg","SC Freiburg",2,2]
[null,"2009/2010",16,"VfL Wolfsburg","Borussia Dortmund",1,3]
[null,"2009/2010",17,"FC Schalke 04","FSV Mainz 05",1,0]
[null,"2009/2010",18,"Borussia M'gladbach","VfL Bochum",1,2]
[null,"2009/2010",19,"Borussia Dortmund","Hamburger SV",1,0]
[null,"2009/2010",19,"TSG 1899 Hoffenheim","Bayer Leverkusen",0,3]
[null,"2009/2010",20,"Hannover 96","1.FC Nürnberg",1,3]
[null,"2009/2010",21,"FSV Mainz 05","Borussia M'gladbach",1,0]
[null,"2009/2010",21,"VfL Wolfsburg","FC Bayern München",1,3]
[null,"2009/2010",22,"VfL Bochum","TSG 1899 Hoffenheim",2,1]
[null,"2009/2010",23,"Borussia Dortmund","Hannover 96",4,1]
[null,"2009/2010",24,"Borussia M'gladbach","SC Freiburg",1,1]
[null,"2009/2010",24,"VfL Bochum","1.FC Nürnberg",0,0]
[null,"2009/2010",25,"Hamburger SV","Hertha BSC Berlin",1,0]
[null,"2009/2010",26,"Hannover 96","Eintracht Frankfurt",2,1]
[null,"2009/2010",27,"1.FC Nürnberg","TSG 1899 Hoffenheim",0,0]
[null,"2009/2010",27,"Werder Bremen","VfL Bochum",3,2]
[null,"2009/2010",28,"TSG 1899 Hoffenheim","SC Freiburg",1,1]
[null,"2009/2010",29,"VfB Stuttgart","Borussia M'gladbach",2,1]
[null,"2009/2010",29,"VfL Wolfsburg","TSG 1899 Hoffenheim",4,0]
[null,"2009/2010",31,"Borussia Dortmund","TSG 1899 Hoffenheim",1,1]
[null,"2009/2010",32,"1.FC Nürnberg","Borussia Dortmund",2,3]
[null,"2009/2010",32,"Bayer Leverkusen","Hannover 96",3,0]
[null,"2009/2010",33,"Borussia Dortmund","VfL Wolfsburg",1,1]
[null,"2009/2010",34,"FSV Mainz 05","FC Schalke 04",0,0]
[null,"2009/2010",34,"TSG 1899 Hoffenheim","VfB Stuttgart",1,1]
[null,"2010/2011",1,"Hamburger SV","FC Schalke 04",2,1]
[null,"2010/2011",2,"FC St. Pauli","TSG 1899 Hoffenheim",0,1]
[null,"2010/2011",3,"1.FC Köln","FC St. Pauli",1,0]
[null,"2010/2011",3,"SC Freiburg","VfB Stuttgart",2,1]
[null,"2010/2011",4,"VfB Stuttgart","Borussia M'gladbach",7,0]
[null,"2010/2011",5,"Bayer Leverkusen","Eintracht Frankfurt",2,1]
[null,"2010/2011",6,"1.FC Kaiserslautern","Hannover 96",0,1]
[null,"2010/2011",6,"Werder Bremen","Hamburger SV",3,2]
[null,"2010/2011",7,"FSV Mainz 05","TSG 1899 Hoffenheim",4,2]
[null,"2010/2011",8,"FC Bayern München","Hannover 96",3,0]
[null,"2010/2011",9,"Bayer Leverkusen","FSV Mainz 05",0,1]
[null,"2010/2011",9,"SC Freiburg","1.FC Kaiserslautern",2,1]
[null,"2010/2011",10,"FSV Mainz 05","Borussia Dortmund",0,2]
[null,"2010/2011",11,"1.FC Nürnberg","1.FC Köln",3,1]
[null,"2010/2011",11,"FC Schalke 04","FC St. Pauli",3,0]
[null,"2010/2011",12,"TSG 1899 Hoffenheim","SC Freiburg",0,1]
[null,"2010/2011",13,"Eintracht Frankfurt","TSG 1899 Hoffenheim",0,4]
[null,"2010/2011",14,"1.FC Kaiserslautern","FC Schalke 04",5,0]
[null,"2010/2011",14,"Hamburger SV","VfB Stuttgart",4,2]
[null,"2010/2011",15,"FC Schalke 04","FC Bayern München",2,0]
[null,"2010/2011",16,"Borussia Dortmund","Werder Bremen",2,0]
[null,"2010/2011",16,"SC Freiburg","Borussia M'gladbach",3,0]
[null,"2010/2011",17,"Eintracht Frankfurt","Borussia Dortmund",1,0]
[null,"2010/2011",18,"FC St. Pauli","SC Freiburg",2,2]
[null,"2010/2011",19,"1.FC Köln","Werder Bremen",3,0]
[null,"2010/2011",19,"Hannover 96","FC Schalke 04",0,1]
[null,"2010/2011",20,"Eintracht Frankfurt","Borussia M'gladbach",0,1]
[null,"2010/2011",21,"Hamburger SV","FC St. Pauli",0,1]
[null,"2010/2011",22,"1.FC Kaiserslautern","Borussia Dortmund",1,1]
[null,"2010/2011",22,"FC Schalke 04","SC Freiburg",1,0]
[null,"2010/2011",23,"Borussia Dortmund","FC St. Pauli",2,0]
[null,"2010/2011",24,"Eintracht Frankfurt","VfB Stuttgart",0,2]
[null,"2010/2011",24,"VfL Wolfsburg","Borussia M'gladbach",2,1]
[null,"2010/2011",25,"Hamburger SV","FSV Mainz 05",2,4]
[null,"2010/2011",26,"1.FC Köln","Hannover 96",4,0]
[null,"2010/2011",27,"1.FC Nürnberg","Werder Bremen",1,3]
[null,"2010/2011",27,"VfB Stuttgart","VfL Wolfsburg",1,1]
[null,"2010/2011",28,"FC Bayern München","Borussia M'gladbach",1,0]
[null,"2010/2011",29,"Bayer Leverkusen","FC St. Pauli",2,1]
[null,"2010/2011",30,"FSV Mainz 05","Borussia M'gladbach",1,0]
[null,"2010/2011",30,"Hamburger SV","Hannover 96",0,0]
[null,"2010/2011",31,"FC St. Pauli","Werder Bremen",1,3]
[null,"2010/2011",32,"Hannover 96","Borussia M'gladbach",0,1]
[null,"2010/2011",32,"TSG 1899 Hoffenheim","VfB Stuttgart",1,2]
[null,"2010/2011",33,"VfL Wolfsburg","1.FC Kaiserslautern",1,2]
[null,"2010/2011",34,"TSG 1899 Hoffenheim","VfL Wolfsburg",1,3]
[null,"2011/2012",1,"Borussia Dortmund","Hamburger SV",3,1]
[null,"2011/2012",1,"FC Bayern München","Borussia M'gladbach",0,1]
[null,"2011/2012",3,"Borussia Dortmund","1.FC Nürnberg",2,0]
[null,"2011/2012",3,"FC Bayern München","Hamburger SV",5,0]
[null,"2011/2012",4,"1.FC Nürnberg","FC Augsburg",1,0]
[null,"2011/2012",5,"FSV Mainz 05","TSG 1899 Hoffenheim",0,4]
[null,"2011/2012",5,"VfB Stuttgart","Hannover 96",3,0]
[null,"2011/2012",6,"1.FC Kaiserslautern","FSV Mainz 05",3,1]
[null,"2011/2012",7,"FC Augsburg","Hannover 96",0,0]
[null,"2011/2012",7,"1.FC Köln","TSG 1899 Hoffenheim",2,0]
[null,"2011/2012",8,"Hamburger SV","FC Schalke 04",1,2]
[null,"2011/2012",9,"SC Freiburg","Hamburger SV",1,2]
[null,"2011/2012",10,"Borussia Dortmund","1.FC Köln",5,0]
[null,"2011/2012",11,"FC Bayern München","1.FC Nürnberg",4,0]
[null,"2011/2012",11,"FSV Mainz 05","Werder Bremen",1,3]
[null,"2011/2012",12,"TSG 1899 Hoffenheim","1.FC Kaiserslautern",1,1]
[null,"2011/2012",13,"VfL Wolfsburg","Hannover 96",4,1]
[null,"2011/2012",13,"1.FC Köln","FSV Mainz 05",1,1]
[null,"2011/2012",14,"Werder Bremen","VfB Stuttgart",2,0]
[null,"2011/2012",15,"Borussia M'gladbach","Borussia Dortmund",1,1]
[null,"2011/2012",16,"Hertha BSC Berlin","FC Schalke 04",1,2]
[null,"2011/2012",16,"VfB Stuttgart","FC Bayern München",1,2]
[null,"2011/2012",17,"TSG 1899 Hoffenheim","Hertha BSC Berlin",1,1]
[null,"2011/2012",18,"SC Freiburg","FC Augsburg",1,0]
[null,"2011/2012",19,"Werder Bremen","Bayer Leverkusen",1,1]
[null,"2011/2012",19,"1.FC Köln","FC Schalke 04",1,4]
[null,"2011/2012",20,"Hamburger SV","FC Bayern München",1,1]
[null,"2011/2012",21,"VfL Wolfsburg","SC Freiburg",3,2]
[null,"2011/2012",21,"1.FC Köln","Hamburger SV",0,1]
[null,"2011/2012",23,"Borussia M'gladbach","Hamburger SV",1,1]
[null,"2011/2012",23,"VfB Stuttgart","SC Freiburg",4,1]
[null,"2011/2012",24,"SC Freiburg","FC Schalke 04",2,1]
[null,"2011/2012",24,"Borussia Dortmund","FSV Mainz 05",2,1]
[null,"2011/2012",25,"FC Bayern München","TSG 1899 Hoffenheim",7,1]
[null,"2011/2012",26,"Bayer Leverkusen","Borussia M'gladbach",1,2]
[null,"2011/2012",26,"1.FC Kaiserslautern","FC Schalke 04",1,4]
[null,"2011/2012",27,"FC Schalke 04","Bayer Leverkusen",2,0]
[null,"2011/2012",28,"TSG 1899 Hoffenheim","FC Schalke 04",1,1]
[null,"2011/2012",29,"VfL Wolfsburg","Borussia Dortmund",1,3]
[null,"2011/2012",29,"Hamburger SV","Bayer Leverkusen",1,1]
[null,"2011/2012",31,"VfB Stuttgart","Werder Bremen",4,1]
[null,"2011/2012",31,"Hamburger SV","Hannover 96",1,0]
[null,"2011/2012",32,"TSG 1899 Hoffenheim","Bayer Leverkusen",0,1]
[null,"2011/2012",33,"Hamburger SV","FSV Mainz 05",0,0]
[null,"2011/2012",33,"TSG 1899 Hoffenheim","1.FC Nürnberg",2,3]
[null,"2011/2012",34,"FC Augsburg","Hamburger SV",1,0]
[null,"2012/2013",1,"Borussia Dortmund","Werder Bremen",2,1]
[null,"2012/2013",1,"Eintracht Frankfurt","Bayer Leverkusen",2,1]
[null,"2012/2013",2,"FC Bayern München","VfB Stuttgart",6,1]
[null,"2012/2013",3,"SC Freiburg","TSG 1899 Hoffenheim",5,3]
[null,"2012/2013",3,"Eintracht Frankfurt","Hamburger SV",3,2]
[null,"2012/2013",5,"SpVgg Greuther Fürth","Fortuna Düsseldorf",0,2]
[null,"2012/2013",6,"Fortuna Düsseldorf","FC Schalke 04",2,2]
[null,"2012/2013",6,"Bayer Leverkusen","SpVgg Greuther Fürth",2,0]
[null,"2012/2013",6,"VfL Wolfsburg","FSV Mainz 05",0,2]
[null,"2012/2013",8,"Bayer Leverkusen","FSV Mainz 05",2,2]
[null,"2012/2013",8,"1.FC Nürnberg","FC Augsburg",0,0]
[null,"2012/2013",9,"SC Freiburg","Borussia Dortmund",0,2]
[null,"2012/2013",10,"1.FC Nürnberg","VfL Wolfsburg",1,0]
[null,"2012/2013",11,"FSV Mainz 05","1.FC Nürnberg",2,1]
[null,"2012/2013",11,"Fortuna Düsseldorf","TSG 1899 Hoffenheim",1,1]
[null,"2012/2013",12,"1.FC Nürnberg","FC Bayern München",1,1]
[null,"2012/2013",12,"Werder Bremen","Fortuna Düsseldorf",2,1]
[null,"2012/2013",14,"Borussia Dortmund","Fortuna Düsseldorf",1,1]
[null,"2012/2013",14,"VfB Stuttgart","FC Augsburg",2,1]
[null,"2012/2013",15,"FC Schalke 04","Borussia M'gladbach",1,1]
[null,"2012/2013",16,"VfB Stuttgart","FC Schalke 04",3,1]
[null,"2012/2013",16,"Borussia M'gladbach","FSV Mainz 05",2,0]
[null,"2012/2013",17,"SpVgg Greuther Fürth","FC Augsburg",1,1]
[null,"2012/2013",18,"TSG 1899 Hoffenheim","Borussia M'gladbach",0,0]
[null,"2012/2013",19,"Borussia Dortmund","1.FC Nürnberg",3,0]
[null,"2012/2013",19,"Hamburger SV","Werder Bremen",3,2]
[null,"2012/2013",20,"TSG 1899 Hoffenheim","SC Freiburg",2,1]
[null,"2012/2013",21,"Borussia M'gladbach","Bayer Leverkusen",3,3]
[null,"2012/2013",22,"VfL Wolfsburg","FC Bayern München",0,2]
[null,"2012/2013",22,"Fortuna Düsseldorf","SpVgg Greuther Fürth",1,0]
[null,"2012/2013",23,"VfB Stuttgart","1.FC Nürnberg",1,1]
[null,"2012/2013",23,"SpVgg Greuther Fürth","Bayer Leverkusen",0,0]
[null,"2012/2013",24,"TSG 1899 Hoffenheim","FC Bayern München",0,1]
[null,"2012/2013",25,"Borussia M'gladbach","Werder Bremen",1,1]
[null,"2012/2013",26,"1.FC Nürnberg","FC Schalke 04",3,0]
[null,"2012/2013",27,"VfB Stuttgart","Borussia Dortmund",1,2]
[null,"2012/2013",27,"VfL Wolfsburg","1.FC Nürnberg",2,2]
[null,"2012/2013",28,"Bayer Leverkusen","VfL Wolfsburg",1,1]
[null,"2012/2013",29,"Fortuna Düsseldorf","Werder Bremen",2,2]
[null,"2012/2013",30,"Hannover 96","FC Bayern München",1,6]
[null,"2012/2013",30,"Hamburger SV","Fortuna Düsseldorf",2,1]
[null,"2012/2013",31,"FC Bayern München","SC Freiburg",1,0]
[null,"2012/2013",31,"FC Schalke 04","Hamburger SV",4,1]
[null,"2012/2013",32,"SC Freiburg","FC Augsburg",2,0]
[null,"2012/2013",33,"FC Bayern München","FC Augsburg",3,0]
[null,"2012/2013",34,"SC Freiburg","FC Schalke 04",1,2]
[null,"2013/2014",1,"FC Bayern München","Borussia M'gladbach",3,1]
[null,"2013/2014",2,"VfB Stuttgart","Bayer Leverkusen",0,1]
[null,"2013/2014",2,"SC Freiburg","FSV Mainz 05",1,2]
[null,"2013/2014",3,"Hertha BSC Berlin","Hamburger SV",1,0]
[null,"2013/2014",4,"VfL Wolfsburg","Hertha BSC Berlin",2,0]
[null,"2013/2014",4,"Hamburger SV","Eintracht Braunschweig",4,0]
[null,"2013/2014",5,"Eintracht Braunschweig","1.FC Nürnberg",1,1]
[null,"2013/2014",6,"FC Schalke 04","FC Bayern München",0,4]
[null,"2013/2014",6,"SC Freiburg","Hertha BSC Berlin",1,1]
[null,"2013/2014",7,"Eintracht Braunschweig","VfB Stuttgart",0,4]
[null,"2013/2014",8,"SC Freiburg","Eintracht Frankfurt",1,1]
[null,"2013/2014",9,"Eintracht Braunschweig","FC Schalke 04",2,3]
[null,"2013/2014",10,"FC Schalke 04","Borussia Dortmund",1,3]
[null,"2013/2014",11,"1.FC Nürnberg","SC Freiburg",0,3]
[null,"2013/2014",11,"Eintracht Frankfurt","VfL Wolfsburg",1,2]
[null,"2013/2014",12,"TSG 1899 Hoffenheim","Hertha BSC Berlin",2,3]
[null,"2013/2014",13,"Eintracht Braunschweig","SC Freiburg",0,1]
[null,"2013/2014",13,"Werder Bremen","FSV Mainz 05",2,3]
[null,"2013/2014",14,"Bayer Leverkusen","1.FC Nürnberg",3,0]
[null,"2013/2014",15,"VfB Stuttgart","Hannover 96",4,2]
[null,"2013/2014",16,"FC Bayern München","Hamburger SV",3,1]
[null,"2013/2014",16,"FC Augsburg","Eintracht Braunschweig",4,1]
[null,"2013/2014",17,"Hamburger SV","FSV Mainz 05",2,3]
[null,"2013/2014",18,"VfB Stuttgart","FSV Mainz 05",1,2]
[null,"2013/2014",18,"Werder Bremen","Eintracht Braunschweig",0,0]
[null,"2013/2014",19,"Hannover 96","Borussia M'gladbach",3,1]
[null,"2013/2014",20,"Werder Bremen","Borussia Dortmund",1,5]
[null,"2013/2014",21,"FSV Mainz 05","Hannover 96",2,0]
[null,"2013/2014",21,"Hertha BSC Berlin","VfL Wolfsburg",1,2]
[null,"2013/2014",22,"1.FC Nürnberg","Eintracht Braunschweig",2,1]
[null,"2013/2014",23,"FC Augsburg","Hannover 96",1,1]
[null,"2013/2014",24,"Hannover 96","Bayer Leverkusen",1,1]
[null,"2013/2014",24,"Hamburger SV","Eintracht Frankfurt",1,1]
[null,"2013/2014",25,"Eintracht Braunschweig","VfL Wolfsburg",1,1]
[null,"2013/2014",26,"VfL Wolfsburg","FC Augsburg",1,1]
[null,"2013/2014",26,"Bayer Leverkusen","TSG 1899 Hoffenheim",2,3]
[null,"2013/2014",27,"1.FC Nürnberg","VfB Stuttgart",2,0]
[null,"2013/2014",28,"Borussia M'gladbach","Hamburger SV",3,1]
[null,"2013/2014",29,"Hamburger SV","Bayer Leverkusen",2,1]
[null,"2013/2014",29,"Hertha BSC Berlin","TSG 1899 Hoffenheim",1,1]
[null,"2013/2014",30,"SC Freiburg","Eintracht Braunschweig",2,0]
[null,"2013/2014",31,"SC Freiburg","Borussia M'gladbach",4,2]
[null,"2013/2014",32,"FC Bayern München","Werder Bremen",5,2]
[null,"2013/2014",32,"FC Augsburg","Hamburger SV",3,1]
[null,"2013/2014",33,"VfB Stuttgart","VfL Wolfsburg",1,2]
[null,"2013/2014",34,"TSG 1899 Hoffenheim","Eintracht Braunschweig",3,1]
[null,"2014/2015",1,"Borussia Dortmund","Bayer Leverkusen",0,2]
[null,"2014/2015",1,"TSG 1899 Hoffenheim","FC Augsburg",2,0]
[null,"2014/2015",3,"Bayer Leverkusen","Werder Bremen",3,3]
[null,"2014/2015",3,"TSG 1899 Hoffenheim","VfL Wolfsburg",1,1]
[null,"2014/2015",3,"Hannover 96","Hamburger SV",2,0]
[null,"2014/2015",4,"VfB Stuttgart","TSG 1899 Hoffenheim",0,2]
[null,"2014/2015",5,"TSG 1899 Hoffenheim","SC Freiburg",3,3]
[null,"2014/2015",6,"VfB Stuttgart","Hannover 96",1,0]
[null,"2014/2015",7,"Hertha BSC Berlin","VfB Stuttgart",3,2]
[null,"2014/2015",7,"TSG 1899 Hoffenheim","FC Schalke 04",2,1]
[null,"2014/2015",8,"Hamburger SV","TSG 1899 Hoffenheim",1,1]
[null,"2014/2015",9,"Eintracht Frankfurt","VfB Stuttgart",4,5]
[null,"2014/2015",10,"FC Bayern München","Borussia Dortmund",2,1]
[null,"2014/2015",11,"Hertha BSC Berlin","Hannover 96",0,2]
[null,"2014/2015",11,"Werder Bremen","VfB Stuttgart",2,0]
[null,"2014/2015",12,"FSV Mainz 05","SC Freiburg",2,2]
[null,"2014/2015",13,"Hertha BSC Berlin","FC Bayern München",0,1]
[null,"2014/2015",13,"Bayer Leverkusen","1.FC Köln",5,1]
[null,"2014/2015",13,"FC Schalke 04","FSV Mainz 05",4,1]
[null,"2014/2015",13,"Werder Bremen","SC Paderborn",4,0]
[null,"2014/2015",13,"Eintracht Frankfurt","Borussia Dortmund",2,0]
[null,"2014/2015",13,"VfL Wolfsburg","Borussia M'gladbach",1,0]
[null,"2014/2015",14,"Borussia Dortmund","TSG 1899 Hoffenheim",1,0]
[null,"2014/2015",14,"FC Bayern München","Bayer Leverkusen",1,0]
[null,"2014/2015",14,"1.FC Köln","FC Augsburg",1,2]
[null,"2014/2015",14,"Hannover 96","VfL Wolfsburg",1,3]
[null,"2014/2015",14,"Borussia M'gladbach","Hertha BSC Berlin",3,2]
[null,"2014/2015",14,"SC Paderborn","SC Freiburg",1,1]
[null,"2014/2015",14,"VfB Stuttgart","FC Schalke 04",0,4]
[null,"2014/2015",14,"Eintracht Frankfurt","Werder Bremen",5,2]
[null,"2014/2015",14,"Hamburger SV","FSV Mainz 05",2,1]
[null,"2014/2015",15,"TSG 1899 Hoffenheim","Eintracht Frankfurt",3,2]
[null,"2014/2015",15,"FC Augsburg","FC Bayern München",0,4]
[null,"2014/2015",15,"SC Freiburg","Hamburger SV",0,0]
[null,"2014/2015",15,"Hertha BSC Berlin","Borussia Dortmund",1,0]
[null,"2014/2015",15,"FSV Mainz 05","VfB Stuttgart",1,1]
[null,"2014/2015",15,"FC Schalke 04","1.FC Köln",1,2]
[null,"2014/2015",15,"Werder Bremen","Hannover 96",3,3]
[null,"2014/2015",15,"Bayer Leverkusen","Borussia M'gladbach",1,1]
[null,"2014/2015",15,"VfL Wolfsburg","SC Paderborn",1,1]
[null,"2014/2015",16,"FC Bayern München","SC Freiburg",2,0]
[null,"2014/2015",16,"1.FC Köln","FSV Mainz 05",0,0]
[null,"2014/2015",16,"Hamburger SV","VfB Stuttgart",0,1]
[null,"2014/2015",16,"Hannover 96","FC Augsburg",2,0]
[null,"2014/2015",16,"Borussia Dortmund","VfL Wolfsburg",2,2]
[null,"2014/2015",16,"Eintracht Frankfurt","Hertha BSC Berlin",4,4]
[null,"2014/2015",16,"TSG 1899 Hoffenheim","Bayer Leverkusen",0,1]
[null,"2014/2015",16,"Borussia M'gladbach","Werder Bremen",4,1]
[null,"2014/2015",16,"SC Paderborn","FC Schalke 04",1,2]
[null,"2014/2015",17,"FSV Mainz 05","FC Bayern München",1,2]
[null,"2014/2015",17,"FC Augsburg","Borussia M'gladbach",2,1]
[null,"2014/2015",17,"Bayer Leverkusen","Eintracht Frankfurt",1,1]
[null,"2014/2015",17,"FC Schalke 04","Hamburger SV",0,0]
[null,"2014/2015",17,"VfB Stuttgart","SC Paderborn",0,0]
[null,"2014/2015",17,"Werder Bremen","Borussia Dortmund",2,1]
[null,"2014/2015",17,"VfL Wolfsburg","1.FC Köln",2,1]
[null,"2014/2015",17,"SC Freiburg","Hannover 96",2,2]
[null,"2014/2015",17,"Hertha BSC Berlin","TSG 1899 Hoffenheim",0,5]
[null,"2014/2015",18,"VfL Wolfsburg","FC Bayern München",4,1]
[null,"2014/2015",18,"SC Freiburg","Eintracht Frankfurt",4,1]
[null,"2014/2015",18,"Hamburger SV","1.FC Köln",0,2]
[null,"2014/2015",18,"Bayer Leverkusen","Borussia Dortmund",0,0]
[null,"2014/2015",18,"FSV Mainz 05","SC Paderborn",5,0]
[null,"2014/2015",18,"FC Schalke 04","Hannover 96",1,0]
[null,"2014/2015",18,"VfB Stuttgart","Borussia M'gladbach",0,1]
[null,"2014/2015",18,"FC Augsburg","TSG 1899 Hoffenheim",3,1]
[null,"2014/2015",18,"Werder Bremen","Hertha BSC Berlin",2,0]
[null,"2014/2015",19,"FC Bayern München","FC Schalke 04",1,1]
[null,"2014/2015",19,"Eintracht Frankfurt","VfL Wolfsburg",1,1]
[null,"2014/2015",19,"Hannover 96","FSV Mainz 05",1,1]
[null,"2014/2015",19,"Borussia M'gladbach","SC Freiburg",1,0]
[null,"2014/2015",19,"Borussia Dortmund","FC Augsburg",0,1]
[null,"2014/2015",19,"1.FC Köln","VfB Stuttgart",0,0]
[null,"2014/2015",19,"Hertha BSC Berlin","Bayer Leverkusen",0,1]
[null,"2014/2015",19,"TSG 1899 Hoffenheim","Werder Bremen",1,2]
[null,"2014/2015",19,"SC Paderborn","Hamburger SV",0,3]
[null,"2014/2015",20,"FC Schalke 04","Borussia M'gladbach",1,0]
[null,"2014/2015",20,"1.FC Köln","SC Paderborn",0,0]
[null,"2014/2015",20,"SC Freiburg","Borussia Dortmund",0,3]
[null,"2014/2015",20,"Hamburger SV","Hannover 96",2,1]
[null,"2014/2015",20,"FSV Mainz 05","Hertha BSC Berlin",0,2]
[null,"2014/2015",20,"VfB Stuttgart","FC Bayern München",0,2]
[null,"2014/2015",20,"VfL Wolfsburg","TSG 1899 Hoffenheim",3,0]
[null,"2014/2015",20,"FC Augsburg","Eintracht Frankfurt",2,2]
[null,"2014/2015",20,"Werder Bremen","Bayer Leverkusen",2,1]
[null,"2014/2015",21,"Borussia Dortmund","FSV Mainz 05",4,2]
[null,"2014/2015",21,"FC Bayern München","Hamburger SV",8,0]
[null,"2014/2015",21,"Eintracht Frankfurt","FC Schalke 04",1,0]
[null,"2014/2015",21,"TSG 1899 Hoffenheim","VfB Stuttgart",2,1]
[null,"2014/2015",21,"Bayer Leverkusen","VfL Wolfsburg",4,5]
[null,"2014/2015",21,"Borussia M'gladbach","1.FC Köln",1,0]
[null,"2014/2015",21,"Werder Bremen","FC Augsburg",3,2]
[null,"2014/2015",21,"Hannover 96","SC Paderborn",1,2]
[null,"2014/2015",21,"Hertha BSC Berlin","SC Freiburg",0,2]
[null,"2014/2015",22,"VfB Stuttgart","Borussia Dortmund",2,3]
[null,"2014/2015",22,"FC Augsburg","Bayer Leverkusen",2,2]
[null,"2014/2015",22,"1.FC Köln","Hannover 96",1,1]
[null,"2014/2015",22,"SC Freiburg","TSG 1899 Hoffenheim",1,1]
[null,"2014/2015",22,"FSV Mainz 05","Eintracht Frankfurt",3,1]
[null,"2014/2015",22,"SC Paderborn","FC Bayern München",0,6]
[null,"2014/2015",22,"FC Schalke 04","Werder Bremen",1,1]
[null,"2014/2015",22,"Hamburger SV","Borussia M'gladbach",1,1]
[null,"2014/2015",22,"VfL Wolfsburg","Hertha BSC Berlin",2,1]
[null,"2014/2015",23,"FC Bayern München","1.FC Köln",4,1]
[null,"2014/2015",23,"Borussia Dortmund","FC Schalke 04",3,0]
[null,"2014/2015",23,"Eintracht Frankfurt","Hamburger SV",2,1]
[null,"2014/2015",23,"Hannover 96","VfB Stuttgart",1,1]
[null,"2014/2015",23,"Hertha BSC Berlin","FC Augsburg",1,0]
[null,"2014/2015",23,"TSG 1899 Hoffenheim","FSV Mainz 05",2,0]
[null,"2014/2015",23,"Bayer Leverkusen","SC Freiburg",1,0]
[null,"2014/2015",23,"Borussia M'gladbach","SC Paderborn",2,0]
[null,"2014/2015",23,"Werder Bremen","VfL Wolfsburg",3,5]
[null,"2014/2015",24,"VfB Stuttgart","Hertha BSC Berlin",0,0]
[null,"2014/2015",24,"FC Augsburg","VfL Wolfsburg",1,0]
[null,"2014/2015",24,"SC Freiburg","Werder Bremen",0,1]
[null,"2014/2015",24,"Hamburger SV","Borussia Dortmund",0,0]
[null,"2014/2015",24,"Hannover 96","FC Bayern München",1,3]
[null,"2014/2015",24,"FSV Mainz 05","Borussia M'gladbach",2,2]
[null,"2014/2015",24,"FC Schalke 04","TSG 1899 Hoffenheim",3,1]
[null,"2014/2015",24,"1.FC Köln","Eintracht Frankfurt",4,2]
[null,"2014/2015",24,"SC Paderborn","Bayer Leverkusen",0,3]
[null,"2014/2015",25,"Bayer Leverkusen","VfB Stuttgart",4,0]
[null,"2014/2015",25,"FC Augsburg","FSV Mainz 05",0,2]
[null,"2014/2015",25,"Borussia Dortmund","1.FC Köln",0,0]
[null,"2014/2015",25,"Eintracht Frankfurt","SC Paderborn",4,0]
[null,"2014/2015",25,"Hertha BSC Berlin","FC Schalke 04",2,2]
[null,"2014/2015",25,"TSG 1899 Hoffenheim","Hamburger SV",3,0]
[null,"2014/2015",25,"Werder Bremen","FC Bayern München",0,4]
[null,"2014/2015",25,"Borussia M'gladbach","Hannover 96",2,0]
[null,"2014/2015",25,"VfL Wolfsburg","SC Freiburg",3,0]
[null,"2014/2015",26,"Hamburger SV","Hertha BSC Berlin",0,1]
[null,"2014/2015",26,"1.FC Köln","Werder Bremen",1,1]
[null,"2014/2015",26,"SC Freiburg","FC Augsburg",2,0]
[null,"2014/2015",26,"Hannover 96","Borussia Dortmund",2,3]
[null,"2014/2015",26,"SC Paderborn","TSG 1899 Hoffenheim",0,0]
[null,"2014/2015",26,"FC Schalke 04","Bayer Leverkusen",0,1]
[null,"2014/2015",26,"VfB Stuttgart","Eintracht Frankfurt",3,1]
[null,"2014/2015",26,"FC Bayern München","Borussia M'gladbach",0,2]
[null,"2014/2015",26,"FSV Mainz 05","VfL Wolfsburg",1,1]
[null,"2014/2015",27,"Borussia Dortmund","FC Bayern München",0,1]
[null,"2014/2015",27,"Eintracht Frankfurt","Hannover 96",2,2]
[null,"2014/2015",27,"SC Freiburg","1.FC Köln",1,0]
[null,"2014/2015",27,"TSG 1899 Hoffenheim","Borussia M'gladbach",1,4]
[null,"2014/2015",27,"Bayer Leverkusen","Hamburger SV",4,0]
[null,"2014/2015",27,"Werder Bremen","FSV Mainz 05",0,0]
[null,"2014/2015",27,"VfL Wolfsburg","VfB Stuttgart",3,1]
[null,"2014/2015",27,"FC Augsburg","FC Schalke 04",0,0]
[null,"2014/2015",27,"Hertha BSC Berlin","SC Paderborn",2,0]
[null,"2014/2015",28,"Hannover 96","Hertha BSC Berlin",1,1]
[null,"2014/2015",28,"FC Bayern München","Eintracht Frankfurt",3,0]
[null,"2014/2015",28,"Hamburger SV","VfL Wolfsburg",0,2]
[null,"2014/2015",28,"FSV Mainz 05","Bayer Leverkusen",2,3]
[null,"2014/2015",28,"Borussia M'gladbach","Borussia Dortmund",3,1]
[null,"2014/2015",28,"SC Paderborn","FC Augsburg",2,1]
[null,"2014/2015",28,"FC Schalke 04","SC Freiburg",0,0]
[null,"2014/2015",28,"1.FC Köln","TSG 1899 Hoffenheim",3,2]
[null,"2014/2015",28,"VfB Stuttgart","Werder Bremen",3,2]
[null,"2014/2015",29,"Eintracht Frankfurt","Borussia M'gladbach",0,0]
[null,"2014/2015",29,"FC Augsburg","VfB Stuttgart",2,1]
[null,"2014/2015",29,"Borussia Dortmund","SC Paderborn",3,0]
[null,"2014/2015",29,"SC Freiburg","FSV Mainz 05",2,3]
[null,"2014/2015",29,"Hertha BSC Berlin","1.FC Köln",0,0]
[null,"2014/2015",29,"TSG 1899 Hoffenheim","FC Bayern München",0,2]
[null,"2014/2015",29,"Bayer Leverkusen","Hannover 96",4,0]
[null,"2014/2015",29,"Werder Bremen","Hamburger SV",1,0]
[null,"2014/2015",29,"VfL Wolfsburg","FC Schalke 04",1,1]
[null,"2014/2015",30,"FSV Mainz 05","FC Schalke 04",2,0]
[null,"2014/2015",30,"FC Bayern München","Hertha BSC Berlin",1,0]
[null,"2014/2015",30,"Borussia Dortmund","Eintracht Frankfurt",2,0]
[null,"2014/2015",30,"1.FC Köln","Bayer Leverkusen",1,1]
[null,"2014/2015",30,"Hamburger SV","FC Augsburg",3,2]
[null,"2014/2015",30,"Hannover 96","TSG 1899 Hoffenheim",1,2]
[null,"2014/2015",30,"VfB Stuttgart","SC Freiburg",2,2]
[null,"2014/2015",30,"Borussia M'gladbach","VfL Wolfsburg",1,0]
[null,"2014/2015",30,"SC Paderborn","Werder Bremen",2,2]
[null,"2014/2015",31,"FC Augsburg","1.FC Köln",0,0]
[null,"2014/2015",31,"SC Freiburg","SC Paderborn",1,2]
[null,"2014/2015",31,"TSG 1899 Hoffenheim","Borussia Dortmund",1,1]
[null,"2014/2015",31,"Bayer Leverkusen","FC Bayern München",2,0]
[null,"2014/2015",31,"FC Schalke 04","VfB Stuttgart",3,2]
[null,"2014/2015",31,"Werder Bremen","Eintracht Frankfurt",1,0]
[null,"2014/2015",31,"VfL Wolfsburg","Hannover 96",2,2]
[null,"2014/2015",31,"Hertha BSC Berlin","Borussia M'gladbach",1,2]
[null,"2014/2015",31,"FSV Mainz 05","Hamburger SV",1,2]
[null,"2014/2015",32,"Hamburger SV","SC Freiburg",1,1]
[null,"2014/2015",32,"FC Bayern München","FC Augsburg",0,1]
[null,"2014/2015",32,"Borussia Dortmund","Hertha BSC Berlin",2,0]
[null,"2014/2015",32,"Eintracht Frankfurt","TSG 1899 Hoffenheim",3,1]
[null,"2014/2015",32,"Hannover 96","Werder Bremen",1,1]
[null,"2014/2015",32,"Borussia M'gladbach","Bayer Leverkusen",3,0]
[null,"2014/2015",32,"VfB Stuttgart","FSV Mainz 05",2,0]
[null,"2014/2015",32,"1.FC Köln","FC Schalke 04",2,0]
[null,"2014/2015",32,"SC Paderborn","VfL Wolfsburg",1,3]
[null,"2014/2015",33,"FC Augsburg","Hannover 96",1,2]
[null,"2014/2015",33,"SC Freiburg","FC Bayern München",2,1]
[null,"2014/2015",33,"Hertha BSC Berlin","Eintracht Frankfurt",0,0]
[null,"2014/2015",33,"Bayer Leverkusen","TSG 1899 Hoffenheim",2,0]
[null,"2014/2015",33,"FSV Mainz 05","1.FC Köln",2,0]
[null,"2014/2015",33,"FC Schalke 04","SC Paderborn",1,0]
[null,"2014/2015",33,"VfB Stuttgart","Hamburger SV",2,1]
[null,"2014/2015",33,"Werder Bremen","Borussia M'gladbach",0,2]
[null,"2014/2015",33,"VfL Wolfsburg","Borussia Dortmund",2,1]
[null,"2014/2015",34,"FC Bayern München","FSV Mainz 05",2,0]
[null,"2014/2015",34,"Borussia Dortmund","Werder Bremen",3,2]
[null,"2014/2015",34,"Eintracht Frankfurt","Bayer Leverkusen",2,1]
[null,"2014/2015",34,"1.FC Köln","VfL Wolfsburg",2,2]
[null,"2014/2015",34,"Hamburger SV","FC Schalke 04",2,0]
[null,"2014/2015",34,"Hannover 96","SC Freiburg",2,1]
[null,"2014/2015",34,"TSG 1899 Hoffenheim","Hertha BSC Berlin",2,1]
[null,"2014/2015",34,"Borussia M'gladbach","FC Augsburg",1,3]
[null,"2014/2015",34,"SC Paderborn","VfB Stuttgart",1,2]
[null,"2015/2016",1,"FC Bayern München","Hamburger SV",5,0]
[null,"2015/2016",1,"FC Augsburg","Hertha BSC Berlin",0,1]
[null,"2015/2016",1,"Darmstadt 98","Hannover 96",2,2]
[null,"2015/2016",1,"Borussia Dortmund","Borussia M'gladbach",4,0]
[null,"2015/2016",1,"Bayer Leverkusen","TSG 1899 Hoffenheim",2,1]
[null,"2015/2016",1,"FSV Mainz 05","FC Ingolstadt",0,1]
[null,"2015/2016",1,"Werder Bremen","FC Schalke 04",0,3]
[null,"2015/2016",1,"VfB Stuttgart","1.FC Köln",1,3]
[null,"2015/2016",1,"VfL Wolfsburg","Eintracht Frankfurt",2,1]
[null,"2015/2016",2,"Hertha BSC Berlin","Werder Bremen",1,1]
[null,"2015/2016",2,"Eintracht Frankfurt","FC Augsburg",1,1]
[null,"2015/2016",2,"1.FC Köln","VfL Wolfsburg",1,1]
[null,"2015/2016",2,"Hamburger SV","VfB Stuttgart",3,2]
[null,"2015/2016",2,"Hannover 96","Bayer Leverkusen",0,1]
[null,"2015/2016",2,"TSG 1899 Hoffenheim","FC Bayern München",1,2]
[null,"2015/2016",2,"FC Schalke 04","Darmstadt 98",1,1]
[null,"2015/2016",2,"FC Ingolstadt","Borussia Dortmund",0,4]
[null,"2015/2016",2,"Borussia M'gladbach","FSV Mainz 05",1,2]
[null,"2015/2016",3,"VfL Wolfsburg","FC Schalke 04",3,0]
[null,"2015/2016",3,"FC Augsburg","FC Ingolstadt",0,1]
[null,"2015/2016",3,"FC Bayern München","Bayer Leverkusen",3,0]
[null,"2015/2016",3,"Darmstadt 98","TSG 1899 Hoffenheim",0,0]
[null,"2015/2016",3,"1.FC Köln","Hamburger SV",2,1]
[null,"2015/2016",3,"FSV Mainz 05","Hannover 96",3,0]
[null,"2015/2016",3,"VfB Stuttgart","Eintracht Frankfurt",1,4]
[null,"2015/2016",3,"Borussia Dortmund","Hertha BSC Berlin",3,1]
[null,"2015/2016",3,"Werder Bremen","Borussia M'gladbach",2,1]
[null,"2015/2016",4,"Borussia M'gladbach","Hamburger SV",0,3]
[null,"2015/2016",4,"FC Bayern München","FC Augsburg",2,1]
[null,"2015/2016",4,"Eintracht Frankfurt","1.FC Köln",6,2]
[null,"2015/2016",4,"Hannover 96","Borussia Dortmund",2,4]
[null,"2015/2016",4,"Hertha BSC Berlin","VfB Stuttgart",2,1]
[null,"2015/2016",4,"FC Ingolstadt","VfL Wolfsburg",0,0]
[null,"2015/2016",4,"Bayer Leverkusen","Darmstadt 98",0,1]
[null,"2015/2016",4,"TSG 1899 Hoffenheim","Werder Bremen",1,3]
[null,"2015/2016",4,"FC Schalke 04","FSV Mainz 05",2,1]
[null,"2015/2016",5,"FSV Mainz 05","TSG 1899 Hoffenheim",3,1]
[null,"2015/2016",5,"Darmstadt 98","FC Bayern München",0,3]
[null,"2015/2016",5,"1.FC Köln","Borussia M'gladbach",1,0]
[null,"2015/2016",5,"Hamburger SV","Eintracht Frankfurt",0,0]
[null,"2015/2016",5,"Werder Bremen","FC Ingolstadt",0,1]
[null,"2015/2016",5,"VfL Wolfsburg","Hertha BSC Berlin",2,0]
[null,"2015/2016",5,"FC Augsburg","Hannover 96",2,0]
[null,"2015/2016",5,"Borussia Dortmund","Bayer Leverkusen",3,0]
[null,"2015/2016",5,"VfB Stuttgart","FC Schalke 04",0,1]
[null,"2015/2016",6,"FC Bayern München","VfL Wolfsburg",5,1]
[null,"2015/2016",6,"Darmstadt 98","Werder Bremen",2,1]
[null,"2015/2016",6,"Hertha BSC Berlin","1.FC Köln",2,0]
[null,"2015/2016",6,"FC Ingolstadt","Hamburger SV",0,1]
[null,"2015/2016",6,"Hannover 96","VfB Stuttgart",1,3]
[null,"2015/2016",6,"TSG 1899 Hoffenheim","Borussia Dortmund",1,1]
[null,"2015/2016",6,"Bayer Leverkusen","FSV Mainz 05",1,0]
[null,"2015/2016",6,"Borussia M'gladbach","FC Augsburg",4,2]
[null,"2015/2016",6,"FC Schalke 04","Eintracht Frankfurt",2,0]
[null,"2015/2016",7,"1.FC Köln","FC Ingolstadt",1,1]
[null,"2015/2016",7,"FC Augsburg","TSG 1899 Hoffenheim",1,3]
[null,"2015/2016",7,"Hamburger SV","FC Schalke 04",0,1]
[null,"2015/2016",7,"FSV Mainz 05","FC Bayern München",0,3]
[null,"2015/2016",7,"VfB Stuttgart","Borussia M'gladbach",1,3]
[null,"2015/2016",7,"Werder Bremen","Bayer Leverkusen",0,3]
[null,"2015/2016",7,"VfL Wolfsburg","Hannover 96",1,1]
[null,"2015/2016",7,"Borussia Dortmund","Darmstadt 98",2,2]
[null,"2015/2016",7,"Eintracht Frankfurt","Hertha BSC Berlin",1,1]
[null,"2015/2016",8,"Darmstadt 98","FSV Mainz 05",2,3]
[null,"2015/2016",8,"Hannover 96","Werder Bremen",1,0]
[null,"2015/2016",8,"Hertha BSC Berlin","Hamburger SV",3,0]
[null,"2015/2016",8,"TSG 1899 Hoffenheim","VfB Stuttgart",2,2]
[null,"2015/2016",8,"FC Ingolstadt","Eintracht Frankfurt",2,0]
[null,"2015/2016",8,"Borussia M'gladbach","VfL Wolfsburg",2,0]
[null,"2015/2016",8,"FC Bayern München","Borussia Dortmund",5,1]
[null,"2015/2016",8,"Bayer Leverkusen","FC Augsburg",1,1]
[null,"2015/2016",8,"FC Schalke 04","1.FC Köln",0,3]
[null,"2015/2016",9,"FSV Mainz 05","Borussia Dortmund",0,2]
[null,"2015/2016",9,"FC Augsburg","Darmstadt 98",0,2]
[null,"2015/2016",9,"Eintracht Frankfurt","Borussia M'gladbach",1,5]
[null,"2015/2016",9,"Hamburger SV","Bayer Leverkusen",0,0]
[null,"2015/2016",9,"FC Schalke 04","Hertha BSC Berlin",2,1]
[null,"2015/2016",9,"Werder Bremen","FC Bayern München",0,1]
[null,"2015/2016",9,"VfL Wolfsburg","TSG 1899 Hoffenheim",4,2]
[null,"2015/2016",9,"1.FC Köln","Hannover 96",0,1]
[null,"2015/2016",9,"VfB Stuttgart","FC Ingolstadt",1,0]
[null,"2015/2016",10,"TSG 1899 Hoffenheim","Hamburger SV",0,1]
[null,"2015/2016",10,"FC Bayern München","1.FC Köln",4,0]
[null,"2015/2016",10,"Darmstadt 98","VfL Wolfsburg",0,1]
[null,"2015/2016",10,"Hannover 96","Eintracht Frankfurt",1,2]
[null,"2015/2016",10,"FC Ingolstadt","Hertha BSC Berlin",0,1]
[null,"2015/2016",10,"Bayer Leverkusen","VfB Stuttgart",4,3]
[null,"2015/2016",10,"FSV Mainz 05","Werder Bremen",1,3]
[null,"2015/2016",10,"Borussia Dortmund","FC Augsburg",5,1]
[null,"2015/2016",10,"Borussia M'gladbach","FC Schalke 04",3,1]
[null,"2015/2016",11,"Eintracht Frankfurt","FC Bayern München",0,0]
[null,"2015/2016",11,"FC Augsburg","FSV Mainz 05",3,3]
[null,"2015/2016",11,"1.FC Köln","TSG 1899 Hoffenheim",0,0]
[null,"2015/2016",11,"Hertha BSC Berlin","Borussia M'gladbach",1,4]
[null,"2015/2016",11,"FC Schalke 04","FC Ingolstadt",1,1]
[null,"2015/2016",11,"Werder Bremen","Borussia Dortmund",1,3]
[null,"2015/2016",11,"VfL Wolfsburg","Bayer Leverkusen",2,1]
[null,"2015/2016",11,"Hamburger SV","Hannover 96",1,2]
[null,"2015/2016",11,"VfB Stuttgart","Darmstadt 98",2,0]
[null,"2015/2016",12,"Hannover 96","Hertha BSC Berlin",1,3]
[null,"2015/2016",12,"FC Bayern München","VfB Stuttgart",4,0]
[null,"2015/2016",12,"Darmstadt 98","Hamburger SV",1,1]
[null,"2015/2016",12,"TSG 1899 Hoffenheim","Eintracht Frankfurt",0,0]
[null,"2015/2016",12,"Bayer Leverkusen","1.FC Köln",1,2]
[null,"2015/2016",12,"FSV Mainz 05","VfL Wolfsburg",2,0]
[null,"2015/2016",12,"Borussia M'gladbach","FC Ingolstadt",0,0]
[null,"2015/2016",12,"FC Augsburg","Werder Bremen",1,2]
[null,"2015/2016",12,"Borussia Dortmund","FC Schalke 04",3,2]
[null,"2015/2016",13,"Hamburger SV","Borussia Dortmund",3,1]
[null,"2015/2016",13,"Eintracht Frankfurt","Bayer Leverkusen",1,3]
[null,"2015/2016",13,"1.FC Köln","FSV Mainz 05",0,0]
[null,"2015/2016",13,"Borussia M'gladbach","Hannover 96",2,1]
[null,"2015/2016",13,"FC Schalke 04","FC Bayern München",1,3]
[null,"2015/2016",13,"VfB Stuttgart","FC Augsburg",0,4]
[null,"2015/2016",13,"VfL Wolfsburg","Werder Bremen",6,0]
[null,"2015/2016",13,"Hertha BSC Berlin","TSG 1899 Hoffenheim",1,0]
[null,"2015/2016",13,"FC Ingolstadt","Darmstadt 98",3,1]
[null,"2015/2016",14,"Darmstadt 98","1.FC Köln",0,0]
[null,"2015/2016",14,"FC Bayern München","Hertha BSC Berlin",2,0]
[null,"2015/2016",14,"Hannover 96","FC Ingolstadt",4,0]
[null,"2015/2016",14,"TSG 1899 Hoffenheim","Borussia M'gladbach",3,3]
[null,"2015/2016",14,"FSV Mainz 05","Eintracht Frankfurt",2,1]
[null,"2015/2016",14,"Werder Bremen","Hamburger SV",1,3]
[null,"2015/2016",14,"FC Augsburg","VfL Wolfsburg",0,0]
[null,"2015/2016",14,"Borussia Dortmund","VfB Stuttgart",4,1]
[null,"2015/2016",14,"Bayer Leverkusen","FC Schalke 04",1,1]
[null,"2015/2016",15,"FC Schalke 04","Hannover 96",3,1]
[null,"2015/2016",15,"1.FC Köln","FC Augsburg",0,1]
[null,"2015/2016",15,"Hamburger SV","FSV Mainz 05",1,3]
[null,"2015/2016",15,"Hertha BSC Berlin","Bayer Leverkusen",2,1]
[null,"2015/2016",15,"FC Ingolstadt","TSG 1899 Hoffenheim",1,1]
[null,"2015/2016",15,"Borussia M'gladbach","FC Bayern München",3,1]
[null,"2015/2016",15,"VfL Wolfsburg","Borussia Dortmund",1,2]
[null,"2015/2016",15,"Eintracht Frankfurt","Darmstadt 98",0,1]
[null,"2015/2016",15,"VfB Stuttgart","Werder Bremen",1,1]
[null,"2015/2016",16,"FSV Mainz 05","VfB Stuttgart",0,0]
[null,"2015/2016",16,"FC Bayern München","FC Ingolstadt",2,0]
[null,"2015/2016",16,"Darmstadt 98","Hertha BSC Berlin",0,4]
[null,"2015/2016",16,"TSG 1899 Hoffenheim","Hannover 96",1,0]
[null,"2015/2016",16,"Bayer Leverkusen","Borussia M'gladbach",5,0]
[null,"2015/2016",16,"Werder Bremen","1.FC Köln",1,1]
[null,"2015/2016",16,"VfL Wolfsburg","Hamburger SV",1,1]
[null,"2015/2016",16,"FC Augsburg","FC Schalke 04",2,1]
[null,"2015/2016",16,"Borussia Dortmund","Eintracht Frankfurt",4,1]
[null,"2015/2016",17,"FC Schalke 04","TSG 1899 Hoffenheim",1,0]
[null,"2015/2016",17,"Eintracht Frankfurt","Werder Bremen",2,1]
[null,"2015/2016",17,"1.FC Köln","Borussia Dortmund",2,1]
[null,"2015/2016",17,"Hamburger SV","FC Augsburg",0,1]
[null,"2015/2016",17,"Hannover 96","FC Bayern München",0,1]
[null,"2015/2016",17,"FC Ingolstadt","Bayer Leverkusen",0,1]
[null,"2015/2016",17,"VfB Stuttgart","VfL Wolfsburg",3,1]
[null,"2015/2016",17,"Hertha BSC Berlin","FSV Mainz 05",2,0]
[null,"2015/2016",17,"Borussia M'gladbach","Darmstadt 98",3,2]
[null,"2015/2016",18,"Hamburger SV","FC Bayern München",1,2]
[null,"2015/2016",18,"1.FC Köln","VfB Stuttgart",1,3]
[null,"2015/2016",18,"Hannover 96","Darmstadt 98",1,2]
[null,"2015/2016",18,"Hertha BSC Berlin","FC Augsburg",0,0]
[null,"2015/2016",18,"TSG 1899 Hoffenheim","Bayer Leverkusen",1,1]
[null,"2015/2016",18,"FC Ingolstadt","FSV Mainz 05",1,0]
[null,"2015/2016",18,"Borussia M'gladbach","Borussia Dortmund",1,3]
[null,"2015/2016",18,"Eintracht Frankfurt","VfL Wolfsburg",3,2]
[null,"2015/2016",18,"FC Schalke 04","Werder Bremen",1,3]
[null,"2015/2016",19,"FSV Mainz 05","Borussia M'gladbach",1,0]
[null,"2015/2016",19,"FC Augsburg","Eintracht Frankfurt",0,0]
[null,"2015/2016",19,"Darmstadt 98","FC Schalke 04",0,2]
[null,"2015/2016",19,"Borussia Dortmund","FC Ingolstadt",2,0]
[null,"2015/2016",19,"Bayer Leverkusen","Hannover 96",3,0]
[null,"2015/2016",19,"VfB Stuttgart","Hamburger SV",2,1]
[null,"2015/2016",19,"Werder Bremen","Hertha BSC Berlin",3,3]
[null,"2015/2016",19,"FC Bayern München","TSG 1899 Hoffenheim",2,0]
[null,"2015/2016",19,"VfL Wolfsburg","1.FC Köln",1,1]
[null,"2015/2016",20,"Borussia M'gladbach","Werder Bremen",5,1]
[null,"2015/2016",20,"Eintracht Frankfurt","VfB Stuttgart",2,4]
[null,"2015/2016",20,"Hannover 96","FSV Mainz 05",0,1]
[null,"2015/2016",20,"Hertha BSC Berlin","Borussia Dortmund",0,0]
[null,"2015/2016",20,"FC Ingolstadt","FC Augsburg",2,1]
[null,"2015/2016",20,"Bayer Leverkusen","FC Bayern München",0,0]
[null,"2015/2016",20,"FC Schalke 04","VfL Wolfsburg",3,0]
[null,"2015/2016",20,"Hamburger SV","1.FC Köln",1,1]
[null,"2015/2016",20,"TSG 1899 Hoffenheim","Darmstadt 98",0,2]
[null,"2015/2016",21,"FSV Mainz 05","FC Schalke 04",2,1]
[null,"2015/2016",21,"Darmstadt 98","Bayer Leverkusen",1,2]
[null,"2015/2016",21,"Borussia Dortmund","Hannover 96",1,0]
[null,"2015/2016",21,"1.FC Köln","Eintracht Frankfurt",3,1]
[null,"2015/2016",21,"VfB Stuttgart","Hertha BSC Berlin",2,0]
[null,"2015/2016",21,"Werder Bremen","TSG 1899 Hoffenheim",1,1]
[null,"2015/2016",21,"VfL Wolfsburg","FC Ingolstadt",2,0]
[null,"2015/2016",21,"FC Augsburg","FC Bayern München",1,3]
[null,"2015/2016",21,"Hamburger SV","Borussia M'gladbach",3,2]
[null,"2015/2016",22,"Eintracht Frankfurt","Hamburger SV",0,0]
[null,"2015/2016",22,"FC Bayern München","Darmstadt 98",3,1]
[null,"2015/2016",22,"Hertha BSC Berlin","VfL Wolfsburg",1,1]
[null,"2015/2016",22,"TSG 1899 Hoffenheim","FSV Mainz 05",3,2]
[null,"2015/2016",22,"FC Ingolstadt","Werder Bremen",2,0]
[null,"2015/2016",22,"Borussia M'gladbach","1.FC Köln",1,0]
[null,"2015/2016",22,"Hannover 96","FC Augsburg",0,1]
[null,"2015/2016",22,"Bayer Leverkusen","Borussia Dortmund",0,1]
[null,"2015/2016",22,"FC Schalke 04","VfB Stuttgart",1,1]
[null,"2015/2016",23,"1.FC Köln","Hertha BSC Berlin",0,1]
[null,"2015/2016",23,"Hamburger SV","FC Ingolstadt",1,1]
[null,"2015/2016",23,"VfB Stuttgart","Hannover 96",1,2]
[null,"2015/2016",23,"Werder Bremen","Darmstadt 98",2,2]
[null,"2015/2016",23,"VfL Wolfsburg","FC Bayern München",0,2]
[null,"2015/2016",23,"FC Augsburg","Borussia M'gladbach",2,2]
[null,"2015/2016",23,"Borussia Dortmund","TSG 1899 Hoffenheim",3,1]
[null,"2015/2016",23,"Eintracht Frankfurt","FC Schalke 04",0,0]
[null,"2015/2016",23,"FSV Mainz 05","Bayer Leverkusen",3,1]
[null,"2015/2016",24,"Hannover 96","VfL Wolfsburg",0,4]
[null,"2015/2016",24,"FC Ingolstadt","1.FC Köln",1,1]
[null,"2015/2016",24,"FC Bayern München","FSV Mainz 05",1,2]
[null,"2015/2016",24,"Darmstadt 98","Borussia Dortmund",0,2]
[null,"2015/2016",24,"Hertha BSC Berlin","Eintracht Frankfurt",2,0]
[null,"2015/2016",24,"TSG 1899 Hoffenheim","FC Augsburg",2,1]
[null,"2015/2016",24,"Bayer Leverkusen","Werder Bremen",1,4]
[null,"2015/2016",24,"Borussia M'gladbach","VfB Stuttgart",4,0]
[null,"2015/2016",24,"FC Schalke 04","Hamburger SV",3,2]
[null,"2015/2016",25,"FC Augsburg","Bayer Leverkusen",3,3]
[null,"2015/2016",25,"Borussia Dortmund","FC Bayern München",0,0]
[null,"2015/2016",25,"Eintracht Frankfurt","FC Ingolstadt",1,1]
[null,"2015/2016",25,"1.FC Köln","FC Schalke 04",1,3]
[null,"2015/2016",25,"VfB Stuttgart","TSG 1899 Hoffenheim",5,1]
[null,"2015/2016",25,"Werder Bremen","Hannover 96",4,1]
[null,"2015/2016",25,"VfL Wolfsburg","Borussia M'gladbach",2,1]
[null,"2015/2016",25,"Hamburger SV","Hertha BSC Berlin",2,0]
[null,"2015/2016",25,"FSV Mainz 05","Darmstadt 98",0,0]
[null,"2015/2016",26,"Hertha BSC Berlin","FC Schalke 04",2,0]
[null,"2015/2016",26,"FC Bayern München","Werder Bremen",5,0]
[null,"2015/2016",26,"Darmstadt 98","FC Augsburg",2,2]
[null,"2015/2016",26,"Hannover 96","1.FC Köln",0,2]
[null,"2015/2016",26,"TSG 1899 Hoffenheim","VfL Wolfsburg",1,0]
[null,"2015/2016",26,"FC Ingolstadt","VfB Stuttgart",3,3]
[null,"2015/2016",26,"Borussia M'gladbach","Eintracht Frankfurt",3,0]
[null,"2015/2016",26,"Borussia Dortmund","FSV Mainz 05",2,0]
[null,"2015/2016",26,"Bayer Leverkusen","Hamburger SV",1,0]
[null,"2015/2016",27,"FC Schalke 04","Borussia M'gladbach",2,1]
[null,"2015/2016",27,"Eintracht Frankfurt","Hannover 96",1,0]
[null,"2015/2016",27,"1.FC Köln","FC Bayern München",0,1]
[null,"2015/2016",27,"Hamburger SV","TSG 1899 Hoffenheim",1,3]
[null,"2015/2016",27,"Hertha BSC Berlin","FC Ingolstadt",2,1]
[null,"2015/2016",27,"Werder Bremen","FSV Mainz 05",1,1]
[null,"2015/2016",27,"VfL Wolfsburg","Darmstadt 98",1,1]
[null,"2015/2016",27,"FC Augsburg","Borussia Dortmund",1,3]
[null,"2015/2016",27,"VfB Stuttgart","Bayer Leverkusen",0,2]
[null,"2015/2016",28,"Bayer Leverkusen","VfL Wolfsburg",3,0]
[null,"2015/2016",28,"FC Bayern München","Eintracht Frankfurt",1,0]
[null,"2015/2016",28,"Darmstadt 98","VfB Stuttgart",2,2]
[null,"2015/2016",28,"Borussia Dortmund","Werder Bremen",3,2]
[null,"2015/2016",28,"Hannover 96","Hamburger SV",0,3]
[null,"2015/2016",28,"FC Ingolstadt","FC Schalke 04",3,0]
[null,"2015/2016",28,"FSV Mainz 05","FC Augsburg",4,2]
[null,"2015/2016",28,"TSG 1899 Hoffenheim","1.FC Köln",1,1]
[null,"2015/2016",28,"Borussia M'gladbach","Hertha BSC Berlin",5,0]
[null,"2015/2016",29,"Hertha BSC Berlin","Hannover 96",2,2]
[null,"2015/2016",29,"Eintracht Frankfurt","TSG 1899 Hoffenheim",0,2]
[null,"2015/2016",29,"Hamburger SV","Darmstadt 98",1,2]
[null,"2015/2016",29,"FC Ingolstadt","Borussia M'gladbach",1,0]
[null,"2015/2016",29,"VfB Stuttgart","FC Bayern München",1,3]
[null,"2015/2016",29,"Werder Bremen","FC Augsburg",1,2]
[null,"2015/2016",29,"VfL Wolfsburg","FSV Mainz 05",1,1]
[null,"2015/2016",29,"1.FC Köln","Bayer Leverkusen",0,2]
[null,"2015/2016",29,"FC Schalke 04","Borussia Dortmund",2,2]
[null,"2015/2016",30,"Hannover 96","Borussia M'gladbach",2,0]
[null,"2015/2016",30,"FC Augsburg","VfB Stuttgart",1,0]
[null,"2015/2016",30,"FC Bayern München","FC Schalke 04",3,0]
[null,"2015/2016",30,"Darmstadt 98","FC Ingolstadt",2,0]
[null,"2015/2016",30,"TSG 1899 Hoffenheim","Hertha BSC Berlin",2,1]
[null,"2015/2016",30,"Bayer Leverkusen","Eintracht Frankfurt",3,0]
[null,"2015/2016",30,"Werder Bremen","VfL Wolfsburg",3,2]
[null,"2015/2016",30,"Borussia Dortmund","Hamburger SV",3,0]
[null,"2015/2016",30,"FSV Mainz 05","1.FC Köln",2,3]
[null,"2015/2016",31,"Hamburger SV","Werder Bremen",2,1]
[null,"2015/2016",31,"1.FC Köln","Darmstadt 98",4,1]
[null,"2015/2016",31,"Hertha BSC Berlin","FC Bayern München",0,2]
[null,"2015/2016",31,"FC Ingolstadt","Hannover 96",2,2]
[null,"2015/2016",31,"FC Schalke 04","Bayer Leverkusen",2,3]
[null,"2015/2016",31,"VfB Stuttgart","Borussia Dortmund",0,3]
[null,"2015/2016",31,"VfL Wolfsburg","FC Augsburg",0,2]
[null,"2015/2016",31,"Eintracht Frankfurt","FSV Mainz 05",2,1]
[null,"2015/2016",31,"Borussia M'gladbach","TSG 1899 Hoffenheim",3,1]
[null,"2015/2016",32,"FC Augsburg","1.FC Köln",0,0]
[null,"2015/2016",32,"FC Bayern München","Borussia M'gladbach",1,1]
[null,"2015/2016",32,"Darmstadt 98","Eintracht Frankfurt",1,2]
[null,"2015/2016",32,"Borussia Dortmund","VfL Wolfsburg",5,1]
[null,"2015/2016",32,"Hannover 96","FC Schalke 04",1,3]
[null,"2015/2016",32,"TSG 1899 Hoffenheim","FC Ingolstadt",2,1]
[null,"2015/2016",32,"Bayer Leverkusen","Hertha BSC Berlin",2,1]
[null,"2015/2016",32,"FSV Mainz 05","Hamburger SV",0,0]
[null,"2015/2016",32,"Werder Bremen","VfB Stuttgart",6,2]
[null,"2015/2016",33,"Eintracht Frankfurt","Borussia Dortmund",1,0]
[null,"2015/2016",33,"1.FC Köln","Werder Bremen",0,0]
[null,"2015/2016",33,"Hamburger SV","VfL Wolfsburg",0,1]
[null,"2015/2016",33,"Hannover 96","TSG 1899 Hoffenheim",1,0]
[null,"2015/2016",33,"Hertha BSC Berlin","Darmstadt 98",1,2]
[null,"2015/2016",33,"FC Ingolstadt","FC Bayern München",1,2]
[null,"2015/2016",33,"Borussia M'gladbach","Bayer Leverkusen",2,1]
[null,"2015/2016",33,"FC Schalke 04","FC Augsburg",1,1]
[null,"2015/2016",33,"VfB Stuttgart","FSV Mainz 05",1,3]
[null,"2015/2016",34,"FC Augsburg","Hamburger SV",1,3]
[null,"2015/2016",34,"FC Bayern München","Hannover 96",3,1]
[null,"2015/2016",34,"Darmstadt 98","Borussia M'gladbach",0,2]
[null,"2015/2016",34,"Borussia Dortmund","1.FC Köln",2,2]
[null,"2015/2016",34,"TSG 1899 Hoffenheim","FC Schalke 04",1,4]
[null,"2015/2016",34,"Bayer Leverkusen","FC Ingolstadt",3,2]
[null,"2015/2016",34,"FSV Mainz 05","Hertha BSC Berlin",0,0]
[null,"2015/2016",34,"Werder Bremen","Eintracht Frankfurt",1,0]
[null,"2015/2016",34,"VfL Wolfsburg","VfB Stuttgart",3,1]

{"sheet":"Calculation Table","index":2,"n_rows":121,"n_cols":53,"rows_kept":121,"cut":false,"hidden":false,"merged":[[98,10,98,13],[5,21,5,30],[28,21,28,30],[5,49,5,52],[28,31,28,43],[5,31,5,43],[105,10,105,13],[106,10,106,13],[107,10,107,13],[99,10,99,13],[100,10,100,13],[101,10,101,13],[102,10,102,13],[103,10,103,13],[104,10,104,13]]}
[]
[null,"Calculations I: consolidation of table and match day results and statstics"]
[]
[null,"Part 1: consolidate all metrics in one unsorted table and do the sorting algorithm"]
[]
[null,null,null,null,null,null,null,null,null,null,null,null,null,null,null,null,null,null,null,null,null,"Last 10 matches",null,null,null,null,null,null,null,null,null,"Last 10 positions",null,null,null,null,null,null,null,null,null,null,null,null,null,null,null,null,null,"Sort Algorithm"]
[null,null,null,null,null,null,null,null,"M","W","D","L","GF","GA","Diff","Avg. GF","Avg. GA","Pts","PpM","PtH","PtA",{"$f":"MAX(W7-1,0)","v":25},26,27,28,29,30,31,32,33,{"$f":"myMatchDay","v":34},{"$f":"MAX(AG7-1,0)","v":25},26,27,28,29,30,31,32,33,{"$f":"myMatchDay","v":34},"B","Avg.","W",null,null,null,null,null,"Sort Dummy","Sort Order","Sorted","Pos."]
[null,null,null,null,null,1,{"$f":"F8<=Control!$C$15","v":true},{"$f":"IF($G8,'Calculation Results'!E7,\"\")","v":"FC Bayern München"},{"$f":"IF($G8,SUM((myMatchDay>=myMatchDayRange)*(($H8=myHomeTeams)+($H8=myAwayTeams))),\"\")","v":34},{"$f":"IF($G8,SUM((myMatchDay>=myMatchDayRange)*(($H8=myHomeTeams)*(myPointsHome=Control!$C$14)+($H8=myAwayTeams)*(myPointsAway=Control!$C$14))),\"\")","v":28},{"$f":"IF($G8,SUM((myMatchDay>=myMatchDayRange)*(($H8=myHomeTeams)*(myPointsHome=1)+($H8=myAwayTeams)*(myPointsAway=1))),\"\")","v":4},{"$f":"IF($G8,SUM((myMatchDay>=myMatchDayRange)*(($H8=myHomeTeams)*(myPointsHome=0)+($H8=myAwayTeams)*(myPointsAway=0))),\"\")","v":2},{"$f":"IF($G8,SUM((myMatchDay>=myMatchDayRange)*((($H8=myHomeTeams)*myGoalsHome)+(($H8=myAwayTeams)*myGoalsAway))),\"\")","v":80},{"$f":"IF($G8,SUM((myMatchDay>=myMatchDayRange)*((($H8=myHomeTeams)*myGoalsAway)+(($H8=myAwayTeams)*myGoalsHome))),\"\")","v":17},{"$f":"IF($G8,M8-N8,\"\")","v":63},{"$f":"IF($G8,M8/$I8,\"\")","v":2.3529411764705883},{"$f":"IF($G8,N8/$I8,\"\")","v":0.5},{"$f":"IF($G8,T8+U8,\"\")","v":88},{"$f":"IF($G8,R8/$I8,\"\")","v":2.5882352941176472},{"$f":"IF($G8,SUM((myMatchDay>=myMatchDayRange)*($H8=myHomeTeams)*myPointsHome),\"\")","v":46},{"$f":"IF($G8,SUM((myMatchDay>=myMatchDayRange)*($H8=myAwayTeams)*myPointsAway),\"\")","v":42},{"$f":"IF($G8,IF(V$7=0,-1,SUM((V$7=myMatchDayRange)*((($H8=myHomeTeams)*myPointsHome)+($H8=myAwayTeams)*myPointsAway))),\"\")","v":1},{"$f":"IF($G8,IF(W$7=0,-1,SUM((W$7=myMatchDayRange)*((($H8=myHomeTeams)*myPointsHome)+($H8=myAwayTeams)*myPointsAway))),\"\")","v":3},{"$f":"IF($G8,IF(X$7=0,-1,SUM((X$7=myMatchDayRange)*((($H8=myHomeTeams)*myPointsHome)+($H8=myAwayTeams)*myPointsAway))),\"\")","v":3},{"$f":"IF($G8,IF(Y$7=0,-1,SUM((Y$7=myMatchDayRange)*((($H8=myHomeTeams)*myPointsHome)+($H8=myAwayTeams)*myPointsAway))),\"\")","v":3},{"$f":"IF($G8,IF(Z$7=0,-1,SUM((Z$7=myMatchDayRange)*((($H8=myHomeTeams)*myPointsHome)+($H8=myAwayTeams)*myPointsAway))),\"\")","v":3},{"$f":"IF($G8,IF(AA$7=0,-1,SUM((AA$7=myMatchDayRange)*((($H8=myHomeTeams)*myPointsHome)+($H8=myAwayTeams)*myPointsAway))),\"\")","v":3},{"$f":"IF($G8,IF(AB$7=0,-1,SUM((AB$7=myMatchDayRange)*((($H8=myHomeTeams)*myPointsHome)+($H8=myAwayTeams)*myPointsAway))),\"\")","v":3},{"$f":"IF($G8,IF(AC$7=0,-1,SUM((AC$7=myMatchDayRange)*((($H8=myHomeTeams)*myPointsHome)+($H8=myAwayTeams)*myPointsAway))),\"\")","v":1},{"$f":"IF($G8,IF(AD$7=0,-1,SUM((AD$7=myMatchDayRange)*((($H8=myHomeTeams)*myPointsHome)+($H8=myAwayTeams)*myPointsAway))),\"\")","v":3},{"$f":"IF($G8,IF(AE$7=0,-1,SUM((AE$7=myMatchDayRange)*((($H8=myHomeTeams)*myPointsHome)+($H8=myAwayTeams)*myPointsAway))),\"\")","v":3},{"$f":"IF(AF$7=0,NA(),INDEX(myTableDevRange,$F8,AF$7))","v":1},1,1,1,1,1,1,1,1,1,{"$f":"MIN(OFFSET($AO8,0,0,1,-MIN(myMatchDay,10)))","v":1},{"$f":"AVERAGE(OFFSET($AO8,0,0,1,-MIN(myMatchDay,10)))","v":1},{"$f":"MAX(OFFSET($AO8,0,0,1,-MIN(myMatchDay,10)))","v":1},null,null,null,null,null,{"$f":"IF(G8,CHOOSE(mySortCriterion,J8,K8,L8,M8,N8,O8,R8*1000000+O8*10000+M8*100,T8,U8,AP8,AQ8,AR8)+F8/1000000,-999999999-F8/100)","v":88638000.000000998},{"$f":"CHOOSE(mySortCriterion,1,1,2,1,2,1,1,1,1,2,2,2)","v":1},{"$f":"IF(AY8=1,LARGE($AX$8:$AX$25,$F8),SMALL($AX$8:$AX$25,$F8))","v":88638000.000000998},{"$f":"MATCH(AX8,$AZ$8:$AZ$25,0)","v":1}]
[null,null,null,null,null,2,{"$f":"F9<=Control!$C$15","v":true},{"$f":"IF($G9,'Calculation Results'!E8,\"\")","v":"FC Augsburg"},{"$f":"IF($G9,SUM((myMatchDay>=myMatchDayRange)*(($H9=myHomeTeams)+($H9=myAwayTeams))),\"\")","v":34},{"$f":"IF($G9,SUM((myMatchDay>=myMatchDayRange)*(($H9=myHomeTeams)*(myPointsHome=Control!$C$14)+($H9=myAwayTeams)*(myPointsAway=Control!$C$14))),\"\")","v":9},{"$f":"IF($G9,SUM((myMatchDay>=myMatchDayRange)*(($H9=myHomeTeams)*(myPointsHome=1)+($H9=myAwayTeams)*(myPointsAway=1))),\"\")","v":11},{"$f":"IF($G9,SUM((myMatchDay>=myMatchDayRange)*(($H9=myHomeTeams)*(myPointsHome=0)+($H9=myAwayTeams)*(myPointsAway=0))),\"\")","v":14},{"$f":"IF($G9,SUM((myMatchDay>=myMatchDayRange)*((($H9=myHomeTeams)*myGoalsHome)+(($H9=myAwayTeams)*myGoalsAway))),\"\")","v":42},{"$f":"IF($G9,SUM((myMatchDay>=myMatchDayRange)*((($H9=myHomeTeams)*myGoalsAway)+(($H9=myAwayTeams)*myGoalsHome))),\"\")","v":52},{"$f":"IF($G9,M9-N9,\"\")","v":-10},{"$f":"IF($G9,M9/$I9,\"\")","v":1.2352941176470589},{"$f":"IF($G9,N9/$I9,\"\")","v":1.5294117647058822},{"$f":"IF($G9,T9+U9,\"\")","v":38},{"$f":"IF($G9,R9/$I9,\"\")","v":1.1176470588235294},{"$f":"IF($G9,SUM((myMatchDay>=myMatchDayRange)*($H9=myHomeTeams)*myPointsHome),\"\")","v":15},{"$f":"IF($G9,SUM((myMatchDay>=myMatchDayRange)*($H9=myAwayTeams)*myPointsAway),\"\")","v":23},{"$f":"IF($G9,IF(V$7=0,-1,SUM((V$7=myMatchDayRange)*((($H9=myHomeTeams)*myPointsHome)+($H9=myAwayTeams)*myPointsAway))),\"\")","v":1},{"$f":"IF($G9,IF(W$7=0,-1,SUM((W$7=myMatchDayRange)*((($H9=myHomeTeams)*myPointsHome)+($H9=myAwayTeams)*myPointsAway))),\"\")","v":1},{"$f":"IF($G9,IF(X$7=0,-1,SUM((X$7=myMatchDayRange)*((($H9=myHomeTeams)*myPointsHome)+($H9=myAwayTeams)*myPointsAway))),\"\")","v":0},{"$f":"IF($G9,IF(Y$7=0,-1,SUM((Y$7=myMatchDayRange)*((($H9=myHomeTeams)*myPointsHome)+($H9=myAwayTeams)*myPointsAway))),\"\")","v":0},{"$f":"IF($G9,IF(Z$7=0,-1,SUM((Z$7=myMatchDayRange)*((($H9=myHomeTeams)*myPointsHome)+($H9=myAwayTeams)*myPointsAway))),\"\")","v":3},{"$f":"IF($G9,IF(AA$7=0,-1,SUM((AA$7=myMatchDayRange)*((($H9=myHomeTeams)*myPointsHome)+($H9=myAwayTeams)*myPointsAway))),\"\")","v":3},{"$f":"IF($G9,IF(AB$7=0,-1,SUM((AB$7=myMatchDayRange)*((($H9=myHomeTeams)*myPointsHome)+($H9=myAwayTeams)*myPointsAway))),\"\")","v":3},{"$f":"IF($G9,IF(AC$7=0,-1,SUM((AC$7=myMatchDayRange)*((($H9=myHomeTeams)*myPointsHome)+($H9=myAwayTeams)*myPointsAway))),\"\")","v":1},{"$f":"IF($G9,IF(AD$7=0,-1,SUM((AD$7=myMatchDayRange)*((($H9=myHomeTeams)*myPointsHome)+($H9=myAwayTeams)*myPointsAway))),\"\")","v":1},{"$f":"IF($G9,IF(AE$7=0,-1,SUM((AE$7=myMatchDayRange)*((($H9=myHomeTeams)*myPointsHome)+($H9=myAwayTeams)*myPointsAway))),\"\")","v":0},14,13,15,16,15,14,12,12,11,12,11,13.4,16,null,null,null,null,null,37904200.000001997,1,78488200.000003994,12]
[null,null,null,null,null,3,{"$f":"F10<=Control!$C$15","v":true},{"$f":"IF($G10,'Calculation Results'!E9,\"\")","v":"Darmstadt 98"},{"$f":"IF($G10,SUM((myMatchDay>=myMatchDayRange)*(($H10=myHomeTeams)+($H10=myAwayTeams))),\"\")","v":34},{"$f":"IF($G10,SUM((myMatchDay>=myMatchDayRange)*(($H10=myHomeTeams)*(myPointsHome=Control!$C$14)+($H10=myAwayTeams)*(myPointsAway=Control!$C$14))),\"\")","v":9},{"$f":"IF($G10,SUM((myMatchDay>=myMatchDayRange)*(($H10=myHomeTeams)*(myPointsHome=1)+($H10=myAwayTeams)*(myPointsAway=1))),\"\")","v":11},{"$f":"IF($G10,SUM((myMatchDay>=myMatchDayRange)*(($H10=myHomeTeams)*(myPointsHome=0)+($H10=myAwayTeams)*(myPointsAway=0))),\"\")","v":14},{"$f":"IF($G10,SUM((myMatchDay>=myMatchDayRange)*((($H10=myHomeTeams)*myGoalsHome)+(($H10=myAwayTeams)*myGoalsAway))),\"\")","v":38},{"$f":"IF($G10,SUM((myMatchDay>=myMatchDayRange)*((($H10=myHomeTeams)*myGoalsAway)+(($H10=myAwayTeams)*myGoalsHome))),\"\")","v":53},-15,1.1176470588235294,1.5588235294117647,38,1.1176470588235294,{"$f":"IF($G10,SUM((myMatchDay>=myMatchDayRange)*($H10=myHomeTeams)*myPointsHome),\"\")","v":12},{"$f":"IF($G10,SUM((myMatchDay>=myMatchDayRange)*($H10=myAwayTeams)*myPointsAway),\"\")","v":26},{"$f":"IF($G10,IF(V$7=0,-1,SUM((V$7=myMatchDayRange)*((($H10=myHomeTeams)*myPointsHome)+($H10=myAwayTeams)*myPointsAway))),\"\")","v":1},{"$f":"IF($G10,IF(W$7=0,-1,SUM((W$7=myMatchDayRange)*((($H10=myHomeTeams)*myPointsHome)+($H10=myAwayTeams)*myPointsAway))),\"\")","v":1},{"$f":"IF($G10,IF(X$7=0,-1,SUM((X$7=myMatchDayRange)*((($H10=myHomeTeams)*myPointsHome)+($H10=myAwayTeams)*myPointsAway))),\"\")","v":1},{"$f":"IF($G10,IF(Y$7=0,-1,SUM((Y$7=myMatchDayRange)*((($H10=myHomeTeams)*myPointsHome)+($H10=myAwayTeams)*myPointsAway))),\"\")","v":1},{"$f":"IF($G10,IF(Z$7=0,-1,SUM((Z$7=myMatchDayRange)*((($H10=myHomeTeams)*myPointsHome)+($H10=myAwayTeams)*myPointsAway))),\"\")","v":3},{"$f":"IF($G10,IF(AA$7=0,-1,SUM((AA$7=myMatchDayRange)*((($H10=myHomeTeams)*myPointsHome)+($H10=myAwayTeams)*myPointsAway))),\"\")","v":3},{"$f":"IF($G10,IF(AB$7=0,-1,SUM((AB$7=myMatchDayRange)*((($H10=myHomeTeams)*myPointsHome)+($H10=myAwayTeams)*myPointsAway))),\"\")","v":0},{"$f":"IF($G10,IF(AC$7=0,-1,SUM((AC$7=myMatchDayRange)*((($H10=myHomeTeams)*myPointsHome)+($H10=myAwayTeams)*myPointsAway))),\"\")","v":0},{"$f":"IF($G10,IF(AD$7=0,-1,SUM((AD$7=myMatchDayRange)*((($H10=myHomeTeams)*myPointsHome)+($H10=myAwayTeams)*myPointsAway))),\"\")","v":3},{"$f":"IF($G10,IF(AE$7=0,-1,SUM((AE$7=myMatchDayRange)*((($H10=myHomeTeams)*myPointsHome)+($H10=myAwayTeams)*myPointsAway))),\"\")","v":0},15,14,13,13,13,11,13,14,13,14,11,13.3,15,null,null,null,null,null,37853800.000003003,1,60165600.000004999,14]
[null,null,null,null,null,4,{"$f":"F11<=Control!$C$15","v":true},{"$f":"IF($G11,'Calculation Results'!E10,\"\")","v":"Borussia Dortmund"},{"$f":"IF($G11,SUM((myMatchDay>=myMatchDayRange)*(($H11=myHomeTeams)+($H11=myAwayTeams))),\"\")","v":34},{"$f":"IF($G11,SUM((myMatchDay>=myMatchDayRange)*(($H11=myHomeTeams)*(myPointsHome=Control!$C$14)+($H11=myAwayTeams)*(myPointsAway=Control!$C$14))),\"\")","v":24},{"$f":"IF($G11,SUM((myMatchDay>=myMatchDayRange)*(($H11=myHomeTeams)*(myPointsHome=1)+($H11=myAwayTeams)*(myPointsAway=1))),\"\")","v":6},{"$f":"IF($G11,SUM((myMatchDay>=myMatchDayRange)*(($H11=myHomeTeams)*(myPointsHome=0)+($H11=myAwayTeams)*(myPointsAway=0))),\"\")","v":4},{"$f":"IF($G11,SUM((myMatchDay>=myMatchDayRange)*((($H11=myHomeTeams)*myGoalsHome)+(($H11=myAwayTeams)*myGoalsAway))),\"\")","v":82},{"$f":"IF($G11,SUM((myMatchDay>=myMatchDayRange)*((($H11=myHomeTeams)*myGoalsAway)+(($H11=myAwayTeams)*myGoalsHome))),\"\")","v":34},48,2.4117647058823528,1,78,2.2941176470588234,{"$f":"IF($G11,SUM((myMatchDay>=myMatchDayRange)*($H11=myHomeTeams)*myPointsHome),\"\")","v":45},{"$f":"IF($G11,SUM((myMatchDay>=myMatchDayRange)*($H11=myAwayTeams)*myPointsAway),\"\")","v":33},{"$f":"IF($G11,IF(V$7=0,-1,SUM((V$7=myMatchDayRange)*((($H11=myHomeTeams)*myPointsHome)+($H11=myAwayTeams)*myPointsAway))),\"\")","v":1},{"$f":"IF($G11,IF(W$7=0,-1,SUM((W$7=myMatchDayRange)*((($H11=myHomeTeams)*myPointsHome)+($H11=myAwayTeams)*myPointsAway))),\"\")","v":3},{"$f":"IF($G11,IF(X$7=0,-1,SUM((X$7=myMatchDayRange)*((($H11=myHomeTeams)*myPointsHome)+($H11=myAwayTeams)*myPointsAway))),\"\")","v":3},{"$f":"IF($G11,IF(Y$7=0,-1,SUM((Y$7=myMatchDayRange)*((($H11=myHomeTeams)*myPointsHome)+($H11=myAwayTeams)*myPointsAway))),\"\")","v":3},{"$f":"IF($G11,IF(Z$7=0,-1,SUM((Z$7=myMatchDayRange)*((($H11=myHomeTeams)*myPointsHome)+($H11=myAwayTeams)*myPointsAway))),\"\")","v":1},{"$f":"IF($G11,IF(AA$7=0,-1,SUM((AA$7=myMatchDayRange)*((($H11=myHomeTeams)*myPointsHome)+($H11=myAwayTeams)*myPointsAway))),\"\")","v":3},{"$f":"IF($G11,IF(AB$7=0,-1,SUM((AB$7=myMatchDayRange)*((($H11=myHomeTeams)*myPointsHome)+($H11=myAwayTeams)*myPointsAway))),\"\")","v":3},{"$f":"IF($G11,IF(AC$7=0,-1,SUM((AC$7=myMatchDayRange)*((($H11=myHomeTeams)*myPointsHome)+($H11=myAwayTeams)*myPointsAway))),\"\")","v":3},{"$f":"IF($G11,IF(AD$7=0,-1,SUM((AD$7=myMatchDayRange)*((($H11=myHomeTeams)*myPointsHome)+($H11=myAwayTeams)*myPointsAway))),\"\")","v":0},{"$f":"IF($G11,IF(AE$7=0,-1,SUM((AE$7=myMatchDayRange)*((($H11=myHomeTeams)*myPointsHome)+($H11=myAwayTeams)*myPointsAway))),\"\")","v":1},2,2,2,2,2,2,2,2,2,2,2,2,2,null,null,null,null,null,78488200.000003994,1,55176700.000018001,2]
[null,null,null,null,null,5,{"$f":"F12<=Control!$C$15","v":true},{"$f":"IF($G12,'Calculation Results'!E11,\"\")","v":"Bayer Leverkusen"},{"$f":"IF($G12,SUM((myMatchDay>=myMatchDayRange)*(($H12=myHomeTeams)+($H12=myAwayTeams))),\"\")","v":34},{"$f":"IF($G12,SUM((myMatchDay>=myMatchDayRange)*(($H12=myHomeTeams)*(myPointsHome=Control!$C$14)+($H12=myAwayTeams)*(myPointsAway=Control!$C$14))),\"\")","v":18},{"$f":"IF($G12,SUM((myMatchDay>=myMatchDayRange)*(($H12=myHomeTeams)*(myPointsHome=1)+($H12=myAwayTeams)*(myPointsAway=1))),\"\")","v":6},{"$f":"IF($G12,SUM((myMatchDay>=myMatchDayRange)*(($H12=myHomeTeams)*(myPointsHome=0)+($H12=myAwayTeams)*(myPointsAway=0))),\"\")","v":10},{"$f":"IF($G12,SUM((myMatchDay>=myMatchDayRange)*((($H12=myHomeTeams)*myGoalsHome)+(($H12=myAwayTeams)*myGoalsAway))),\"\")","v":56},{"$f":"IF($G12,SUM((myMatchDay>=myMatchDayRange)*((($H12=myHomeTeams)*myGoalsAway)+(($H12=myAwayTeams)*myGoalsHome))),\"\")","v":40},16,1.6470588235294117,1.1764705882352942,60,1.7647058823529411,{"$f":"IF($G12,SUM((myMatchDay>=myMatchDayRange)*($H12=myHomeTeams)*myPointsHome),\"\")","v":33},{"$f":"IF($G12,SUM((myMatchDay>=myMatchDayRange)*($H12=myAwayTeams)*myPointsAway),\"\")","v":27},{"$f":"IF($G12,IF(V$7=0,-1,SUM((V$7=myMatchDayRange)*((($H12=myHomeTeams)*myPointsHome)+($H12=myAwayTeams)*myPointsAway))),\"\")","v":1},{"$f":"IF($G12,IF(W$7=0,-1,SUM((W$7=myMatchDayRange)*((($H12=myHomeTeams)*myPointsHome)+($H12=myAwayTeams)*myPointsAway))),\"\")","v":3},{"$f":"IF($G12,IF(X$7=0,-1,SUM((X$7=myMatchDayRange)*((($H12=myHomeTeams)*myPointsHome)+($H12=myAwayTeams)*myPointsAway))),\"\")","v":3},{"$f":"IF($G12,IF(Y$7=0,-1,SUM((Y$7=myMatchDayRange)*((($H12=myHomeTeams)*myPointsHome)+($H12=myAwayTeams)*myPointsAway))),\"\")","v":3},{"$f":"IF($G12,IF(Z$7=0,-1,SUM((Z$7=myMatchDayRange)*((($H12=myHomeTeams)*myPointsHome)+($H12=myAwayTeams)*myPointsAway))),\"\")","v":3},{"$f":"IF($G12,IF(AA$7=0,-1,SUM((AA$7=myMatchDayRange)*((($H12=myHomeTeams)*myPointsHome)+($H12=myAwayTeams)*myPointsAway))),\"\")","v":3},{"$f":"IF($G12,IF(AB$7=0,-1,SUM((AB$7=myMatchDayRange)*((($H12=myHomeTeams)*myPointsHome)+($H12=myAwayTeams)*myPointsAway))),\"\")","v":3},{"$f":"IF($G12,IF(AC$7=0,-1,SUM((AC$7=myMatchDayRange)*((($H12=myHomeTeams)*myPointsHome)+($H12=myAwayTeams)*myPointsAway))),\"\")","v":3},{"$f":"IF($G12,IF(AD$7=0,-1,SUM((AD$7=myMatchDayRange)*((($H12=myHomeTeams)*myPointsHome)+($H12=myAwayTeams)*myPointsAway))),\"\")","v":0},{"$f":"IF($G12,IF(AE$7=0,-1,SUM((AE$7=myMatchDayRange)*((($H12=myHomeTeams)*myPointsHome)+($H12=myAwayTeams)*myPointsAway))),\"\")","v":3},8,7,6,5,4,3,3,3,3,3,3,4.5,8,null,null,null,null,null,60165600.000004999,1,52025100.000015996,3]
[null,null,null,null,null,6,{"$f":"F13<=Control!$C$15","v":true},{"$f":"IF($G13,'Calculation Results'!E12,\"\")","v":"FSV Mainz 05"},{"$f":"IF($G13,SUM((myMatchDay>=myMatchDayRange)*(($H13=myHomeTeams)+($H13=myAwayTeams))),\"\")","v":34},{"$f":"IF($G13,SUM((myMatchDay>=myMatchDayRange)*(($H13=myHomeTeams)*(myPointsHome=Control!$C$14)+($H13=myAwayTeams)*(myPointsAway=Control!$C$14))),\"\")","v":14},{"$f":"IF($G13,SUM((myMatchDay>=myMatchDayRange)*(($H13=myHomeTeams)*(myPointsHome=1)+($H13=myAwayTeams)*(myPointsAway=1))),\"\")","v":8},{"$f":"IF($G13,SUM((myMatchDay>=myMatchDayRange)*(($H13=myHomeTeams)*(myPointsHome=0)+($H13=myAwayTeams)*(myPointsAway=0))),\"\")","v":12},{"$f":"IF($G13,SUM((myMatchDay>=myMatchDayRange)*((($H13=myHomeTeams)*myGoalsHome)+(($H13=myAwayTeams)*myGoalsAway))),\"\")","v":46},{"$f":"IF($G13,SUM((myMatchDay>=myMatchDayRange)*((($H13=myHomeTeams)*myGoalsAway)+(($H13=myAwayTeams)*myGoalsHome))),\"\")","v":42},4,1.3529411764705883,1.2352941176470589,50,1.4705882352941178,{"$f":"IF($G13,SUM((myMatchDay>=myMatchDayRange)*($H13=myHomeTeams)*myPointsHome),\"\")","v":28},{"$f":"IF($G13,SUM((myMatchDay>=myMatchDayRange)*($H13=myAwayTeams)*myPointsAway),\"\")","v":22},{"$f":"IF($G13,IF(V$7=0,-1,SUM((V$7=myMatchDayRange)*((($H13=myHomeTeams)*myPointsHome)+($H13=myAwayTeams)*myPointsAway))),\"\")","v":1},{"$f":"IF($G13,IF(W$7=0,-1,SUM((W$7=myMatchDayRange)*((($H13=myHomeTeams)*myPointsHome)+($H13=myAwayTeams)*myPointsAway))),\"\")","v":0},{"$f":"IF($G13,IF(X$7=0,-1,SUM((X$7=myMatchDayRange)*((($H13=myHomeTeams)*myPointsHome)+($H13=myAwayTeams)*myPointsAway))),\"\")","v":1},{"$f":"IF($G13,IF(Y$7=0,-1,SUM((Y$7=myMatchDayRange)*((($H13=myHomeTeams)*myPointsHome)+($H13=myAwayTeams)*myPointsAway))),\"\")","v":3},{"$f":"IF($G13,IF(Z$7=0,-1,SUM((Z$7=myMatchDayRange)*((($H13=myHomeTeams)*myPointsHome)+($H13=myAwayTeams)*myPointsAway))),\"\")","v":1},{"$f":"IF($G13,IF(AA$7=0,-1,SUM((AA$7=myMatchDayRange)*((($H13=myHomeTeams)*myPointsHome)+($H13=myAwayTeams)*myPointsAway))),\"\")","v":0},{"$f":"IF($G13,IF(AB$7=0,-1,SUM((AB$7=myMatchDayRange)*((($H13=myHomeTeams)*myPointsHome)+($H13=myAwayTeams)*myPointsAway))),\"\")","v":0},{"$f":"IF($G13,IF(AC$7=0,-1,SUM((AC$7=myMatchDayRange)*((($H13=myHomeTeams)*myPointsHome)+($H13=myAwayTeams)*myPointsAway))),\"\")","v":1},{"$f":"IF($G13,IF(AD$7=0,-1,SUM((AD$7=myMatchDayRange)*((($H13=myHomeTeams)*myPointsHome)+($H13=myAwayTeams)*myPointsAway))),\"\")","v":3},{"$f":"IF($G13,IF(AE$7=0,-1,SUM((AE$7=myMatchDayRange)*((($H13=myHomeTeams)*myPointsHome)+($H13=myAwayTeams)*myPointsAway))),\"\")","v":1},5,6,7,6,6,6,6,7,5,6,5,6,7,null,null,null,null,null,50044600.000005998,1,50044600.000005998,6]
[null,null,null,null,null,7,{"$f":"F14<=Control!$C$15","v":true},{"$f":"IF($G14,'Calculation Results'!E13,\"\")","v":"Werder Bremen"},{"$f":"IF($G14,SUM((myMatchDay>=myMatchDayRange)*(($H14=myHomeTeams)+($H14=myAwayTeams))),\"\")","v":34},{"$f":"IF($G14,SUM((myMatchDay>=myMatchDayRange)*(($H14=myHomeTeams)*(myPointsHome=Control!$C$14)+($H14=myAwayTeams)*(myPointsAway=Control!$C$14))),\"\")","v":10},{"$f":"IF($G14,SUM((myMatchDay>=myMatchDayRange)*(($H14=myHomeTeams)*(myPointsHome=1)+($H14=myAwayTeams)*(myPointsAway=1))),\"\")","v":8},{"$f":"IF($G14,SUM((myMatchDay>=myMatchDayRange)*(($H14=myHomeTeams)*(myPointsHome=0)+($H14=myAwayTeams)*(myPointsAway=0))),\"\")","v":16},{"$f":"IF($G14,SUM((myMatchDay>=myMatchDayRange)*((($H14=myHomeTeams)*myGoalsHome)+(($H14=myAwayTeams)*myGoalsAway))),\"\")","v":50},{"$f":"IF($G14,SUM((myMatchDay>=myMatchDayRange)*((($H14=myHomeTeams)*myGoalsAway)+(($H14=myAwayTeams)*myGoalsHome))),\"\")","v":65},-15,1.4705882352941178,1.911764705882353,38,1.1176470588235294,{"$f":"IF($G14,SUM((myMatchDay>=myMatchDayRange)*($H14=myHomeTeams)*myPointsHome),\"\")","v":20},{"$f":"IF($G14,SUM((myMatchDay>=myMatchDayRange)*($H14=myAwayTeams)*myPointsAway),\"\")","v":18},{"$f":"IF($G14,IF(V$7=0,-1,SUM((V$7=myMatchDayRange)*((($H14=myHomeTeams)*myPointsHome)+($H14=myAwayTeams)*myPointsAway))),\"\")","v":3},{"$f":"IF($G14,IF(W$7=0,-1,SUM((W$7=myMatchDayRange)*((($H14=myHomeTeams)*myPointsHome)+($H14=myAwayTeams)*myPointsAway))),\"\")","v":0},{"$f":"IF($G14,IF(X$7=0,-1,SUM((X$7=myMatchDayRange)*((($H14=myHomeTeams)*myPointsHome)+($H14=myAwayTeams)*myPointsAway))),\"\")","v":1},{"$f":"IF($G14,IF(Y$7=0,-1,SUM((Y$7=myMatchDayRange)*((($H14=myHomeTeams)*myPointsHome)+($H14=myAwayTeams)*myPointsAway))),\"\")","v":0},{"$f":"IF($G14,IF(Z$7=0,-1,SUM((Z$7=myMatchDayRange)*((($H14=myHomeTeams)*myPointsHome)+($H14=myAwayTeams)*myPointsAway))),\"\")","v":0},{"$f":"IF($G14,IF(AA$7=0,-1,SUM((AA$7=myMatchDayRange)*((($H14=myHomeTeams)*myPointsHome)+($H14=myAwayTeams)*myPointsAway))),\"\")","v":3},{"$f":"IF($G14,IF(AB$7=0,-1,SUM((AB$7=myMatchDayRange)*((($H14=myHomeTeams)*myPointsHome)+($H14=myAwayTeams)*myPointsAway))),\"\")","v":0},{"$f":"IF($G14,IF(AC$7=0,-1,SUM((AC$7=myMatchDayRange)*((($H14=myHomeTeams)*myPointsHome)+($H14=myAwayTeams)*myPointsAway))),\"\")","v":3},{"$f":"IF($G14,IF(AD$7=0,-1,SUM((AD$7=myMatchDayRange)*((($H14=myHomeTeams)*myPointsHome)+($H14=myAwayTeams)*myPointsAway))),\"\")","v":1},{"$f":"IF($G14,IF(AE$7=0,-1,SUM((AE$7=myMatchDayRange)*((($H14=myHomeTeams)*myPointsHome)+($H14=myAwayTeams)*myPointsAway))),\"\")","v":3},13,15,14,15,16,16,16,15,16,13,13,14.9,16,null,null,null,null,null,37855000.000007004,1,50004200.000009999,13]
[null,null,null,null,null,8,{"$f":"F15<=Control!$C$15","v":true},{"$f":"IF($G15,'Calculation Results'!E14,\"\")","v":"VfB Stuttgart"},{"$f":"IF($G15,SUM((myMatchDay>=myMatchDayRange)*(($H15=myHomeTeams)+($H15=myAwayTeams))),\"\")","v":34},{"$f":"IF($G15,SUM((myMatchDay>=myMatchDayRange)*(($H15=myHomeTeams)*(myPointsHome=Control!$C$14)+($H15=myAwayTeams)*(myPointsAway=Control!$C$14))),\"\")","v":9},{"$f":"IF($G15,SUM((myMatchDay>=myMatchDayRange)*(($H15=myHomeTeams)*(myPointsHome=1)+($H15=myAwayTeams)*(myPointsAway=1))),\"\")","v":6},{"$f":"IF($G15,SUM((myMatchDay>=myMatchDayRange)*(($H15=myHomeTeams)*(myPointsHome=0)+($H15=myAwayTeams)*(myPointsAway=0))),\"\")","v":19},{"$f":"IF($G15,SUM((myMatchDay>=myMatchDayRange)*((($H15=myHomeTeams)*myGoalsHome)+(($H15=myAwayTeams)*myGoalsAway))),\"\")","v":50},{"$f":"IF($G15,SUM((myMatchDay>=myMatchDayRange)*((($H15=myHomeTeams)*myGoalsAway)+(($H15=myAwayTeams)*myGoalsHome))),\"\")","v":75},-25,1.4705882352941178,2.2058823529411766,33,0.97058823529411764,{"$f":"IF($G15,SUM((myMatchDay>=myMatchDayRange)*($H15=myHomeTeams)*myPointsHome),\"\")","v":19},{"$f":"IF($G15,SUM((myMatchDay>=myMatchDayRange)*($H15=myAwayTeams)*myPointsAway),\"\")","v":14},{"$f":"IF($G15,IF(V$7=0,-1,SUM((V$7=myMatchDayRange)*((($H15=myHomeTeams)*myPointsHome)+($H15=myAwayTeams)*myPointsAway))),\"\")","v":3},{"$f":"IF($G15,IF(W$7=0,-1,SUM((W$7=myMatchDayRange)*((($H15=myHomeTeams)*myPointsHome)+($H15=myAwayTeams)*myPointsAway))),\"\")","v":1},{"$f":"IF($G15,IF(X$7=0,-1,SUM((X$7=myMatchDayRange)*((($H15=myHomeTeams)*myPointsHome)+($H15=myAwayTeams)*myPointsAway))),\"\")","v":0},{"$f":"IF($G15,IF(Y$7=0,-1,SUM((Y$7=myMatchDayRange)*((($H15=myHomeTeams)*myPointsHome)+($H15=myAwayTeams)*myPointsAway))),\"\")","v":1},{"$f":"IF($G15,IF(Z$7=0,-1,SUM((Z$7=myMatchDayRange)*((($H15=myHomeTeams)*myPointsHome)+($H15=myAwayTeams)*myPointsAway))),\"\")","v":0},{"$f":"IF($G15,IF(AA$7=0,-1,SUM((AA$7=myMatchDayRange)*((($H15=myHomeTeams)*myPointsHome)+($H15=myAwayTeams)*myPointsAway))),\"\")","v":0},{"$f":"IF($G15,IF(AB$7=0,-1,SUM((AB$7=myMatchDayRange)*((($H15=myHomeTeams)*myPointsHome)+($H15=myAwayTeams)*myPointsAway))),\"\")","v":0},{"$f":"IF($G15,IF(AC$7=0,-1,SUM((AC$7=myMatchDayRange)*((($H15=myHomeTeams)*myPointsHome)+($H15=myAwayTeams)*myPointsAway))),\"\")","v":0},{"$f":"IF($G15,IF(AD$7=0,-1,SUM((AD$7=myMatchDayRange)*((($H15=myHomeTeams)*myPointsHome)+($H15=myAwayTeams)*myPointsAway))),\"\")","v":0},{"$f":"IF($G15,IF(AE$7=0,-1,SUM((AE$7=myMatchDayRange)*((($H15=myHomeTeams)*myPointsHome)+($H15=myAwayTeams)*myPointsAway))),\"\")","v":0},11,11,11,12,12,15,15,17,17,17,11,13.8,17,null,null,null,null,null,32755000.000007998,1,44984700.000009,17]
[null,null,null,null,null,9,{"$f":"F16<=Control!$C$15","v":true},{"$f":"IF($G16,'Calculation Results'!E15,\"\")","v":"VfL Wolfsburg"},{"$f":"IF($G16,SUM((myMatchDay>=myMatchDayRange)*(($H16=myHomeTeams)+($H16=myAwayTeams))),\"\")","v":34},{"$f":"IF($G16,SUM((myMatchDay>=myMatchDayRange)*(($H16=myHomeTeams)*(myPointsHome=Control!$C$14)+($H16=myAwayTeams)*(myPointsAway=Control!$C$14))),\"\")","v":12},{"$f":"IF($G16,SUM((myMatchDay>=myMatchDayRange)*(($H16=myHomeTeams)*(myPointsHome=1)+($H16=myAwayTeams)*(myPointsAway=1))),\"\")","v":9},{"$f":"IF($G16,SUM((myMatchDay>=myMatchDayRange)*(($H16=myHomeTeams)*(myPointsHome=0)+($H16=myAwayTeams)*(myPointsAway=0))),\"\")","v":13},{"$f":"IF($G16,SUM((myMatchDay>=myMatchDayRange)*((($H16=myHomeTeams)*myGoalsHome)+(($H16=myAwayTeams)*myGoalsAway))),\"\")","v":47},{"$f":"IF($G16,SUM((myMatchDay>=myMatchDayRange)*((($H16=myHomeTeams)*myGoalsAway)+(($H16=myAwayTeams)*myGoalsHome))),\"\")","v":49},-2,1.3823529411764706,1.4411764705882353,45,1.3235294117647058,{"$f":"IF($G16,SUM((myMatchDay>=myMatchDayRange)*($H16=myHomeTeams)*myPointsHome),\"\")","v":32},{"$f":"IF($G16,SUM((myMatchDay>=myMatchDayRange)*($H16=myAwayTeams)*myPointsAway),\"\")","v":13},{"$f":"IF($G16,IF(V$7=0,-1,SUM((V$7=myMatchDayRange)*((($H16=myHomeTeams)*myPointsHome)+($H16=myAwayTeams)*myPointsAway))),\"\")","v":3},{"$f":"IF($G16,IF(W$7=0,-1,SUM((W$7=myMatchDayRange)*((($H16=myHomeTeams)*myPointsHome)+($H16=myAwayTeams)*myPointsAway))),\"\")","v":0},{"$f":"IF($G16,IF(X$7=0,-1,SUM((X$7=myMatchDayRange)*((($H16=myHomeTeams)*myPointsHome)+($H16=myAwayTeams)*myPointsAway))),\"\")","v":1},{"$f":"IF($G16,IF(Y$7=0,-1,SUM((Y$7=myMatchDayRange)*((($H16=myHomeTeams)*myPointsHome)+($H16=myAwayTeams)*myPointsAway))),\"\")","v":0},{"$f":"IF($G16,IF(Z$7=0,-1,SUM((Z$7=myMatchDayRange)*((($H16=myHomeTeams)*myPointsHome)+($H16=myAwayTeams)*myPointsAway))),\"\")","v":1},{"$f":"IF($G16,IF(AA$7=0,-1,SUM((AA$7=myMatchDayRange)*((($H16=myHomeTeams)*myPointsHome)+($H16=myAwayTeams)*myPointsAway))),\"\")","v":0},{"$f":"IF($G16,IF(AB$7=0,-1,SUM((AB$7=myMatchDayRange)*((($H16=myHomeTeams)*myPointsHome)+($H16=myAwayTeams)*myPointsAway))),\"\")","v":0},{"$f":"IF($G16,IF(AC$7=0,-1,SUM((AC$7=myMatchDayRange)*((($H16=myHomeTeams)*myPointsHome)+($H16=myAwayTeams)*myPointsAway))),\"\")","v":0},{"$f":"IF($G16,IF(AD$7=0,-1,SUM((AD$7=myMatchDayRange)*((($H16=myHomeTeams)*myPointsHome)+($H16=myAwayTeams)*myPointsAway))),\"\")","v":3},{"$f":"IF($G16,IF(AE$7=0,-1,SUM((AE$7=myMatchDayRange)*((($H16=myHomeTeams)*myPointsHome)+($H16=myAwayTeams)*myPointsAway))),\"\")","v":3},7,8,8,8,8,8,10,10,8,8,7,8.3000000000000007,10,null,null,null,null,null,44984700.000009,1,42963800.000012003,8]
[null,null,null,null,null,10,{"$f":"F17<=Control!$C$15","v":true},{"$f":"IF($G17,'Calculation Results'!E16,\"\")","v":"Hertha BSC Berlin"},{"$f":"IF($G17,SUM((myMatchDay>=myMatchDayRange)*(($H17=myHomeTeams)+($H17=myAwayTeams))),\"\")","v":34},{"$f":"IF($G17,SUM((myMatchDay>=myMatchDayRange)*(($H17=myHomeTeams)*(myPointsHome=Control!$C$14)+($H17=myAwayTeams)*(myPointsAway=Control!$C$14))),\"\")","v":14},{"$f":"IF($G17,SUM((myMatchDay>=myMatchDayRange)*(($H17=myHomeTeams)*(myPointsHome=1)+($H17=myAwayTeams)*(myPointsAway=1))),\"\")","v":8},{"$f":"IF($G17,SUM((myMatchDay>=myMatchDayRange)*(($H17=myHomeTeams)*(myPointsHome=0)+($H17=myAwayTeams)*(myPointsAway=0))),\"\")","v":12},{"$f":"IF($G17,SUM((myMatchDay>=myMatchDayRange)*((($H17=myHomeTeams)*myGoalsHome)+(($H17=myAwayTeams)*myGoalsAway))),\"\")","v":42},{"$f":"IF($G17,SUM((myMatchDay>=myMatchDayRange)*((($H17=myHomeTeams)*myGoalsAway)+(($H17=myAwayTeams)*myGoalsHome))),\"\")","v":42},0,1.2352941176470589,1.2352941176470589,50,1.4705882352941178,{"$f":"IF($G17,SUM((myMatchDay>=myMatchDayRange)*($H17=myHomeTeams)*myPointsHome),\"\")","v":32},{"$f":"IF($G17,SUM((myMatchDay>=myMatchDayRange)*($H17=myAwayTeams)*myPointsAway),\"\")","v":18},{"$f":"IF($G17,IF(V$7=0,-1,SUM((V$7=myMatchDayRange)*((($H17=myHomeTeams)*myPointsHome)+($H17=myAwayTeams)*myPointsAway))),\"\")","v":0},{"$f":"IF($G17,IF(W$7=0,-1,SUM((W$7=myMatchDayRange)*((($H17=myHomeTeams)*myPointsHome)+($H17=myAwayTeams)*myPointsAway))),\"\")","v":3},{"$f":"IF($G17,IF(X$7=0,-1,SUM((X$7=myMatchDayRange)*((($H17=myHomeTeams)*myPointsHome)+($H17=myAwayTeams)*myPointsAway))),\"\")","v":3},{"$f":"IF($G17,IF(Y$7=0,-1,SUM((Y$7=myMatchDayRange)*((($H17=myHomeTeams)*myPointsHome)+($H17=myAwayTeams)*myPointsAway))),\"\")","v":0},{"$f":"IF($G17,IF(Z$7=0,-1,SUM((Z$7=myMatchDayRange)*((($H17=myHomeTeams)*myPointsHome)+($H17=myAwayTeams)*myPointsAway))),\"\")","v":1},{"$f":"IF($G17,IF(AA$7=0,-1,SUM((AA$7=myMatchDayRange)*((($H17=myHomeTeams)*myPointsHome)+($H17=myAwayTeams)*myPointsAway))),\"\")","v":0},{"$f":"IF($G17,IF(AB$7=0,-1,SUM((AB$7=myMatchDayRange)*((($H17=myHomeTeams)*myPointsHome)+($H17=myAwayTeams)*myPointsAway))),\"\")","v":0},{"$f":"IF($G17,IF(AC$7=0,-1,SUM((AC$7=myMatchDayRange)*((($H17=myHomeTeams)*myPointsHome)+($H17=myAwayTeams)*myPointsAway))),\"\")","v":0},{"$f":"IF($G17,IF(AD$7=0,-1,SUM((AD$7=myMatchDayRange)*((($H17=myHomeTeams)*myPointsHome)+($H17=myAwayTeams)*myPointsAway))),\"\")","v":0},{"$f":"IF($G17,IF(AE$7=0,-1,SUM((AE$7=myMatchDayRange)*((($H17=myHomeTeams)*myPointsHome)+($H17=myAwayTeams)*myPointsAway))),\"\")","v":1},3,3,3,3,3,4,4,5,6,7,3,4.0999999999999996,7,null,null,null,null,null,50004200.000009999,1,40944000.000013001,7]
[null,null,null,null,null,11,{"$f":"F18<=Control!$C$15","v":true},{"$f":"IF($G18,'Calculation Results'!E17,\"\")","v":"Eintracht Frankfurt"},{"$f":"IF($G18,SUM((myMatchDay>=myMatchDayRange)*(($H18=myHomeTeams)+($H18=myAwayTeams))),\"\")","v":34},{"$f":"IF($G18,SUM((myMatchDay>=myMatchDayRange)*(($H18=myHomeTeams)*(myPointsHome=Control!$C$14)+($H18=myAwayTeams)*(myPointsAway=Control!$C$14))),\"\")","v":9},{"$f":"IF($G18,SUM((myMatchDay>=myMatchDayRange)*(($H18=myHomeTeams)*(myPointsHome=1)+($H18=myAwayTeams)*(myPointsAway=1))),\"\")","v":9},{"$f":"IF($G18,SUM((myMatchDay>=myMatchDayRange)*(($H18=myHomeTeams)*(myPointsHome=0)+($H18=myAwayTeams)*(myPointsAway=0))),\"\")","v":16},{"$f":"IF($G18,SUM((myMatchDay>=myMatchDayRange)*((($H18=myHomeTeams)*myGoalsHome)+(($H18=myAwayTeams)*myGoalsAway))),\"\")","v":34},{"$f":"IF($G18,SUM((myMatchDay>=myMatchDayRange)*((($H18=myHomeTeams)*myGoalsAway)+(($H18=myAwayTeams)*myGoalsHome))),\"\")","v":52},-18,1,1.5294117647058822,36,1.0588235294117647,{"$f":"IF($G18,SUM((myMatchDay>=myMatchDayRange)*($H18=myHomeTeams)*myPointsHome),\"\")","v":24},{"$f":"IF($G18,SUM((myMatchDay>=myMatchDayRange)*($H18=myAwayTeams)*myPointsAway),\"\")","v":12},{"$f":"IF($G18,IF(V$7=0,-1,SUM((V$7=myMatchDayRange)*((($H18=myHomeTeams)*myPointsHome)+($H18=myAwayTeams)*myPointsAway))),\"\")","v":1},{"$f":"IF($G18,IF(W$7=0,-1,SUM((W$7=myMatchDayRange)*((($H18=myHomeTeams)*myPointsHome)+($H18=myAwayTeams)*myPointsAway))),\"\")","v":0},{"$f":"IF($G18,IF(X$7=0,-1,SUM((X$7=myMatchDayRange)*((($H18=myHomeTeams)*myPointsHome)+($H18=myAwayTeams)*myPointsAway))),\"\")","v":3},{"$f":"IF($G18,IF(Y$7=0,-1,SUM((Y$7=myMatchDayRange)*((($H18=myHomeTeams)*myPointsHome)+($H18=myAwayTeams)*myPointsAway))),\"\")","v":0},{"$f":"IF($G18,IF(Z$7=0,-1,SUM((Z$7=myMatchDayRange)*((($H18=myHomeTeams)*myPointsHome)+($H18=myAwayTeams)*myPointsAway))),\"\")","v":0},{"$f":"IF($G18,IF(AA$7=0,-1,SUM((AA$7=myMatchDayRange)*((($H18=myHomeTeams)*myPointsHome)+($H18=myAwayTeams)*myPointsAway))),\"\")","v":0},{"$f":"IF($G18,IF(AB$7=0,-1,SUM((AB$7=myMatchDayRange)*((($H18=myHomeTeams)*myPointsHome)+($H18=myAwayTeams)*myPointsAway))),\"\")","v":3},{"$f":"IF($G18,IF(AC$7=0,-1,SUM((AC$7=myMatchDayRange)*((($H18=myHomeTeams)*myPointsHome)+($H18=myAwayTeams)*myPointsAway))),\"\")","v":3},{"$f":"IF($G18,IF(AD$7=0,-1,SUM((AD$7=myMatchDayRange)*((($H18=myHomeTeams)*myPointsHome)+($H18=myAwayTeams)*myPointsAway))),\"\")","v":3},{"$f":"IF($G18,IF(AE$7=0,-1,SUM((AE$7=myMatchDayRange)*((($H18=myHomeTeams)*myPointsHome)+($H18=myAwayTeams)*myPointsAway))),\"\")","v":0},{"$f":"IF(AF$7=0,NA(),INDEX(myTableDevRange,$F18,AF$7))","v":16},16,17,17,17,17,17,16,15,16,15,16.399999999999999,17,null,null,null,null,null,35823400.000010997,1,39913300.000017002,16]
[null,null,null,null,null,12,{"$f":"F19<=Control!$C$15","v":true},{"$f":"IF($G19,'Calculation Results'!E18,\"\")","v":"1.FC Köln"},{"$f":"IF($G19,SUM((myMatchDay>=myMatchDayRange)*(($H19=myHomeTeams)+($H19=myAwayTeams))),\"\")","v":34},{"$f":"IF($G19,SUM((myMatchDay>=myMatchDayRange)*(($H19=myHomeTeams)*(myPointsHome=Control!$C$14)+($H19=myAwayTeams)*(myPointsAway=Control!$C$14))),\"\")","v":10},{"$f":"IF($G19,SUM((myMatchDay>=myMatchDayRange)*(($H19=myHomeTeams)*(myPointsHome=1)+($H19=myAwayTeams)*(myPointsAway=1))),\"\")","v":13},{"$f":"IF($G19,SUM((myMatchDay>=myMatchDayRange)*(($H19=myHomeTeams)*(myPointsHome=0)+($H19=myAwayTeams)*(myPointsAway=0))),\"\")","v":11},{"$f":"IF($G19,SUM((myMatchDay>=myMatchDayRange)*((($H19=myHomeTeams)*myGoalsHome)+(($H19=myAwayTeams)*myGoalsAway))),\"\")","v":38},{"$f":"IF($G19,SUM((myMatchDay>=myMatchDayRange)*((($H19=myHomeTeams)*myGoalsAway)+(($H19=myAwayTeams)*myGoalsHome))),\"\")","v":42},-4,1.1176470588235294,1.2352941176470589,43,1.2647058823529411,{"$f":"IF($G19,SUM((myMatchDay>=myMatchDayRange)*($H19=myHomeTeams)*myPointsHome),\"\")","v":20},{"$f":"IF($G19,SUM((myMatchDay>=myMatchDayRange)*($H19=myAwayTeams)*myPointsAway),\"\")","v":23},{"$f":"IF($G19,IF(V$7=0,-1,SUM((V$7=myMatchDayRange)*((($H19=myHomeTeams)*myPointsHome)+($H19=myAwayTeams)*myPointsAway))),\"\")","v":0},{"$f":"IF($G19,IF(W$7=0,-1,SUM((W$7=myMatchDayRange)*((($H19=myHomeTeams)*myPointsHome)+($H19=myAwayTeams)*myPointsAway))),\"\")","v":3},{"$f":"IF($G19,IF(X$7=0,-1,SUM((X$7=myMatchDayRange)*((($H19=myHomeTeams)*myPointsHome)+($H19=myAwayTeams)*myPointsAway))),\"\")","v":0},{"$f":"IF($G19,IF(Y$7=0,-1,SUM((Y$7=myMatchDayRange)*((($H19=myHomeTeams)*myPointsHome)+($H19=myAwayTeams)*myPointsAway))),\"\")","v":1},{"$f":"IF($G19,IF(Z$7=0,-1,SUM((Z$7=myMatchDayRange)*((($H19=myHomeTeams)*myPointsHome)+($H19=myAwayTeams)*myPointsAway))),\"\")","v":0},{"$f":"IF($G19,IF(AA$7=0,-1,SUM((AA$7=myMatchDayRange)*((($H19=myHomeTeams)*myPointsHome)+($H19=myAwayTeams)*myPointsAway))),\"\")","v":3},{"$f":"IF($G19,IF(AB$7=0,-1,SUM((AB$7=myMatchDayRange)*((($H19=myHomeTeams)*myPointsHome)+($H19=myAwayTeams)*myPointsAway))),\"\")","v":3},{"$f":"IF($G19,IF(AC$7=0,-1,SUM((AC$7=myMatchDayRange)*((($H19=myHomeTeams)*myPointsHome)+($H19=myAwayTeams)*myPointsAway))),\"\")","v":1},{"$f":"IF($G19,IF(AD$7=0,-1,SUM((AD$7=myMatchDayRange)*((($H19=myHomeTeams)*myPointsHome)+($H19=myAwayTeams)*myPointsAway))),\"\")","v":1},{"$f":"IF($G19,IF(AE$7=0,-1,SUM((AE$7=myMatchDayRange)*((($H19=myHomeTeams)*myPointsHome)+($H19=myAwayTeams)*myPointsAway))),\"\")","v":1},12,9,9,11,11,10,8,8,9,9,8,9.6,12,null,null,null,null,null,42963800.000012003,1,37904200.000001997,9]
[null,null,null,null,null,13,{"$f":"F20<=Control!$C$15","v":true},{"$f":"IF($G20,'Calculation Results'!E19,\"\")","v":"Hamburger SV"},{"$f":"IF($G20,SUM((myMatchDay>=myMatchDayRange)*(($H20=myHomeTeams)+($H20=myAwayTeams))),\"\")","v":34},{"$f":"IF($G20,SUM((myMatchDay>=myMatchDayRange)*(($H20=myHomeTeams)*(myPointsHome=Control!$C$14)+($H20=myAwayTeams)*(myPointsAway=Control!$C$14))),\"\")","v":11},{"$f":"IF($G20,SUM((myMatchDay>=myMatchDayRange)*(($H20=myHomeTeams)*(myPointsHome=1)+($H20=myAwayTeams)*(myPointsAway=1))),\"\")","v":8},{"$f":"IF($G20,SUM((myMatchDay>=myMatchDayRange)*(($H20=myHomeTeams)*(myPointsHome=0)+($H20=myAwayTeams)*(myPointsAway=0))),\"\")","v":15},{"$f":"IF($G20,SUM((myMatchDay>=myMatchDayRange)*((($H20=myHomeTeams)*myGoalsHome)+(($H20=myAwayTeams)*myGoalsAway))),\"\")","v":40},{"$f":"IF($G20,SUM((myMatchDay>=myMatchDayRange)*((($H20=myHomeTeams)*myGoalsAway)+(($H20=myAwayTeams)*myGoalsHome))),\"\")","v":46},-6,1.1764705882352942,1.3529411764705883,41,1.2058823529411764,{"$f":"IF($G20,SUM((myMatchDay>=myMatchDayRange)*($H20=myHomeTeams)*myPointsHome),\"\")","v":19},{"$f":"IF($G20,SUM((myMatchDay>=myMatchDayRange)*($H20=myAwayTeams)*myPointsAway),\"\")","v":22},{"$f":"IF($G20,IF(V$7=0,-1,SUM((V$7=myMatchDayRange)*((($H20=myHomeTeams)*myPointsHome)+($H20=myAwayTeams)*myPointsAway))),\"\")","v":3},{"$f":"IF($G20,IF(W$7=0,-1,SUM((W$7=myMatchDayRange)*((($H20=myHomeTeams)*myPointsHome)+($H20=myAwayTeams)*myPointsAway))),\"\")","v":0},{"$f":"IF($G20,IF(X$7=0,-1,SUM((X$7=myMatchDayRange)*((($H20=myHomeTeams)*myPointsHome)+($H20=myAwayTeams)*myPointsAway))),\"\")","v":0},{"$f":"IF($G20,IF(Y$7=0,-1,SUM((Y$7=myMatchDayRange)*((($H20=myHomeTeams)*myPointsHome)+($H20=myAwayTeams)*myPointsAway))),\"\")","v":3},{"$f":"IF($G20,IF(Z$7=0,-1,SUM((Z$7=myMatchDayRange)*((($H20=myHomeTeams)*myPointsHome)+($H20=myAwayTeams)*myPointsAway))),\"\")","v":0},{"$f":"IF($G20,IF(AA$7=0,-1,SUM((AA$7=myMatchDayRange)*((($H20=myHomeTeams)*myPointsHome)+($H20=myAwayTeams)*myPointsAway))),\"\")","v":0},{"$f":"IF($G20,IF(AB$7=0,-1,SUM((AB$7=myMatchDayRange)*((($H20=myHomeTeams)*myPointsHome)+($H20=myAwayTeams)*myPointsAway))),\"\")","v":3},{"$f":"IF($G20,IF(AC$7=0,-1,SUM((AC$7=myMatchDayRange)*((($H20=myHomeTeams)*myPointsHome)+($H20=myAwayTeams)*myPointsAway))),\"\")","v":1},{"$f":"IF($G20,IF(AD$7=0,-1,SUM((AD$7=myMatchDayRange)*((($H20=myHomeTeams)*myPointsHome)+($H20=myAwayTeams)*myPointsAway))),\"\")","v":0},{"$f":"IF($G20,IF(AE$7=0,-1,SUM((AE$7=myMatchDayRange)*((($H20=myHomeTeams)*myPointsHome)+($H20=myAwayTeams)*myPointsAway))),\"\")","v":3},10,12,12,10,10,12,11,11,12,10,10,11,12,null,null,null,null,null,40944000.000013001,1,37855000.000007004,10]
[null,null,null,null,null,14,{"$f":"F21<=Control!$C$15","v":true},{"$f":"IF($G21,'Calculation Results'!E20,\"\")","v":"Hannover 96"},{"$f":"IF($G21,SUM((myMatchDay>=myMatchDayRange)*(($H21=myHomeTeams)+($H21=myAwayTeams))),\"\")","v":34},{"$f":"IF($G21,SUM((myMatchDay>=myMatchDayRange)*(($H21=myHomeTeams)*(myPointsHome=Control!$C$14)+($H21=myAwayTeams)*(myPointsAway=Control!$C$14))),\"\")","v":7},{"$f":"IF($G21,SUM((myMatchDay>=myMatchDayRange)*(($H21=myHomeTeams)*(myPointsHome=1)+($H21=myAwayTeams)*(myPointsAway=1))),\"\")","v":4},{"$f":"IF($G21,SUM((myMatchDay>=myMatchDayRange)*(($H21=myHomeTeams)*(myPointsHome=0)+($H21=myAwayTeams)*(myPointsAway=0))),\"\")","v":23},{"$f":"IF($G21,SUM((myMatchDay>=myMatchDayRange)*((($H21=myHomeTeams)*myGoalsHome)+(($H21=myAwayTeams)*myGoalsAway))),\"\")","v":31},{"$f":"IF($G21,SUM((myMatchDay>=myMatchDayRange)*((($H21=myHomeTeams)*myGoalsAway)+(($H21=myAwayTeams)*myGoalsHome))),\"\")","v":62},-31,0.91176470588235292,1.8235294117647058,25,0.73529411764705888,{"$f":"IF($G21,SUM((myMatchDay>=myMatchDayRange)*($H21=myHomeTeams)*myPointsHome),\"\")","v":12},{"$f":"IF($G21,SUM((myMatchDay>=myMatchDayRange)*($H21=myAwayTeams)*myPointsAway),\"\")","v":13},{"$f":"IF($G21,IF(V$7=0,-1,SUM((V$7=myMatchDayRange)*((($H21=myHomeTeams)*myPointsHome)+($H21=myAwayTeams)*myPointsAway))),\"\")","v":0},{"$f":"IF($G21,IF(W$7=0,-1,SUM((W$7=myMatchDayRange)*((($H21=myHomeTeams)*myPointsHome)+($H21=myAwayTeams)*myPointsAway))),\"\")","v":0},{"$f":"IF($G21,IF(X$7=0,-1,SUM((X$7=myMatchDayRange)*((($H21=myHomeTeams)*myPointsHome)+($H21=myAwayTeams)*myPointsAway))),\"\")","v":0},{"$f":"IF($G21,IF(Y$7=0,-1,SUM((Y$7=myMatchDayRange)*((($H21=myHomeTeams)*myPointsHome)+($H21=myAwayTeams)*myPointsAway))),\"\")","v":0},{"$f":"IF($G21,IF(Z$7=0,-1,SUM((Z$7=myMatchDayRange)*((($H21=myHomeTeams)*myPointsHome)+($H21=myAwayTeams)*myPointsAway))),\"\")","v":1},{"$f":"IF($G21,IF(AA$7=0,-1,SUM((AA$7=myMatchDayRange)*((($H21=myHomeTeams)*myPointsHome)+($H21=myAwayTeams)*myPointsAway))),\"\")","v":3},{"$f":"IF($G21,IF(AB$7=0,-1,SUM((AB$7=myMatchDayRange)*((($H21=myHomeTeams)*myPointsHome)+($H21=myAwayTeams)*myPointsAway))),\"\")","v":1},{"$f":"IF($G21,IF(AC$7=0,-1,SUM((AC$7=myMatchDayRange)*((($H21=myHomeTeams)*myPointsHome)+($H21=myAwayTeams)*myPointsAway))),\"\")","v":0},{"$f":"IF($G21,IF(AD$7=0,-1,SUM((AD$7=myMatchDayRange)*((($H21=myHomeTeams)*myPointsHome)+($H21=myAwayTeams)*myPointsAway))),\"\")","v":3},{"$f":"IF($G21,IF(AE$7=0,-1,SUM((AE$7=myMatchDayRange)*((($H21=myHomeTeams)*myPointsHome)+($H21=myAwayTeams)*myPointsAway))),\"\")","v":0},18,18,18,18,18,18,18,18,18,18,18,18,18,null,null,null,null,null,24693100.000014,1,37853800.000003003,18]
[null,null,null,null,null,15,{"$f":"F22<=Control!$C$15","v":true},{"$f":"IF($G22,'Calculation Results'!E21,\"\")","v":"TSG 1899 Hoffenheim"},{"$f":"IF($G22,SUM((myMatchDay>=myMatchDayRange)*(($H22=myHomeTeams)+($H22=myAwayTeams))),\"\")","v":34},{"$f":"IF($G22,SUM((myMatchDay>=myMatchDayRange)*(($H22=myHomeTeams)*(myPointsHome=Control!$C$14)+($H22=myAwayTeams)*(myPointsAway=Control!$C$14))),\"\")","v":9},{"$f":"IF($G22,SUM((myMatchDay>=myMatchDayRange)*(($H22=myHomeTeams)*(myPointsHome=1)+($H22=myAwayTeams)*(myPointsAway=1))),\"\")","v":10},{"$f":"IF($G22,SUM((myMatchDay>=myMatchDayRange)*(($H22=myHomeTeams)*(myPointsHome=0)+($H22=myAwayTeams)*(myPointsAway=0))),\"\")","v":15},{"$f":"IF($G22,SUM((myMatchDay>=myMatchDayRange)*((($H22=myHomeTeams)*myGoalsHome)+(($H22=myAwayTeams)*myGoalsAway))),\"\")","v":39},{"$f":"IF($G22,SUM((myMatchDay>=myMatchDayRange)*((($H22=myHomeTeams)*myGoalsAway)+(($H22=myAwayTeams)*myGoalsHome))),\"\")","v":54},-15,1.1470588235294117,1.588235294117647,37,1.088235294117647,{"$f":"IF($G22,SUM((myMatchDay>=myMatchDayRange)*($H22=myHomeTeams)*myPointsHome),\"\")","v":24},{"$f":"IF($G22,SUM((myMatchDay>=myMatchDayRange)*($H22=myAwayTeams)*myPointsAway),\"\")","v":13},{"$f":"IF($G22,IF(V$7=0,-1,SUM((V$7=myMatchDayRange)*((($H22=myHomeTeams)*myPointsHome)+($H22=myAwayTeams)*myPointsAway))),\"\")","v":0},{"$f":"IF($G22,IF(W$7=0,-1,SUM((W$7=myMatchDayRange)*((($H22=myHomeTeams)*myPointsHome)+($H22=myAwayTeams)*myPointsAway))),\"\")","v":3},{"$f":"IF($G22,IF(X$7=0,-1,SUM((X$7=myMatchDayRange)*((($H22=myHomeTeams)*myPointsHome)+($H22=myAwayTeams)*myPointsAway))),\"\")","v":3},{"$f":"IF($G22,IF(Y$7=0,-1,SUM((Y$7=myMatchDayRange)*((($H22=myHomeTeams)*myPointsHome)+($H22=myAwayTeams)*myPointsAway))),\"\")","v":1},{"$f":"IF($G22,IF(Z$7=0,-1,SUM((Z$7=myMatchDayRange)*((($H22=myHomeTeams)*myPointsHome)+($H22=myAwayTeams)*myPointsAway))),\"\")","v":3},{"$f":"IF($G22,IF(AA$7=0,-1,SUM((AA$7=myMatchDayRange)*((($H22=myHomeTeams)*myPointsHome)+($H22=myAwayTeams)*myPointsAway))),\"\")","v":3},{"$f":"IF($G22,IF(AB$7=0,-1,SUM((AB$7=myMatchDayRange)*((($H22=myHomeTeams)*myPointsHome)+($H22=myAwayTeams)*myPointsAway))),\"\")","v":0},{"$f":"IF($G22,IF(AC$7=0,-1,SUM((AC$7=myMatchDayRange)*((($H22=myHomeTeams)*myPointsHome)+($H22=myAwayTeams)*myPointsAway))),\"\")","v":3},{"$f":"IF($G22,IF(AD$7=0,-1,SUM((AD$7=myMatchDayRange)*((($H22=myHomeTeams)*myPointsHome)+($H22=myAwayTeams)*myPointsAway))),\"\")","v":0},{"$f":"IF($G22,IF(AE$7=0,-1,SUM((AE$7=myMatchDayRange)*((($H22=myHomeTeams)*myPointsHome)+($H22=myAwayTeams)*myPointsAway))),\"\")","v":0},17,17,16,14,14,13,14,13,14,15,13,14.7,17,null,null,null,null,null,36853900.000014998,1,36853900.000014998,15]
[null,null,null,null,null,16,{"$f":"F23<=Control!$C$15","v":true},{"$f":"IF($G23,'Calculation Results'!E22,\"\")","v":"FC Schalke 04"},{"$f":"IF($G23,SUM((myMatchDay>=myMatchDayRange)*(($H23=myHomeTeams)+($H23=myAwayTeams))),\"\")","v":34},{"$f":"IF($G23,SUM((myMatchDay>=myMatchDayRange)*(($H23=myHomeTeams)*(myPointsHome=Control!$C$14)+($H23=myAwayTeams)*(myPointsAway=Control!$C$14))),\"\")","v":15},{"$f":"IF($G23,SUM((myMatchDay>=myMatchDayRange)*(($H23=myHomeTeams)*(myPointsHome=1)+($H23=myAwayTeams)*(myPointsAway=1))),\"\")","v":7},{"$f":"IF($G23,SUM((myMatchDay>=myMatchDayRange)*(($H23=myHomeTeams)*(myPointsHome=0)+($H23=myAwayTeams)*(myPointsAway=0))),\"\")","v":12},{"$f":"IF($G23,SUM((myMatchDay>=myMatchDayRange)*((($H23=myHomeTeams)*myGoalsHome)+(($H23=myAwayTeams)*myGoalsAway))),\"\")","v":51},{"$f":"IF($G23,SUM((myMatchDay>=myMatchDayRange)*((($H23=myHomeTeams)*myGoalsAway)+(($H23=myAwayTeams)*myGoalsHome))),\"\")","v":49},2,1.5,1.4411764705882353,52,1.5294117647058822,{"$f":"IF($G23,SUM((myMatchDay>=myMatchDayRange)*($H23=myHomeTeams)*myPointsHome),\"\")","v":29},{"$f":"IF($G23,SUM((myMatchDay>=myMatchDayRange)*($H23=myAwayTeams)*myPointsAway),\"\")","v":23},{"$f":"IF($G23,IF(V$7=0,-1,SUM((V$7=myMatchDayRange)*((($H23=myHomeTeams)*myPointsHome)+($H23=myAwayTeams)*myPointsAway))),\"\")","v":3},{"$f":"IF($G23,IF(W$7=0,-1,SUM((W$7=myMatchDayRange)*((($H23=myHomeTeams)*myPointsHome)+($H23=myAwayTeams)*myPointsAway))),\"\")","v":0},{"$f":"IF($G23,IF(X$7=0,-1,SUM((X$7=myMatchDayRange)*((($H23=myHomeTeams)*myPointsHome)+($H23=myAwayTeams)*myPointsAway))),\"\")","v":3},{"$f":"IF($G23,IF(Y$7=0,-1,SUM((Y$7=myMatchDayRange)*((($H23=myHomeTeams)*myPointsHome)+($H23=myAwayTeams)*myPointsAway))),\"\")","v":0},{"$f":"IF($G23,IF(Z$7=0,-1,SUM((Z$7=myMatchDayRange)*((($H23=myHomeTeams)*myPointsHome)+($H23=myAwayTeams)*myPointsAway))),\"\")","v":1},{"$f":"IF($G23,IF(AA$7=0,-1,SUM((AA$7=myMatchDayRange)*((($H23=myHomeTeams)*myPointsHome)+($H23=myAwayTeams)*myPointsAway))),\"\")","v":0},{"$f":"IF($G23,IF(AB$7=0,-1,SUM((AB$7=myMatchDayRange)*((($H23=myHomeTeams)*myPointsHome)+($H23=myAwayTeams)*myPointsAway))),\"\")","v":0},{"$f":"IF($G23,IF(AC$7=0,-1,SUM((AC$7=myMatchDayRange)*((($H23=myHomeTeams)*myPointsHome)+($H23=myAwayTeams)*myPointsAway))),\"\")","v":3},{"$f":"IF($G23,IF(AD$7=0,-1,SUM((AD$7=myMatchDayRange)*((($H23=myHomeTeams)*myPointsHome)+($H23=myAwayTeams)*myPointsAway))),\"\")","v":1},{"$f":"IF($G23,IF(AE$7=0,-1,SUM((AE$7=myMatchDayRange)*((($H23=myHomeTeams)*myPointsHome)+($H23=myAwayTeams)*myPointsAway))),\"\")","v":3},4,5,4,7,7,7,7,6,7,5,4,5.9,7,null,null,null,null,null,52025100.000015996,1,35823400.000010997,5]
[null,null,null,null,null,17,{"$f":"F24<=Control!$C$15","v":true},{"$f":"IF($G24,'Calculation Results'!E23,\"\")","v":"FC Ingolstadt"},{"$f":"IF($G24,SUM((myMatchDay>=myMatchDayRange)*(($H24=myHomeTeams)+($H24=myAwayTeams))),0)","v":34},{"$f":"IF($G24,SUM((myMatchDay>=myMatchDayRange)*(($H24=myHomeTeams)*(myPointsHome=Control!$C$14)+($H24=myAwayTeams)*(myPointsAway=Control!$C$14))),0)","v":10},{"$f":"IF($G24,SUM((myMatchDay>=myMatchDayRange)*(($H24=myHomeTeams)*(myPointsHome=1)+($H24=myAwayTeams)*(myPointsAway=1))),0)","v":10},{"$f":"IF($G24,SUM((myMatchDay>=myMatchDayRange)*(($H24=myHomeTeams)*(myPointsHome=0)+($H24=myAwayTeams)*(myPointsAway=0))),0)","v":14},{"$f":"IF($G24,SUM((myMatchDay>=myMatchDayRange)*((($H24=myHomeTeams)*myGoalsHome)+(($H24=myAwayTeams)*myGoalsAway))),0)","v":33},{"$f":"IF($G24,SUM((myMatchDay>=myMatchDayRange)*((($H24=myHomeTeams)*myGoalsAway)+(($H24=myAwayTeams)*myGoalsHome))),0)","v":42},{"$f":"IF($G24,M24-N24,0)","v":-9},{"$f":"IF($G24,M24/$I24,0)","v":0.97058823529411764},{"$f":"IF($G24,N24/$I24,0)","v":1.2352941176470589},{"$f":"IF($G24,T24+U24,0)","v":40},{"$f":"IF($G24,R24/$I24,0)","v":1.1764705882352942},{"$f":"IF($G24,SUM((myMatchDay>=myMatchDayRange)*($H24=myHomeTeams)*myPointsHome),0)","v":26},{"$f":"IF($G24,SUM((myMatchDay>=myMatchDayRange)*($H24=myAwayTeams)*myPointsAway),0)","v":14},{"$f":"IF($G24,IF(V$7=0,-1,SUM((V$7=myMatchDayRange)*((($H24=myHomeTeams)*myPointsHome)+($H24=myAwayTeams)*myPointsAway))),0)","v":1},{"$f":"IF($G24,IF(W$7=0,-1,SUM((W$7=myMatchDayRange)*((($H24=myHomeTeams)*myPointsHome)+($H24=myAwayTeams)*myPointsAway))),0)","v":1},{"$f":"IF($G24,IF(X$7=0,-1,SUM((X$7=myMatchDayRange)*((($H24=myHomeTeams)*myPointsHome)+($H24=myAwayTeams)*myPointsAway))),0)","v":0},{"$f":"IF($G24,IF(Y$7=0,-1,SUM((Y$7=myMatchDayRange)*((($H24=myHomeTeams)*myPointsHome)+($H24=myAwayTeams)*myPointsAway))),0)","v":3},{"$f":"IF($G24,IF(Z$7=0,-1,SUM((Z$7=myMatchDayRange)*((($H24=myHomeTeams)*myPointsHome)+($H24=myAwayTeams)*myPointsAway))),0)","v":3},{"$f":"IF($G24,IF(AA$7=0,-1,SUM((AA$7=myMatchDayRange)*((($H24=myHomeTeams)*myPointsHome)+($H24=myAwayTeams)*myPointsAway))),0)","v":0},{"$f":"IF($G24,IF(AB$7=0,-1,SUM((AB$7=myMatchDayRange)*((($H24=myHomeTeams)*myPointsHome)+($H24=myAwayTeams)*myPointsAway))),0)","v":1},{"$f":"IF($G24,IF(AC$7=0,-1,SUM((AC$7=myMatchDayRange)*((($H24=myHomeTeams)*myPointsHome)+($H24=myAwayTeams)*myPointsAway))),0)","v":0},{"$f":"IF($G24,IF(AD$7=0,-1,SUM((AD$7=myMatchDayRange)*((($H24=myHomeTeams)*myPointsHome)+($H24=myAwayTeams)*myPointsAway))),0)","v":0},{"$f":"IF($G24,IF(AE$7=0,-1,SUM((AE$7=myMatchDayRange)*((($H24=myHomeTeams)*myPointsHome)+($H24=myAwayTeams)*myPointsAway))),0)","v":0},9,10,10,9,9,9,9,9,10,11,9,9.5,11,null,null,null,null,null,39913300.000017002,1,32755000.000007998,11]
[null,null,null,null,null,18,{"$f":"F25<=Control!$C$15","v":true},{"$f":"IF($G25,'Calculation Results'!E24,\"\")","v":"Borussia M'gladbach"},{"$f":"IF($G25,SUM((myMatchDay>=myMatchDayRange)*(($H25=myHomeTeams)+($H25=myAwayTeams))),0)","v":34},{"$f":"IF($G25,SUM((myMatchDay>=myMatchDayRange)*(($H25=myHomeTeams)*(myPointsHome=Control!$C$14)+($H25=myAwayTeams)*(myPointsAway=Control!$C$14))),0)","v":17},{"$f":"IF($G25,SUM((myMatchDay>=myMatchDayRange)*(($H25=myHomeTeams)*(myPointsHome=1)+($H25=myAwayTeams)*(myPointsAway=1))),0)","v":4},{"$f":"IF($G25,SUM((myMatchDay>=myMatchDayRange)*(($H25=myHomeTeams)*(myPointsHome=0)+($H25=myAwayTeams)*(myPointsAway=0))),0)","v":13},{"$f":"IF($G25,SUM((myMatchDay>=myMatchDayRange)*((($H25=myHomeTeams)*myGoalsHome)+(($H25=myAwayTeams)*myGoalsAway))),0)","v":67},{"$f":"IF($G25,SUM((myMatchDay>=myMatchDayRange)*((($H25=myHomeTeams)*myGoalsAway)+(($H25=myAwayTeams)*myGoalsHome))),0)","v":50},{"$f":"IF($G25,M25-N25,0)","v":17},{"$f":"IF($G25,M25/$I25,0)","v":1.9705882352941178},{"$f":"IF($G25,N25/$I25,0)","v":1.4705882352941178},{"$f":"IF($G25,T25+U25,0)","v":55},{"$f":"IF($G25,R25/$I25,0)","v":1.6176470588235294},{"$f":"IF($G25,SUM((myMatchDay>=myMatchDayRange)*($H25=myHomeTeams)*myPointsHome),0)","v":40},{"$f":"IF($G25,SUM((myMatchDay>=myMatchDayRange)*($H25=myAwayTeams)*myPointsAway),0)","v":15},{"$f":"IF($G25,IF(V$7=0,-1,SUM((V$7=myMatchDayRange)*((($H25=myHomeTeams)*myPointsHome)+($H25=myAwayTeams)*myPointsAway))),0)","v":0},{"$f":"IF($G25,IF(W$7=0,-1,SUM((W$7=myMatchDayRange)*((($H25=myHomeTeams)*myPointsHome)+($H25=myAwayTeams)*myPointsAway))),0)","v":3},{"$f":"IF($G25,IF(X$7=0,-1,SUM((X$7=myMatchDayRange)*((($H25=myHomeTeams)*myPointsHome)+($H25=myAwayTeams)*myPointsAway))),0)","v":0},{"$f":"IF($G25,IF(Y$7=0,-1,SUM((Y$7=myMatchDayRange)*((($H25=myHomeTeams)*myPointsHome)+($H25=myAwayTeams)*myPointsAway))),0)","v":3},{"$f":"IF($G25,IF(Z$7=0,-1,SUM((Z$7=myMatchDayRange)*((($H25=myHomeTeams)*myPointsHome)+($H25=myAwayTeams)*myPointsAway))),0)","v":0},{"$f":"IF($G25,IF(AA$7=0,-1,SUM((AA$7=myMatchDayRange)*((($H25=myHomeTeams)*myPointsHome)+($H25=myAwayTeams)*myPointsAway))),0)","v":0},{"$f":"IF($G25,IF(AB$7=0,-1,SUM((AB$7=myMatchDayRange)*((($H25=myHomeTeams)*myPointsHome)+($H25=myAwayTeams)*myPointsAway))),0)","v":3},{"$f":"IF($G25,IF(AC$7=0,-1,SUM((AC$7=myMatchDayRange)*((($H25=myHomeTeams)*myPointsHome)+($H25=myAwayTeams)*myPointsAway))),0)","v":1},{"$f":"IF($G25,IF(AD$7=0,-1,SUM((AD$7=myMatchDayRange)*((($H25=myHomeTeams)*myPointsHome)+($H25=myAwayTeams)*myPointsAway))),0)","v":3},{"$f":"IF($G25,IF(AE$7=0,-1,SUM((AE$7=myMatchDayRange)*((($H25=myHomeTeams)*myPointsHome)+($H25=myAwayTeams)*myPointsAway))),0)","v":3},6,4,5,4,5,5,5,4,4,4,4,4.5999999999999996,6,null,null,null,null,null,55176700.000018001,1,24693100.000014,4]
[]
[null,"Part 2: consolidate sorted table and add prevoius week position / trend"]
[]
[null,null,null,null,null,null,null,null,null,null,null,null,null,null,null,null,null,null,null,null,null,"Last 10 matches",null,null,null,null,null,null,null,null,null,"Last 10 positions"]
[null,null,null,null,null,null,null,null,"M","W","D","L","GF","GA","Diff","Avg. GF","Avg. GA","Pts","PpM","PtH","PtA",{"$f":"MAX(W30-1,0)","v":25},26,27,28,29,30,31,32,33,{"$f":"myMatchDay","v":34},{"$f":"MAX(AG30-1,0)","v":25},26,27,28,29,30,31,32,33,{"$f":"myMatchDay","v":34},"B","Avg.","W"]
[null,1,{"$f":"IF(G31,B31,\"\")","v":1},{"$f":"IF(G31,AO31,\"\")","v":1},{"$f":"IF(AND(myMatchDay>1,G31),AN31,\"\")","v":1},{"$f":"IF(E31=\"\",\"\",IF(B31<E31,\"▲\",IF(B31>E31,\"▼\",\"↔\")))","v":"↔"},{"$f":"INDEX(G$8:G$25,MATCH($B31,$BA$8:$BA$25,0),1)","v":true},"FC Bayern München",{"$f":"IF($G31,INDEX(I$8:I$25,MATCH($B31,$BA$8:$BA$25,0),1),\"\")","v":34},28,4,2,80,17,63,2.3529411764705883,0.5,88,2.5882352941176472,46,42,{"$f":"IF($G31,INDEX(V$8:V$25,MATCH($B31,$BA$8:$BA$25,0),1),NA())","v":1},3,3,3,3,3,3,1,3,3,{"$f":"IF($G31,INDEX(AF$8:AF$25,MATCH($B31,$BA$8:$BA$25,0),1),NA())","v":1},1,1,1,1,1,1,1,1,1,{"$f":"IF($G31,INDEX(AP$8:AP$25,MATCH($B31,$BA$8:$BA$25,0),1),\"\")","v":1},1,1]
[null,2,{"$f":"IF(G32,B32,\"\")","v":2},2,2,"↔",true,"Borussia Dortmund",34,24,6,4,82,34,48,2.4117647058823528,1,78,2.2941176470588234,45,33,1,3,3,3,1,3,3,3,0,1,2,2,2,2,2,2,2,2,2,2,2,2,2]
[null,3,3,3,3,"↔",true,"Bayer Leverkusen",34,18,6,10,56,40,16,1.6470588235294117,1.1764705882352942,60,1.7647058823529411,33,27,1,3,3,3,3,3,3,3,0,3,8,7,6,5,4,3,3,3,3,3,3,4.5,8]
[null,4,4,4,4,"↔",true,"Borussia M'gladbach",34,17,4,13,67,50,17,1.9705882352941178,1.4705882352941178,55,1.6176470588235294,40,15,0,3,0,3,0,0,3,1,3,3,6,4,5,4,5,5,5,4,4,4,4,4.5999999999999996,6]
[null,5,5,5,7,"▲",true,"FC Schalke 04",34,15,7,12,51,49,2,1.5,1.4411764705882353,52,1.5294117647058822,29,23,3,0,3,0,1,0,0,3,1,3,4,5,4,7,7,7,7,6,7,5,4,5.9,7]
[null,6,6,6,5,"▼",true,"FSV Mainz 05",34,14,8,12,46,42,4,1.3529411764705883,1.2352941176470589,50,1.4705882352941178,28,22,1,0,1,3,1,0,0,1,3,1,5,6,7,6,6,6,6,7,5,6,5,6,7]
[null,7,7,7,6,"▼",true,"Hertha BSC Berlin",34,14,8,12,42,42,0,1.2352941176470589,1.2352941176470589,50,1.4705882352941178,32,18,0,3,3,0,1,0,0,0,0,1,3,3,3,3,3,4,4,5,6,7,3,4.0999999999999996,7]
[null,8,8,8,8,"↔",true,"VfL Wolfsburg",34,12,9,13,47,49,-2,1.3823529411764706,1.4411764705882353,45,1.3235294117647058,32,13,3,0,1,0,1,0,0,0,3,3,7,8,8,8,8,8,10,10,8,8,7,8.3000000000000007,10]
[null,9,9,9,9,"↔",true,"1.FC Köln",34,10,13,11,38,42,-4,1.1176470588235294,1.2352941176470589,43,1.2647058823529411,20,23,0,3,0,1,0,3,3,1,1,1,12,9,9,11,11,10,8,8,9,9,8,9.6,12]
[null,10,10,10,12,"▲",true,"Hamburger SV",34,11,8,15,40,46,-6,1.1764705882352942,1.3529411764705883,41,1.2058823529411764,19,22,3,0,0,3,0,0,3,1,0,3,10,12,12,10,10,12,11,11,12,10,10,11,12]
[null,11,11,11,10,"▼",true,"FC Ingolstadt",{"$f":"IF($G41,INDEX(I$8:I$25,MATCH($B41,$BA$8:$BA$25,0),1),\"\")","v":34},10,10,14,33,42,-9,0.97058823529411764,1.2352941176470589,40,1.1764705882352942,26,14,{"$f":"IF($G41,INDEX(V$8:V$25,MATCH($B41,$BA$8:$BA$25,0),1),NA())","v":1},1,0,3,3,0,1,0,0,0,{"$f":"IF($G41,INDEX(AF$8:AF$25,MATCH($B41,$BA$8:$BA$25,0),1),NA())","v":9},10,10,9,9,9,9,9,10,11,9,9.5,11]
[null,12,12,12,11,"▼",true,"FC Augsburg",34,9,11,14,42,52,-10,1.2352941176470589,1.5294117647058822,38,1.1176470588235294,15,23,1,1,0,0,3,3,3,1,1,0,14,13,15,16,15,14,12,12,11,12,11,13.4,16]
[null,13,13,13,16,"▲",true,"Werder Bremen",34,10,8,16,50,65,-15,1.4705882352941178,1.911764705882353,38,1.1176470588235294,20,18,3,0,1,0,0,3,0,3,1,3,13,15,14,15,16,16,16,15,16,13,13,14.9,16]
[null,14,14,14,13,"▼",true,"Darmstadt 98",34,9,11,14,38,53,-15,1.1176470588235294,1.5588235294117647,38,1.1176470588235294,12,26,1,1,1,1,3,3,0,0,3,0,15,14,13,13,13,11,13,14,13,14,11,13.3,15]
[null,15,15,15,14,"▼",true,"TSG 1899 Hoffenheim",34,9,10,15,39,54,-15,1.1470588235294117,1.588235294117647,37,1.088235294117647,24,13,0,3,3,1,3,3,0,3,0,0,17,17,16,14,14,13,14,13,14,15,13,14.7,17]
[null,16,16,16,15,"▼",true,"Eintracht Frankfurt",34,9,9,16,34,52,-18,1,1.5294117647058822,36,1.0588235294117647,24,12,1,0,3,0,0,0,3,3,3,0,16,16,17,17,17,17,17,16,15,16,15,16.399999999999999,17]
[null,17,17,{"$f":"IF(G47,AO47,\"\")","v":17},17,"↔",true,"VfB Stuttgart",34,9,6,19,50,75,-25,1.4705882352941178,2.2058823529411766,33,0.97058823529411764,19,14,3,1,0,1,0,0,0,0,0,0,11,11,11,12,12,15,15,17,17,17,11,13.8,17]
[null,18,18,{"$f":"IF(G48,AO48,\"\")","v":18},18,"↔",true,"Hannover 96",34,7,4,23,31,62,-31,0.91176470588235292,1.8235294117647058,25,0.73529411764705888,12,13,0,0,0,0,1,3,1,0,3,0,18,18,18,18,18,18,18,18,18,18,18,18,18]
[]
[null,"Part 3: calculate help columns for win/draw/loss charts on dashboard"]
[]
[null,null,null,null,null,null,null,{"$f":"H31","v":"FC Bayern München"},{"$f":"IF(V31=Control!$C$14,1,NA())","v":{"$error":"#N/A"}},{"$f":"IF(W31=Control!$C$14,1,NA())","v":1},{"$f":"IF(X31=Control!$C$14,1,NA())","v":1},{"$f":"IF(Y31=Control!$C$14,1,NA())","v":1},{"$f":"IF(Z31=Control!$C$14,1,NA())","v":1},{"$f":"IF(AA31=Control!$C$14,1,NA())","v":1},{"$f":"IF(AB31=Control!$C$14,1,NA())","v":1},{"$f":"IF(AC31=Control!$C$14,1,NA())","v":{"$error":"#N/A"}},{"$f":"IF(AD31=Control!$C$14,1,NA())","v":1},{"$f":"IF(AE31=Control!$C$14,1,NA())","v":1},{"$f":"IF(V31=0,-1,NA())","v":{"$error":"#N/A"}},{"$f":"IF(W31=0,-1,NA())","v":{"$error":"#N/A"}},{"$f":"IF(X31=0,-1,NA())","v":{"$error":"#N/A"}},{"$f":"IF(Y31=0,-1,NA())","v":{"$error":"#N/A"}},{"$f":"IF(Z31=0,-1,NA())","v":{"$error":"#N/A"}},{"$f":"IF(AA31=0,-1,NA())","v":{"$error":"#N/A"}},{"$f":"IF(AB31=0,-1,NA())","v":{"$error":"#N/A"}},{"$f":"IF(AC31=0,-1,NA())","v":{"$error":"#N/A"}},{"$f":"IF(AD31=0,-1,NA())","v":{"$error":"#N/A"}},{"$f":"IF(AE31=0,-1,NA())","v":{"$error":"#N/A"}},{"$f":"IF(V31=1,0.25,NA())","v":0.25},{"$f":"IF(W31=1,0.25,NA())","v":{"$error":"#N/A"}},{"$f":"IF(X31=1,0.25,NA())","v":{"$error":"#N/A"}},{"$f":"IF(Y31=1,0.25,NA())","v":{"$error":"#N/A"}},{"$f":"IF(Z31=1,0.25,NA())","v":{"$error":"#N/A"}},{"$f":"IF(AA31=1,0.25,NA())","v":{"$error":"#N/A"}},{"$f":"IF(AB31=1,0.25,NA())","v":{"$error":"#N/A"}},{"$f":"IF(AC31=1,0.25,NA())","v":0.25},{"$f":"IF(AD31=1,0.25,NA())","v":{"$error":"#N/A"}},{"$f":"IF(AE31=1,0.25,NA())","v":{"$error":"#N/A"}},{"$f":"IF(V31=1,-0.25,NA())","v":-0.25},{"$f":"IF(W31=1,-0.25,NA())","v":{"$error":"#N/A"}},{"$f":"IF(X31=1,-0.25,NA())","v":{"$error":"#N/A"}},{"$f":"IF(Y31=1,-0.25,NA())","v":{"$error":"#N/A"}},{"$f":"IF(Z31=1,-0.25,NA())","v":{"$error":"#N/A"}},{"$f":"IF(AA31=1,-0.25,NA())","v":{"$error":"#N/A"}},{"$f":"IF(AB31=1,-0.25,NA())","v":{"$error":"#N/A"}},{"$f":"IF(AC31=1,-0.25,NA())","v":-0.25},{"$f":"IF(AD31=1,-0.25,NA())","v":{"$error":"#N/A"}},{"$f":"IF(AE31=1,-0.25,NA())","v":{"$error":"#N/A"}}]
[null,null,null,null,null,null,null,{"$f":"H32","v":"Borussia Dortmund"},{"$f":"IF(V32=Control!$C$14,1,NA())","v":{"$error":"#N/A"}},{"$f":"IF(W32=Control!$C$14,1,NA())","v":1},{"$f":"IF(X32=Control!$C$14,1,NA())","v":1},{"$f":"IF(Y32=Control!$C$14,1,NA())","v":1},{"$f":"IF(Z32=Control!$C$14,1,NA())","v":{"$error":"#N/A"}},{"$f":"IF(AA32=Control!$C$14,1,NA())","v":1},{"$f":"IF(AB32=Control!$C$14,1,NA())","v":1},{"$f":"IF(AC32=Control!$C$14,1,NA())","v":1},{"$f":"IF(AD32=Control!$C$14,1,NA())","v":{"$error":"#N/A"}},{"$f":"IF(AE32=Control!$C$14,1,NA())","v":{"$error":"#N/A"}},{"$error":"#N/A"},{"$error":"#N/A"},{"$error":"#N/A"},{"$error":"#N/A"},{"$error":"#N/A"},{"$error":"#N/A"},{"$error":"#N/A"},{"$error":"#N/A"},-1,{"$error":"#N/A"},0.25,{"$error":"#N/A"},{"$error":"#N/A"},{"$error":"#N/A"},0.25,{"$error":"#N/A"},{"$error":"#N/A"},{"$error":"#N/A"},{"$error":"#N/A"},0.25,-0.25,{"$error":"#N/A"},{"$error":"#N/A"},{"$error":"#N/A"},-0.25,{"$error":"#N/A"},{"$error":"#N/A"},{"$error":"#N/A"},{"$error":"#N/A"},-0.25]
[null,null,null,null,null,null,null,"Bayer Leverkusen",{"$f":"IF(V33=Control!$C$14,1,NA())","v":{"$error":"#N/A"}},{"$f":"IF(W33=Control!$C$14,1,NA())","v":1},{"$f":"IF(X33=Control!$C$14,1,NA())","v":1},{"$f":"IF(Y33=Control!$C$14,1,NA())","v":1},{"$f":"IF(Z33=Control!$C$14,1,NA())","v":1},{"$f":"IF(AA33=Control!$C$14,1,NA())","v":1},{"$f":"IF(AB33=Control!$C$14,1,NA())","v":1},{"$f":"IF(AC33=Control!$C$14,1,NA())","v":1},{"$f":"IF(AD33=Control!$C$14,1,NA())","v":{"$error":"#N/A"}},{"$f":"IF(AE33=Control!$C$14,1,NA())","v":1},{"$error":"#N/A"},{"$error":"#N/A"},{"$error":"#N/A"},{"$error":"#N/A"},{"$error":"#N/A"},{"$error":"#N/A"},{"$error":"#N/A"},{"$error":"#N/A"},-1,{"$error":"#N/A"},0.25,{"$error":"#N/A"},{"$error":"#N/A"},{"$error":"#N/A"},{"$error":"#N/A"},{"$error":"#N/A"},{"$error":"#N/A"},{"$error":"#N/A"},{"$error":"#N/A"},{"$error":"#N/A"},-0.25,{"$error":"#N/A"},{"$error":"#N/A"},{"$error":"#N/A"},{"$error":"#N/A"},{"$error":"#N/A"},{"$error":"#N/A"},{"$error":"#N/A"},{"$error":"#N/A"},{"$error":"#N/A"}]
[null,null,null,null,null,null,null,"Borussia M'gladbach",{"$f":"IF(V34=Control!$C$14,1,NA())","v":{"$error":"#N/A"}},{"$f":"IF(W34=Control!$C$14,1,NA())","v":1},{"$f":"IF(X34=Control!$C$14,1,NA())","v":{"$error":"#N/A"}},{"$f":"IF(Y34=Control!$C$14,1,NA())","v":1},{"$f":"IF(Z34=Control!$C$14,1,NA())","v":{"$error":"#N/A"}},{"$f":"IF(AA34=Control!$C$14,1,NA())","v":{"$error":"#N/A"}},{"$f":"IF(AB34=Control!$C$14,1,NA())","v":1},{"$f":"IF(AC34=Control!$C$14,1,NA())","v":{"$error":"#N/A"}},{"$f":"IF(AD34=Control!$C$14,1,NA())","v":1},{"$f":"IF(AE34=Control!$C$14,1,NA())","v":1},-1,{"$error":"#N/A"},-1,{"$error":"#N/A"},-1,-1,{"$error":"#N/A"},{"$error":"#N/A"},{"$error":"#N/A"},{"$error":"#N/A"},{"$error":"#N/A"},{"$error":"#N/A"},{"$error":"#N/A"},{"$error":"#N/A"},{"$error":"#N/A"},{"$error":"#N/A"},{"$error":"#N/A"},0.25,{"$error":"#N/A"},{"$error":"#N/A"},{"$error":"#N/A"},{"$error":"#N/A"},{"$error":"#N/A"},{"$error":"#N/A"},{"$error":"#N/A"},{"$error":"#N/A"},{"$error":"#N/A"},-0.25,{"$error":"#N/A"},{"$error":"#N/A"}]
[null,null,null,null,null,null,null,"FC Schalke 04",{"$f":"IF(V35=Control!$C$14,1,NA())","v":1},{"$f":"IF(W35=Control!$C$14,1,NA())","v":{"$error":"#N/A"}},{"$f":"IF(X35=Control!$C$14,1,NA())","v":1},{"$f":"IF(Y35=Control!$C$14,1,NA())","v":{"$error":"#N/A"}},{"$f":"IF(Z35=Control!$C$14,1,NA())","v":{"$error":"#N/A"}},{"$f":"IF(AA35=Control!$C$14,1,NA())","v":{"$error":"#N/A"}},{"$f":"IF(AB35=Control!$C$14,1,NA())","v":{"$error":"#N/A"}},{"$f":"IF(AC35=Control!$C$14,1,NA())","v":1},{"$f":"IF(AD35=Control!$C$14,1,NA())","v":{"$error":"#N/A"}},{"$f":"IF(AE35=Control!$C$14,1,NA())","v":1},{"$error":"#N/A"},-1,{"$error":"#N/A"},-1,{"$error":"#N/A"},-1,-1,{"$error":"#N/A"},{"$error":"#N/A"},{"$error":"#N/A"},{"$error":"#N/A"},{"$error":"#N/A"},{"$error":"#N/A"},{"$error":"#N/A"},0.25,{"$error":"#N/A"},{"$error":"#N/A"},{"$error":"#N/A"},0.25,{"$error":"#N/A"},{"$error":"#N/A"},{"$error":"#N/A"},{"$error":"#N/A"},{"$error":"#N/A"},-0.25,{"$error":"#N/A"},{"$error":"#N/A"},{"$error":"#N/A"},-0.25,{"$error":"#N/A"}]
[null,null,null,null,null,null,null,"FSV Mainz 05",{"$f":"IF(V36=Control!$C$14,1,NA())","v":{"$error":"#N/A"}},{"$f":"IF(W36=Control!$C$14,1,NA())","v":{"$error":"#N/A"}},{"$f":"IF(X36=Control!$C$14,1,NA())","v":{"$error":"#N/A"}},{"$f":"IF(Y36=Control!$C$14,1,NA())","v":1},{"$f":"IF(Z36=Control!$C$14,1,NA())","v":{"$error":"#N/A"}},{"$f":"IF(AA36=Control!$C$14,1,NA())","v":{"$error":"#N/A"}},{"$f":"IF(AB36=Control!$C$14,1,NA())","v":{"$error":"#N/A"}},{"$f":"IF(AC36=Control!$C$14,1,NA())","v":{"$error":"#N/A"}},{"$f":"IF(AD36=Control!$C$14,1,NA())","v":1},{"$f":"IF(AE36=Control!$C$14,1,NA())","v":{"$error":"#N/A"}},{"$error":"#N/A"},-1,{"$error":"#N/A"},{"$error":"#N/A"},{"$error":"#N/A"},-1,-1,{"$error":"#N/A"},{"$error":"#N/A"},{"$error":"#N/A"},0.25,{"$error":"#N/A"},0.25,{"$error":"#N/A"},0.25,{"$error":"#N/A"},{"$error":"#N/A"},0.25,{"$error":"#N/A"},0.25,-0.25,{"$error":"#N/A"},-0.25,{"$error":"#N/A"},-0.25,{"$error":"#N/A"},{"$error":"#N/A"},-0.25,{"$error":"#N/A"},-0.25]
[null,null,null,null,null,null,null,"Hertha BSC Berlin",{"$f":"IF(V37=Control!$C$14,1,NA())","v":{"$error":"#N/A"}},{"$f":"IF(W37=Control!$C$14,1,NA())","v":1},{"$f":"IF(X37=Control!$C$14,1,NA())","v":1},{"$f":"IF(Y37=Control!$C$14,1,NA())","v":{"$error":"#N/A"}},{"$f":"IF(Z37=Control!$C$14,1,NA())","v":{"$error":"#N/A"}},{"$f":"IF(AA37=Control!$C$14,1,NA())","v":{"$error":"#N/A"}},{"$f":"IF(AB37=Control!$C$14,1,NA())","v":{"$error":"#N/A"}},{"$f":"IF(AC37=Control!$C$14,1,NA())","v":{"$error":"#N/A"}},{"$f":"IF(AD37=Control!$C$14,1,NA())","v":{"$error":"#N/A"}},{"$f":"IF(AE37=Control!$C$14,1,NA())","v":{"$error":"#N/A"}},-1,{"$error":"#N/A"},{"$error":"#N/A"},-1,{"$error":"#N/A"},-1,-1,-1,-1,{"$error":"#N/A"},{"$error":"#N/A"},{"$error":"#N/A"},{"$error":"#N/A"},{"$error":"#N/A"},0.25,{"$error":"#N/A"},{"$error":"#N/A"},{"$error":"#N/A"},{"$error":"#N/A"},0.25,{"$error":"#N/A"},{"$error":"#N/A"},{"$error":"#N/A"},{"$error":"#N/A"},-0.25,{"$error":"#N/A"},{"$error":"#N/A"},{"$error":"#N/A"},{"$error":"#N/A"},-0.25]
[null,null,null,null,null,null,null,"VfL Wolfsburg",{"$f":"IF(V38=Control!$C$14,1,NA())","v":1},{"$f":"IF(W38=Control!$C$14,1,NA())","v":{"$error":"#N/A"}},{"$f":"IF(X38=Control!$C$14,1,NA())","v":{"$error":"#N/A"}},{"$f":"IF(Y38=Control!$C$14,1,NA())","v":{"$error":"#N/A"}},{"$f":"IF(Z38=Control!$C$14,1,NA())","v":{"$error":"#N/A"}},{"$f":"IF(AA38=Control!$C$14,1,NA())","v":{"$error":"#N/A"}},{"$f":"IF(AB38=Control!$C$14,1,NA())","v":{"$error":"#N/A"}},{"$f":"IF(AC38=Control!$C$14,1,NA())","v":{"$error":"#N/A"}},{"$f":"IF(AD38=Control!$C$14,1,NA())","v":1},{"$f":"IF(AE38=Control!$C$14,1,NA())","v":1},{"$error":"#N/A"},-1,{"$error":"#N/A"},-1,{"$error":"#N/A"},-1,-1,-1,{"$error":"#N/A"},{"$error":"#N/A"},{"$error":"#N/A"},{"$error":"#N/A"},0.25,{"$error":"#N/A"},0.25,{"$error":"#N/A"},{"$error":"#N/A"},{"$error":"#N/A"},{"$error":"#N/A"},{"$error":"#N/A"},{"$error":"#N/A"},{"$error":"#N/A"},-0.25,{"$error":"#N/A"},-0.25,{"$error":"#N/A"},{"$error":"#N/A"},{"$error":"#N/A"},{"$error":"#N/A"},{"$error":"#N/A"}]
[null,null,null,null,null,null,null,"1.FC Köln",{"$f":"IF(V39=Control!$C$14,1,NA())","v":{"$error":"#N/A"}},{"$f":"IF(W39=Control!$C$14,1,NA())","v":1},{"$f":"IF(X39=Control!$C$14,1,NA())","v":{"$error":"#N/A"}},{"$f":"IF(Y39=Control!$C$14,1,NA())","v":{"$error":"#N/A"}},{"$f":"IF(Z39=Control!$C$14,1,NA())","v":{"$error":"#N/A"}},{"$f":"IF(AA39=Control!$C$14,1,NA())","v":1},{"$f":"IF(AB39=Control!$C$14,1,NA())","v":1},{"$f":"IF(AC39=Control!$C$14,1,NA())","v":{"$error":"#N/A"}},{"$f":"IF(AD39=Control!$C$14,1,NA())","v":{"$error":"#N/A"}},{"$f":"IF(AE39=Control!$C$14,1,NA())","v":{"$error":"#N/A"}},-1,{"$error":"#N/A"},-1,{"$error":"#N/A"},-1,{"$error":"#N/A"},{"$error":"#N/A"},{"$error":"#N/A"},{"$error":"#N/A"},{"$error":"#N/A"},{"$error":"#N/A"},{"$error":"#N/A"},{"$error":"#N/A"},0.25,{"$error":"#N/A"},{"$error":"#N/A"},{"$error":"#N/A"},0.25,0.25,0.25,{"$error":"#N/A"},{"$error":"#N/A"},{"$error":"#N/A"},-0.25,{"$error":"#N/A"},{"$error":"#N/A"},{"$error":"#N/A"},-0.25,-0.25,-0.25]
[null,null,null,null,null,null,null,"Hamburger SV",{"$f":"IF(V40=Control!$C$14,1,NA())","v":1},{"$f":"IF(W40=Control!$C$14,1,NA())","v":{"$error":"#N/A"}},{"$f":"IF(X40=Control!$C$14,1,NA())","v":{"$error":"#N/A"}},{"$f":"IF(Y40=Control!$C$14,1,NA())","v":1},{"$f":"IF(Z40=Control!$C$14,1,NA())","v":{"$error":"#N/A"}},{"$f":"IF(AA40=Control!$C$14,1,NA())","v":{"$error":"#N/A"}},{"$f":"IF(AB40=Control!$C$14,1,NA())","v":1},{"$f":"IF(AC40=Control!$C$14,1,NA())","v":{"$error":"#N/A"}},{"$f":"IF(AD40=Control!$C$14,1,NA())","v":{"$error":"#N/A"}},{"$f":"IF(AE40=Control!$C$14,1,NA())","v":1},{"$error":"#N/A"},-1,-1,{"$error":"#N/A"},-1,-1,{"$error":"#N/A"},{"$error":"#N/A"},-1,{"$error":"#N/A"},{"$error":"#N/A"},{"$error":"#N/A"},{"$error":"#N/A"},{"$error":"#N/A"},{"$error":"#N/A"},{"$error":"#N/A"},{"$error":"#N/A"},0.25,{"$error":"#N/A"},{"$error":"#N/A"},{"$error":"#N/A"},{"$error":"#N/A"},{"$error":"#N/A"},{"$error":"#N/A"},{"$error":"#N/A"},{"$error":"#N/A"},{"$error":"#N/A"},-0.25,{"$error":"#N/A"},{"$error":"#N/A"}]
[null,null,null,null,null,null,null,"FC Ingolstadt",{"$f":"IF(V41=Control!$C$14,1,NA())","v":{"$error":"#N/A"}},{"$f":"IF(W41=Control!$C$14,1,NA())","v":{"$error":"#N/A"}},{"$f":"IF(X41=Control!$C$14,1,NA())","v":{"$error":"#N/A"}},{"$f":"IF(Y41=Control!$C$14,1,NA())","v":1},{"$f":"IF(Z41=Control!$C$14,1,NA())","v":1},{"$f":"IF(AA41=Control!$C$14,1,NA())","v":{"$error":"#N/A"}},{"$f":"IF(AB41=Control!$C$14,1,NA())","v":{"$error":"#N/A"}},{"$f":"IF(AC41=Control!$C$14,1,NA())","v":{"$error":"#N/A"}},{"$f":"IF(AD41=Control!$C$14,1,NA())","v":{"$error":"#N/A"}},{"$f":"IF(AE41=Control!$C$14,1,NA())","v":{"$error":"#N/A"}},{"$error":"#N/A"},{"$error":"#N/A"},-1,{"$error":"#N/A"},{"$error":"#N/A"},-1,{"$error":"#N/A"},-1,-1,-1,0.25,0.25,{"$error":"#N/A"},{"$error":"#N/A"},{"$error":"#N/A"},{"$error":"#N/A"},0.25,{"$error":"#N/A"},{"$error":"#N/A"},{"$error":"#N/A"},-0.25,-0.25,{"$error":"#N/A"},{"$error":"#N/A"},{"$error":"#N/A"},{"$error":"#N/A"},-0.25,{"$error":"#N/A"},{"$error":"#N/A"},{"$error":"#N/A"}]
[null,null,null,null,null,null,null,"FC Augsburg",{"$f":"IF(V42=Control!$C$14,1,NA())","v":{"$error":"#N/A"}},{"$f":"IF(W42=Control!$C$14,1,NA())","v":{"$error":"#N/A"}},{"$f":"IF(X42=Control!$C$14,1,NA())","v":{"$error":"#N/A"}},{"$f":"IF(Y42=Control!$C$14,1,NA())","v":{"$error":"#N/A"}},{"$f":"IF(Z42=Control!$C$14,1,NA())","v":1},{"$f":"IF(AA42=Control!$C$14,1,NA())","v":1},{"$f":"IF(AB42=Control!$C$14,1,NA())","v":1},{"$f":"IF(AC42=Control!$C$14,1,NA())","v":{"$error":"#N/A"}},{"$f":"IF(AD42=Control!$C$14,1,NA())","v":{"$error":"#N/A"}},{"$f":"IF(AE42=Control!$C$14,1,NA())","v":{"$error":"#N/A"}},{"$error":"#N/A"},{"$error":"#N/A"},-1,-1,{"$error":"#N/A"},{"$error":"#N/A"},{"$error":"#N/A"},{"$error":"#N/A"},{"$error":"#N/A"},-1,0.25,0.25,{"$error":"#N/A"},{"$error":"#N/A"},{"$error":"#N/A"},{"$error":"#N/A"},{"$error":"#N/A"},0.25,0.25,{"$error":"#N/A"},-0.25,-0.25,{"$error":"#N/A"},{"$error":"#N/A"},{"$error":"#N/A"},{"$error":"#N/A"},{"$error":"#N/A"},-0.25,-0.25,{"$error":"#N/A"}]
[null,null,null,null,null,null,null,"Werder Bremen",{"$f":"IF(V43=Control!$C$14,1,NA())","v":1},{"$f":"IF(W43=Control!$C$14,1,NA())","v":{"$error":"#N/A"}},{"$f":"IF(X43=Control!$C$14,1,NA())","v":{"$error":"#N/A"}},{"$f":"IF(Y43=Control!$C$14,1,NA())","v":{"$error":"#N/A"}},{"$f":"IF(Z43=Control!$C$14,1,NA())","v":{"$error":"#N/A"}},{"$f":"IF(AA43=Control!$C$14,1,NA())","v":1},{"$f":"IF(AB43=Control!$C$14,1,NA())","v":{"$error":"#N/A"}},{"$f":"IF(AC43=Control!$C$14,1,NA())","v":1},{"$f":"IF(AD43=Control!$C$14,1,NA())","v":{"$error":"#N/A"}},{"$f":"IF(AE43=Control!$C$14,1,NA())","v":1},{"$error":"#N/A"},-1,{"$error":"#N/A"},-1,-1,{"$error":"#N/A"},-1,{"$error":"#N/A"},{"$error":"#N/A"},{"$error":"#N/A"},{"$error":"#N/A"},{"$error":"#N/A"},0.25,{"$error":"#N/A"},{"$error":"#N/A"},{"$error":"#N/A"},{"$error":"#N/A"},{"$error":"#N/A"},0.25,{"$error":"#N/A"},{"$error":"#N/A"},{"$error":"#N/A"},-0.25,{"$error":"#N/A"},{"$error":"#N/A"},{"$error":"#N/A"},{"$error":"#N/A"},{"$error":"#N/A"},-0.25,{"$error":"#N/A"}]
[null,null,null,null,null,null,null,"Darmstadt 98",{"$f":"IF(V44=Control!$C$14,1,NA())","v":{"$error":"#N/A"}},{"$f":"IF(W44=Control!$C$14,1,NA())","v":{"$error":"#N/A"}},{"$f":"IF(X44=Control!$C$14,1,NA())","v":{"$error":"#N/A"}},{"$f":"IF(Y44=Control!$C$14,1,NA())","v":{"$error":"#N/A"}},{"$f":"IF(Z44=Control!$C$14,1,NA())","v":1},{"$f":"IF(AA44=Control!$C$14,1,NA())","v":1},{"$f":"IF(AB44=Control!$C$14,1,NA())","v":{"$error":"#N/A"}},{"$f":"IF(AC44=Control!$C$14,1,NA())","v":{"$error":"#N/A"}},{"$f":"IF(AD44=Control!$C$14,1,NA())","v":1},{"$f":"IF(AE44=Control!$C$14,1,NA())","v":{"$error":"#N/A"}},{"$error":"#N/A"},{"$error":"#N/A"},{"$error":"#N/A"},{"$error":"#N/A"},{"$error":"#N/A"},{"$error":"#N/A"},-1,-1,{"$error":"#N/A"},-1,0.25,0.25,0.25,0.25,{"$error":"#N/A"},{"$error":"#N/A"},{"$error":"#N/A"},{"$error":"#N/A"},{"$error":"#N/A"},{"$error":"#N/A"},-0.25,-0.25,-0.25,-0.25,{"$error":"#N/A"},{"$error":"#N/A"},{"$error":"#N/A"},{"$error":"#N/A"},{"$error":"#N/A"},{"$error":"#N/A"}]
[null,null,null,null,null,null,null,"TSG 1899 Hoffenheim",{"$f":"IF(V45=Control!$C$14,1,NA())","v":{"$error":"#N/A"}},{"$f":"IF(W45=Control!$C$14,1,NA())","v":1},{"$f":"IF(X45=Control!$C$14,1,NA())","v":1},{"$f":"IF(Y45=Control!$C$14,1,NA())","v":{"$error":"#N/A"}},{"$f":"IF(Z45=Control!$C$14,1,NA())","v":1},{"$f":"IF(AA45=Control!$C$14,1,NA())","v":1},{"$f":"IF(AB45=Control!$C$14,1,NA())","v":{"$error":"#N/A"}},{"$f":"IF(AC45=Control!$C$14,1,NA())","v":1},{"$f":"IF(AD45=Control!$C$14,1,NA())","v":{"$error":"#N/A"}},{"$f":"IF(AE45=Control!$C$14,1,NA())","v":{"$error":"#N/A"}},-1,{"$error":"#N/A"},{"$error":"#N/A"},{"$error":"#N/A"},{"$error":"#N/A"},{"$error":"#N/A"},-1,{"$error":"#N/A"},-1,-1,{"$error":"#N/A"},{"$error":"#N/A"},{"$error":"#N/A"},0.25,{"$error":"#N/A"},{"$error":"#N/A"},{"$error":"#N/A"},{"$error":"#N/A"},{"$error":"#N/A"},{"$error":"#N/A"},{"$error":"#N/A"},{"$error":"#N/A"},{"$error":"#N/A"},-0.25,{"$error":"#N/A"},{"$error":"#N/A"},{"$error":"#N/A"},{"$error":"#N/A"},{"$error":"#N/A"},{"$error":"#N/A"}]
[null,null,null,null,null,null,null,"Eintracht Frankfurt",{"$f":"IF(V46=Control!$C$14,1,NA())","v":{"$error":"#N/A"}},{"$f":"IF(W46=Control!$C$14,1,NA())","v":{"$error":"#N/A"}},{"$f":"IF(X46=Control!$C$14,1,NA())","v":1},{"$f":"IF(Y46=Control!$C$14,1,NA())","v":{"$error":"#N/A"}},{"$f":"IF(Z46=Control!$C$14,1,NA())","v":{"$error":"#N/A"}},{"$f":"IF(AA46=Control!$C$14,1,NA())","v":{"$error":"#N/A"}},{"$f":"IF(AB46=Control!$C$14,1,NA())","v":1},{"$f":"IF(AC46=Control!$C$14,1,NA())","v":1},{"$f":"IF(AD46=Control!$C$14,1,NA())","v":1},{"$f":"IF(AE46=Control!$C$14,1,NA())","v":{"$error":"#N/A"}},{"$error":"#N/A"},-1,{"$error":"#N/A"},-1,-1,-1,{"$error":"#N/A"},{"$error":"#N/A"},{"$error":"#N/A"},-1,0.25,{"$error":"#N/A"},{"$error":"#N/A"},{"$error":"#N/A"},{"$error":"#N/A"},{"$error":"#N/A"},{"$error":"#N/A"},{"$error":"#N/A"},{"$error":"#N/A"},{"$error":"#N/A"},-0.25,{"$error":"#N/A"},{"$error":"#N/A"},{"$error":"#N/A"},{"$error":"#N/A"},{"$error":"#N/A"},{"$error":"#N/A"},{"$error":"#N/A"},{"$error":"#N/A"},{"$error":"#N/A"}]
[null,null,null,null,null,null,null,"VfB Stuttgart",{"$f":"IF(V47=Control!$C$14,1,NA())","v":1},{"$f":"IF(W47=Control!$C$14,1,NA())","v":{"$error":"#N/A"}},{"$f":"IF(X47=Control!$C$14,1,NA())","v":{"$error":"#N/A"}},{"$f":"IF(Y47=Control!$C$14,1,NA())","v":{"$error":"#N/A"}},{"$f":"IF(Z47=Control!$C$14,1,NA())","v":{"$error":"#N/A"}},{"$f":"IF(AA47=Control!$C$14,1,NA())","v":{"$error":"#N/A"}},{"$f":"IF(AB47=Control!$C$14,1,NA())","v":{"$error":"#N/A"}},{"$f":"IF(AC47=Control!$C$14,1,NA())","v":{"$error":"#N/A"}},{"$f":"IF(AD47=Control!$C$14,1,NA())","v":{"$error":"#N/A"}},{"$f":"IF(AE47=Control!$C$14,1,NA())","v":{"$error":"#N/A"}},{"$error":"#N/A"},{"$error":"#N/A"},-1,{"$error":"#N/A"},-1,-1,-1,-1,-1,-1,{"$error":"#N/A"},0.25,{"$error":"#N/A"},0.25,{"$error":"#N/A"},{"$error":"#N/A"},{"$error":"#N/A"},{"$error":"#N/A"},{"$error":"#N/A"},{"$error":"#N/A"},{"$error":"#N/A"},-0.25,{"$error":"#N/A"},-0.25,{"$error":"#N/A"},{"$error":"#N/A"},{"$error":"#N/A"},{"$error":"#N/A"},{"$error":"#N/A"},{"$error":"#N/A"}]
[null,null,null,null,null,null,null,"Hannover 96",{"$f":"IF(V48=Control!$C$14,1,NA())","v":{"$error":"#N/A"}},{"$f":"IF(W48=Control!$C$14,1,NA())","v":{"$error":"#N/A"}},{"$f":"IF(X48=Control!$C$14,1,NA())","v":{"$error":"#N/A"}},{"$f":"IF(Y48=Control!$C$14,1,NA())","v":{"$error":"#N/A"}},{"$f":"IF(Z48=Control!$C$14,1,NA())","v":{"$error":"#N/A"}},{"$f":"IF(AA48=Control!$C$14,1,NA())","v":1},{"$f":"IF(AB48=Control!$C$14,1,NA())","v":{"$error":"#N/A"}},{"$f":"IF(AC48=Control!$C$14,1,NA())","v":{"$error":"#N/A"}},{"$f":"IF(AD48=Control!$C$14,1,NA())","v":1},{"$f":"IF(AE48=Control!$C$14,1,NA())","v":{"$error":"#N/A"}},-1,-1,-1,-1,{"$error":"#N/A"},{"$error":"#N/A"},{"$error":"#N/A"},-1,{"$error":"#N/A"},-1,{"$error":"#N/A"},{"$error":"#N/A"},{"$error":"#N/A"},{"$error":"#N/A"},0.25,{"$error":"#N/A"},0.25,{"$error":"#N/A"},{"$error":"#N/A"},{"$error":"#N/A"},{"$error":"#N/A"},{"$error":"#N/A"},{"$error":"#N/A"},{"$error":"#N/A"},-0.25,{"$error":"#N/A"},-0.25,{"$error":"#N/A"},{"$error":"#N/A"},{"$error":"#N/A"}]
[]
[null,"Part 4: calculate help columns for goal difference tornado chart"]
[]
[null,null,null,null,null,null,null,"Maximum Transparency",0.7]
[null,null,null,null,null,null,null,"Min Goal Difference",{"$f":"MIN($K$78:$K$95)","v":-31}]
[null,null,null,null,null,null,null,"Max Goal Difference",{"$f":"MAX($K$78:$K$95)","v":63}]
[]
[null,null,null,null,null,null,null,null,"GF","GA","Diff",null,"GF pos","GA pos","GF neg","GA neg","Transp pos","Transp neg"]
[null,null,null,null,null,null,{"$f":"G31","v":true},{"$f":"H31","v":"FC Bayern München"},{"$f":"M31","v":80},{"$f":"N31","v":17},63,null,{"$f":"IF($K78>=0,I78,NA())","v":80},{"$f":"IF($K78>=0,-J78,NA())","v":-17},{"$f":"IF($K78<0,I78,NA())","v":{"$error":"#N/A"}},{"$f":"IF($K78<0,-J78,NA())","v":{"$error":"#N/A"}},{"$f":"IF(AND($G78,$K78>=0),(1-$K78/$I$75)*$I$73,0)","v":0},{"$f":"IF(AND($G78,$K78<0),(1-$K78/$I$74)*$I$73,0)","v":0}]
[null,null,null,null,null,null,{"$f":"G32","v":true},{"$f":"H32","v":"Borussia Dortmund"},{"$f":"M32","v":82},{"$f":"N32","v":34},{"$f":"O32","v":48},null,{"$f":"IF($K79>=0,I79,NA())","v":82},{"$f":"IF($K79>=0,-J79,NA())","v":-34},{"$f":"IF($K79<0,I79,NA())","v":{"$error":"#N/A"}},{"$f":"IF($K79<0,-J79,NA())","v":{"$error":"#N/A"}},0.16666666666666669,0]
[null,null,null,null,null,null,true,"Bayer Leverkusen",56,40,16,null,56,-40,{"$error":"#N/A"},{"$error":"#N/A"},0.52222222222222225,0]
[null,null,null,null,null,null,true,"Borussia M'gladbach",67,50,17,null,67,-50,{"$error":"#N/A"},{"$error":"#N/A"},0.51111111111111118,0]
[null,null,null,null,null,null,true,"FC Schalke 04",51,49,2,null,51,-49,{"$error":"#N/A"},{"$error":"#N/A"},0.6777777777777777,0]
[null,null,null,null,null,null,true,"FSV Mainz 05",46,42,4,null,46,-42,{"$error":"#N/A"},{"$error":"#N/A"},0.65555555555555556,0]
[null,null,null,null,null,null,true,"Hertha BSC Berlin",42,42,0,null,42,-42,{"$error":"#N/A"},{"$error":"#N/A"},0.7,0]
[null,null,null,null,null,null,true,"VfL Wolfsburg",47,49,-2,null,{"$error":"#N/A"},{"$error":"#N/A"},47,-49,0,0.65483870967741931]
[null,null,null,null,null,null,true,"1.FC Köln",38,42,-4,null,{"$error":"#N/A"},{"$error":"#N/A"},38,-42,0,0.60967741935483866]
[null,null,null,null,null,null,true,"Hamburger SV",40,46,-6,null,{"$error":"#N/A"},{"$error":"#N/A"},40,-46,0,0.56451612903225801]
[null,null,null,null,null,null,true,"FC Ingolstadt",33,42,-9,null,{"$error":"#N/A"},{"$error":"#N/A"},33,-42,0,0.49677419354838709]
[null,null,null,null,null,null,true,"FC Augsburg",42,52,-10,null,{"$error":"#N/A"},{"$error":"#N/A"},42,-52,0,0.47419354838709676]
[null,null,null,null,null,null,true,"Werder Bremen",50,65,-15,null,{"$error":"#N/A"},{"$error":"#N/A"},50,-65,0,0.36129032258064514]
[null,null,null,null,null,null,true,"Darmstadt 98",38,53,-15,null,{"$error":"#N/A"},{"$error":"#N/A"},38,-53,0,0.36129032258064514]
[null,null,null,null,null,null,true,"TSG 1899 Hoffenheim",39,54,-15,null,{"$error":"#N/A"},{"$error":"#N/A"},39,-54,0,0.36129032258064514]
[null,null,null,null,null,null,true,"Eintracht Frankfurt",34,52,-18,null,{"$error":"#N/A"},{"$error":"#N/A"},34,-52,0,0.29354838709677417]
[null,null,null,null,null,null,true,"VfB Stuttgart",50,75,-25,null,{"$error":"#N/A"},{"$error":"#N/A"},50,-75,{"$f":"IF(AND($G94,$K94>=0),(1-$K94/$I$75)*$I$73,0)","v":0},{"$f":"IF(AND($G94,$K94<0),(1-$K94/$I$74)*$I$73,0)","v":0.13548387096774195}]
[null,null,null,null,null,null,true,"Hannover 96",31,62,-31,null,{"$error":"#N/A"},{"$error":"#N/A"},31,-62,{"$f":"IF(AND($G95,$K95>=0),(1-$K95/$I$75)*$I$73,0)","v":0},{"$f":"IF(AND($G95,$K95<0),(1-$K95/$I$74)*$I$73,0)","v":0}]
[]
[null,"Part 5: match day results"]
[]
[null,null,null,null,null,null,"#","Home Team",null,null,"Away Team",{"$f":"OFFSET('Calculation Results'!I$7,(myMatchDay-1)*9,0)","v":0},{"$f":"OFFSET('Calculation Results'!J$7,(myMatchDay-1)*9,0)","v":3},{"$f":"OFFSET('Calculation Results'!K$7,(myMatchDay-1)*9,0)","v":0},"PtH","PtA"]
[null,null,null,null,null,null,1,{"$f":"IF($G100<=Control!$C$18,INDEX(myHomeTeams,$G100+(myMatchDay-1)*Control!$C$18,1),\"\")","v":"FC Augsburg"},{"$f":"IF($G100<=Control!$C$18,INDEX(myGoalsHome,$G100+(myMatchDay-1)*Control!$C$18,1),\"\")","v":1},{"$f":"IF($G100<=Control!$C$18,INDEX(myGoalsAway,$G100+(myMatchDay-1)*Control!$C$18,1),\"\")","v":3},{"$f":"IF($G100<=Control!$C$18,INDEX(myAwayTeams,$G100+(myMatchDay-1)*Control!$C$18,1),\"\")","v":"Hamburger SV"},{"$f":"IF($G100<=Control!$C$18,INDEX(myHomeTeams,$G100+(myMatchDay-1)*Control!$C$18,1),\"\")","v":"FC Augsburg"},{"$f":"IF($G100<=Control!$C$18,INDEX(myHomeTeams,$G100+(myMatchDay-1)*Control!$C$18,1),\"\")","v":"FC Augsburg"},{"$f":"IF($G100<=Control!$C$18,INDEX(myHomeTeams,$G100+(myMatchDay-1)*Control!$C$18,1),\"\")","v":"FC Augsburg"},{"$f":"IF($G100<=Control!$C$18,INDEX(myPointsHome,$G100+(myMatchDay-1)*Control!$C$18,1),\"\")","v":0},{"$f":"IF($G100<=Control!$C$18,INDEX(myPointsAway,$G100+(myMatchDay-1)*Control!$C$18,1),\"\")","v":3}]
[null,null,null,null,null,null,2,{"$f":"IF($G101<=Control!$C$18,INDEX(myHomeTeams,$G101+(myMatchDay-1)*Control!$C$18,1),\"\")","v":"FC Bayern München"},{"$f":"IF($G101<=Control!$C$18,INDEX(myGoalsHome,$G101+(myMatchDay-1)*Control!$C$18,1),\"\")","v":3},{"$f":"IF($G101<=Control!$C$18,INDEX(myGoalsAway,$G101+(myMatchDay-1)*Control!$C$18,1),\"\")","v":1},{"$f":"IF($G101<=Control!$C$18,INDEX(myAwayTeams,$G101+(myMatchDay-1)*Control!$C$18,1),\"\")","v":"Hannover 96"},{"$f":"IF($G101<=Control!$C$18,INDEX(myHomeTeams,$G101+(myMatchDay-1)*Control!$C$18,1),\"\")","v":"FC Bayern München"},{"$f":"IF($G101<=Control!$C$18,INDEX(myHomeTeams,$G101+(myMatchDay-1)*Control!$C$18,1),\"\")","v":"FC Bayern München"},{"$f":"IF($G101<=Control!$C$18,INDEX(myHomeTeams,$G101+(myMatchDay-1)*Control!$C$18,1),\"\")","v":"FC Bayern München"},{"$f":"IF($G101<=Control!$C$18,INDEX(myPointsHome,$G101+(myMatchDay-1)*Control!$C$18,1),\"\")","v":3},{"$f":"IF($G101<=Control!$C$18,INDEX(myPointsAway,$G101+(myMatchDay-1)*Control!$C$18,1),\"\")","v":0}]
[null,null,null,null,null,null,3,{"$f":"IF($G102<=Control!$C$18,INDEX(myHomeTeams,$G102+(myMatchDay-1)*Control!$C$18,1),\"\")","v":"Darmstadt 98"},{"$f":"IF($G102<=Control!$C$18,INDEX(myGoalsHome,$G102+(myMatchDay-1)*Control!$C$18,1),\"\")","v":0},{"$f":"IF($G102<=Control!$C$18,INDEX(myGoalsAway,$G102+(myMatchDay-1)*Control!$C$18,1),\"\")","v":2},{"$f":"IF($G102<=Control!$C$18,INDEX(myAwayTeams,$G102+(myMatchDay-1)*Control!$C$18,1),\"\")","v":"Borussia M'gladbach"},{"$f":"IF($G102<=Control!$C$18,INDEX(myHomeTeams,$G102+(myMatchDay-1)*Control!$C$18,1),\"\")","v":"Darmstadt 98"},{"$f":"IF($G102<=Control!$C$18,INDEX(myHomeTeams,$G102+(myMatchDay-1)*Control!$C$18,1),\"\")","v":"Darmstadt 98"},{"$f":"IF($G102<=Control!$C$18,INDEX(myHomeTeams,$G102+(myMatchDay-1)*Control!$C$18,1),\"\")","v":"Darmstadt 98"},{"$f":"IF($G102<=Control!$C$18,INDEX(myPointsHome,$G102+(myMatchDay-1)*Control!$C$18,1),\"\")","v":0},{"$f":"IF($G102<=Control!$C$18,INDEX(myPointsAway,$G102+(myMatchDay-1)*Control!$C$18,1),\"\")","v":3}]
[null,null,null,null,null,null,4,{"$f":"IF($G103<=Control!$C$18,INDEX(myHomeTeams,$G103+(myMatchDay-1)*Control!$C$18,1),\"\")","v":"Borussia Dortmund"},{"$f":"IF($G103<=Control!$C$18,INDEX(myGoalsHome,$G103+(myMatchDay-1)*Control!$C$18,1),\"\")","v":2},{"$f":"IF($G103<=Control!$C$18,INDEX(myGoalsAway,$G103+(myMatchDay-1)*Control!$C$18,1),\"\")","v":2},{"$f":"IF($G103<=Control!$C$18,INDEX(myAwayTeams,$G103+(myMatchDay-1)*Control!$C$18,1),\"\")","v":"1.FC Köln"},{"$f":"IF($G103<=Control!$C$18,INDEX(myHomeTeams,$G103+(myMatchDay-1)*Control!$C$18,1),\"\")","v":"Borussia Dortmund"},{"$f":"IF($G103<=Control!$C$18,INDEX(myHomeTeams,$G103+(myMatchDay-1)*Control!$C$18,1),\"\")","v":"Borussia Dortmund"},{"$f":"IF($G103<=Control!$C$18,INDEX(myHomeTeams,$G103+(myMatchDay-1)*Control!$C$18,1),\"\")","v":"Borussia Dortmund"},{"$f":"IF($G103<=Control!$C$18,INDEX(myPointsHome,$G103+(myMatchDay-1)*Control!$C$18,1),\"\")","v":1},{"$f":"IF($G103<=Control!$C$18,INDEX(myPointsAway,$G103+(myMatchDay-1)*Control!$C$18,1),\"\")","v":1}]
[null,null,null,null,null,null,5,{"$f":"IF($G104<=Control!$C$18,INDEX(myHomeTeams,$G104+(myMatchDay-1)*Control!$C$18,1),\"\")","v":"TSG 1899 Hoffenheim"},{"$f":"IF($G104<=Control!$C$18,INDEX(myGoalsHome,$G104+(myMatchDay-1)*Control!$C$18,1),\"\")","v":1},{"$f":"IF($G104<=Control!$C$18,INDEX(myGoalsAway,$G104+(myMatchDay-1)*Control!$C$18,1),\"\")","v":4},{"$f":"IF($G104<=Control!$C$18,INDEX(myAwayTeams,$G104+(myMatchDay-1)*Control!$C$18,1),\"\")","v":"FC Schalke 04"},{"$f":"IF($G104<=Control!$C$18,INDEX(myHomeTeams,$G104+(myMatchDay-1)*Control!$C$18,1),\"\")","v":"TSG 1899 Hoffenheim"},{"$f":"IF($G104<=Control!$C$18,INDEX(myHomeTeams,$G104+(myMatchDay-1)*Control!$C$18,1),\"\")","v":"TSG 1899 Hoffenheim"},{"$f":"IF($G104<=Control!$C$18,INDEX(myHomeTeams,$G104+(myMatchDay-1)*Control!$C$18,1),\"\")","v":"TSG 1899 Hoffenheim"},{"$f":"IF($G104<=Control!$C$18,INDEX(myPointsHome,$G104+(myMatchDay-1)*Control!$C$18,1),\"\")","v":0},{"$f":"IF($G104<=Control!$C$18,INDEX(myPointsAway,$G104+(myMatchDay-1)*Control!$C$18,1),\"\")","v":3}]
[null,null,null,null,null,null,6,{"$f":"IF($G105<=Control!$C$18,INDEX(myHomeTeams,$G105+(myMatchDay-1)*Control!$C$18,1),\"\")","v":"Bayer Leverkusen"},{"$f":"IF($G105<=Control!$C$18,INDEX(myGoalsHome,$G105+(myMatchDay-1)*Control!$C$18,1),\"\")","v":3},{"$f":"IF($G105<=Control!$C$18,INDEX(myGoalsAway,$G105+(myMatchDay-1)*Control!$C$18,1),\"\")","v":2},{"$f":"IF($G105<=Control!$C$18,INDEX(myAwayTeams,$G105+(myMatchDay-1)*Control!$C$18,1),\"\")","v":"FC Ingolstadt"},{"$f":"IF($G105<=Control!$C$18,INDEX(myHomeTeams,$G105+(myMatchDay-1)*Control!$C$18,1),\"\")","v":"Bayer Leverkusen"},{"$f":"IF($G105<=Control!$C$18,INDEX(myHomeTeams,$G105+(myMatchDay-1)*Control!$C$18,1),\"\")","v":"Bayer Leverkusen"},{"$f":"IF($G105<=Control!$C$18,INDEX(myHomeTeams,$G105+(myMatchDay-1)*Control!$C$18,1),\"\")","v":"Bayer Leverkusen"},{"$f":"IF($G105<=Control!$C$18,INDEX(myPointsHome,$G105+(myMatchDay-1)*Control!$C$18,1),\"\")","v":3},{"$f":"IF($G105<=Control!$C$18,INDEX(myPointsAway,$G105+(myMatchDay-1)*Control!$C$18,1),\"\")","v":0}]
[null,null,null,null,null,null,7,{"$f":"IF($G106<=Control!$C$18,INDEX(myHomeTeams,$G106+(myMatchDay-1)*Control!$C$18,1),\"\")","v":"FSV Mainz 05"},{"$f":"IF($G106<=Control!$C$18,INDEX(myGoalsHome,$G106+(myMatchDay-1)*Control!$C$18,1),\"\")","v":0},{"$f":"IF($G106<=Control!$C$18,INDEX(myGoalsAway,$G106+(myMatchDay-1)*Control!$C$18,1),\"\")","v":0},{"$f":"IF($G106<=Control!$C$18,INDEX(myAwayTeams,$G106+(myMatchDay-1)*Control!$C$18,1),\"\")","v":"Hertha BSC Berlin"},{"$f":"IF($G106<=Control!$C$18,INDEX(myHomeTeams,$G106+(myMatchDay-1)*Control!$C$18,1),\"\")","v":"FSV Mainz 05"},{"$f":"IF($G106<=Control!$C$18,INDEX(myHomeTeams,$G106+(myMatchDay-1)*Control!$C$18,1),\"\")","v":"FSV Mainz 05"},{"$f":"IF($G106<=Control!$C$18,INDEX(myHomeTeams,$G106+(myMatchDay-1)*Control!$C$18,1),\"\")","v":"FSV Mainz 05"},{"$f":"IF($G106<=Control!$C$18,INDEX(myPointsHome,$G106+(myMatchDay-1)*Control!$C$18,1),\"\")","v":1},{"$f":"IF($G106<=Control!$C$18,INDEX(myPointsAway,$G106+(myMatchDay-1)*Control!$C$18,1),\"\")","v":1}]
[null,null,null,null,null,null,8,{"$f":"IF($G107<=Control!$C$18,INDEX(myHomeTeams,$G107+(myMatchDay-1)*Control!$C$18,1),\"\")","v":"Werder Bremen"},{"$f":"IF($G107<=Control!$C$18,INDEX(myGoalsHome,$G107+(myMatchDay-1)*Control!$C$18,1),\"\")","v":1},{"$f":"IF($G107<=Control!$C$18,INDEX(myGoalsAway,$G107+(myMatchDay-1)*Control!$C$18,1),\"\")","v":0},{"$f":"IF($G107<=Control!$C$18,INDEX(myAwayTeams,$G107+(myMatchDay-1)*Control!$C$18,1),\"\")","v":"Eintracht Frankfurt"},{"$f":"IF($G107<=Control!$C$18,INDEX(myHomeTeams,$G107+(myMatchDay-1)*Control!$C$18,1),\"\")","v":"Werder Bremen"},{"$f":"IF($G107<=Control!$C$18,INDEX(myHomeTeams,$G107+(myMatchDay-1)*Control!$C$18,1),\"\")","v":"Werder Bremen"},{"$f":"IF($G107<=Control!$C$18,INDEX(myHomeTeams,$G107+(myMatchDay-1)*Control!$C$18,1),\"\")","v":"Werder Bremen"},{"$f":"IF($G107<=Control!$C$18,INDEX(myPointsHome,$G107+(myMatchDay-1)*Control!$C$18,1),\"\")","v":3},{"$f":"IF($G107<=Control!$C$18,INDEX(myPointsAway,$G107+(myMatchDay-1)*Control!$C$18,1),\"\")","v":0}]
[null,null,null,null,null,null,9,{"$f":"IF($G108<=Control!$C$18,INDEX(myHomeTeams,$G108+(myMatchDay-1)*Control!$C$18,1),\"\")","v":"VfL Wolfsburg"},{"$f":"IF($G108<=Control!$C$18,INDEX(myGoalsHome,$G108+(myMatchDay-1)*Control!$C$18,1),\"\")","v":3},{"$f":"IF($G108<=Control!$C$18,INDEX(myGoalsAway,$G108+(myMatchDay-1)*Control!$C$18,1),\"\")","v":1},{"$f":"IF($G108<=Control!$C$18,INDEX(myAwayTeams,$G108+(myMatchDay-1)*Control!$C$18,1),\"\")","v":"VfB Stuttgart"},{"$f":"IF($G108<=Control!$C$18,INDEX(myHomeTeams,$G108+(myMatchDay-1)*Control!$C$18,1),\"\")","v":"VfL Wolfsburg"},{"$f":"IF($G108<=Control!$C$18,INDEX(myHomeTeams,$G108+(myMatchDay-1)*Control!$C$18,1),\"\")","v":"VfL Wolfsburg"},{"$f":"IF($G108<=Control!$C$18,INDEX(myHomeTeams,$G108+(myMatchDay-1)*Control!$C$18,1),\"\")","v":"VfL Wolfsburg"},{"$f":"IF($G108<=Control!$C$18,INDEX(myPointsHome,$G108+(myMatchDay-1)*Control!$C$18,1),\"\")","v":3},{"$f":"IF($G108<=Control!$C$18,INDEX(myPointsAway,$G108+(myMatchDay-1)*Control!$C$18,1),\"\")","v":0}]
[]
[null,"Part 6: match day and overall statistics"]
[]
[null,null,null,null,null,null,null,"Number of matches so far",{"$f":"SUM($I$31:$I$48)/2","v":306}]
[]
[null,null,null,null,null,null,null,null,"Match day","Total"]
[null,null,null,null,null,null,null,"Total goals",{"$f":"SUM(I100:J108)","v":29},{"$f":"SUM($M$31:$M$48)","v":866}]
[null,null,null,null,null,null,null,"Goals per match",{"$f":"I115/Control!$C$18","v":3.2222222222222223},{"$f":"J115/$I$112","v":2.8300653594771243}]
[null,null,null,null,null,null,null,"Goals per match (home)",{"$f":"SUM(I100:I108)/Control!$C$18","v":1.5555555555555556},{"$f":"SUM(OFFSET('Calculation Results'!$G$7,0,0,myMatchDay*Control!$C$18,1))/$I$112","v":1.565359477124183}]
[null,null,null,null,null,null,null,"Goals per match (away)",{"$f":"SUM($J$100:$J$108)/Control!$C$18","v":1.6666666666666667},{"$f":"SUM(OFFSET('Calculation Results'!$H$7,0,0,myMatchDay*Control!$C$18,1))/$I$112","v":1.2647058823529411}]
[null,null,null,null,null,null,null,"Home wins",{"$f":"COUNTIF($O$100:$O$108,myPoints)","v":4},{"$f":"COUNTIF(OFFSET('Calculation Results'!$I$7,0,0,myMatchDay*Control!$C$18,1),myPoints)/$I$112","v":0.44117647058823528}]
[null,null,null,null,null,null,null,"Draws",{"$f":"COUNTIF($O$100:$O$108,1)","v":2},{"$f":"COUNTIF(OFFSET('Calculation Results'!$I$7,0,0,myMatchDay*Control!$C$18,1),1)/$I$112","v":0.23202614379084968}]
[null,null,null,null,null,null,null,"Away wins",{"$f":"COUNTIF($O$100:$O$108,0)","v":3},{"$f":"1-SUM(J119:J120)","v":0.32679738562091498}]

{"sheet":"Calculation Results","index":3,"n_rows":312,"n_cols":10,"rows_kept":312,"cut":false,"hidden":false,"merged":[]}
[]
[null,"Calculations II: results of selected season"]
[]
[null,"Offset",{"$f":"MATCH(Control!$D$5,Results!$B$5:$B$15784,0)-1","v":15474}]
[]
[null,"Index","Relevant?","Matchday","Home Team","Away Team","Goals Home","Goals Away","Points Home","Points Away"]
[null,1,{"$f":"B7<=Control!$C$17","v":true},{"$f":"IF($C7,INDEX(Results!C$5:C$15784,$C$4+$B7),\"\")","v":1},{"$f":"IF($C7,INDEX(Results!D$5:D$15784,$C$4+$B7),\"\")","v":"FC Bayern München"},{"$f":"IF($C7,INDEX(Results!E$5:E$15784,$C$4+$B7),\"\")","v":"Hamburger SV"},{"$f":"IF($C7,INDEX(Results!F$5:F$15784,$C$4+$B7),\"\")","v":5},{"$f":"IF($C7,INDEX(Results!G$5:G$15784,$C$4+$B7),\"\")","v":0},{"$f":"$C7*IF($G7>$H7,myPoints,IF($G7<$H7,0,1))","v":3},{"$f":"$C7*IF($G7>$H7,0,IF($G7<$H7,myPoints,1))","v":0}]
[null,2,{"$f":"B8<=Control!$C$17","v":true},{"$f":"IF($C8,INDEX(Results!C$5:C$15784,$C$4+$B8),\"\")","v":1},{"$f":"IF($C8,INDEX(Results!D$5:D$15784,$C$4+$B8),\"\")","v":"FC Augsburg"},{"$f":"IF($C8,INDEX(Results!E$5:E$15784,$C$4+$B8),\"\")","v":"Hertha BSC Berlin"},{"$f":"IF($C8,INDEX(Results!F$5:F$15784,$C$4+$B8),\"\")","v":0},{"$f":"IF($C8,INDEX(Results!G$5:G$15784,$C$4+$B8),\"\")","v":1},0,3]
[null,3,{"$f":"B9<=Control!$C$17","v":true},{"$f":"IF($C9,INDEX(Results!C$5:C$15784,$C$4+$B9),\"\")","v":1},{"$f":"IF($C9,INDEX(Results!D$5:D$15784,$C$4+$B9),\"\")","v":"Darmstadt 98"},{"$f":"IF($C9,INDEX(Results!E$5:E$15784,$C$4+$B9),\"\")","v":"Hannover 96"},{"$f":"IF($C9,INDEX(Results!F$5:F$15784,$C$4+$B9),\"\")","v":2},{"$f":"IF($C9,INDEX(Results!G$5:G$15784,$C$4+$B9),\"\")","v":2},1,1]
[null,4,{"$f":"B10<=Control!$C$17","v":true},{"$f":"IF($C10,INDEX(Results!C$5:C$15784,$C$4+$B10),\"\")","v":1},{"$f":"IF($C10,INDEX(Results!D$5:D$15784,$C$4+$B10),\"\")","v":"Borussia Dortmund"},{"$f":"IF($C10,INDEX(Results!E$5:E$15784,$C$4+$B10),\"\")","v":"Borussia M'gladbach"},{"$f":"IF($C10,INDEX(Results!F$5:F$15784,$C$4+$B10),\"\")","v":4},{"$f":"IF($C10,INDEX(Results!G$5:G$15784,$C$4+$B10),\"\")","v":0},3,0]
[null,5,{"$f":"B11<=Control!$C$17","v":true},{"$f":"IF($C11,INDEX(Results!C$5:C$15784,$C$4+$B11),\"\")","v":1},{"$f":"IF($C11,INDEX(Results!D$5:D$15784,$C$4+$B11),\"\")","v":"Bayer Leverkusen"},{"$f":"IF($C11,INDEX(Results!E$5:E$15784,$C$4+$B11),\"\")","v":"TSG 1899 Hoffenheim"},{"$f":"IF($C11,INDEX(Results!F$5:F$15784,$C$4+$B11),\"\")","v":2},{"$f":"IF($C11,INDEX(Results!G$5:G$15784,$C$4+$B11),\"\")","v":1},3,0]
[null,6,{"$f":"B12<=Control!$C$17","v":true},{"$f":"IF($C12,INDEX(Results!C$5:C$15784,$C$4+$B12),\"\")","v":1},{"$f":"IF($C12,INDEX(Results!D$5:D$15784,$C$4+$B12),\"\")","v":"FSV Mainz 05"},{"$f":"IF($C12,INDEX(Results!E$5:E$15784,$C$4+$B12),\"\")","v":"FC Ingolstadt"},{"$f":"IF($C12,INDEX(Results!F$5:F$15784,$C$4+$B12),\"\")","v":0},{"$f":"IF($C12,INDEX(Results!G$5:G$15784,$C$4+$B12),\"\")","v":1},0,3]
[null,7,{"$f":"B13<=Control!$C$17","v":true},{"$f":"IF($C13,INDEX(Results!C$5:C$15784,$C$4+$B13),\"\")","v":1},{"$f":"IF($C13,INDEX(Results!D$5:D$15784,$C$4+$B13),\"\")","v":"Werder Bremen"},{"$f":"IF($C13,INDEX(Results!E$5:E$15784,$C$4+$B13),\"\")","v":"FC Schalke 04"},{"$f":"IF($C13,INDEX(Results!F$5:F$15784,$C$4+$B13),\"\")","v":0},{"$f":"IF($C13,INDEX(Results!G$5:G$15784,$C$4+$B13),\"\")","v":3},0,3]
[null,8,{"$f":"B14<=Control!$C$17","v":true},{"$f":"IF($C14,INDEX(Results!C$5:C$15784,$C$4+$B14),\"\")","v":1},{"$f":"IF($C14,INDEX(Results!D$5:D$15784,$C$4+$B14),\"\")","v":"VfB Stuttgart"},{"$f":"IF($C14,INDEX(Results!E$5:E$15784,$C$4+$B14),\"\")","v":"1.FC Köln"},{"$f":"IF($C14,INDEX(Results!F$5:F$15784,$C$4+$B14),\"\")","v":1},{"$f":"IF($C14,INDEX(Results!G$5:G$15784,$C$4+$B14),\"\")","v":3},0,3]
[null,9,{"$f":"B15<=Control!$C$17","v":true},{"$f":"IF($C15,INDEX(Results!C$5:C$15784,$C$4+$B15),\"\")","v":1},{"$f":"IF($C15,INDEX(Results!D$5:D$15784,$C$4+$B15),\"\")","v":"VfL Wolfsburg"},{"$f":"IF($C15,INDEX(Results!E$5:E$15784,$C$4+$B15),\"\")","v":"Eintracht Frankfurt"},{"$f":"IF($C15,INDEX(Results!F$5:F$15784,$C$4+$B15),\"\")","v":2},{"$f":"IF($C15,INDEX(Results!G$5:G$15784,$C$4+$B15),\"\")","v":1},3,0]
[null,10,{"$f":"B16<=Control!$C$17","v":true},{"$f":"IF($C16,INDEX(Results!C$5:C$15784,$C$4+$B16),\"\")","v":2},{"$f":"IF($C16,INDEX(Results!D$5:D$15784,$C$4+$B16),\"\")","v":"Hertha BSC Berlin"},{"$f":"IF($C16,INDEX(Results!E$5:E$15784,$C$4+$B16),\"\")","v":"Werder Bremen"},{"$f":"IF($C16,INDEX(Results!F$5:F$15784,$C$4+$B16),\"\")","v":1},{"$f":"IF($C16,INDEX(Results!G$5:G$15784,$C$4+$B16),\"\")","v":1},1,1]
[null,11,{"$f":"B17<=Control!$C$17","v":true},{"$f":"IF($C17,INDEX(Results!C$5:C$15784,$C$4+$B17),\"\")","v":2},{"$f":"IF($C17,INDEX(Results!D$5:D$15784,$C$4+$B17),\"\")","v":"Eintracht Frankfurt"},{"$f":"IF($C17,INDEX(Results!E$5:E$15784,$C$4+$B17),\"\")","v":"FC Augsburg"},{"$f":"IF($C17,INDEX(Results!F$5:F$15784,$C$4+$B17),\"\")","v":1},{"$f":"IF($C17,INDEX(Results!G$5:G$15784,$C$4+$B17),\"\")","v":1},1,1]
[null,12,{"$f":"B18<=Control!$C$17","v":true},{"$f":"IF($C18,INDEX(Results!C$5:C$15784,$C$4+$B18),\"\")","v":2},{"$f":"IF($C18,INDEX(Results!D$5:D$15784,$C$4+$B18),\"\")","v":"1.FC Köln"},{"$f":"IF($C18,INDEX(Results!E$5:E$15784,$C$4+$B18),\"\")","v":"VfL Wolfsburg"},{"$f":"IF($C18,INDEX(Results!F$5:F$15784,$C$4+$B18),\"\")","v":1},{"$f":"IF($C18,INDEX(Results!G$5:G$15784,$C$4+$B18),\"\")","v":1},1,1]
[null,13,{"$f":"B19<=Control!$C$17","v":true},{"$f":"IF($C19,INDEX(Results!C$5:C$15784,$C$4+$B19),\"\")","v":2},{"$f":"IF($C19,INDEX(Results!D$5:D$15784,$C$4+$B19),\"\")","v":"Hamburger SV"},{"$f":"IF($C19,INDEX(Results!E$5:E$15784,$C$4+$B19),\"\")","v":"VfB Stuttgart"},{"$f":"IF($C19,INDEX(Results!F$5:F$15784,$C$4+$B19),\"\")","v":3},{"$f":"IF($C19,INDEX(Results!G$5:G$15784,$C$4+$B19),\"\")","v":2},3,0]
[null,14,{"$f":"B20<=Control!$C$17","v":true},{"$f":"IF($C20,INDEX(Results!C$5:C$15784,$C$4+$B20),\"\")","v":2},{"$f":"IF($C20,INDEX(Results!D$5:D$15784,$C$4+$B20),\"\")","v":"Hannover 96"},{"$f":"IF($C20,INDEX(Results!E$5:E$15784,$C$4+$B20),\"\")","v":"Bayer Leverkusen"},{"$f":"IF($C20,INDEX(Results!F$5:F$15784,$C$4+$B20),\"\")","v":0},{"$f":"IF($C20,INDEX(Results!G$5:G$15784,$C$4+$B20),\"\")","v":1},0,3]
[null,15,{"$f":"B21<=Control!$C$17","v":true},{"$f":"IF($C21,INDEX(Results!C$5:C$15784,$C$4+$B21),\"\")","v":2},{"$f":"IF($C21,INDEX(Results!D$5:D$15784,$C$4+$B21),\"\")","v":"TSG 1899 Hoffenheim"},{"$f":"IF($C21,INDEX(Results!E$5:E$15784,$C$4+$B21),\"\")","v":"FC Bayern München"},{"$f":"IF($C21,INDEX(Results!F$5:F$15784,$C$4+$B21),\"\")","v":1},{"$f":"IF($C21,INDEX(Results!G$5:G$15784,$C$4+$B21),\"\")","v":2},0,3]
[null,16,{"$f":"B22<=Control!$C$17","v":true},{"$f":"IF($C22,INDEX(Results!C$5:C$15784,$C$4+$B22),\"\")","v":2},{"$f":"IF($C22,INDEX(Results!D$5:D$15784,$C$4+$B22),\"\")","v":"FC Schalke 04"},{"$f":"IF($C22,INDEX(Results!E$5:E$15784,$C$4+$B22),\"\")","v":"Darmstadt 98"},{"$f":"IF($C22,INDEX(Results!F$5:F$15784,$C$4+$B22),\"\")","v":1},{"$f":"IF($C22,INDEX(Results!G$5:G$15784,$C$4+$B22),\"\")","v":1},1,1]
[null,17,{"$f":"B23<=Control!$C$17","v":true},{"$f":"IF($C23,INDEX(Results!C$5:C$15784,$C$4+$B23),\"\")","v":2},{"$f":"IF($C23,INDEX(Results!D$5:D$15784,$C$4+$B23),\"\")","v":"FC Ingolstadt"},{"$f":"IF($C23,INDEX(Results!E$5:E$15784,$C$4+$B23),\"\")","v":"Borussia Dortmund"},{"$f":"IF($C23,INDEX(Results!F$5:F$15784,$C$4+$B23),\"\")","v":0},{"$f":"IF($C23,INDEX(Results!G$5:G$15784,$C$4+$B23),\"\")","v":4},0,3]
[null,18,{"$f":"B24<=Control!$C$17","v":true},{"$f":"IF($C24,INDEX(Results!C$5:C$15784,$C$4+$B24),\"\")","v":2},{"$f":"IF($C24,INDEX(Results!D$5:D$15784,$C$4+$B24),\"\")","v":"Borussia M'gladbach"},{"$f":"IF($C24,INDEX(Results!E$5:E$15784,$C$4+$B24),\"\")","v":"FSV Mainz 05"},{"$f":"IF($C24,INDEX(Results!F$5:F$15784,$C$4+$B24),\"\")","v":1},{"$f":"IF($C24,INDEX(Results!G$5:G$15784,$C$4+$B24),\"\")","v":2},0,3]
[null,19,{"$f":"B25<=Control!$C$17","v":true},{"$f":"IF($C25,INDEX(Results!C$5:C$15784,$C$4+$B25),\"\")","v":3},{"$f":"IF($C25,INDEX(Results!D$5:D$15784,$C$4+$B25),\"\")","v":"VfL Wolfsburg"},{"$f":"IF($C25,INDEX(Results!E$5:E$15784,$C$4+$B25),\"\")","v":"FC Schalke 04"},{"$f":"IF($C25,INDEX(Results!F$5:F$15784,$C$4+$B25),\"\")","v":3},{"$f":"IF($C25,INDEX(Results!G$5:G$15784,$C$4+$B25),\"\")","v":0},3,0]
[null,20,{"$f":"B26<=Control!$C$17","v":true},{"$f":"IF($C26,INDEX(Results!C$5:C$15784,$C$4+$B26),\"\")","v":3},{"$f":"IF($C26,INDEX(Results!D$5:D$15784,$C$4+$B26),\"\")","v":"FC Augsburg"},{"$f":"IF($C26,INDEX(Results!E$5:E$15784,$C$4+$B26),\"\")","v":"FC Ingolstadt"},{"$f":"IF($C26,INDEX(Results!F$5:F$15784,$C$4+$B26),\"\")","v":0},{"$f":"IF($C26,INDEX(Results!G$5:G$15784,$C$4+$B26),\"\")","v":1},0,3]
[null,21,{"$f":"B27<=Control!$C$17","v":true},{"$f":"IF($C27,INDEX(Results!C$5:C$15784,$C$4+$B27),\"\")","v":3},{"$f":"IF($C27,INDEX(Results!D$5:D$15784,$C$4+$B27),\"\")","v":"FC Bayern München"},{"$f":"IF($C27,INDEX(Results!E$5:E$15784,$C$4+$B27),\"\")","v":"Bayer Leverkusen"},{"$f":"IF($C27,INDEX(Results!F$5:F$15784,$C$4+$B27),\"\")","v":3},{"$f":"IF($C27,INDEX(Results!G$5:G$15784,$C$4+$B27),\"\")","v":0},3,0]
[null,22,{"$f":"B28<=Control!$C$17","v":true},{"$f":"IF($C28,INDEX(Results!C$5:C$15784,$C$4+$B28),\"\")","v":3},{"$f":"IF($C28,INDEX(Results!D$5:D$15784,$C$4+$B28),\"\")","v":"Darmstadt 98"},{"$f":"IF($C28,INDEX(Results!E$5:E$15784,$C$4+$B28),\"\")","v":"TSG 1899 Hoffenheim"},{"$f":"IF($C28,INDEX(Results!F$5:F$15784,$C$4+$B28),\"\")","v":0},{"$f":"IF($C28,INDEX(Results!G$5:G$15784,$C$4+$B28),\"\")","v":0},1,1]
[null,23,{"$f":"B29<=Control!$C$17","v":true},{"$f":"IF($C29,INDEX(Results!C$5:C$15784,$C$4+$B29),\"\")","v":3},{"$f":"IF($C29,INDEX(Results!D$5:D$15784,$C$4+$B29),\"\")","v":"1.FC Köln"},{"$f":"IF($C29,INDEX(Results!E$5:E$15784,$C$4+$B29),\"\")","v":"Hamburger SV"},{"$f":"IF($C29,INDEX(Results!F$5:F$15784,$C$4+$B29),\"\")","v":2},{"$f":"IF($C29,INDEX(Results!G$5:G$15784,$C$4+$B29),\"\")","v":1},3,0]
[null,24,{"$f":"B30<=Control!$C$17","v":true},{"$f":"IF($C30,INDEX(Results!C$5:C$15784,$C$4+$B30),\"\")","v":3},{"$f":"IF($C30,INDEX(Results!D$5:D$15784,$C$4+$B30),\"\")","v":"FSV Mainz 05"},{"$f":"IF($C30,INDEX(Results!E$5:E$15784,$C$4+$B30),\"\")","v":"Hannover 96"},{"$f":"IF($C30,INDEX(Results!F$5:F$15784,$C$4+$B30),\"\")","v":3},{"$f":"IF($C30,INDEX(Results!G$5:G$15784,$C$4+$B30),\"\")","v":0},3,0]
[null,25,{"$f":"B31<=Control!$C$17","v":true},{"$f":"IF($C31,INDEX(Results!C$5:C$15784,$C$4+$B31),\"\")","v":3},{"$f":"IF($C31,INDEX(Results!D$5:D$15784,$C$4+$B31),\"\")","v":"VfB Stuttgart"},{"$f":"IF($C31,INDEX(Results!E$5:E$15784,$C$4+$B31),\"\")","v":"Eintracht Frankfurt"},{"$f":"IF($C31,INDEX(Results!F$5:F$15784,$C$4+$B31),\"\")","v":1},{"$f":"IF($C31,INDEX(Results!G$5:G$15784,$C$4+$B31),\"\")","v":4},0,3]
[null,26,{"$f":"B32<=Control!$C$17","v":true},{"$f":"IF($C32,INDEX(Results!C$5:C$15784,$C$4+$B32),\"\")","v":3},{"$f":"IF($C32,INDEX(Results!D$5:D$15784,$C$4+$B32),\"\")","v":"Borussia Dortmund"},{"$f":"IF($C32,INDEX(Results!E$5:E$15784,$C$4+$B32),\"\")","v":"Hertha BSC Berlin"},{"$f":"IF($C32,INDEX(Results!F$5:F$15784,$C$4+$B32),\"\")","v":3},{"$f":"IF($C32,INDEX(Results!G$5:G$15784,$C$4+$B32),\"\")","v":1},3,0]
[null,27,{"$f":"B33<=Control!$C$17","v":true},{"$f":"IF($C33,INDEX(Results!C$5:C$15784,$C$4+$B33),\"\")","v":3},{"$f":"IF($C33,INDEX(Results!D$5:D$15784,$C$4+$B33),\"\")","v":"Werder Bremen"},{"$f":"IF($C33,INDEX(Results!E$5:E$15784,$C$4+$B33),\"\")","v":"Borussia M'gladbach"},{"$f":"IF($C33,INDEX(Results!F$5:F$15784,$C$4+$B33),\"\")","v":2},{"$f":"IF($C33,INDEX(Results!G$5:G$15784,$C$4+$B33),\"\")","v":1},3,0]
[null,28,{"$f":"B34<=Control!$C$17","v":true},{"$f":"IF($C34,INDEX(Results!C$5:C$15784,$C$4+$B34),\"\")","v":4},{"$f":"IF($C34,INDEX(Results!D$5:D$15784,$C$4+$B34),\"\")","v":"Borussia M'gladbach"},{"$f":"IF($C34,INDEX(Results!E$5:E$15784,$C$4+$B34),\"\")","v":"Hamburger SV"},{"$f":"IF($C34,INDEX(Results!F$5:F$15784,$C$4+$B34),\"\")","v":0},{"$f":"IF($C34,INDEX(Results!G$5:G$15784,$C$4+$B34),\"\")","v":3},0,3]
[null,29,{"$f":"B35<=Control!$C$17","v":true},{"$f":"IF($C35,INDEX(Results!C$5:C$15784,$C$4+$B35),\"\")","v":4},{"$f":"IF($C35,INDEX(Results!D$5:D$15784,$C$4+$B35),\"\")","v":"FC Bayern München"},{"$f":"IF($C35,INDEX(Results!E$5:E$15784,$C$4+$B35),\"\")","v":"FC Augsburg"},{"$f":"IF($C35,INDEX(Results!F$5:F$15784,$C$4+$B35),\"\")","v":2},{"$f":"IF($C35,INDEX(Results!G$5:G$15784,$C$4+$B35),\"\")","v":1},3,0]
[null,30,{"$f":"B36<=Control!$C$17","v":true},{"$f":"IF($C36,INDEX(Results!C$5:C$15784,$C$4+$B36),\"\")","v":4},{"$f":"IF($C36,INDEX(Results!D$5:D$15784,$C$4+$B36),\"\")","v":"Eintracht Frankfurt"},{"$f":"IF($C36,INDEX(Results!E$5:E$15784,$C$4+$B36),\"\")","v":"1.FC Köln"},{"$f":"IF($C36,INDEX(Results!F$5:F$15784,$C$4+$B36),\"\")","v":6},{"$f":"IF($C36,INDEX(Results!G$5:G$15784,$C$4+$B36),\"\")","v":2},3,0]
[null,31,{"$f":"B37<=Control!$C$17","v":true},{"$f":"IF($C37,INDEX(Results!C$5:C$15784,$C$4+$B37),\"\")","v":4},{"$f":"IF($C37,INDEX(Results!D$5:D$15784,$C$4+$B37),\"\")","v":"Hannover 96"},{"$f":"IF($C37,INDEX(Results!E$5:E$15784,$C$4+$B37),\"\")","v":"Borussia Dortmund"},{"$f":"IF($C37,INDEX(Results!F$5:F$15784,$C$4+$B37),\"\")","v":2},{"$f":"IF($C37,INDEX(Results!G$5:G$15784,$C$4+$B37),\"\")","v":4},0,3]
[null,32,{"$f":"B38<=Control!$C$17","v":true},{"$f":"IF($C38,INDEX(Results!C$5:C$15784,$C$4+$B38),\"\")","v":4},{"$f":"IF($C38,INDEX(Results!D$5:D$15784,$C$4+$B38),\"\")","v":"Hertha BSC Berlin"},{"$f":"IF($C38,INDEX(Results!E$5:E$15784,$C$4+$B38),\"\")","v":"VfB Stuttgart"},{"$f":"IF($C38,INDEX(Results!F$5:F$15784,$C$4+$B38),\"\")","v":2},{"$f":"IF($C38,INDEX(Results!G$5:G$15784,$C$4+$B38),\"\")","v":1},3,0]
[null,33,{"$f":"B39<=Control!$C$17","v":true},{"$f":"IF($C39,INDEX(Results!C$5:C$15784,$C$4+$B39),\"\")","v":4},{"$f":"IF($C39,INDEX(Results!D$5:D$15784,$C$4+$B39),\"\")","v":"FC Ingolstadt"},{"$f":"IF($C39,INDEX(Results!E$5:E$15784,$C$4+$B39),\"\")","v":"VfL Wolfsburg"},{"$f":"IF($C39,INDEX(Results!F$5:F$15784,$C$4+$B39),\"\")","v":0},{"$f":"IF($C39,INDEX(Results!G$5:G$15784,$C$4+$B39),\"\")","v":0},1,1]
[null,34,{"$f":"B40<=Control!$C$17","v":true},{"$f":"IF($C40,INDEX(Results!C$5:C$15784,$C$4+$B40),\"\")","v":4},{"$f":"IF($C40,INDEX(Results!D$5:D$15784,$C$4+$B40),\"\")","v":"Bayer Leverkusen"},{"$f":"IF($C40,INDEX(Results!E$5:E$15784,$C$4+$B40),\"\")","v":"Darmstadt 98"},{"$f":"IF($C40,INDEX(Results!F$5:F$15784,$C$4+$B40),\"\")","v":0},{"$f":"IF($C40,INDEX(Results!G$5:G$15784,$C$4+$B40),\"\")","v":1},0,3]
[null,35,{"$f":"B41<=Control!$C$17","v":true},{"$f":"IF($C41,INDEX(Results!C$5:C$15784,$C$4+$B41),\"\")","v":4},{"$f":"IF($C41,INDEX(Results!D$5:D$15784,$C$4+$B41),\"\")","v":"TSG 1899 Hoffenheim"},{"$f":"IF($C41,INDEX(Results!E$5:E$15784,$C$4+$B41),\"\")","v":"Werder Bremen"},{"$f":"IF($C41,INDEX(Results!F$5:F$15784,$C$4+$B41),\"\")","v":1},{"$f":"IF($C41,INDEX(Results!G$5:G$15784,$C$4+$B41),\"\")","v":3},0,3]
[null,36,{"$f":"B42<=Control!$C$17","v":true},{"$f":"IF($C42,INDEX(Results!C$5:C$15784,$C$4+$B42),\"\")","v":4},{"$f":"IF($C42,INDEX(Results!D$5:D$15784,$C$4+$B42),\"\")","v":"FC Schalke 04"},{"$f":"IF($C42,INDEX(Results!E$5:E$15784,$C$4+$B42),\"\")","v":"FSV Mainz 05"},{"$f":"IF($C42,INDEX(Results!F$5:F$15784,$C$4+$B42),\"\")","v":2},{"$f":"IF($C42,INDEX(Results!G$5:G$15784,$C$4+$B42),\"\")","v":1},3,0]
[null,37,{"$f":"B43<=Control!$C$17","v":true},{"$f":"IF($C43,INDEX(Results!C$5:C$15784,$C$4+$B43),\"\")","v":5},{"$f":"IF($C43,INDEX(Results!D$5:D$15784,$C$4+$B43),\"\")","v":"FSV Mainz 05"},{"$f":"IF($C43,INDEX(Results!E$5:E$15784,$C$4+$B43),\"\")","v":"TSG 1899 Hoffenheim"},{"$f":"IF($C43,INDEX(Results!F$5:F$15784,$C$4+$B43),\"\")","v":3},{"$f":"IF($C43,INDEX(Results!G$5:G$15784,$C$4+$B43),\"\")","v":1},3,0]
[null,38,{"$f":"B44<=Control!$C$17","v":true},{"$f":"IF($C44,INDEX(Results!C$5:C$15784,$C$4+$B44),\"\")","v":5},{"$f":"IF($C44,INDEX(Results!D$5:D$15784,$C$4+$B44),\"\")","v":"Darmstadt 98"},{"$f":"IF($C44,INDEX(Results!E$5:E$15784,$C$4+$B44),\"\")","v":"FC Bayern München"},{"$f":"IF($C44,INDEX(Results!F$5:F$15784,$C$4+$B44),\"\")","v":0},{"$f":"IF($C44,INDEX(Results!G$5:G$15784,$C$4+$B44),\"\")","v":3},0,3]
[null,39,{"$f":"B45<=Control!$C$17","v":true},{"$f":"IF($C45,INDEX(Results!C$5:C$15784,$C$4+$B45),\"\")","v":5},{"$f":"IF($C45,INDEX(Results!D$5:D$15784,$C$4+$B45),\"\")","v":"1.FC Köln"},{"$f":"IF($C45,INDEX(Results!E$5:E$15784,$C$4+$B45),\"\")","v":"Borussia M'gladbach"},{"$f":"IF($C45,INDEX(Results!F$5:F$15784,$C$4+$B45),\"\")","v":1},{"$f":"IF($C45,INDEX(Results!G$5:G$15784,$C$4+$B45),\"\")","v":0},3,0]
[null,40,{"$f":"B46<=Control!$C$17","v":true},{"$f":"IF($C46,INDEX(Results!C$5:C$15784,$C$4+$B46),\"\")","v":5},{"$f":"IF($C46,INDEX(Results!D$5:D$15784,$C$4+$B46),\"\")","v":"Hamburger SV"},{"$f":"IF($C46,INDEX(Results!E$5:E$15784,$C$4+$B46),\"\")","v":"Eintracht Frankfurt"},{"$f":"IF($C46,INDEX(Results!F$5:F$15784,$C$4+$B46),\"\")","v":0},{"$f":"IF($C46,INDEX(Results!G$5:G$15784,$C$4+$B46),\"\")","v":0},1,1]
[null,41,{"$f":"B47<=Control!$C$17","v":true},{"$f":"IF($C47,INDEX(Results!C$5:C$15784,$C$4+$B47),\"\")","v":5},{"$f":"IF($C47,INDEX(Results!D$5:D$15784,$C$4+$B47),\"\")","v":"Werder Bremen"},{"$f":"IF($C47,INDEX(Results!E$5:E$15784,$C$4+$B47),\"\")","v":"FC Ingolstadt"},{"$f":"IF($C47,INDEX(Results!F$5:F$15784,$C$4+$B47),\"\")","v":0},{"$f":"IF($C47,INDEX(Results!G$5:G$15784,$C$4+$B47),\"\")","v":1},0,3]
[null,42,{"$f":"B48<=Control!$C$17","v":true},{"$f":"IF($C48,INDEX(Results!C$5:C$15784,$C$4+$B48),\"\")","v":5},{"$f":"IF($C48,INDEX(Results!D$5:D$15784,$C$4+$B48),\"\")","v":"VfL Wolfsburg"},{"$f":"IF($C48,INDEX(Results!E$5:E$15784,$C$4+$B48),\"\")","v":"Hertha BSC Berlin"},{"$f":"IF($C48,INDEX(Results!F$5:F$15784,$C$4+$B48),\"\")","v":2},{"$f":"IF($C48,INDEX(Results!G$5:G$15784,$C$4+$B48),\"\")","v":0},3,0]
[null,43,{"$f":"B49<=Control!$C$17","v":true},{"$f":"IF($C49,INDEX(Results!C$5:C$15784,$C$4+$B49),\"\")","v":5},{"$f":"IF($C49,INDEX(Results!D$5:D$15784,$C$4+$B49),\"\")","v":"FC Augsburg"},{"$f":"IF($C49,INDEX(Results!E$5:E$15784,$C$4+$B49),\"\")","v":"Hannover 96"},{"$f":"IF($C49,INDEX(Results!F$5:F$15784,$C$4+$B49),\"\")","v":2},{"$f":"IF($C49,INDEX(Results!G$5:G$15784,$C$4+$B49),\"\")","v":0},3,0]
[null,44,{"$f":"B50<=Control!$C$17","v":true},{"$f":"IF($C50,INDEX(Results!C$5:C$15784,$C$4+$B50),\"\")","v":5},{"$f":"IF($C50,INDEX(Results!D$5:D$15784,$C$4+$B50),\"\")","v":"Borussia Dortmund"},{"$f":"IF($C50,INDEX(Results!E$5:E$15784,$C$4+$B50),\"\")","v":"Bayer Leverkusen"},{"$f":"IF($C50,INDEX(Results!F$5:F$15784,$C$4+$B50),\"\")","v":3},{"$f":"IF($C50,INDEX(Results!G$5:G$15784,$C$4+$B50),\"\")","v":0},3,0]
[null,45,{"$f":"B51<=Control!$C$17","v":true},{"$f":"IF($C51,INDEX(Results!C$5:C$15784,$C$4+$B51),\"\")","v":5},{"$f":"IF($C51,INDEX(Results!D$5:D$15784,$C$4+$B51),\"\")","v":"VfB Stuttgart"},{"$f":"IF($C51,INDEX(Results!E$5:E$15784,$C$4+$B51),\"\")","v":"FC Schalke 04"},{"$f":"IF($C51,INDEX(Results!F$5:F$15784,$C$4+$B51),\"\")","v":0},{"$f":"IF($C51,INDEX(Results!G$5:G$15784,$C$4+$B51),\"\")","v":1},0,3]
[null,46,{"$f":"B52<=Control!$C$17","v":true},{"$f":"IF($C52,INDEX(Results!C$5:C$15784,$C$4+$B52),\"\")","v":6},{"$f":"IF($C52,INDEX(Results!D$5:D$15784,$C$4+$B52),\"\")","v":"FC Bayern München"},{"$f":"IF($C52,INDEX(Results!E$5:E$15784,$C$4+$B52),\"\")","v":"VfL Wolfsburg"},{"$f":"IF($C52,INDEX(Results!F$5:F$15784,$C$4+$B52),\"\")","v":5},{"$f":"IF($C52,INDEX(Results!G$5:G$15784,$C$4+$B52),\"\")","v":1},3,0]
[null,47,{"$f":"B53<=Control!$C$17","v":true},{"$f":"IF($C53,INDEX(Results!C$5:C$15784,$C$4+$B53),\"\")","v":6},{"$f":"IF($C53,INDEX(Results!D$5:D$15784,$C$4+$B53),\"\")","v":"Darmstadt 98"},{"$f":"IF($C53,INDEX(Results!E$5:E$15784,$C$4+$B53),\"\")","v":"Werder Bremen"},{"$f":"IF($C53,INDEX(Results!F$5:F$15784,$C$4+$B53),\"\")","v":2},{"$f":"IF($C53,INDEX(Results!G$5:G$15784,$C$4+$B53),\"\")","v":1},3,0]
[null,48,{"$f":"B54<=Control!$C$17","v":true},{"$f":"IF($C54,INDEX(Results!C$5:C$15784,$C$4+$B54),\"\")","v":6},{"$f":"IF($C54,INDEX(Results!D$5:D$15784,$C$4+$B54),\"\")","v":"Hertha BSC Berlin"},{"$f":"IF($C54,INDEX(Results!E$5:E$15784,$C$4+$B54),\"\")","v":"1.FC Köln"},{"$f":"IF($C54,INDEX(Results!F$5:F$15784,$C$4+$B54),\"\")","v":2},{"$f":"IF($C54,INDEX(Results!G$5:G$15784,$C$4+$B54),\"\")","v":0},3,0]
[null,49,{"$f":"B55<=Control!$C$17","v":true},{"$f":"IF($C55,INDEX(Results!C$5:C$15784,$C$4+$B55),\"\")","v":6},{"$f":"IF($C55,INDEX(Results!D$5:D$15784,$C$4+$B55),\"\")","v":"FC Ingolstadt"},{"$f":"IF($C55,INDEX(Results!E$5:E$15784,$C$4+$B55),\"\")","v":"Hamburger SV"},{"$f":"IF($C55,INDEX(Results!F$5:F$15784,$C$4+$B55),\"\")","v":0},{"$f":"IF($C55,INDEX(Results!G$5:G$15784,$C$4+$B55),\"\")","v":1},0,3]
[null,50,{"$f":"B56<=Control!$C$17","v":true},{"$f":"IF($C56,INDEX(Results!C$5:C$15784,$C$4+$B56),\"\")","v":6},{"$f":"IF($C56,INDEX(Results!D$5:D$15784,$C$4+$B56),\"\")","v":"Hannover 96"},{"$f":"IF($C56,INDEX(Results!E$5:E$15784,$C$4+$B56),\"\")","v":"VfB Stuttgart"},{"$f":"IF($C56,INDEX(Results!F$5:F$15784,$C$4+$B56),\"\")","v":1},{"$f":"IF($C56,INDEX(Results!G$5:G$15784,$C$4+$B56),\"\")","v":3},0,3]
[null,51,{"$f":"B57<=Control!$C$17","v":true},{"$f":"IF($C57,INDEX(Results!C$5:C$15784,$C$4+$B57),\"\")","v":6},{"$f":"IF($C57,INDEX(Results!D$5:D$15784,$C$4+$B57),\"\")","v":"TSG 1899 Hoffenheim"},{"$f":"IF($C57,INDEX(Results!E$5:E$15784,$C$4+$B57),\"\")","v":"Borussia Dortmund"},{"$f":"IF($C57,INDEX(Results!F$5:F$15784,$C$4+$B57),\"\")","v":1},{"$f":"IF($C57,INDEX(Results!G$5:G$15784,$C$4+$B57),\"\")","v":1},1,1]
[null,52,{"$f":"B58<=Control!$C$17","v":true},{"$f":"IF($C58,INDEX(Results!C$5:C$15784,$C$4+$B58),\"\")","v":6},{"$f":"IF($C58,INDEX(Results!D$5:D$15784,$C$4+$B58),\"\")","v":"Bayer Leverkusen"},{"$f":"IF($C58,INDEX(Results!E$5:E$15784,$C$4+$B58),\"\")","v":"FSV Mainz 05"},{"$f":"IF($C58,INDEX(Results!F$5:F$15784,$C$4+$B58),\"\")","v":1},{"$f":"IF($C58,INDEX(Results!G$5:G$15784,$C$4+$B58),\"\")","v":0},3,0]
[null,53,{"$f":"B59<=Control!$C$17","v":true},{"$f":"IF($C59,INDEX(Results!C$5:C$15784,$C$4+$B59),\"\")","v":6},{"$f":"IF($C59,INDEX(Results!D$5:D$15784,$C$4+$B59),\"\")","v":"Borussia M'gladbach"},{"$f":"IF($C59,INDEX(Results!E$5:E$15784,$C$4+$B59),\"\")","v":"FC Augsburg"},{"$f":"IF($C59,INDEX(Results!F$5:F$15784,$C$4+$B59),\"\")","v":4},{"$f":"IF($C59,INDEX(Results!G$5:G$15784,$C$4+$B59),\"\")","v":2},3,0]
[null,54,{"$f":"B60<=Control!$C$17","v":true},{"$f":"IF($C60,INDEX(Results!C$5:C$15784,$C$4+$B60),\"\")","v":6},{"$f":"IF($C60,INDEX(Results!D$5:D$15784,$C$4+$B60),\"\")","v":"FC Schalke 04"},{"$f":"IF($C60,INDEX(Results!E$5:E$15784,$C$4+$B60),\"\")","v":"Eintracht Frankfurt"},{"$f":"IF($C60,INDEX(Results!F$5:F$15784,$C$4+$B60),\"\")","v":2},{"$f":"IF($C60,INDEX(Results!G$5:G$15784,$C$4+$B60),\"\")","v":0},3,0]
[null,55,{"$f":"B61<=Control!$C$17","v":true},{"$f":"IF($C61,INDEX(Results!C$5:C$15784,$C$4+$B61),\"\")","v":7},{"$f":"IF($C61,INDEX(Results!D$5:D$15784,$C$4+$B61),\"\")","v":"1.FC Köln"},{"$f":"IF($C61,INDEX(Results!E$5:E$15784,$C$4+$B61),\"\")","v":"FC Ingolstadt"},{"$f":"IF($C61,INDEX(Results!F$5:F$15784,$C$4+$B61),\"\")","v":1},{"$f":"IF($C61,INDEX(Results!G$5:G$15784,$C$4+$B61),\"\")","v":1},1,1]
[null,56,{"$f":"B62<=Control!$C$17","v":true},{"$f":"IF($C62,INDEX(Results!C$5:C$15784,$C$4+$B62),\"\")","v":7},{"$f":"IF($C62,INDEX(Results!D$5:D$15784,$C$4+$B62),\"\")","v":"FC Augsburg"},{"$f":"IF($C62,INDEX(Results!E$5:E$15784,$C$4+$B62),\"\")","v":"TSG 1899 Hoffenheim"},{"$f":"IF($C62,INDEX(Results!F$5:F$15784,$C$4+$B62),\"\")","v":1},{"$f":"IF($C62,INDEX(Results!G$5:G$15784,$C$4+$B62),\"\")","v":3},0,3]
[null,57,{"$f":"B63<=Control!$C$17","v":true},{"$f":"IF($C63,INDEX(Results!C$5:C$15784,$C$4+$B63),\"\")","v":7},{"$f":"IF($C63,INDEX(Results!D$5:D$15784,$C$4+$B63),\"\")","v":"Hamburger SV"},{"$f":"IF($C63,INDEX(Results!E$5:E$15784,$C$4+$B63),\"\")","v":"FC Schalke 04"},{"$f":"IF($C63,INDEX(Results!F$5:F$15784,$C$4+$B63),\"\")","v":0},{"$f":"IF($C63,INDEX(Results!G$5:G$15784,$C$4+$B63),\"\")","v":1},0,3]
[null,58,{"$f":"B64<=Control!$C$17","v":true},{"$f":"IF($C64,INDEX(Results!C$5:C$15784,$C$4+$B64),\"\")","v":7},{"$f":"IF($C64,INDEX(Results!D$5:D$15784,$C$4+$B64),\"\")","v":"FSV Mainz 05"},{"$f":"IF($C64,INDEX(Results!E$5:E$15784,$C$4+$B64),\"\")","v":"FC Bayern München"},{"$f":"IF($C64,INDEX(Results!F$5:F$15784,$C$4+$B64),\"\")","v":0},{"$f":"IF($C64,INDEX(Results!G$5:G$15784,$C$4+$B64),\"\")","v":3},0,3]
[null,59,{"$f":"B65<=Control!$C$17","v":true},{"$f":"IF($C65,INDEX(Results!C$5:C$15784,$C$4+$B65),\"\")","v":7},{"$f":"IF($C65,INDEX(Results!D$5:D$15784,$C$4+$B65),\"\")","v":"VfB Stuttgart"},{"$f":"IF($C65,INDEX(Results!E$5:E$15784,$C$4+$B65),\"\")","v":"Borussia M'gladbach"},{"$f":"IF($C65,INDEX(Results!F$5:F$15784,$C$4+$B65),\"\")","v":1},{"$f":"IF($C65,INDEX(Results!G$5:G$15784,$C$4+$B65),\"\")","v":3},0,3]
[null,60,{"$f":"B66<=Control!$C$17","v":true},{"$f":"IF($C66,INDEX(Results!C$5:C$15784,$C$4+$B66),\"\")","v":7},{"$f":"IF($C66,INDEX(Results!D$5:D$15784,$C$4+$B66),\"\")","v":"Werder Bremen"},{"$f":"IF($C66,INDEX(Results!E$5:E$15784,$C$4+$B66),\"\")","v":"Bayer Leverkusen"},{"$f":"IF($C66,INDEX(Results!F$5:F$15784,$C$4+$B66),\"\")","v":0},{"$f":"IF($C66,INDEX(Results!G$5:G$15784,$C$4+$B66),\"\")","v":3},0,3]
[null,61,{"$f":"B67<=Control!$C$17","v":true},{"$f":"IF($C67,INDEX(Results!C$5:C$15784,$C$4+$B67),\"\")","v":7},{"$f":"IF($C67,INDEX(Results!D$5:D$15784,$C$4+$B67),\"\")","v":"VfL Wolfsburg"},{"$f":"IF($C67,INDEX(Results!E$5:E$15784,$C$4+$B67),\"\")","v":"Hannover 96"},{"$f":"IF($C67,INDEX(Results!F$5:F$15784,$C$4+$B67),\"\")","v":1},{"$f":"IF($C67,INDEX(Results!G$5:G$15784,$C$4+$B67),\"\")","v":1},1,1]
[null,62,{"$f":"B68<=Control!$C$17","v":true},{"$f":"IF($C68,INDEX(Results!C$5:C$15784,$C$4+$B68),\"\")","v":7},{"$f":"IF($C68,INDEX(Results!D$5:D$15784,$C$4+$B68),\"\")","v":"Borussia Dortmund"},{"$f":"IF($C68,INDEX(Results!E$5:E$15784,$C$4+$B68),\"\")","v":"Darmstadt 98"},{"$f":"IF($C68,INDEX(Results!F$5:F$15784,$C$4+$B68),\"\")","v":2},{"$f":"IF($C68,INDEX(Results!G$5:G$15784,$C$4+$B68),\"\")","v":2},1,1]
[null,63,{"$f":"B69<=Control!$C$17","v":true},{"$f":"IF($C69,INDEX(Results!C$5:C$15784,$C$4+$B69),\"\")","v":7},{"$f":"IF($C69,INDEX(Results!D$5:D$15784,$C$4+$B69),\"\")","v":"Eintracht Frankfurt"},{"$f":"IF($C69,INDEX(Results!E$5:E$15784,$C$4+$B69),\"\")","v":"Hertha BSC Berlin"},{"$f":"IF($C69,INDEX(Results!F$5:F$15784,$C$4+$B69),\"\")","v":1},{"$f":"IF($C69,INDEX(Results!G$5:G$15784,$C$4+$B69),\"\")","v":1},1,1]
[null,64,{"$f":"B70<=Control!$C$17","v":true},{"$f":"IF($C70,INDEX(Results!C$5:C$15784,$C$4+$B70),\"\")","v":8},{"$f":"IF($C70,INDEX(Results!D$5:D$15784,$C$4+$B70),\"\")","v":"Darmstadt 98"},{"$f":"IF($C70,INDEX(Results!E$5:E$15784,$C$4+$B70),\"\")","v":"FSV Mainz 05"},{"$f":"IF($C70,INDEX(Results!F$5:F$15784,$C$4+$B70),\"\")","v":2},{"$f":"IF($C70,INDEX(Results!G$5:G$15784,$C$4+$B70),\"\")","v":3},0,3]
[null,65,{"$f":"B71<=Control!$C$17","v":true},{"$f":"IF($C71,INDEX(Results!C$5:C$15784,$C$4+$B71),\"\")","v":8},{"$f":"IF($C71,INDEX(Results!D$5:D$15784,$C$4+$B71),\"\")","v":"Hannover 96"},{"$f":"IF($C71,INDEX(Results!E$5:E$15784,$C$4+$B71),\"\")","v":"Werder Bremen"},{"$f":"IF($C71,INDEX(Results!F$5:F$15784,$C$4+$B71),\"\")","v":1},{"$f":"IF($C71,INDEX(Results!G$5:G$15784,$C$4+$B71),\"\")","v":0},{"$f":"$C71*IF($G71>$H71,myPoints,IF($G71<$H71,0,1))","v":3},{"$f":"$C71*IF($G71>$H71,0,IF($G71<$H71,myPoints,1))","v":0}]
[null,66,{"$f":"B72<=Control!$C$17","v":true},{"$f":"IF($C72,INDEX(Results!C$5:C$15784,$C$4+$B72),\"\")","v":8},{"$f":"IF($C72,INDEX(Results!D$5:D$15784,$C$4+$B72),\"\")","v":"Hertha BSC Berlin"},{"$f":"IF($C72,INDEX(Results!E$5:E$15784,$C$4+$B72),\"\")","v":"Hamburger SV"},{"$f":"IF($C72,INDEX(Results!F$5:F$15784,$C$4+$B72),\"\")","v":3},{"$f":"IF($C72,INDEX(Results!G$5:G$15784,$C$4+$B72),\"\")","v":0},3,0]
[null,67,{"$f":"B73<=Control!$C$17","v":true},{"$f":"IF($C73,INDEX(Results!C$5:C$15784,$C$4+$B73),\"\")","v":8},{"$f":"IF($C73,INDEX(Results!D$5:D$15784,$C$4+$B73),\"\")","v":"TSG 1899 Hoffenheim"},{"$f":"IF($C73,INDEX(Results!E$5:E$15784,$C$4+$B73),\"\")","v":"VfB Stuttgart"},{"$f":"IF($C73,INDEX(Results!F$5:F$15784,$C$4+$B73),\"\")","v":2},{"$f":"IF($C73,INDEX(Results!G$5:G$15784,$C$4+$B73),\"\")","v":2},1,1]
[null,68,{"$f":"B74<=Control!$C$17","v":true},{"$f":"IF($C74,INDEX(Results!C$5:C$15784,$C$4+$B74),\"\")","v":8},{"$f":"IF($C74,INDEX(Results!D$5:D$15784,$C$4+$B74),\"\")","v":"FC Ingolstadt"},{"$f":"IF($C74,INDEX(Results!E$5:E$15784,$C$4+$B74),\"\")","v":"Eintracht Frankfurt"},{"$f":"IF($C74,INDEX(Results!F$5:F$15784,$C$4+$B74),\"\")","v":2},{"$f":"IF($C74,INDEX(Results!G$5:G$15784,$C$4+$B74),\"\")","v":0},3,0]
[null,69,{"$f":"B75<=Control!$C$17","v":true},{"$f":"IF($C75,INDEX(Results!C$5:C$15784,$C$4+$B75),\"\")","v":8},{"$f":"IF($C75,INDEX(Results!D$5:D$15784,$C$4+$B75),\"\")","v":"Borussia M'gladbach"},{"$f":"IF($C75,INDEX(Results!E$5:E$15784,$C$4+$B75),\"\")","v":"VfL Wolfsburg"},{"$f":"IF($C75,INDEX(Results!F$5:F$15784,$C$4+$B75),\"\")","v":2},{"$f":"IF($C75,INDEX(Results!G$5:G$15784,$C$4+$B75),\"\")","v":0},3,0]
[null,70,{"$f":"B76<=Control!$C$17","v":true},{"$f":"IF($C76,INDEX(Results!C$5:C$15784,$C$4+$B76),\"\")","v":8},{"$f":"IF($C76,INDEX(Results!D$5:D$15784,$C$4+$B76),\"\")","v":"FC Bayern München"},{"$f":"IF($C76,INDEX(Results!E$5:E$15784,$C$4+$B76),\"\")","v":"Borussia Dortmund"},{"$f":"IF($C76,INDEX(Results!F$5:F$15784,$C$4+$B76),\"\")","v":5},{"$f":"IF($C76,INDEX(Results!G$5:G$15784,$C$4+$B76),\"\")","v":1},3,0]
[null,71,{"$f":"B77<=Control!$C$17","v":true},{"$f":"IF($C77,INDEX(Results!C$5:C$15784,$C$4+$B77),\"\")","v":8},{"$f":"IF($C77,INDEX(Results!D$5:D$15784,$C$4+$B77),\"\")","v":"Bayer Leverkusen"},{"$f":"IF($C77,INDEX(Results!E$5:E$15784,$C$4+$B77),\"\")","v":"FC Augsburg"},{"$f":"IF($C77,INDEX(Results!F$5:F$15784,$C$4+$B77),\"\")","v":1},{"$f":"IF($C77,INDEX(Results!G$5:G$15784,$C$4+$B77),\"\")","v":1},1,1]
[null,72,{"$f":"B78<=Control!$C$17","v":true},{"$f":"IF($C78,INDEX(Results!C$5:C$15784,$C$4+$B78),\"\")","v":8},{"$f":"IF($C78,INDEX(Results!D$5:D$15784,$C$4+$B78),\"\")","v":"FC Schalke 04"},{"$f":"IF($C78,INDEX(Results!E$5:E$15784,$C$4+$B78),\"\")","v":"1.FC Köln"},{"$f":"IF($C78,INDEX(Results!F$5:F$15784,$C$4+$B78),\"\")","v":0},{"$f":"IF($C78,INDEX(Results!G$5:G$15784,$C$4+$B78),\"\")","v":3},0,3]
[null,73,{"$f":"B79<=Control!$C$17","v":true},{"$f":"IF($C79,INDEX(Results!C$5:C$15784,$C$4+$B79),\"\")","v":9},{"$f":"IF($C79,INDEX(Results!D$5:D$15784,$C$4+$B79),\"\")","v":"FSV Mainz 05"},{"$f":"IF($C79,INDEX(Results!E$5:E$15784,$C$4+$B79),\"\")","v":"Borussia Dortmund"},{"$f":"IF($C79,INDEX(Results!F$5:F$15784,$C$4+$B79),\"\")","v":0},{"$f":"IF($C79,INDEX(Results!G$5:G$15784,$C$4+$B79),\"\")","v":2},0,3]
[null,74,{"$f":"B80<=Control!$C$17","v":true},{"$f":"IF($C80,INDEX(Results!C$5:C$15784,$C$4+$B80),\"\")","v":9},{"$f":"IF($C80,INDEX(Results!D$5:D$15784,$C$4+$B80),\"\")","v":"FC Augsburg"},{"$f":"IF($C80,INDEX(Results!E$5:E$15784,$C$4+$B80),\"\")","v":"Darmstadt 98"},{"$f":"IF($C80,INDEX(Results!F$5:F$15784,$C$4+$B80),\"\")","v":0},{"$f":"IF($C80,INDEX(Results!G$5:G$15784,$C$4+$B80),\"\")","v":2},0,3]
[null,75,{"$f":"B81<=Control!$C$17","v":true},{"$f":"IF($C81,INDEX(Results!C$5:C$15784,$C$4+$B81),\"\")","v":9},{"$f":"IF($C81,INDEX(Results!D$5:D$15784,$C$4+$B81),\"\")","v":"Eintracht Frankfurt"},{"$f":"IF($C81,INDEX(Results!E$5:E$15784,$C$4+$B81),\"\")","v":"Borussia M'gladbach"},{"$f":"IF($C81,INDEX(Results!F$5:F$15784,$C$4+$B81),\"\")","v":1},{"$f":"IF($C81,INDEX(Results!G$5:G$15784,$C$4+$B81),\"\")","v":5},0,3]
[null,76,{"$f":"B82<=Control!$C$17","v":true},{"$f":"IF($C82,INDEX(Results!C$5:C$15784,$C$4+$B82),\"\")","v":9},{"$f":"IF($C82,INDEX(Results!D$5:D$15784,$C$4+$B82),\"\")","v":"Hamburger SV"},{"$f":"IF($C82,INDEX(Results!E$5:E$15784,$C$4+$B82),\"\")","v":"Bayer Leverkusen"},{"$f":"IF($C82,INDEX(Results!F$5:F$15784,$C$4+$B82),\"\")","v":0},{"$f":"IF($C82,INDEX(Results!G$5:G$15784,$C$4+$B82),\"\")","v":0},1,1]
[null,77,{"$f":"B83<=Control!$C$17","v":true},{"$f":"IF($C83,INDEX(Results!C$5:C$15784,$C$4+$B83),\"\")","v":9},{"$f":"IF($C83,INDEX(Results!D$5:D$15784,$C$4+$B83),\"\")","v":"FC Schalke 04"},{"$f":"IF($C83,INDEX(Results!E$5:E$15784,$C$4+$B83),\"\")","v":"Hertha BSC Berlin"},{"$f":"IF($C83,INDEX(Results!F$5:F$15784,$C$4+$B83),\"\")","v":2},{"$f":"IF($C83,INDEX(Results!G$5:G$15784,$C$4+$B83),\"\")","v":1},3,0]
[null,78,{"$f":"B84<=Control!$C$17","v":true},{"$f":"IF($C84,INDEX(Results!C$5:C$15784,$C$4+$B84),\"\")","v":9},{"$f":"IF($C84,INDEX(Results!D$5:D$15784,$C$4+$B84),\"\")","v":"Werder Bremen"},{"$f":"IF($C84,INDEX(Results!E$5:E$15784,$C$4+$B84),\"\")","v":"FC Bayern München"},{"$f":"IF($C84,INDEX(Results!F$5:F$15784,$C$4+$B84),\"\")","v":0},{"$f":"IF($C84,INDEX(Results!G$5:G$15784,$C$4+$B84),\"\")","v":1},0,3]
[null,79,{"$f":"B85<=Control!$C$17","v":true},{"$f":"IF($C85,INDEX(Results!C$5:C$15784,$C$4+$B85),\"\")","v":9},{"$f":"IF($C85,INDEX(Results!D$5:D$15784,$C$4+$B85),\"\")","v":"VfL Wolfsburg"},{"$f":"IF($C85,INDEX(Results!E$5:E$15784,$C$4+$B85),\"\")","v":"TSG 1899 Hoffenheim"},{"$f":"IF($C85,INDEX(Results!F$5:F$15784,$C$4+$B85),\"\")","v":4},{"$f":"IF($C85,INDEX(Results!G$5:G$15784,$C$4+$B85),\"\")","v":2},3,0]
[null,80,{"$f":"B86<=Control!$C$17","v":true},{"$f":"IF($C86,INDEX(Results!C$5:C$15784,$C$4+$B86),\"\")","v":9},{"$f":"IF($C86,INDEX(Results!D$5:D$15784,$C$4+$B86),\"\")","v":"1.FC Köln"},{"$f":"IF($C86,INDEX(Results!E$5:E$15784,$C$4+$B86),\"\")","v":"Hannover 96"},{"$f":"IF($C86,INDEX(Results!F$5:F$15784,$C$4+$B86),\"\")","v":0},{"$f":"IF($C86,INDEX(Results!G$5:G$15784,$C$4+$B86),\"\")","v":1},0,3]
[null,81,{"$f":"B87<=Control!$C$17","v":true},{"$f":"IF($C87,INDEX(Results!C$5:C$15784,$C$4+$B87),\"\")","v":9},{"$f":"IF($C87,INDEX(Results!D$5:D$15784,$C$4+$B87),\"\")","v":"VfB Stuttgart"},{"$f":"IF($C87,INDEX(Results!E$5:E$15784,$C$4+$B87),\"\")","v":"FC Ingolstadt"},{"$f":"IF($C87,INDEX(Results!F$5:F$15784,$C$4+$B87),\"\")","v":1},{"$f":"IF($C87,INDEX(Results!G$5:G$15784,$C$4+$B87),\"\")","v":0},3,0]
[null,82,{"$f":"B88<=Control!$C$17","v":true},{"$f":"IF($C88,INDEX(Results!C$5:C$15784,$C$4+$B88),\"\")","v":10},{"$f":"IF($C88,INDEX(Results!D$5:D$15784,$C$4+$B88),\"\")","v":"TSG 1899 Hoffenheim"},{"$f":"IF($C88,INDEX(Results!E$5:E$15784,$C$4+$B88),\"\")","v":"Hamburger SV"},{"$f":"IF($C88,INDEX(Results!F$5:F$15784,$C$4+$B88),\"\")","v":0},{"$f":"IF($C88,INDEX(Results!G$5:G$15784,$C$4+$B88),\"\")","v":1},0,3]
[null,83,{"$f":"B89<=Control!$C$17","v":true},{"$f":"IF($C89,INDEX(Results!C$5:C$15784,$C$4+$B89),\"\")","v":10},{"$f":"IF($C89,INDEX(Results!D$5:D$15784,$C$4+$B89),\"\")","v":"FC Bayern München"},{"$f":"IF($C89,INDEX(Results!E$5:E$15784,$C$4+$B89),\"\")","v":"1.FC Köln"},{"$f":"IF($C89,INDEX(Results!F$5:F$15784,$C$4+$B89),\"\")","v":4},{"$f":"IF($C89,INDEX(Results!G$5:G$15784,$C$4+$B89),\"\")","v":0},3,0]
[null,84,{"$f":"B90<=Control!$C$17","v":true},{"$f":"IF($C90,INDEX(Results!C$5:C$15784,$C$4+$B90),\"\")","v":10},{"$f":"IF($C90,INDEX(Results!D$5:D$15784,$C$4+$B90),\"\")","v":"Darmstadt 98"},{"$f":"IF($C90,INDEX(Results!E$5:E$15784,$C$4+$B90),\"\")","v":"VfL Wolfsburg"},{"$f":"IF($C90,INDEX(Results!F$5:F$15784,$C$4+$B90),\"\")","v":0},{"$f":"IF($C90,INDEX(Results!G$5:G$15784,$C$4+$B90),\"\")","v":1},0,3]
[null,85,{"$f":"B91<=Control!$C$17","v":true},{"$f":"IF($C91,INDEX(Results!C$5:C$15784,$C$4+$B91),\"\")","v":10},{"$f":"IF($C91,INDEX(Results!D$5:D$15784,$C$4+$B91),\"\")","v":"Hannover 96"},{"$f":"IF($C91,INDEX(Results!E$5:E$15784,$C$4+$B91),\"\")","v":"Eintracht Frankfurt"},{"$f":"IF($C91,INDEX(Results!F$5:F$15784,$C$4+$B91),\"\")","v":1},{"$f":"IF($C91,INDEX(Results!G$5:G$15784,$C$4+$B91),\"\")","v":2},0,3]
[null,86,{"$f":"B92<=Control!$C$17","v":true},{"$f":"IF($C92,INDEX(Results!C$5:C$15784,$C$4+$B92),\"\")","v":10},{"$f":"IF($C92,INDEX(Results!D$5:D$15784,$C$4+$B92),\"\")","v":"FC Ingolstadt"},{"$f":"IF($C92,INDEX(Results!E$5:E$15784,$C$4+$B92),\"\")","v":"Hertha BSC Berlin"},{"$f":"IF($C92,INDEX(Results!F$5:F$15784,$C$4+$B92),\"\")","v":0},{"$f":"IF($C92,INDEX(Results!G$5:G$15784,$C$4+$B92),\"\")","v":1},0,3]
[null,87,{"$f":"B93<=Control!$C$17","v":true},{"$f":"IF($C93,INDEX(Results!C$5:C$15784,$C$4+$B93),\"\")","v":10},{"$f":"IF($C93,INDEX(Results!D$5:D$15784,$C$4+$B93),\"\")","v":"Bayer Leverkusen"},{"$f":"IF($C93,INDEX(Results!E$5:E$15784,$C$4+$B93),\"\")","v":"VfB Stuttgart"},{"$f":"IF($C93,INDEX(Results!F$5:F$15784,$C$4+$B93),\"\")","v":4},{"$f":"IF($C93,INDEX(Results!G$5:G$15784,$C$4+$B93),\"\")","v":3},3,0]
[null,88,{"$f":"B94<=Control!$C$17","v":true},{"$f":"IF($C94,INDEX(Results!C$5:C$15784,$C$4+$B94),\"\")","v":10},{"$f":"IF($C94,INDEX(Results!D$5:D$15784,$C$4+$B94),\"\")","v":"FSV Mainz 05"},{"$f":"IF($C94,INDEX(Results!E$5:E$15784,$C$4+$B94),\"\")","v":"Werder Bremen"},{"$f":"IF($C94,INDEX(Results!F$5:F$15784,$C$4+$B94),\"\")","v":1},{"$f":"IF($C94,INDEX(Results!G$5:G$15784,$C$4+$B94),\"\")","v":3},0,3]
[null,89,{"$f":"B95<=Control!$C$17","v":true},{"$f":"IF($C95,INDEX(Results!C$5:C$15784,$C$4+$B95),\"\")","v":10},{"$f":"IF($C95,INDEX(Results!D$5:D$15784,$C$4+$B95),\"\")","v":"Borussia Dortmund"},{"$f":"IF($C95,INDEX(Results!E$5:E$15784,$C$4+$B95),\"\")","v":"FC Augsburg"},{"$f":"IF($C95,INDEX(Results!F$5:F$15784,$C$4+$B95),\"\")","v":5},{"$f":"IF($C95,INDEX(Results!G$5:G$15784,$C$4+$B95),\"\")","v":1},3,0]
[null,90,{"$f":"B96<=Control!$C$17","v":true},{"$f":"IF($C96,INDEX(Results!C$5:C$15784,$C$4+$B96),\"\")","v":10},{"$f":"IF($C96,INDEX(Results!D$5:D$15784,$C$4+$B96),\"\")","v":"Borussia M'gladbach"},{"$f":"IF($C96,INDEX(Results!E$5:E$15784,$C$4+$B96),\"\")","v":"FC Schalke 04"},{"$f":"IF($C96,INDEX(Results!F$5:F$15784,$C$4+$B96),\"\")","v":3},{"$f":"IF($C96,INDEX(Results!G$5:G$15784,$C$4+$B96),\"\")","v":1},3,0]
[null,91,{"$f":"B97<=Control!$C$17","v":true},{"$f":"IF($C97,INDEX(Results!C$5:C$15784,$C$4+$B97),\"\")","v":11},{"$f":"IF($C97,INDEX(Results!D$5:D$15784,$C$4+$B97),\"\")","v":"Eintracht Frankfurt"},{"$f":"IF($C97,INDEX(Results!E$5:E$15784,$C$4+$B97),\"\")","v":"FC Bayern München"},{"$f":"IF($C97,INDEX(Results!F$5:F$15784,$C$4+$B97),\"\")","v":0},{"$f":"IF($C97,INDEX(Results!G$5:G$15784,$C$4+$B97),\"\")","v":0},1,1]
[null,92,{"$f":"B98<=Control!$C$17","v":true},{"$f":"IF($C98,INDEX(Results!C$5:C$15784,$C$4+$B98),\"\")","v":11},{"$f":"IF($C98,INDEX(Results!D$5:D$15784,$C$4+$B98),\"\")","v":"FC Augsburg"},{"$f":"IF($C98,INDEX(Results!E$5:E$15784,$C$4+$B98),\"\")","v":"FSV Mainz 05"},{"$f":"IF($C98,INDEX(Results!F$5:F$15784,$C$4+$B98),\"\")","v":3},{"$f":"IF($C98,INDEX(Results!G$5:G$15784,$C$4+$B98),\"\")","v":3},1,1]
[null,93,{"$f":"B99<=Control!$C$17","v":true},{"$f":"IF($C99,INDEX(Results!C$5:C$15784,$C$4+$B99),\"\")","v":11},{"$f":"IF($C99,INDEX(Results!D$5:D$15784,$C$4+$B99),\"\")","v":"1.FC Köln"},{"$f":"IF($C99,INDEX(Results!E$5:E$15784,$C$4+$B99),\"\")","v":"TSG 1899 Hoffenheim"},{"$f":"IF($C99,INDEX(Results!F$5:F$15784,$C$4+$B99),\"\")","v":0},{"$f":"IF($C99,INDEX(Results!G$5:G$15784,$C$4+$B99),\"\")","v":0},1,1]
[null,94,{"$f":"B100<=Control!$C$17","v":true},{"$f":"IF($C100,INDEX(Results!C$5:C$15784,$C$4+$B100),\"\")","v":11},{"$f":"IF($C100,INDEX(Results!D$5:D$15784,$C$4+$B100),\"\")","v":"Hertha BSC Berlin"},{"$f":"IF($C100,INDEX(Results!E$5:E$15784,$C$4+$B100),\"\")","v":"Borussia M'gladbach"},{"$f":"IF($C100,INDEX(Results!F$5:F$15784,$C$4+$B100),\"\")","v":1},{"$f":"IF($C100,INDEX(Results!G$5:G$15784,$C$4+$B100),\"\")","v":4},0,3]
[null,95,{"$f":"B101<=Control!$C$17","v":true},{"$f":"IF($C101,INDEX(Results!C$5:C$15784,$C$4+$B101),\"\")","v":11},{"$f":"IF($C101,INDEX(Results!D$5:D$15784,$C$4+$B101),\"\")","v":"FC Schalke 04"},{"$f":"IF($C101,INDEX(Results!E$5:E$15784,$C$4+$B101),\"\")","v":"FC Ingolstadt"},{"$f":"IF($C101,INDEX(Results!F$5:F$15784,$C$4+$B101),\"\")","v":1},{"$f":"IF($C101,INDEX(Results!G$5:G$15784,$C$4+$B101),\"\")","v":1},1,1]
[null,96,{"$f":"B102<=Control!$C$17","v":true},{"$f":"IF($C102,INDEX(Results!C$5:C$15784,$C$4+$B102),\"\")","v":11},{"$f":"IF($C102,INDEX(Results!D$5:D$15784,$C$4+$B102),\"\")","v":"Werder Bremen"},{"$f":"IF($C102,INDEX(Results!E$5:E$15784,$C$4+$B102),\"\")","v":"Borussia Dortmund"},{"$f":"IF($C102,INDEX(Results!F$5:F$15784,$C$4+$B102),\"\")","v":1},{"$f":"IF($C102,INDEX(Results!G$5:G$15784,$C$4+$B102),\"\")","v":3},0,3]
[null,97,{"$f":"B103<=Control!$C$17","v":true},{"$f":"IF($C103,INDEX(Results!C$5:C$15784,$C$4+$B103),\"\")","v":11},{"$f":"IF($C103,INDEX(Results!D$5:D$15784,$C$4+$B103),\"\")","v":"VfL Wolfsburg"},{"$f":"IF($C103,INDEX(Results!E$5:E$15784,$C$4+$B103),\"\")","v":"Bayer Leverkusen"},{"$f":"IF($C103,INDEX(Results!F$5:F$15784,$C$4+$B103),\"\")","v":2},{"$f":"IF($C103,INDEX(Results!G$5:G$15784,$C$4+$B103),\"\")","v":1},3,0]
[null,98,{"$f":"B104<=Control!$C$17","v":true},{"$f":"IF($C104,INDEX(Results!C$5:C$15784,$C$4+$B104),\"\")","v":11},{"$f":"IF($C104,INDEX(Results!D$5:D$15784,$C$4+$B104),\"\")","v":"Hamburger SV"},{"$f":"IF($C104,INDEX(Results!E$5:E$15784,$C$4+$B104),\"\")","v":"Hannover 96"},{"$f":"IF($C104,INDEX(Results!F$5:F$15784,$C$4+$B104),\"\")","v":1},{"$f":"IF($C104,INDEX(Results!G$5:G$15784,$C$4+$B104),\"\")","v":2},0,3]
[null,99,{"$f":"B105<=Control!$C$17","v":true},{"$f":"IF($C105,INDEX(Results!C$5:C$15784,$C$4+$B105),\"\")","v":11},{"$f":"IF($C105,INDEX(Results!D$5:D$15784,$C$4+$B105),\"\")","v":"VfB Stuttgart"},{"$f":"IF($C105,INDEX(Results!E$5:E$15784,$C$4+$B105),\"\")","v":"Darmstadt 98"},{"$f":"IF($C105,INDEX(Results!F$5:F$15784,$C$4+$B105),\"\")","v":2},{"$f":"IF($C105,INDEX(Results!G$5:G$15784,$C$4+$B105),\"\")","v":0},3,0]
[null,100,{"$f":"B106<=Control!$C$17","v":true},{"$f":"IF($C106,INDEX(Results!C$5:C$15784,$C$4+$B106),\"\")","v":12},{"$f":"IF($C106,INDEX(Results!D$5:D$15784,$C$4+$B106),\"\")","v":"Hannover 96"},{"$f":"IF($C106,INDEX(Results!E$5:E$15784,$C$4+$B106),\"\")","v":"Hertha BSC Berlin"},{"$f":"IF($C106,INDEX(Results!F$5:F$15784,$C$4+$B106),\"\")","v":1},{"$f":"IF($C106,INDEX(Results!G$5:G$15784,$C$4+$B106),\"\")","v":3},0,3]
[null,101,{"$f":"B107<=Control!$C$17","v":true},{"$f":"IF($C107,INDEX(Results!C$5:C$15784,$C$4+$B107),\"\")","v":12},{"$f":"IF($C107,INDEX(Results!D$5:D$15784,$C$4+$B107),\"\")","v":"FC Bayern München"},{"$f":"IF($C107,INDEX(Results!E$5:E$15784,$C$4+$B107),\"\")","v":"VfB Stuttgart"},{"$f":"IF($C107,INDEX(Results!F$5:F$15784,$C$4+$B107),\"\")","v":4},{"$f":"IF($C107,INDEX(Results!G$5:G$15784,$C$4+$B107),\"\")","v":0},3,0]
[null,102,{"$f":"B108<=Control!$C$17","v":true},{"$f":"IF($C108,INDEX(Results!C$5:C$15784,$C$4+$B108),\"\")","v":12},{"$f":"IF($C108,INDEX(Results!D$5:D$15784,$C$4+$B108),\"\")","v":"Darmstadt 98"},{"$f":"IF($C108,INDEX(Results!E$5:E$15784,$C$4+$B108),\"\")","v":"Hamburger SV"},{"$f":"IF($C108,INDEX(Results!F$5:F$15784,$C$4+$B108),\"\")","v":1},{"$f":"IF($C108,INDEX(Results!G$5:G$15784,$C$4+$B108),\"\")","v":1},1,1]
[null,103,{"$f":"B109<=Control!$C$17","v":true},{"$f":"IF($C109,INDEX(Results!C$5:C$15784,$C$4+$B109),\"\")","v":12},{"$f":"IF($C109,INDEX(Results!D$5:D$15784,$C$4+$B109),\"\")","v":"TSG 1899 Hoffenheim"},{"$f":"IF($C109,INDEX(Results!E$5:E$15784,$C$4+$B109),\"\")","v":"Eintracht Frankfurt"},{"$f":"IF($C109,INDEX(Results!F$5:F$15784,$C$4+$B109),\"\")","v":0},{"$f":"IF($C109,INDEX(Results!G$5:G$15784,$C$4+$B109),\"\")","v":0},1,1]
[null,104,{"$f":"B110<=Control!$C$17","v":true},{"$f":"IF($C110,INDEX(Results!C$5:C$15784,$C$4+$B110),\"\")","v":12},{"$f":"IF($C110,INDEX(Results!D$5:D$15784,$C$4+$B110),\"\")","v":"Bayer Leverkusen"},{"$f":"IF($C110,INDEX(Results!E$5:E$15784,$C$4+$B110),\"\")","v":"1.FC Köln"},{"$f":"IF($C110,INDEX(Results!F$5:F$15784,$C$4+$B110),\"\")","v":1},{"$f":"IF($C110,INDEX(Results!G$5:G$15784,$C$4+$B110),\"\")","v":2},0,3]
[null,105,{"$f":"B111<=Control!$C$17","v":true},{"$f":"IF($C111,INDEX(Results!C$5:C$15784,$C$4+$B111),\"\")","v":12},{"$f":"IF($C111,INDEX(Results!D$5:D$15784,$C$4+$B111),\"\")","v":"FSV Mainz 05"},{"$f":"IF($C111,INDEX(Results!E$5:E$15784,$C$4+$B111),\"\")","v":"VfL Wolfsburg"},{"$f":"IF($C111,INDEX(Results!F$5:F$15784,$C$4+$B111),\"\")","v":2},{"$f":"IF($C111,INDEX(Results!G$5:G$15784,$C$4+$B111),\"\")","v":0},3,0]
[null,106,{"$f":"B112<=Control!$C$17","v":true},{"$f":"IF($C112,INDEX(Results!C$5:C$15784,$C$4+$B112),\"\")","v":12},{"$f":"IF($C112,INDEX(Results!D$5:D$15784,$C$4+$B112),\"\")","v":"Borussia M'gladbach"},{"$f":"IF($C112,INDEX(Results!E$5:E$15784,$C$4+$B112),\"\")","v":"FC Ingolstadt"},{"$f":"IF($C112,INDEX(Results!F$5:F$15784,$C$4+$B112),\"\")","v":0},{"$f":"IF($C112,INDEX(Results!G$5:G$15784,$C$4+$B112),\"\")","v":0},1,1]
[null,107,{"$f":"B113<=Control!$C$17","v":true},{"$f":"IF($C113,INDEX(Results!C$5:C$15784,$C$4+$B113),\"\")","v":12},{"$f":"IF($C113,INDEX(Results!D$5:D$15784,$C$4+$B113),\"\")","v":"FC Augsburg"},{"$f":"IF($C113,INDEX(Results!E$5:E$15784,$C$4+$B113),\"\")","v":"Werder Bremen"},{"$f":"IF($C113,INDEX(Results!F$5:F$15784,$C$4+$B113),\"\")","v":1},{"$f":"IF($C113,INDEX(Results!G$5:G$15784,$C$4+$B113),\"\")","v":2},0,3]
[null,108,{"$f":"B114<=Control!$C$17","v":true},{"$f":"IF($C114,INDEX(Results!C$5:C$15784,$C$4+$B114),\"\")","v":12},{"$f":"IF($C114,INDEX(Results!D$5:D$15784,$C$4+$B114),\"\")","v":"Borussia Dortmund"},{"$f":"IF($C114,INDEX(Results!E$5:E$15784,$C$4+$B114),\"\")","v":"FC Schalke 04"},{"$f":"IF($C114,INDEX(Results!F$5:F$15784,$C$4+$B114),\"\")","v":3},{"$f":"IF($C114,INDEX(Results!G$5:G$15784,$C$4+$B114),\"\")","v":2},3,0]
[null,109,{"$f":"B115<=Control!$C$17","v":true},{"$f":"IF($C115,INDEX(Results!C$5:C$15784,$C$4+$B115),\"\")","v":13},{"$f":"IF($C115,INDEX(Results!D$5:D$15784,$C$4+$B115),\"\")","v":"Hamburger SV"},{"$f":"IF($C115,INDEX(Results!E$5:E$15784,$C$4+$B115),\"\")","v":"Borussia Dortmund"},{"$f":"IF($C115,INDEX(Results!F$5:F$15784,$C$4+$B115),\"\")","v":3},{"$f":"IF($C115,INDEX(Results!G$5:G$15784,$C$4+$B115),\"\")","v":1},3,0]
[null,110,{"$f":"B116<=Control!$C$17","v":true},{"$f":"IF($C116,INDEX(Results!C$5:C$15784,$C$4+$B116),\"\")","v":13},{"$f":"IF($C116,INDEX(Results!D$5:D$15784,$C$4+$B116),\"\")","v":"Eintracht Frankfurt"},{"$f":"IF($C116,INDEX(Results!E$5:E$15784,$C$4+$B116),\"\")","v":"Bayer Leverkusen"},{"$f":"IF($C116,INDEX(Results!F$5:F$15784,$C$4+$B116),\"\")","v":1},{"$f":"IF($C116,INDEX(Results!G$5:G$15784,$C$4+$B116),\"\")","v":3},0,3]
[null,111,{"$f":"B117<=Control!$C$17","v":true},{"$f":"IF($C117,INDEX(Results!C$5:C$15784,$C$4+$B117),\"\")","v":13},{"$f":"IF($C117,INDEX(Results!D$5:D$15784,$C$4+$B117),\"\")","v":"1.FC Köln"},{"$f":"IF($C117,INDEX(Results!E$5:E$15784,$C$4+$B117),\"\")","v":"FSV Mainz 05"},{"$f":"IF($C117,INDEX(Results!F$5:F$15784,$C$4+$B117),\"\")","v":0},{"$f":"IF($C117,INDEX(Results!G$5:G$15784,$C$4+$B117),\"\")","v":0},1,1]
[null,112,{"$f":"B118<=Control!$C$17","v":true},{"$f":"IF($C118,INDEX(Results!C$5:C$15784,$C$4+$B118),\"\")","v":13},{"$f":"IF($C118,INDEX(Results!D$5:D$15784,$C$4+$B118),\"\")","v":"Borussia M'gladbach"},{"$f":"IF($C118,INDEX(Results!E$5:E$15784,$C$4+$B118),\"\")","v":"Hannover 96"},{"$f":"IF($C118,INDEX(Results!F$5:F$15784,$C$4+$B118),\"\")","v":2},{"$f":"IF($C118,INDEX(Results!G$5:G$15784,$C$4+$B118),\"\")","v":1},3,0]
[null,113,{"$f":"B119<=Control!$C$17","v":true},{"$f":"IF($C119,INDEX(Results!C$5:C$15784,$C$4+$B119),\"\")","v":13},{"$f":"IF($C119,INDEX(Results!D$5:D$15784,$C$4+$B119),\"\")","v":"FC Schalke 04"},{"$f":"IF($C119,INDEX(Results!E$5:E$15784,$C$4+$B119),\"\")","v":"FC Bayern München"},{"$f":"IF($C119,INDEX(Results!F$5:F$15784,$C$4+$B119),\"\")","v":1},{"$f":"IF($C119,INDEX(Results!G$5:G$15784,$C$4+$B119),\"\")","v":3},0,3]
[null,114,{"$f":"B120<=Control!$C$17","v":true},{"$f":"IF($C120,INDEX(Results!C$5:C$15784,$C$4+$B120),\"\")","v":13},{"$f":"IF($C120,INDEX(Results!D$5:D$15784,$C$4+$B120),\"\")","v":"VfB Stuttgart"},{"$f":"IF($C120,INDEX(Results!E$5:E$15784,$C$4+$B120),\"\")","v":"FC Augsburg"},{"$f":"IF($C120,INDEX(Results!F$5:F$15784,$C$4+$B120),\"\")","v":0},{"$f":"IF($C120,INDEX(Results!G$5:G$15784,$C$4+$B120),\"\")","v":4},0,3]
[null,115,{"$f":"B121<=Control!$C$17","v":true},{"$f":"IF($C121,INDEX(Results!C$5:C$15784,$C$4+$B121),\"\")","v":13},{"$f":"IF($C121,INDEX(Results!D$5:D$15784,$C$4+$B121),\"\")","v":"VfL Wolfsburg"},{"$f":"IF($C121,INDEX(Results!E$5:E$15784,$C$4+$B121),\"\")","v":"Werder Bremen"},{"$f":"IF($C121,INDEX(Results!F$5:F$15784,$C$4+$B121),\"\")","v":6},{"$f":"IF($C121,INDEX(Results!G$5:G$15784,$C$4+$B121),\"\")","v":0},3,0]
[null,116,{"$f":"B122<=Control!$C$17","v":true},{"$f":"IF($C122,INDEX(Results!C$5:C$15784,$C$4+$B122),\"\")","v":13},{"$f":"IF($C122,INDEX(Results!D$5:D$15784,$C$4+$B122),\"\")","v":"Hertha BSC Berlin"},{"$f":"IF($C122,INDEX(Results!E$5:E$15784,$C$4+$B122),\"\")","v":"TSG 1899 Hoffenheim"},{"$f":"IF($C122,INDEX(Results!F$5:F$15784,$C$4+$B122),\"\")","v":1},{"$f":"IF($C122,INDEX(Results!G$5:G$15784,$C$4+$B122),\"\")","v":0},3,0]
[null,117,{"$f":"B123<=Control!$C$17","v":true},{"$f":"IF($C123,INDEX(Results!C$5:C$15784,$C$4+$B123),\"\")","v":13},{"$f":"IF($C123,INDEX(Results!D$5:D$15784,$C$4+$B123),\"\")","v":"FC Ingolstadt"},{"$f":"IF($C123,INDEX(Results!E$5:E$15784,$C$4+$B123),\"\")","v":"Darmstadt 98"},{"$f":"IF($C123,INDEX(Results!F$5:F$15784,$C$4+$B123),\"\")","v":3},{"$f":"IF($C123,INDEX(Results!G$5:G$15784,$C$4+$B123),\"\")","v":1},3,0]
[null,118,{"$f":"B124<=Control!$C$17","v":true},{"$f":"IF($C124,INDEX(Results!C$5:C$15784,$C$4+$B124),\"\")","v":14},{"$f":"IF($C124,INDEX(Results!D$5:D$15784,$C$4+$B124),\"\")","v":"Darmstadt 98"},{"$f":"IF($C124,INDEX(Results!E$5:E$15784,$C$4+$B124),\"\")","v":"1.FC Köln"},{"$f":"IF($C124,INDEX(Results!F$5:F$15784,$C$4+$B124),\"\")","v":0},{"$f":"IF($C124,INDEX(Results!G$5:G$15784,$C$4+$B124),\"\")","v":0},1,1]
[null,119,{"$f":"B125<=Control!$C$17","v":true},{"$f":"IF($C125,INDEX(Results!C$5:C$15784,$C$4+$B125),\"\")","v":14},{"$f":"IF($C125,INDEX(Results!D$5:D$15784,$C$4+$B125),\"\")","v":"FC Bayern München"},{"$f":"IF($C125,INDEX(Results!E$5:E$15784,$C$4+$B125),\"\")","v":"Hertha BSC Berlin"},{"$f":"IF($C125,INDEX(Results!F$5:F$15784,$C$4+$B125),\"\")","v":2},{"$f":"IF($C125,INDEX(Results!G$5:G$15784,$C$4+$B125),\"\")","v":0},3,0]
[null,120,{"$f":"B126<=Control!$C$17","v":true},{"$f":"IF($C126,INDEX(Results!C$5:C$15784,$C$4+$B126),\"\")","v":14},{"$f":"IF($C126,INDEX(Results!D$5:D$15784,$C$4+$B126),\"\")","v":"Hannover 96"},{"$f":"IF($C126,INDEX(Results!E$5:E$15784,$C$4+$B126),\"\")","v":"FC Ingolstadt"},{"$f":"IF($C126,INDEX(Results!F$5:F$15784,$C$4+$B126),\"\")","v":4},{"$f":"IF($C126,INDEX(Results!G$5:G$15784,$C$4+$B126),\"\")","v":0},3,0]
[null,121,{"$f":"B127<=Control!$C$17","v":true},{"$f":"IF($C127,INDEX(Results!C$5:C$15784,$C$4+$B127),\"\")","v":14},{"$f":"IF($C127,INDEX(Results!D$5:D$15784,$C$4+$B127),\"\")","v":"TSG 1899 Hoffenheim"},{"$f":"IF($C127,INDEX(Results!E$5:E$15784,$C$4+$B127),\"\")","v":"Borussia M'gladbach"},{"$f":"IF($C127,INDEX(Results!F$5:F$15784,$C$4+$B127),\"\")","v":3},{"$f":"IF($C127,INDEX(Results!G$5:G$15784,$C$4+$B127),\"\")","v":3},1,1]
[null,122,{"$f":"B128<=Control!$C$17","v":true},{"$f":"IF($C128,INDEX(Results!C$5:C$15784,$C$4+$B128),\"\")","v":14},{"$f":"IF($C128,INDEX(Results!D$5:D$15784,$C$4+$B128),\"\")","v":"FSV Mainz 05"},{"$f":"IF($C128,INDEX(Results!E$5:E$15784,$C$4+$B128),\"\")","v":"Eintracht Frankfurt"},{"$f":"IF($C128,INDEX(Results!F$5:F$15784,$C$4+$B128),\"\")","v":2},{"$f":"IF($C128,INDEX(Results!G$5:G$15784,$C$4+$B128),\"\")","v":1},3,0]
[null,123,{"$f":"B129<=Control!$C$17","v":true},{"$f":"IF($C129,INDEX(Results!C$5:C$15784,$C$4+$B129),\"\")","v":14},{"$f":"IF($C129,INDEX(Results!D$5:D$15784,$C$4+$B129),\"\")","v":"Werder Bremen"},{"$f":"IF($C129,INDEX(Results!E$5:E$15784,$C$4+$B129),\"\")","v":"Hamburger SV"},{"$f":"IF($C129,INDEX(Results!F$5:F$15784,$C$4+$B129),\"\")","v":1},{"$f":"IF($C129,INDEX(Results!G$5:G$15784,$C$4+$B129),\"\")","v":3},0,3]
[null,124,{"$f":"B130<=Control!$C$17","v":true},{"$f":"IF($C130,INDEX(Results!C$5:C$15784,$C$4+$B130),\"\")","v":14},{"$f":"IF($C130,INDEX(Results!D$5:D$15784,$C$4+$B130),\"\")","v":"FC Augsburg"},{"$f":"IF($C130,INDEX(Results!E$5:E$15784,$C$4+$B130),\"\")","v":"VfL Wolfsburg"},{"$f":"IF($C130,INDEX(Results!F$5:F$15784,$C$4+$B130),\"\")","v":0},{"$f":"IF($C130,INDEX(Results!G$5:G$15784,$C$4+$B130),\"\")","v":0},1,1]
[null,125,{"$f":"B131<=Control!$C$17","v":true},{"$f":"IF($C131,INDEX(Results!C$5:C$15784,$C$4+$B131),\"\")","v":14},{"$f":"IF($C131,INDEX(Results!D$5:D$15784,$C$4+$B131),\"\")","v":"Borussia Dortmund"},{"$f":"IF($C131,INDEX(Results!E$5:E$15784,$C$4+$B131),\"\")","v":"VfB Stuttgart"},{"$f":"IF($C131,INDEX(Results!F$5:F$15784,$C$4+$B131),\"\")","v":4},{"$f":"IF($C131,INDEX(Results!G$5:G$15784,$C$4+$B131),\"\")","v":1},3,0]
[null,126,{"$f":"B132<=Control!$C$17","v":true},{"$f":"IF($C132,INDEX(Results!C$5:C$15784,$C$4+$B132),\"\")","v":14},{"$f":"IF($C132,INDEX(Results!D$5:D$15784,$C$4+$B132),\"\")","v":"Bayer Leverkusen"},{"$f":"IF($C132,INDEX(Results!E$5:E$15784,$C$4+$B132),\"\")","v":"FC Schalke 04"},{"$f":"IF($C132,INDEX(Results!F$5:F$15784,$C$4+$B132),\"\")","v":1},{"$f":"IF($C132,INDEX(Results!G$5:G$15784,$C$4+$B132),\"\")","v":1},1,1]
[null,127,{"$f":"B133<=Control!$C$17","v":true},{"$f":"IF($C133,INDEX(Results!C$5:C$15784,$C$4+$B133),\"\")","v":15},{"$f":"IF($C133,INDEX(Results!D$5:D$15784,$C$4+$B133),\"\")","v":"FC Schalke 04"},{"$f":"IF($C133,INDEX(Results!E$5:E$15784,$C$4+$B133),\"\")","v":"Hannover 96"},{"$f":"IF($C133,INDEX(Results!F$5:F$15784,$C$4+$B133),\"\")","v":3},{"$f":"IF($C133,INDEX(Results!G$5:G$15784,$C$4+$B133),\"\")","v":1},3,0]
[null,128,{"$f":"B134<=Control!$C$17","v":true},{"$f":"IF($C134,INDEX(Results!C$5:C$15784,$C$4+$B134),\"\")","v":15},{"$f":"IF($C134,INDEX(Results!D$5:D$15784,$C$4+$B134),\"\")","v":"1.FC Köln"},{"$f":"IF($C134,INDEX(Results!E$5:E$15784,$C$4+$B134),\"\")","v":"FC Augsburg"},{"$f":"IF($C134,INDEX(Results!F$5:F$15784,$C$4+$B134),\"\")","v":0},{"$f":"IF($C134,INDEX(Results!G$5:G$15784,$C$4+$B134),\"\")","v":1},0,3]
[null,129,{"$f":"B135<=Control!$C$17","v":true},{"$f":"IF($C135,INDEX(Results!C$5:C$15784,$C$4+$B135),\"\")","v":15},{"$f":"IF($C135,INDEX(Results!D$5:D$15784,$C$4+$B135),\"\")","v":"Hamburger SV"},{"$f":"IF($C135,INDEX(Results!E$5:E$15784,$C$4+$B135),\"\")","v":"FSV Mainz 05"},{"$f":"IF($C135,INDEX(Results!F$5:F$15784,$C$4+$B135),\"\")","v":1},{"$f":"IF($C135,INDEX(Results!G$5:G$15784,$C$4+$B135),\"\")","v":3},{"$f":"$C135*IF($G135>$H135,myPoints,IF($G135<$H135,0,1))","v":0},{"$f":"$C135*IF($G135>$H135,0,IF($G135<$H135,myPoints,1))","v":3}]
[null,130,{"$f":"B136<=Control!$C$17","v":true},{"$f":"IF($C136,INDEX(Results!C$5:C$15784,$C$4+$B136),\"\")","v":15},{"$f":"IF($C136,INDEX(Results!D$5:D$15784,$C$4+$B136),\"\")","v":"Hertha BSC Berlin"},{"$f":"IF($C136,INDEX(Results!E$5:E$15784,$C$4+$B136),\"\")","v":"Bayer Leverkusen"},{"$f":"IF($C136,INDEX(Results!F$5:F$15784,$C$4+$B136),\"\")","v":2},{"$f":"IF($C136,INDEX(Results!G$5:G$15784,$C$4+$B136),\"\")","v":1},3,0]
[null,131,{"$f":"B137<=Control!$C$17","v":true},{"$f":"IF($C137,INDEX(Results!C$5:C$15784,$C$4+$B137),\"\")","v":15},{"$f":"IF($C137,INDEX(Results!D$5:D$15784,$C$4+$B137),\"\")","v":"FC Ingolstadt"},{"$f":"IF($C137,INDEX(Results!E$5:E$15784,$C$4+$B137),\"\")","v":"TSG 1899 Hoffenheim"},{"$f":"IF($C137,INDEX(Results!F$5:F$15784,$C$4+$B137),\"\")","v":1},{"$f":"IF($C137,INDEX(Results!G$5:G$15784,$C$4+$B137),\"\")","v":1},1,1]
[null,132,{"$f":"B138<=Control!$C$17","v":true},{"$f":"IF($C138,INDEX(Results!C$5:C$15784,$C$4+$B138),\"\")","v":15},{"$f":"IF($C138,INDEX(Results!D$5:D$15784,$C$4+$B138),\"\")","v":"Borussia M'gladbach"},{"$f":"IF($C138,INDEX(Results!E$5:E$15784,$C$4+$B138),\"\")","v":"FC Bayern München"},{"$f":"IF($C138,INDEX(Results!F$5:F$15784,$C$4+$B138),\"\")","v":3},{"$f":"IF($C138,INDEX(Results!G$5:G$15784,$C$4+$B138),\"\")","v":1},3,0]
[null,133,{"$f":"B139<=Control!$C$17","v":true},{"$f":"IF($C139,INDEX(Results!C$5:C$15784,$C$4+$B139),\"\")","v":15},{"$f":"IF($C139,INDEX(Results!D$5:D$15784,$C$4+$B139),\"\")","v":"VfL Wolfsburg"},{"$f":"IF($C139,INDEX(Results!E$5:E$15784,$C$4+$B139),\"\")","v":"Borussia Dortmund"},{"$f":"IF($C139,INDEX(Results!F$5:F$15784,$C$4+$B139),\"\")","v":1},{"$f":"IF($C139,INDEX(Results!G$5:G$15784,$C$4+$B139),\"\")","v":2},0,3]
[null,134,{"$f":"B140<=Control!$C$17","v":true},{"$f":"IF($C140,INDEX(Results!C$5:C$15784,$C$4+$B140),\"\")","v":15},{"$f":"IF($C140,INDEX(Results!D$5:D$15784,$C$4+$B140),\"\")","v":"Eintracht Frankfurt"},{"$f":"IF($C140,INDEX(Results!E$5:E$15784,$C$4+$B140),\"\")","v":"Darmstadt 98"},{"$f":"IF($C140,INDEX(Results!F$5:F$15784,$C$4+$B140),\"\")","v":0},{"$f":"IF($C140,INDEX(Results!G$5:G$15784,$C$4+$B140),\"\")","v":1},0,3]
[null,135,{"$f":"B141<=Control!$C$17","v":true},{"$f":"IF($C141,INDEX(Results!C$5:C$15784,$C$4+$B141),\"\")","v":15},{"$f":"IF($C141,INDEX(Results!D$5:D$15784,$C$4+$B141),\"\")","v":"VfB Stuttgart"},{"$f":"IF($C141,INDEX(Results!E$5:E$15784,$C$4+$B141),\"\")","v":"Werder Bremen"},{"$f":"IF($C141,INDEX(Results!F$5:F$15784,$C$4+$B141),\"\")","v":1},{"$f":"IF($C141,INDEX(Results!G$5:G$15784,$C$4+$B141),\"\")","v":1},1,1]
[null,136,{"$f":"B142<=Control!$C$17","v":true},{"$f":"IF($C142,INDEX(Results!C$5:C$15784,$C$4+$B142),\"\")","v":16},{"$f":"IF($C142,INDEX(Results!D$5:D$15784,$C$4+$B142),\"\")","v":"FSV Mainz 05"},{"$f":"IF($C142,INDEX(Results!E$5:E$15784,$C$4+$B142),\"\")","v":"VfB Stuttgart"},{"$f":"IF($C142,INDEX(Results!F$5:F$15784,$C$4+$B142),\"\")","v":0},{"$f":"IF($C142,INDEX(Results!G$5:G$15784,$C$4+$B142),\"\")","v":0},1,1]
[null,137,{"$f":"B143<=Control!$C$17","v":true},{"$f":"IF($C143,INDEX(Results!C$5:C$15784,$C$4+$B143),\"\")","v":16},{"$f":"IF($C143,INDEX(Results!D$5:D$15784,$C$4+$B143),\"\")","v":"FC Bayern München"},{"$f":"IF($C143,INDEX(Results!E$5:E$15784,$C$4+$B143),\"\")","v":"FC Ingolstadt"},{"$f":"IF($C143,INDEX(Results!F$5:F$15784,$C$4+$B143),\"\")","v":2},{"$f":"IF($C143,INDEX(Results!G$5:G$15784,$C$4+$B143),\"\")","v":0},3,0]
[null,138,{"$f":"B144<=Control!$C$17","v":true},{"$f":"IF($C144,INDEX(Results!C$5:C$15784,$C$4+$B144),\"\")","v":16},{"$f":"IF($C144,INDEX(Results!D$5:D$15784,$C$4+$B144),\"\")","v":"Darmstadt 98"},{"$f":"IF($C144,INDEX(Results!E$5:E$15784,$C$4+$B144),\"\")","v":"Hertha BSC Berlin"},{"$f":"IF($C144,INDEX(Results!F$5:F$15784,$C$4+$B144),\"\")","v":0},{"$f":"IF($C144,INDEX(Results!G$5:G$15784,$C$4+$B144),\"\")","v":4},0,3]
[null,139,{"$f":"B145<=Control!$C$17","v":true},{"$f":"IF($C145,INDEX(Results!C$5:C$15784,$C$4+$B145),\"\")","v":16},{"$f":"IF($C145,INDEX(Results!D$5:D$15784,$C$4+$B145),\"\")","v":"TSG 1899 Hoffenheim"},{"$f":"IF($C145,INDEX(Results!E$5:E$15784,$C$4+$B145),\"\")","v":"Hannover 96"},{"$f":"IF($C145,INDEX(Results!F$5:F$15784,$C$4+$B145),\"\")","v":1},{"$f":"IF($C145,INDEX(Results!G$5:G$15784,$C$4+$B145),\"\")","v":0},3,0]
[null,140,{"$f":"B146<=Control!$C$17","v":true},{"$f":"IF($C146,INDEX(Results!C$5:C$15784,$C$4+$B146),\"\")","v":16},{"$f":"IF($C146,INDEX(Results!D$5:D$15784,$C$4+$B146),\"\")","v":"Bayer Leverkusen"},{"$f":"IF($C146,INDEX(Results!E$5:E$15784,$C$4+$B146),\"\")","v":"Borussia M'gladbach"},{"$f":"IF($C146,INDEX(Results!F$5:F$15784,$C$4+$B146),\"\")","v":5},{"$f":"IF($C146,INDEX(Results!G$5:G$15784,$C$4+$B146),\"\")","v":0},3,0]
[null,141,{"$f":"B147<=Control!$C$17","v":true},{"$f":"IF($C147,INDEX(Results!C$5:C$15784,$C$4+$B147),\"\")","v":16},{"$f":"IF($C147,INDEX(Results!D$5:D$15784,$C$4+$B147),\"\")","v":"Werder Bremen"},{"$f":"IF($C147,INDEX(Results!E$5:E$15784,$C$4+$B147),\"\")","v":"1.FC Köln"},{"$f":"IF($C147,INDEX(Results!F$5:F$15784,$C$4+$B147),\"\")","v":1},{"$f":"IF($C147,INDEX(Results!G$5:G$15784,$C$4+$B147),\"\")","v":1},1,1]
[null,142,{"$f":"B148<=Control!$C$17","v":true},{"$f":"IF($C148,INDEX(Results!C$5:C$15784,$C$4+$B148),\"\")","v":16},{"$f":"IF($C148,INDEX(Results!D$5:D$15784,$C$4+$B148),\"\")","v":"VfL Wolfsburg"},{"$f":"IF($C148,INDEX(Results!E$5:E$15784,$C$4+$B148),\"\")","v":"Hamburger SV"},{"$f":"IF($C148,INDEX(Results!F$5:F$15784,$C$4+$B148),\"\")","v":1},{"$f":"IF($C148,INDEX(Results!G$5:G$15784,$C$4+$B148),\"\")","v":1},1,1]
[null,143,{"$f":"B149<=Control!$C$17","v":true},{"$f":"IF($C149,INDEX(Results!C$5:C$15784,$C$4+$B149),\"\")","v":16},{"$f":"IF($C149,INDEX(Results!D$5:D$15784,$C$4+$B149),\"\")","v":"FC Augsburg"},{"$f":"IF($C149,INDEX(Results!E$5:E$15784,$C$4+$B149),\"\")","v":"FC Schalke 04"},{"$f":"IF($C149,INDEX(Results!F$5:F$15784,$C$4+$B149),\"\")","v":2},{"$f":"IF($C149,INDEX(Results!G$5:G$15784,$C$4+$B149),\"\")","v":1},3,0]
[null,144,{"$f":"B150<=Control!$C$17","v":true},{"$f":"IF($C150,INDEX(Results!C$5:C$15784,$C$4+$B150),\"\")","v":16},{"$f":"IF($C150,INDEX(Results!D$5:D$15784,$C$4+$B150),\"\")","v":"Borussia Dortmund"},{"$f":"IF($C150,INDEX(Results!E$5:E$15784,$C$4+$B150),\"\")","v":"Eintracht Frankfurt"},{"$f":"IF($C150,INDEX(Results!F$5:F$15784,$C$4+$B150),\"\")","v":4},{"$f":"IF($C150,INDEX(Results!G$5:G$15784,$C$4+$B150),\"\")","v":1},3,0]
[null,145,{"$f":"B151<=Control!$C$17","v":true},{"$f":"IF($C151,INDEX(Results!C$5:C$15784,$C$4+$B151),\"\")","v":17},{"$f":"IF($C151,INDEX(Results!D$5:D$15784,$C$4+$B151),\"\")","v":"FC Schalke 04"},{"$f":"IF($C151,INDEX(Results!E$5:E$15784,$C$4+$B151),\"\")","v":"TSG 1899 Hoffenheim"},{"$f":"IF($C151,INDEX(Results!F$5:F$15784,$C$4+$B151),\"\")","v":1},{"$f":"IF($C151,INDEX(Results!G$5:G$15784,$C$4+$B151),\"\")","v":0},3,0]
[null,146,{"$f":"B152<=Control!$C$17","v":true},{"$f":"IF($C152,INDEX(Results!C$5:C$15784,$C$4+$B152),\"\")","v":17},{"$f":"IF($C152,INDEX(Results!D$5:D$15784,$C$4+$B152),\"\")","v":"Eintracht Frankfurt"},{"$f":"IF($C152,INDEX(Results!E$5:E$15784,$C$4+$B152),\"\")","v":"Werder Bremen"},{"$f":"IF($C152,INDEX(Results!F$5:F$15784,$C$4+$B152),\"\")","v":2},{"$f":"IF($C152,INDEX(Results!G$5:G$15784,$C$4+$B152),\"\")","v":1},3,0]
[null,147,{"$f":"B153<=Control!$C$17","v":true},{"$f":"IF($C153,INDEX(Results!C$5:C$15784,$C$4+$B153),\"\")","v":17},{"$f":"IF($C153,INDEX(Results!D$5:D$15784,$C$4+$B153),\"\")","v":"1.FC Köln"},{"$f":"IF($C153,INDEX(Results!E$5:E$15784,$C$4+$B153),\"\")","v":"Borussia Dortmund"},{"$f":"IF($C153,INDEX(Results!F$5:F$15784,$C$4+$B153),\"\")","v":2},{"$f":"IF($C153,INDEX(Results!G$5:G$15784,$C$4+$B153),\"\")","v":1},3,0]
[null,148,{"$f":"B154<=Control!$C$17","v":true},{"$f":"IF($C154,INDEX(Results!C$5:C$15784,$C$4+$B154),\"\")","v":17},{"$f":"IF($C154,INDEX(Results!D$5:D$15784,$C$4+$B154),\"\")","v":"Hamburger SV"},{"$f":"IF($C154,INDEX(Results!E$5:E$15784,$C$4+$B154),\"\")","v":"FC Augsburg"},{"$f":"IF($C154,INDEX(Results!F$5:F$15784,$C$4+$B154),\"\")","v":0},{"$f":"IF($C154,INDEX(Results!G$5:G$15784,$C$4+$B154),\"\")","v":1},0,3]
[null,149,{"$f":"B155<=Control!$C$17","v":true},{"$f":"IF($C155,INDEX(Results!C$5:C$15784,$C$4+$B155),\"\")","v":17},{"$f":"IF($C155,INDEX(Results!D$5:D$15784,$C$4+$B155),\"\")","v":"Hannover 96"},{"$f":"IF($C155,INDEX(Results!E$5:E$15784,$C$4+$B155),\"\")","v":"FC Bayern München"},{"$f":"IF($C155,INDEX(Results!F$5:F$15784,$C$4+$B155),\"\")","v":0},{"$f":"IF($C155,INDEX(Results!G$5:G$15784,$C$4+$B155),\"\")","v":1},0,3]
[null,150,{"$f":"B156<=Control!$C$17","v":true},{"$f":"IF($C156,INDEX(Results!C$5:C$15784,$C$4+$B156),\"\")","v":17},{"$f":"IF($C156,INDEX(Results!D$5:D$15784,$C$4+$B156),\"\")","v":"FC Ingolstadt"},{"$f":"IF($C156,INDEX(Results!E$5:E$15784,$C$4+$B156),\"\")","v":"Bayer Leverkusen"},{"$f":"IF($C156,INDEX(Results!F$5:F$15784,$C$4+$B156),\"\")","v":0},{"$f":"IF($C156,INDEX(Results!G$5:G$15784,$C$4+$B156),\"\")","v":1},0,3]
[null,151,{"$f":"B157<=Control!$C$17","v":true},{"$f":"IF($C157,INDEX(Results!C$5:C$15784,$C$4+$B157),\"\")","v":17},{"$f":"IF($C157,INDEX(Results!D$5:D$15784,$C$4+$B157),\"\")","v":"VfB Stuttgart"},{"$f":"IF($C157,INDEX(Results!E$5:E$15784,$C$4+$B157),\"\")","v":"VfL Wolfsburg"},{"$f":"IF($C157,INDEX(Results!F$5:F$15784,$C$4+$B157),\"\")","v":3},{"$f":"IF($C157,INDEX(Results!G$5:G$15784,$C$4+$B157),\"\")","v":1},3,0]
[null,152,{"$f":"B158<=Control!$C$17","v":true},{"$f":"IF($C158,INDEX(Results!C$5:C$15784,$C$4+$B158),\"\")","v":17},{"$f":"IF($C158,INDEX(Results!D$5:D$15784,$C$4+$B158),\"\")","v":"Hertha BSC Berlin"},{"$f":"IF($C158,INDEX(Results!E$5:E$15784,$C$4+$B158),\"\")","v":"FSV Mainz 05"},{"$f":"IF($C158,INDEX(Results!F$5:F$15784,$C$4+$B158),\"\")","v":2},{"$f":"IF($C158,INDEX(Results!G$5:G$15784,$C$4+$B158),\"\")","v":0},3,0]
[null,153,{"$f":"B159<=Control!$C$17","v":true},{"$f":"IF($C159,INDEX(Results!C$5:C$15784,$C$4+$B159),\"\")","v":17},{"$f":"IF($C159,INDEX(Results!D$5:D$15784,$C$4+$B159),\"\")","v":"Borussia M'gladbach"},{"$f":"IF($C159,INDEX(Results!E$5:E$15784,$C$4+$B159),\"\")","v":"Darmstadt 98"},{"$f":"IF($C159,INDEX(Results!F$5:F$15784,$C$4+$B159),\"\")","v":3},{"$f":"IF($C159,INDEX(Results!G$5:G$15784,$C$4+$B159),\"\")","v":2},3,0]
[null,154,{"$f":"B160<=Control!$C$17","v":true},{"$f":"IF($C160,INDEX(Results!C$5:C$15784,$C$4+$B160),\"\")","v":18},{"$f":"IF($C160,INDEX(Results!D$5:D$15784,$C$4+$B160),\"\")","v":"Hamburger SV"},{"$f":"IF($C160,INDEX(Results!E$5:E$15784,$C$4+$B160),\"\")","v":"FC Bayern München"},{"$f":"IF($C160,INDEX(Results!F$5:F$15784,$C$4+$B160),\"\")","v":1},{"$f":"IF($C160,INDEX(Results!G$5:G$15784,$C$4+$B160),\"\")","v":2},0,3]
[null,155,{"$f":"B161<=Control!$C$17","v":true},{"$f":"IF($C161,INDEX(Results!C$5:C$15784,$C$4+$B161),\"\")","v":18},{"$f":"IF($C161,INDEX(Results!D$5:D$15784,$C$4+$B161),\"\")","v":"1.FC Köln"},{"$f":"IF($C161,INDEX(Results!E$5:E$15784,$C$4+$B161),\"\")","v":"VfB Stuttgart"},{"$f":"IF($C161,INDEX(Results!F$5:F$15784,$C$4+$B161),\"\")","v":1},{"$f":"IF($C161,INDEX(Results!G$5:G$15784,$C$4+$B161),\"\")","v":3},0,3]
[null,156,{"$f":"B162<=Control!$C$17","v":true},{"$f":"IF($C162,INDEX(Results!C$5:C$15784,$C$4+$B162),\"\")","v":18},{"$f":"IF($C162,INDEX(Results!D$5:D$15784,$C$4+$B162),\"\")","v":"Hannover 96"},{"$f":"IF($C162,INDEX(Results!E$5:E$15784,$C$4+$B162),\"\")","v":"Darmstadt 98"},{"$f":"IF($C162,INDEX(Results!F$5:F$15784,$C$4+$B162),\"\")","v":1},{"$f":"IF($C162,INDEX(Results!G$5:G$15784,$C$4+$B162),\"\")","v":2},0,3]
[null,157,{"$f":"B163<=Control!$C$17","v":true},{"$f":"IF($C163,INDEX(Results!C$5:C$15784,$C$4+$B163),\"\")","v":18},{"$f":"IF($C163,INDEX(Results!D$5:D$15784,$C$4+$B163),\"\")","v":"Hertha BSC Berlin"},{"$f":"IF($C163,INDEX(Results!E$5:E$15784,$C$4+$B163),\"\")","v":"FC Augsburg"},{"$f":"IF($C163,INDEX(Results!F$5:F$15784,$C$4+$B163),\"\")","v":0},{"$f":"IF($C163,INDEX(Results!G$5:G$15784,$C$4+$B163),\"\")","v":0},1,1]
[null,158,{"$f":"B164<=Control!$C$17","v":true},{"$f":"IF($C164,INDEX(Results!C$5:C$15784,$C$4+$B164),\"\")","v":18},{"$f":"IF($C164,INDEX(Results!D$5:D$15784,$C$4+$B164),\"\")","v":"TSG 1899 Hoffenheim"},{"$f":"IF($C164,INDEX(Results!E$5:E$15784,$C$4+$B164),\"\")","v":"Bayer Leverkusen"},{"$f":"IF($C164,INDEX(Results!F$5:F$15784,$C$4+$B164),\"\")","v":1},{"$f":"IF($C164,INDEX(Results!G$5:G$15784,$C$4+$B164),\"\")","v":1},1,1]
[null,159,{"$f":"B165<=Control!$C$17","v":true},{"$f":"IF($C165,INDEX(Results!C$5:C$15784,$C$4+$B165),\"\")","v":18},{"$f":"IF($C165,INDEX(Results!D$5:D$15784,$C$4+$B165),\"\")","v":"FC Ingolstadt"},{"$f":"IF($C165,INDEX(Results!E$5:E$15784,$C$4+$B165),\"\")","v":"FSV Mainz 05"},{"$f":"IF($C165,INDEX(Results!F$5:F$15784,$C$4+$B165),\"\")","v":1},{"$f":"IF($C165,INDEX(Results!G$5:G$15784,$C$4+$B165),\"\")","v":0},3,0]
[null,160,{"$f":"B166<=Control!$C$17","v":true},{"$f":"IF($C166,INDEX(Results!C$5:C$15784,$C$4+$B166),\"\")","v":18},{"$f":"IF($C166,INDEX(Results!D$5:D$15784,$C$4+$B166),\"\")","v":"Borussia M'gladbach"},{"$f":"IF($C166,INDEX(Results!E$5:E$15784,$C$4+$B166),\"\")","v":"Borussia Dortmund"},{"$f":"IF($C166,INDEX(Results!F$5:F$15784,$C$4+$B166),\"\")","v":1},{"$f":"IF($C166,INDEX(Results!G$5:G$15784,$C$4+$B166),\"\")","v":3},0,3]
[null,161,{"$f":"B167<=Control!$C$17","v":true},{"$f":"IF($C167,INDEX(Results!C$5:C$15784,$C$4+$B167),\"\")","v":18},{"$f":"IF($C167,INDEX(Results!D$5:D$15784,$C$4+$B167),\"\")","v":"Eintracht Frankfurt"},{"$f":"IF($C167,INDEX(Results!E$5:E$15784,$C$4+$B167),\"\")","v":"VfL Wolfsburg"},{"$f":"IF($C167,INDEX(Results!F$5:F$15784,$C$4+$B167),\"\")","v":3},{"$f":"IF($C167,INDEX(Results!G$5:G$15784,$C$4+$B167),\"\")","v":2},3,0]
[null,162,{"$f":"B168<=Control!$C$17","v":true},{"$f":"IF($C168,INDEX(Results!C$5:C$15784,$C$4+$B168),\"\")","v":18},{"$f":"IF($C168,INDEX(Results!D$5:D$15784,$C$4+$B168),\"\")","v":"FC Schalke 04"},{"$f":"IF($C168,INDEX(Results!E$5:E$15784,$C$4+$B168),\"\")","v":"Werder Bremen"},{"$f":"IF($C168,INDEX(Results!F$5:F$15784,$C$4+$B168),\"\")","v":1},{"$f":"IF($C168,INDEX(Results!G$5:G$15784,$C$4+$B168),\"\")","v":3},0,3]
[null,163,{"$f":"B169<=Control!$C$17","v":true},{"$f":"IF($C169,INDEX(Results!C$5:C$15784,$C$4+$B169),\"\")","v":19},{"$f":"IF($C169,INDEX(Results!D$5:D$15784,$C$4+$B169),\"\")","v":"FSV Mainz 05"},{"$f":"IF($C169,INDEX(Results!E$5:E$15784,$C$4+$B169),\"\")","v":"Borussia M'gladbach"},{"$f":"IF($C169,INDEX(Results!F$5:F$15784,$C$4+$B169),\"\")","v":1},{"$f":"IF($C169,INDEX(Results!G$5:G$15784,$C$4+$B169),\"\")","v":0},3,0]
[null,164,{"$f":"B170<=Control!$C$17","v":true},{"$f":"IF($C170,INDEX(Results!C$5:C$15784,$C$4+$B170),\"\")","v":19},{"$f":"IF($C170,INDEX(Results!D$5:D$15784,$C$4+$B170),\"\")","v":"FC Augsburg"},{"$f":"IF($C170,INDEX(Results!E$5:E$15784,$C$4+$B170),\"\")","v":"Eintracht Frankfurt"},{"$f":"IF($C170,INDEX(Results!F$5:F$15784,$C$4+$B170),\"\")","v":0},{"$f":"IF($C170,INDEX(Results!G$5:G$15784,$C$4+$B170),\"\")","v":0},1,1]
[null,165,{"$f":"B171<=Control!$C$17","v":true},{"$f":"IF($C171,INDEX(Results!C$5:C$15784,$C$4+$B171),\"\")","v":19},{"$f":"IF($C171,INDEX(Results!D$5:D$15784,$C$4+$B171),\"\")","v":"Darmstadt 98"},{"$f":"IF($C171,INDEX(Results!E$5:E$15784,$C$4+$B171),\"\")","v":"FC Schalke 04"},{"$f":"IF($C171,INDEX(Results!F$5:F$15784,$C$4+$B171),\"\")","v":0},{"$f":"IF($C171,INDEX(Results!G$5:G$15784,$C$4+$B171),\"\")","v":2},0,3]
[null,166,{"$f":"B172<=Control!$C$17","v":true},{"$f":"IF($C172,INDEX(Results!C$5:C$15784,$C$4+$B172),\"\")","v":19},{"$f":"IF($C172,INDEX(Results!D$5:D$15784,$C$4+$B172),\"\")","v":"Borussia Dortmund"},{"$f":"IF($C172,INDEX(Results!E$5:E$15784,$C$4+$B172),\"\")","v":"FC Ingolstadt"},{"$f":"IF($C172,INDEX(Results!F$5:F$15784,$C$4+$B172),\"\")","v":2},{"$f":"IF($C172,INDEX(Results!G$5:G$15784,$C$4+$B172),\"\")","v":0},3,0]
[null,167,{"$f":"B173<=Control!$C$17","v":true},{"$f":"IF($C173,INDEX(Results!C$5:C$15784,$C$4+$B173),\"\")","v":19},{"$f":"IF($C173,INDEX(Results!D$5:D$15784,$C$4+$B173),\"\")","v":"Bayer Leverkusen"},{"$f":"IF($C173,INDEX(Results!E$5:E$15784,$C$4+$B173),\"\")","v":"Hannover 96"},{"$f":"IF($C173,INDEX(Results!F$5:F$15784,$C$4+$B173),\"\")","v":3},{"$f":"IF($C173,INDEX(Results!G$5:G$15784,$C$4+$B173),\"\")","v":0},3,0]
[null,168,{"$f":"B174<=Control!$C$17","v":true},{"$f":"IF($C174,INDEX(Results!C$5:C$15784,$C$4+$B174),\"\")","v":19},{"$f":"IF($C174,INDEX(Results!D$5:D$15784,$C$4+$B174),\"\")","v":"VfB Stuttgart"},{"$f":"IF($C174,INDEX(Results!E$5:E$15784,$C$4+$B174),\"\")","v":"Hamburger SV"},{"$f":"IF($C174,INDEX(Results!F$5:F$15784,$C$4+$B174),\"\")","v":2},{"$f":"IF($C174,INDEX(Results!G$5:G$15784,$C$4+$B174),\"\")","v":1},3,0]
[null,169,{"$f":"B175<=Control!$C$17","v":true},{"$f":"IF($C175,INDEX(Results!C$5:C$15784,$C$4+$B175),\"\")","v":19},{"$f":"IF($C175,INDEX(Results!D$5:D$15784,$C$4+$B175),\"\")","v":"Werder Bremen"},{"$f":"IF($C175,INDEX(Results!E$5:E$15784,$C$4+$B175),\"\")","v":"Hertha BSC Berlin"},{"$f":"IF($C175,INDEX(Results!F$5:F$15784,$C$4+$B175),\"\")","v":3},{"$f":"IF($C175,INDEX(Results!G$5:G$15784,$C$4+$B175),\"\")","v":3},1,1]
[null,170,{"$f":"B176<=Control!$C$17","v":true},{"$f":"IF($C176,INDEX(Results!C$5:C$15784,$C$4+$B176),\"\")","v":19},{"$f":"IF($C176,INDEX(Results!D$5:D$15784,$C$4+$B176),\"\")","v":"FC Bayern München"},{"$f":"IF($C176,INDEX(Results!E$5:E$15784,$C$4+$B176),\"\")","v":"TSG 1899 Hoffenheim"},{"$f":"IF($C176,INDEX(Results!F$5:F$15784,$C$4+$B176),\"\")","v":2},{"$f":"IF($C176,INDEX(Results!G$5:G$15784,$C$4+$B176),\"\")","v":0},3,0]
[null,171,{"$f":"B177<=Control!$C$17","v":true},{"$f":"IF($C177,INDEX(Results!C$5:C$15784,$C$4+$B177),\"\")","v":19},{"$f":"IF($C177,INDEX(Results!D$5:D$15784,$C$4+$B177),\"\")","v":"VfL Wolfsburg"},{"$f":"IF($C177,INDEX(Results!E$5:E$15784,$C$4+$B177),\"\")","v":"1.FC Köln"},{"$f":"IF($C177,INDEX(Results!F$5:F$15784,$C$4+$B177),\"\")","v":1},{"$f":"IF($C177,INDEX(Results!G$5:G$15784,$C$4+$B177),\"\")","v":1},1,1]
[null,172,{"$f":"B178<=Control!$C$17","v":true},{"$f":"IF($C178,INDEX(Results!C$5:C$15784,$C$4+$B178),\"\")","v":20},{"$f":"IF($C178,INDEX(Results!D$5:D$15784,$C$4+$B178),\"\")","v":"Borussia M'gladbach"},{"$f":"IF($C178,INDEX(Results!E$5:E$15784,$C$4+$B178),\"\")","v":"Werder Bremen"},{"$f":"IF($C178,INDEX(Results!F$5:F$15784,$C$4+$B178),\"\")","v":5},{"$f":"IF($C178,INDEX(Results!G$5:G$15784,$C$4+$B178),\"\")","v":1},3,0]
[null,173,{"$f":"B179<=Control!$C$17","v":true},{"$f":"IF($C179,INDEX(Results!C$5:C$15784,$C$4+$B179),\"\")","v":20},{"$f":"IF($C179,INDEX(Results!D$5:D$15784,$C$4+$B179),\"\")","v":"Eintracht Frankfurt"},{"$f":"IF($C179,INDEX(Results!E$5:E$15784,$C$4+$B179),\"\")","v":"VfB Stuttgart"},{"$f":"IF($C179,INDEX(Results!F$5:F$15784,$C$4+$B179),\"\")","v":2},{"$f":"IF($C179,INDEX(Results!G$5:G$15784,$C$4+$B179),\"\")","v":4},0,3]
[null,174,{"$f":"B180<=Control!$C$17","v":true},{"$f":"IF($C180,INDEX(Results!C$5:C$15784,$C$4+$B180),\"\")","v":20},{"$f":"IF($C180,INDEX(Results!D$5:D$15784,$C$4+$B180),\"\")","v":"Hannover 96"},{"$f":"IF($C180,INDEX(Results!E$5:E$15784,$C$4+$B180),\"\")","v":"FSV Mainz 05"},{"$f":"IF($C180,INDEX(Results!F$5:F$15784,$C$4+$B180),\"\")","v":0},{"$f":"IF($C180,INDEX(Results!G$5:G$15784,$C$4+$B180),\"\")","v":1},0,3]
[null,175,{"$f":"B181<=Control!$C$17","v":true},{"$f":"IF($C181,INDEX(Results!C$5:C$15784,$C$4+$B181),\"\")","v":20},{"$f":"IF($C181,INDEX(Results!D$5:D$15784,$C$4+$B181),\"\")","v":"Hertha BSC Berlin"},{"$f":"IF($C181,INDEX(Results!E$5:E$15784,$C$4+$B181),\"\")","v":"Borussia Dortmund"},{"$f":"IF($C181,INDEX(Results!F$5:F$15784,$C$4+$B181),\"\")","v":0},{"$f":"IF($C181,INDEX(Results!G$5:G$15784,$C$4+$B181),\"\")","v":0},1,1]
[null,176,{"$f":"B182<=Control!$C$17","v":true},{"$f":"IF($C182,INDEX(Results!C$5:C$15784,$C$4+$B182),\"\")","v":20},{"$f":"IF($C182,INDEX(Results!D$5:D$15784,$C$4+$B182),\"\")","v":"FC Ingolstadt"},{"$f":"IF($C182,INDEX(Results!E$5:E$15784,$C$4+$B182),\"\")","v":"FC Augsburg"},{"$f":"IF($C182,INDEX(Results!F$5:F$15784,$C$4+$B182),\"\")","v":2},{"$f":"IF($C182,INDEX(Results!G$5:G$15784,$C$4+$B182),\"\")","v":1},3,0]
[null,177,{"$f":"B183<=Control!$C$17","v":true},{"$f":"IF($C183,INDEX(Results!C$5:C$15784,$C$4+$B183),\"\")","v":20},{"$f":"IF($C183,INDEX(Results!D$5:D$15784,$C$4+$B183),\"\")","v":"Bayer Leverkusen"},{"$f":"IF($C183,INDEX(Results!E$5:E$15784,$C$4+$B183),\"\")","v":"FC Bayern München"},{"$f":"IF($C183,INDEX(Results!F$5:F$15784,$C$4+$B183),\"\")","v":0},{"$f":"IF($C183,INDEX(Results!G$5:G$15784,$C$4+$B183),\"\")","v":0},1,1]
[null,178,{"$f":"B184<=Control!$C$17","v":true},{"$f":"IF($C184,INDEX(Results!C$5:C$15784,$C$4+$B184),\"\")","v":20},{"$f":"IF($C184,INDEX(Results!D$5:D$15784,$C$4+$B184),\"\")","v":"FC Schalke 04"},{"$f":"IF($C184,INDEX(Results!E$5:E$15784,$C$4+$B184),\"\")","v":"VfL Wolfsburg"},{"$f":"IF($C184,INDEX(Results!F$5:F$15784,$C$4+$B184),\"\")","v":3},{"$f":"IF($C184,INDEX(Results!G$5:G$15784,$C$4+$B184),\"\")","v":0},3,0]
[null,179,{"$f":"B185<=Control!$C$17","v":true},{"$f":"IF($C185,INDEX(Results!C$5:C$15784,$C$4+$B185),\"\")","v":20},{"$f":"IF($C185,INDEX(Results!D$5:D$15784,$C$4+$B185),\"\")","v":"Hamburger SV"},{"$f":"IF($C185,INDEX(Results!E$5:E$15784,$C$4+$B185),\"\")","v":"1.FC Köln"},{"$f":"IF($C185,INDEX(Results!F$5:F$15784,$C$4+$B185),\"\")","v":1},{"$f":"IF($C185,INDEX(Results!G$5:G$15784,$C$4+$B185),\"\")","v":1},1,1]
[null,180,{"$f":"B186<=Control!$C$17","v":true},{"$f":"IF($C186,INDEX(Results!C$5:C$15784,$C$4+$B186),\"\")","v":20},{"$f":"IF($C186,INDEX(Results!D$5:D$15784,$C$4+$B186),\"\")","v":"TSG 1899 Hoffenheim"},{"$f":"IF($C186,INDEX(Results!E$5:E$15784,$C$4+$B186),\"\")","v":"Darmstadt 98"},{"$f":"IF($C186,INDEX(Results!F$5:F$15784,$C$4+$B186),\"\")","v":0},{"$f":"IF($C186,INDEX(Results!G$5:G$15784,$C$4+$B186),\"\")","v":2},0,3]
[null,181,{"$f":"B187<=Control!$C$17","v":true},{"$f":"IF($C187,INDEX(Results!C$5:C$15784,$C$4+$B187),\"\")","v":21},{"$f":"IF($C187,INDEX(Results!D$5:D$15784,$C$4+$B187),\"\")","v":"FSV Mainz 05"},{"$f":"IF($C187,INDEX(Results!E$5:E$15784,$C$4+$B187),\"\")","v":"FC Schalke 04"},{"$f":"IF($C187,INDEX(Results!F$5:F$15784,$C$4+$B187),\"\")","v":2},{"$f":"IF($C187,INDEX(Results!G$5:G$15784,$C$4+$B187),\"\")","v":1},3,0]
[null,182,{"$f":"B188<=Control!$C$17","v":true},{"$f":"IF($C188,INDEX(Results!C$5:C$15784,$C$4+$B188),\"\")","v":21},{"$f":"IF($C188,INDEX(Results!D$5:D$15784,$C$4+$B188),\"\")","v":"Darmstadt 98"},{"$f":"IF($C188,INDEX(Results!E$5:E$15784,$C$4+$B188),\"\")","v":"Bayer Leverkusen"},{"$f":"IF($C188,INDEX(Results!F$5:F$15784,$C$4+$B188),\"\")","v":1},{"$f":"IF($C188,INDEX(Results!G$5:G$15784,$C$4+$B188),\"\")","v":2},0,3]
[null,183,{"$f":"B189<=Control!$C$17","v":true},{"$f":"IF($C189,INDEX(Results!C$5:C$15784,$C$4+$B189),\"\")","v":21},{"$f":"IF($C189,INDEX(Results!D$5:D$15784,$C$4+$B189),\"\")","v":"Borussia Dortmund"},{"$f":"IF($C189,INDEX(Results!E$5:E$15784,$C$4+$B189),\"\")","v":"Hannover 96"},{"$f":"IF($C189,INDEX(Results!F$5:F$15784,$C$4+$B189),\"\")","v":1},{"$f":"IF($C189,INDEX(Results!G$5:G$15784,$C$4+$B189),\"\")","v":0},3,0]
[null,184,{"$f":"B190<=Control!$C$17","v":true},{"$f":"IF($C190,INDEX(Results!C$5:C$15784,$C$4+$B190),\"\")","v":21},{"$f":"IF($C190,INDEX(Results!D$5:D$15784,$C$4+$B190),\"\")","v":"1.FC Köln"},{"$f":"IF($C190,INDEX(Results!E$5:E$15784,$C$4+$B190),\"\")","v":"Eintracht Frankfurt"},{"$f":"IF($C190,INDEX(Results!F$5:F$15784,$C$4+$B190),\"\")","v":3},{"$f":"IF($C190,INDEX(Results!G$5:G$15784,$C$4+$B190),\"\")","v":1},3,0]
[null,185,{"$f":"B191<=Control!$C$17","v":true},{"$f":"IF($C191,INDEX(Results!C$5:C$15784,$C$4+$B191),\"\")","v":21},{"$f":"IF($C191,INDEX(Results!D$5:D$15784,$C$4+$B191),\"\")","v":"VfB Stuttgart"},{"$f":"IF($C191,INDEX(Results!E$5:E$15784,$C$4+$B191),\"\")","v":"Hertha BSC Berlin"},{"$f":"IF($C191,INDEX(Results!F$5:F$15784,$C$4+$B191),\"\")","v":2},{"$f":"IF($C191,INDEX(Results!G$5:G$15784,$C$4+$B191),\"\")","v":0},3,0]
[null,186,{"$f":"B192<=Control!$C$17","v":true},{"$f":"IF($C192,INDEX(Results!C$5:C$15784,$C$4+$B192),\"\")","v":21},{"$f":"IF($C192,INDEX(Results!D$5:D$15784,$C$4+$B192),\"\")","v":"Werder Bremen"},{"$f":"IF($C192,INDEX(Results!E$5:E$15784,$C$4+$B192),\"\")","v":"TSG 1899 Hoffenheim"},{"$f":"IF($C192,INDEX(Results!F$5:F$15784,$C$4+$B192),\"\")","v":1},{"$f":"IF($C192,INDEX(Results!G$5:G$15784,$C$4+$B192),\"\")","v":1},1,1]
[null,187,{"$f":"B193<=Control!$C$17","v":true},{"$f":"IF($C193,INDEX(Results!C$5:C$15784,$C$4+$B193),\"\")","v":21},{"$f":"IF($C193,INDEX(Results!D$5:D$15784,$C$4+$B193),\"\")","v":"VfL Wolfsburg"},{"$f":"IF($C193,INDEX(Results!E$5:E$15784,$C$4+$B193),\"\")","v":"FC Ingolstadt"},{"$f":"IF($C193,INDEX(Results!F$5:F$15784,$C$4+$B193),\"\")","v":2},{"$f":"IF($C193,INDEX(Results!G$5:G$15784,$C$4+$B193),\"\")","v":0},3,0]
[null,188,{"$f":"B194<=Control!$C$17","v":true},{"$f":"IF($C194,INDEX(Results!C$5:C$15784,$C$4+$B194),\"\")","v":21},{"$f":"IF($C194,INDEX(Results!D$5:D$15784,$C$4+$B194),\"\")","v":"FC Augsburg"},{"$f":"IF($C194,INDEX(Results!E$5:E$15784,$C$4+$B194),\"\")","v":"FC Bayern München"},{"$f":"IF($C194,INDEX(Results!F$5:F$15784,$C$4+$B194),\"\")","v":1},{"$f":"IF($C194,INDEX(Results!G$5:G$15784,$C$4+$B194),\"\")","v":3},0,3]
[null,189,{"$f":"B195<=Control!$C$17","v":true},{"$f":"IF($C195,INDEX(Results!C$5:C$15784,$C$4+$B195),\"\")","v":21},{"$f":"IF($C195,INDEX(Results!D$5:D$15784,$C$4+$B195),\"\")","v":"Hamburger SV"},{"$f":"IF($C195,INDEX(Results!E$5:E$15784,$C$4+$B195),\"\")","v":"Borussia M'gladbach"},{"$f":"IF($C195,INDEX(Results!F$5:F$15784,$C$4+$B195),\"\")","v":3},{"$f":"IF($C195,INDEX(Results!G$5:G$15784,$C$4+$B195),\"\")","v":2},3,0]
[null,190,{"$f":"B196<=Control!$C$17","v":true},{"$f":"IF($C196,INDEX(Results!C$5:C$15784,$C$4+$B196),\"\")","v":22},{"$f":"IF($C196,INDEX(Results!D$5:D$15784,$C$4+$B196),\"\")","v":"Eintracht Frankfurt"},{"$f":"IF($C196,INDEX(Results!E$5:E$15784,$C$4+$B196),\"\")","v":"Hamburger SV"},{"$f":"IF($C196,INDEX(Results!F$5:F$15784,$C$4+$B196),\"\")","v":0},{"$f":"IF($C196,INDEX(Results!G$5:G$15784,$C$4+$B196),\"\")","v":0},1,1]
[null,191,{"$f":"B197<=Control!$C$17","v":true},{"$f":"IF($C197,INDEX(Results!C$5:C$15784,$C$4+$B197),\"\")","v":22},{"$f":"IF($C197,INDEX(Results!D$5:D$15784,$C$4+$B197),\"\")","v":"FC Bayern München"},{"$f":"IF($C197,INDEX(Results!E$5:E$15784,$C$4+$B197),\"\")","v":"Darmstadt 98"},{"$f":"IF($C197,INDEX(Results!F$5:F$15784,$C$4+$B197),\"\")","v":3},{"$f":"IF($C197,INDEX(Results!G$5:G$15784,$C$4+$B197),\"\")","v":1},3,0]
[null,192,{"$f":"B198<=Control!$C$17","v":true},{"$f":"IF($C198,INDEX(Results!C$5:C$15784,$C$4+$B198),\"\")","v":22},{"$f":"IF($C198,INDEX(Results!D$5:D$15784,$C$4+$B198),\"\")","v":"Hertha BSC Berlin"},{"$f":"IF($C198,INDEX(Results!E$5:E$15784,$C$4+$B198),\"\")","v":"VfL Wolfsburg"},{"$f":"IF($C198,INDEX(Results!F$5:F$15784,$C$4+$B198),\"\")","v":1},{"$f":"IF($C198,INDEX(Results!G$5:G$15784,$C$4+$B198),\"\")","v":1},1,1]
[null,193,{"$f":"B199<=Control!$C$17","v":true},{"$f":"IF($C199,INDEX(Results!C$5:C$15784,$C$4+$B199),\"\")","v":22},{"$f":"IF($C199,INDEX(Results!D$5:D$15784,$C$4+$B199),\"\")","v":"TSG 1899 Hoffenheim"},{"$f":"IF($C199,INDEX(Results!E$5:E$15784,$C$4+$B199),\"\")","v":"FSV Mainz 05"},{"$f":"IF($C199,INDEX(Results!F$5:F$15784,$C$4+$B199),\"\")","v":3},{"$f":"IF($C199,INDEX(Results!G$5:G$15784,$C$4+$B199),\"\")","v":2},{"$f":"$C199*IF($G199>$H199,myPoints,IF($G199<$H199,0,1))","v":3},{"$f":"$C199*IF($G199>$H199,0,IF($G199<$H199,myPoints,1))","v":0}]
[null,194,{"$f":"B200<=Control!$C$17","v":true},{"$f":"IF($C200,INDEX(Results!C$5:C$15784,$C$4+$B200),\"\")","v":22},{"$f":"IF($C200,INDEX(Results!D$5:D$15784,$C$4+$B200),\"\")","v":"FC Ingolstadt"},{"$f":"IF($C200,INDEX(Results!E$5:E$15784,$C$4+$B200),\"\")","v":"Werder Bremen"},{"$f":"IF($C200,INDEX(Results!F$5:F$15784,$C$4+$B200),\"\")","v":2},{"$f":"IF($C200,INDEX(Results!G$5:G$15784,$C$4+$B200),\"\")","v":0},3,0]
[null,195,{"$f":"B201<=Control!$C$17","v":true},{"$f":"IF($C201,INDEX(Results!C$5:C$15784,$C$4+$B201),\"\")","v":22},{"$f":"IF($C201,INDEX(Results!D$5:D$15784,$C$4+$B201),\"\")","v":"Borussia M'gladbach"},{"$f":"IF($C201,INDEX(Results!E$5:E$15784,$C$4+$B201),\"\")","v":"1.FC Köln"},{"$f":"IF($C201,INDEX(Results!F$5:F$15784,$C$4+$B201),\"\")","v":1},{"$f":"IF($C201,INDEX(Results!G$5:G$15784,$C$4+$B201),\"\")","v":0},3,0]
[null,196,{"$f":"B202<=Control!$C$17","v":true},{"$f":"IF($C202,INDEX(Results!C$5:C$15784,$C$4+$B202),\"\")","v":22},{"$f":"IF($C202,INDEX(Results!D$5:D$15784,$C$4+$B202),\"\")","v":"Hannover 96"},{"$f":"IF($C202,INDEX(Results!E$5:E$15784,$C$4+$B202),\"\")","v":"FC Augsburg"},{"$f":"IF($C202,INDEX(Results!F$5:F$15784,$C$4+$B202),\"\")","v":0},{"$f":"IF($C202,INDEX(Results!G$5:G$15784,$C$4+$B202),\"\")","v":1},0,3]
[null,197,{"$f":"B203<=Control!$C$17","v":true},{"$f":"IF($C203,INDEX(Results!C$5:C$15784,$C$4+$B203),\"\")","v":22},{"$f":"IF($C203,INDEX(Results!D$5:D$15784,$C$4+$B203),\"\")","v":"Bayer Leverkusen"},{"$f":"IF($C203,INDEX(Results!E$5:E$15784,$C$4+$B203),\"\")","v":"Borussia Dortmund"},{"$f":"IF($C203,INDEX(Results!F$5:F$15784,$C$4+$B203),\"\")","v":0},{"$f":"IF($C203,INDEX(Results!G$5:G$15784,$C$4+$B203),\"\")","v":1},0,3]
[null,198,{"$f":"B204<=Control!$C$17","v":true},{"$f":"IF($C204,INDEX(Results!C$5:C$15784,$C$4+$B204),\"\")","v":22},{"$f":"IF($C204,INDEX(Results!D$5:D$15784,$C$4+$B204),\"\")","v":"FC Schalke 04"},{"$f":"IF($C204,INDEX(Results!E$5:E$15784,$C$4+$B204),\"\")","v":"VfB Stuttgart"},{"$f":"IF($C204,INDEX(Results!F$5:F$15784,$C$4+$B204),\"\")","v":1},{"$f":"IF($C204,INDEX(Results!G$5:G$15784,$C$4+$B204),\"\")","v":1},1,1]
[null,199,{"$f":"B205<=Control!$C$17","v":true},{"$f":"IF($C205,INDEX(Results!C$5:C$15784,$C$4+$B205),\"\")","v":23},{"$f":"IF($C205,INDEX(Results!D$5:D$15784,$C$4+$B205),\"\")","v":"1.FC Köln"},{"$f":"IF($C205,INDEX(Results!E$5:E$15784,$C$4+$B205),\"\")","v":"Hertha BSC Berlin"},{"$f":"IF($C205,INDEX(Results!F$5:F$15784,$C$4+$B205),\"\")","v":0},{"$f":"IF($C205,INDEX(Results!G$5:G$15784,$C$4+$B205),\"\")","v":1},0,3]
[null,200,{"$f":"B206<=Control!$C$17","v":true},{"$f":"IF($C206,INDEX(Results!C$5:C$15784,$C$4+$B206),\"\")","v":23},{"$f":"IF($C206,INDEX(Results!D$5:D$15784,$C$4+$B206),\"\")","v":"Hamburger SV"},{"$f":"IF($C206,INDEX(Results!E$5:E$15784,$C$4+$B206),\"\")","v":"FC Ingolstadt"},{"$f":"IF($C206,INDEX(Results!F$5:F$15784,$C$4+$B206),\"\")","v":1},{"$f":"IF($C206,INDEX(Results!G$5:G$15784,$C$4+$B206),\"\")","v":1},1,1]
[null,201,{"$f":"B207<=Control!$C$17","v":true},{"$f":"IF($C207,INDEX(Results!C$5:C$15784,$C$4+$B207),\"\")","v":23},{"$f":"IF($C207,INDEX(Results!D$5:D$15784,$C$4+$B207),\"\")","v":"VfB Stuttgart"},{"$f":"IF($C207,INDEX(Results!E$5:E$15784,$C$4+$B207),\"\")","v":"Hannover 96"},{"$f":"IF($C207,INDEX(Results!F$5:F$15784,$C$4+$B207),\"\")","v":1},{"$f":"IF($C207,INDEX(Results!G$5:G$15784,$C$4+$B207),\"\")","v":2},0,3]
[null,202,{"$f":"B208<=Control!$C$17","v":true},{"$f":"IF($C208,INDEX(Results!C$5:C$15784,$C$4+$B208),\"\")","v":23},{"$f":"IF($C208,INDEX(Results!D$5:D$15784,$C$4+$B208),\"\")","v":"Werder Bremen"},{"$f":"IF($C208,INDEX(Results!E$5:E$15784,$C$4+$B208),\"\")","v":"Darmstadt 98"},{"$f":"IF($C208,INDEX(Results!F$5:F$15784,$C$4+$B208),\"\")","v":2},{"$f":"IF($C208,INDEX(Results!G$5:G$15784,$C$4+$B208),\"\")","v":2},1,1]
[null,203,{"$f":"B209<=Control!$C$17","v":true},{"$f":"IF($C209,INDEX(Results!C$5:C$15784,$C$4+$B209),\"\")","v":23},{"$f":"IF($C209,INDEX(Results!D$5:D$15784,$C$4+$B209),\"\")","v":"VfL Wolfsburg"},{"$f":"IF($C209,INDEX(Results!E$5:E$15784,$C$4+$B209),\"\")","v":"FC Bayern München"},{"$f":"IF($C209,INDEX(Results!F$5:F$15784,$C$4+$B209),\"\")","v":0},{"$f":"IF($C209,INDEX(Results!G$5:G$15784,$C$4+$B209),\"\")","v":2},0,3]
[null,204,{"$f":"B210<=Control!$C$17","v":true},{"$f":"IF($C210,INDEX(Results!C$5:C$15784,$C$4+$B210),\"\")","v":23},{"$f":"IF($C210,INDEX(Results!D$5:D$15784,$C$4+$B210),\"\")","v":"FC Augsburg"},{"$f":"IF($C210,INDEX(Results!E$5:E$15784,$C$4+$B210),\"\")","v":"Borussia M'gladbach"},{"$f":"IF($C210,INDEX(Results!F$5:F$15784,$C$4+$B210),\"\")","v":2},{"$f":"IF($C210,INDEX(Results!G$5:G$15784,$C$4+$B210),\"\")","v":2},1,1]
[null,205,{"$f":"B211<=Control!$C$17","v":true},{"$f":"IF($C211,INDEX(Results!C$5:C$15784,$C$4+$B211),\"\")","v":23},{"$f":"IF($C211,INDEX(Results!D$5:D$15784,$C$4+$B211),\"\")","v":"Borussia Dortmund"},{"$f":"IF($C211,INDEX(Results!E$5:E$15784,$C$4+$B211),\"\")","v":"TSG 1899 Hoffenheim"},{"$f":"IF($C211,INDEX(Results!F$5:F$15784,$C$4+$B211),\"\")","v":3},{"$f":"IF($C211,INDEX(Results!G$5:G$15784,$C$4+$B211),\"\")","v":1},3,0]
[null,206,{"$f":"B212<=Control!$C$17","v":true},{"$f":"IF($C212,INDEX(Results!C$5:C$15784,$C$4+$B212),\"\")","v":23},{"$f":"IF($C212,INDEX(Results!D$5:D$15784,$C$4+$B212),\"\")","v":"Eintracht Frankfurt"},{"$f":"IF($C212,INDEX(Results!E$5:E$15784,$C$4+$B212),\"\")","v":"FC Schalke 04"},{"$f":"IF($C212,INDEX(Results!F$5:F$15784,$C$4+$B212),\"\")","v":0},{"$f":"IF($C212,INDEX(Results!G$5:G$15784,$C$4+$B212),\"\")","v":0},1,1]
[null,207,{"$f":"B213<=Control!$C$17","v":true},{"$f":"IF($C213,INDEX(Results!C$5:C$15784,$C$4+$B213),\"\")","v":23},{"$f":"IF($C213,INDEX(Results!D$5:D$15784,$C$4+$B213),\"\")","v":"FSV Mainz 05"},{"$f":"IF($C213,INDEX(Results!E$5:E$15784,$C$4+$B213),\"\")","v":"Bayer Leverkusen"},{"$f":"IF($C213,INDEX(Results!F$5:F$15784,$C$4+$B213),\"\")","v":3},{"$f":"IF($C213,INDEX(Results!G$5:G$15784,$C$4+$B213),\"\")","v":1},3,0]
[null,208,{"$f":"B214<=Control!$C$17","v":true},{"$f":"IF($C214,INDEX(Results!C$5:C$15784,$C$4+$B214),\"\")","v":24},{"$f":"IF($C214,INDEX(Results!D$5:D$15784,$C$4+$B214),\"\")","v":"Hannover 96"},{"$f":"IF($C214,INDEX(Results!E$5:E$15784,$C$4+$B214),\"\")","v":"VfL Wolfsburg"},{"$f":"IF($C214,INDEX(Results!F$5:F$15784,$C$4+$B214),\"\")","v":0},{"$f":"IF($C214,INDEX(Results!G$5:G$15784,$C$4+$B214),\"\")","v":4},0,3]
[null,209,{"$f":"B215<=Control!$C$17","v":true},{"$f":"IF($C215,INDEX(Results!C$5:C$15784,$C$4+$B215),\"\")","v":24},{"$f":"IF($C215,INDEX(Results!D$5:D$15784,$C$4+$B215),\"\")","v":"FC Ingolstadt"},{"$f":"IF($C215,INDEX(Results!E$5:E$15784,$C$4+$B215),\"\")","v":"1.FC Köln"},{"$f":"IF($C215,INDEX(Results!F$5:F$15784,$C$4+$B215),\"\")","v":1},{"$f":"IF($C215,INDEX(Results!G$5:G$15784,$C$4+$B215),\"\")","v":1},1,1]
[null,210,{"$f":"B216<=Control!$C$17","v":true},{"$f":"IF($C216,INDEX(Results!C$5:C$15784,$C$4+$B216),\"\")","v":24},{"$f":"IF($C216,INDEX(Results!D$5:D$15784,$C$4+$B216),\"\")","v":"FC Bayern München"},{"$f":"IF($C216,INDEX(Results!E$5:E$15784,$C$4+$B216),\"\")","v":"FSV Mainz 05"},{"$f":"IF($C216,INDEX(Results!F$5:F$15784,$C$4+$B216),\"\")","v":1},{"$f":"IF($C216,INDEX(Results!G$5:G$15784,$C$4+$B216),\"\")","v":2},0,3]
[null,211,{"$f":"B217<=Control!$C$17","v":true},{"$f":"IF($C217,INDEX(Results!C$5:C$15784,$C$4+$B217),\"\")","v":24},{"$f":"IF($C217,INDEX(Results!D$5:D$15784,$C$4+$B217),\"\")","v":"Darmstadt 98"},{"$f":"IF($C217,INDEX(Results!E$5:E$15784,$C$4+$B217),\"\")","v":"Borussia Dortmund"},{"$f":"IF($C217,INDEX(Results!F$5:F$15784,$C$4+$B217),\"\")","v":0},{"$f":"IF($C217,INDEX(Results!G$5:G$15784,$C$4+$B217),\"\")","v":2},0,3]
[null,212,{"$f":"B218<=Control!$C$17","v":true},{"$f":"IF($C218,INDEX(Results!C$5:C$15784,$C$4+$B218),\"\")","v":24},{"$f":"IF($C218,INDEX(Results!D$5:D$15784,$C$4+$B218),\"\")","v":"Hertha BSC Berlin"},{"$f":"IF($C218,INDEX(Results!E$5:E$15784,$C$4+$B218),\"\")","v":"Eintracht Frankfurt"},{"$f":"IF($C218,INDEX(Results!F$5:F$15784,$C$4+$B218),\"\")","v":2},{"$f":"IF($C218,INDEX(Results!G$5:G$15784,$C$4+$B218),\"\")","v":0},3,0]
[null,213,{"$f":"B219<=Control!$C$17","v":true},{"$f":"IF($C219,INDEX(Results!C$5:C$15784,$C$4+$B219),\"\")","v":24},{"$f":"IF($C219,INDEX(Results!D$5:D$15784,$C$4+$B219),\"\")","v":"TSG 1899 Hoffenheim"},{"$f":"IF($C219,INDEX(Results!E$5:E$15784,$C$4+$B219),\"\")","v":"FC Augsburg"},{"$f":"IF($C219,INDEX(Results!F$5:F$15784,$C$4+$B219),\"\")","v":2},{"$f":"IF($C219,INDEX(Results!G$5:G$15784,$C$4+$B219),\"\")","v":1},3,0]
[null,214,{"$f":"B220<=Control!$C$17","v":true},{"$f":"IF($C220,INDEX(Results!C$5:C$15784,$C$4+$B220),\"\")","v":24},{"$f":"IF($C220,INDEX(Results!D$5:D$15784,$C$4+$B220),\"\")","v":"Bayer Leverkusen"},{"$f":"IF($C220,INDEX(Results!E$5:E$15784,$C$4+$B220),\"\")","v":"Werder Bremen"},{"$f":"IF($C220,INDEX(Results!F$5:F$15784,$C$4+$B220),\"\")","v":1},{"$f":"IF($C220,INDEX(Results!G$5:G$15784,$C$4+$B220),\"\")","v":4},0,3]
[null,215,{"$f":"B221<=Control!$C$17","v":true},{"$f":"IF($C221,INDEX(Results!C$5:C$15784,$C$4+$B221),\"\")","v":24},{"$f":"IF($C221,INDEX(Results!D$5:D$15784,$C$4+$B221),\"\")","v":"Borussia M'gladbach"},{"$f":"IF($C221,INDEX(Results!E$5:E$15784,$C$4+$B221),\"\")","v":"VfB Stuttgart"},{"$f":"IF($C221,INDEX(Results!F$5:F$15784,$C$4+$B221),\"\")","v":4},{"$f":"IF($C221,INDEX(Results!G$5:G$15784,$C$4+$B221),\"\")","v":0},3,0]
[null,216,{"$f":"B222<=Control!$C$17","v":true},{"$f":"IF($C222,INDEX(Results!C$5:C$15784,$C$4+$B222),\"\")","v":24},{"$f":"IF($C222,INDEX(Results!D$5:D$15784,$C$4+$B222),\"\")","v":"FC Schalke 04"},{"$f":"IF($C222,INDEX(Results!E$5:E$15784,$C$4+$B222),\"\")","v":"Hamburger SV"},{"$f":"IF($C222,INDEX(Results!F$5:F$15784,$C$4+$B222),\"\")","v":3},{"$f":"IF($C222,INDEX(Results!G$5:G$15784,$C$4+$B222),\"\")","v":2},3,0]
[null,217,{"$f":"B223<=Control!$C$17","v":true},{"$f":"IF($C223,INDEX(Results!C$5:C$15784,$C$4+$B223),\"\")","v":25},{"$f":"IF($C223,INDEX(Results!D$5:D$15784,$C$4+$B223),\"\")","v":"FC Augsburg"},{"$f":"IF($C223,INDEX(Results!E$5:E$15784,$C$4+$B223),\"\")","v":"Bayer Leverkusen"},{"$f":"IF($C223,INDEX(Results!F$5:F$15784,$C$4+$B223),\"\")","v":3},{"$f":"IF($C223,INDEX(Results!G$5:G$15784,$C$4+$B223),\"\")","v":3},1,1]
[null,218,{"$f":"B224<=Control!$C$17","v":true},{"$f":"IF($C224,INDEX(Results!C$5:C$15784,$C$4+$B224),\"\")","v":25},{"$f":"IF($C224,INDEX(Results!D$5:D$15784,$C$4+$B224),\"\")","v":"Borussia Dortmund"},{"$f":"IF($C224,INDEX(Results!E$5:E$15784,$C$4+$B224),\"\")","v":"FC Bayern München"},{"$f":"IF($C224,INDEX(Results!F$5:F$15784,$C$4+$B224),\"\")","v":0},{"$f":"IF($C224,INDEX(Results!G$5:G$15784,$C$4+$B224),\"\")","v":0},1,1]
[null,219,{"$f":"B225<=Control!$C$17","v":true},{"$f":"IF($C225,INDEX(Results!C$5:C$15784,$C$4+$B225),\"\")","v":25},{"$f":"IF($C225,INDEX(Results!D$5:D$15784,$C$4+$B225),\"\")","v":"Eintracht Frankfurt"},{"$f":"IF($C225,INDEX(Results!E$5:E$15784,$C$4+$B225),\"\")","v":"FC Ingolstadt"},{"$f":"IF($C225,INDEX(Results!F$5:F$15784,$C$4+$B225),\"\")","v":1},{"$f":"IF($C225,INDEX(Results!G$5:G$15784,$C$4+$B225),\"\")","v":1},1,1]
[null,220,{"$f":"B226<=Control!$C$17","v":true},{"$f":"IF($C226,INDEX(Results!C$5:C$15784,$C$4+$B226),\"\")","v":25},{"$f":"IF($C226,INDEX(Results!D$5:D$15784,$C$4+$B226),\"\")","v":"1.FC Köln"},{"$f":"IF($C226,INDEX(Results!E$5:E$15784,$C$4+$B226),\"\")","v":"FC Schalke 04"},{"$f":"IF($C226,INDEX(Results!F$5:F$15784,$C$4+$B226),\"\")","v":1},{"$f":"IF($C226,INDEX(Results!G$5:G$15784,$C$4+$B226),\"\")","v":3},0,3]
[null,221,{"$f":"B227<=Control!$C$17","v":true},{"$f":"IF($C227,INDEX(Results!C$5:C$15784,$C$4+$B227),\"\")","v":25},{"$f":"IF($C227,INDEX(Results!D$5:D$15784,$C$4+$B227),\"\")","v":"VfB Stuttgart"},{"$f":"IF($C227,INDEX(Results!E$5:E$15784,$C$4+$B227),\"\")","v":"TSG 1899 Hoffenheim"},{"$f":"IF($C227,INDEX(Results!F$5:F$15784,$C$4+$B227),\"\")","v":5},{"$f":"IF($C227,INDEX(Results!G$5:G$15784,$C$4+$B227),\"\")","v":1},3,0]
[null,222,{"$f":"B228<=Control!$C$17","v":true},{"$f":"IF($C228,INDEX(Results!C$5:C$15784,$C$4+$B228),\"\")","v":25},{"$f":"IF($C228,INDEX(Results!D$5:D$15784,$C$4+$B228),\"\")","v":"Werder Bremen"},{"$f":"IF($C228,INDEX(Results!E$5:E$15784,$C$4+$B228),\"\")","v":"Hannover 96"},{"$f":"IF($C228,INDEX(Results!F$5:F$15784,$C$4+$B228),\"\")","v":4},{"$f":"IF($C228,INDEX(Results!G$5:G$15784,$C$4+$B228),\"\")","v":1},3,0]
[null,223,{"$f":"B229<=Control!$C$17","v":true},{"$f":"IF($C229,INDEX(Results!C$5:C$15784,$C$4+$B229),\"\")","v":25},{"$f":"IF($C229,INDEX(Results!D$5:D$15784,$C$4+$B229),\"\")","v":"VfL Wolfsburg"},{"$f":"IF($C229,INDEX(Results!E$5:E$15784,$C$4+$B229),\"\")","v":"Borussia M'gladbach"},{"$f":"IF($C229,INDEX(Results!F$5:F$15784,$C$4+$B229),\"\")","v":2},{"$f":"IF($C229,INDEX(Results!G$5:G$15784,$C$4+$B229),\"\")","v":1},3,0]
[null,224,{"$f":"B230<=Control!$C$17","v":true},{"$f":"IF($C230,INDEX(Results!C$5:C$15784,$C$4+$B230),\"\")","v":25},{"$f":"IF($C230,INDEX(Results!D$5:D$15784,$C$4+$B230),\"\")","v":"Hamburger SV"},{"$f":"IF($C230,INDEX(Results!E$5:E$15784,$C$4+$B230),\"\")","v":"Hertha BSC Berlin"},{"$f":"IF($C230,INDEX(Results!F$5:F$15784,$C$4+$B230),\"\")","v":2},{"$f":"IF($C230,INDEX(Results!G$5:G$15784,$C$4+$B230),\"\")","v":0},3,0]
[null,225,{"$f":"B231<=Control!$C$17","v":true},{"$f":"IF($C231,INDEX(Results!C$5:C$15784,$C$4+$B231),\"\")","v":25},{"$f":"IF($C231,INDEX(Results!D$5:D$15784,$C$4+$B231),\"\")","v":"FSV Mainz 05"},{"$f":"IF($C231,INDEX(Results!E$5:E$15784,$C$4+$B231),\"\")","v":"Darmstadt 98"},{"$f":"IF($C231,INDEX(Results!F$5:F$15784,$C$4+$B231),\"\")","v":0},{"$f":"IF($C231,INDEX(Results!G$5:G$15784,$C$4+$B231),\"\")","v":0},1,1]
[null,226,{"$f":"B232<=Control!$C$17","v":true},{"$f":"IF($C232,INDEX(Results!C$5:C$15784,$C$4+$B232),\"\")","v":26},{"$f":"IF($C232,INDEX(Results!D$5:D$15784,$C$4+$B232),\"\")","v":"Hertha BSC Berlin"},{"$f":"IF($C232,INDEX(Results!E$5:E$15784,$C$4+$B232),\"\")","v":"FC Schalke 04"},{"$f":"IF($C232,INDEX(Results!F$5:F$15784,$C$4+$B232),\"\")","v":2},{"$f":"IF($C232,INDEX(Results!G$5:G$15784,$C$4+$B232),\"\")","v":0},3,0]
[null,227,{"$f":"B233<=Control!$C$17","v":true},{"$f":"IF($C233,INDEX(Results!C$5:C$15784,$C$4+$B233),\"\")","v":26},{"$f":"IF($C233,INDEX(Results!D$5:D$15784,$C$4+$B233),\"\")","v":"FC Bayern München"},{"$f":"IF($C233,INDEX(Results!E$5:E$15784,$C$4+$B233),\"\")","v":"Werder Bremen"},{"$f":"IF($C233,INDEX(Results!F$5:F$15784,$C$4+$B233),\"\")","v":5},{"$f":"IF($C233,INDEX(Results!G$5:G$15784,$C$4+$B233),\"\")","v":0},3,0]
[null,228,{"$f":"B234<=Control!$C$17","v":true},{"$f":"IF($C234,INDEX(Results!C$5:C$15784,$C$4+$B234),\"\")","v":26},{"$f":"IF($C234,INDEX(Results!D$5:D$15784,$C$4+$B234),\"\")","v":"Darmstadt 98"},{"$f":"IF($C234,INDEX(Results!E$5:E$15784,$C$4+$B234),\"\")","v":"FC Augsburg"},{"$f":"IF($C234,INDEX(Results!F$5:F$15784,$C$4+$B234),\"\")","v":2},{"$f":"IF($C234,INDEX(Results!G$5:G$15784,$C$4+$B234),\"\")","v":2},1,1]
[null,229,{"$f":"B235<=Control!$C$17","v":true},{"$f":"IF($C235,INDEX(Results!C$5:C$15784,$C$4+$B235),\"\")","v":26},{"$f":"IF($C235,INDEX(Results!D$5:D$15784,$C$4+$B235),\"\")","v":"Hannover 96"},{"$f":"IF($C235,INDEX(Results!E$5:E$15784,$C$4+$B235),\"\")","v":"1.FC Köln"},{"$f":"IF($C235,INDEX(Results!F$5:F$15784,$C$4+$B235),\"\")","v":0},{"$f":"IF($C235,INDEX(Results!G$5:G$15784,$C$4+$B235),\"\")","v":2},0,3]
[null,230,{"$f":"B236<=Control!$C$17","v":true},{"$f":"IF($C236,INDEX(Results!C$5:C$15784,$C$4+$B236),\"\")","v":26},{"$f":"IF($C236,INDEX(Results!D$5:D$15784,$C$4+$B236),\"\")","v":"TSG 1899 Hoffenheim"},{"$f":"IF($C236,INDEX(Results!E$5:E$15784,$C$4+$B236),\"\")","v":"VfL Wolfsburg"},{"$f":"IF($C236,INDEX(Results!F$5:F$15784,$C$4+$B236),\"\")","v":1},{"$f":"IF($C236,INDEX(Results!G$5:G$15784,$C$4+$B236),\"\")","v":0},3,0]
[null,231,{"$f":"B237<=Control!$C$17","v":true},{"$f":"IF($C237,INDEX(Results!C$5:C$15784,$C$4+$B237),\"\")","v":26},{"$f":"IF($C237,INDEX(Results!D$5:D$15784,$C$4+$B237),\"\")","v":"FC Ingolstadt"},{"$f":"IF($C237,INDEX(Results!E$5:E$15784,$C$4+$B237),\"\")","v":"VfB Stuttgart"},{"$f":"IF($C237,INDEX(Results!F$5:F$15784,$C$4+$B237),\"\")","v":3},{"$f":"IF($C237,INDEX(Results!G$5:G$15784,$C$4+$B237),\"\")","v":3},1,1]
[null,232,{"$f":"B238<=Control!$C$17","v":true},{"$f":"IF($C238,INDEX(Results!C$5:C$15784,$C$4+$B238),\"\")","v":26},{"$f":"IF($C238,INDEX(Results!D$5:D$15784,$C$4+$B238),\"\")","v":"Borussia M'gladbach"},{"$f":"IF($C238,INDEX(Results!E$5:E$15784,$C$4+$B238),\"\")","v":"Eintracht Frankfurt"},{"$f":"IF($C238,INDEX(Results!F$5:F$15784,$C$4+$B238),\"\")","v":3},{"$f":"IF($C238,INDEX(Results!G$5:G$15784,$C$4+$B238),\"\")","v":0},3,0]
[null,233,{"$f":"B239<=Control!$C$17","v":true},{"$f":"IF($C239,INDEX(Results!C$5:C$15784,$C$4+$B239),\"\")","v":26},{"$f":"IF($C239,INDEX(Results!D$5:D$15784,$C$4+$B239),\"\")","v":"Borussia Dortmund"},{"$f":"IF($C239,INDEX(Results!E$5:E$15784,$C$4+$B239),\"\")","v":"FSV Mainz 05"},{"$f":"IF($C239,INDEX(Results!F$5:F$15784,$C$4+$B239),\"\")","v":2},{"$f":"IF($C239,INDEX(Results!G$5:G$15784,$C$4+$B239),\"\")","v":0},3,0]
[null,234,{"$f":"B240<=Control!$C$17","v":true},{"$f":"IF($C240,INDEX(Results!C$5:C$15784,$C$4+$B240),\"\")","v":26},{"$f":"IF($C240,INDEX(Results!D$5:D$15784,$C$4+$B240),\"\")","v":"Bayer Leverkusen"},{"$f":"IF($C240,INDEX(Results!E$5:E$15784,$C$4+$B240),\"\")","v":"Hamburger SV"},{"$f":"IF($C240,INDEX(Results!F$5:F$15784,$C$4+$B240),\"\")","v":1},{"$f":"IF($C240,INDEX(Results!G$5:G$15784,$C$4+$B240),\"\")","v":0},3,0]
[null,235,{"$f":"B241<=Control!$C$17","v":true},{"$f":"IF($C241,INDEX(Results!C$5:C$15784,$C$4+$B241),\"\")","v":27},{"$f":"IF($C241,INDEX(Results!D$5:D$15784,$C$4+$B241),\"\")","v":"FC Schalke 04"},{"$f":"IF($C241,INDEX(Results!E$5:E$15784,$C$4+$B241),\"\")","v":"Borussia M'gladbach"},{"$f":"IF($C241,INDEX(Results!F$5:F$15784,$C$4+$B241),\"\")","v":2},{"$f":"IF($C241,INDEX(Results!G$5:G$15784,$C$4+$B241),\"\")","v":1},3,0]
[null,236,{"$f":"B242<=Control!$C$17","v":true},{"$f":"IF($C242,INDEX(Results!C$5:C$15784,$C$4+$B242),\"\")","v":27},{"$f":"IF($C242,INDEX(Results!D$5:D$15784,$C$4+$B242),\"\")","v":"Eintracht Frankfurt"},{"$f":"IF($C242,INDEX(Results!E$5:E$15784,$C$4+$B242),\"\")","v":"Hannover 96"},{"$f":"IF($C242,INDEX(Results!F$5:F$15784,$C$4+$B242),\"\")","v":1},{"$f":"IF($C242,INDEX(Results!G$5:G$15784,$C$4+$B242),\"\")","v":0},3,0]
[null,237,{"$f":"B243<=Control!$C$17","v":true},{"$f":"IF($C243,INDEX(Results!C$5:C$15784,$C$4+$B243),\"\")","v":27},{"$f":"IF($C243,INDEX(Results!D$5:D$15784,$C$4+$B243),\"\")","v":"1.FC Köln"},{"$f":"IF($C243,INDEX(Results!E$5:E$15784,$C$4+$B243),\"\")","v":"FC Bayern München"},{"$f":"IF($C243,INDEX(Results!F$5:F$15784,$C$4+$B243),\"\")","v":0},{"$f":"IF($C243,INDEX(Results!G$5:G$15784,$C$4+$B243),\"\")","v":1},0,3]
[null,238,{"$f":"B244<=Control!$C$17","v":true},{"$f":"IF($C244,INDEX(Results!C$5:C$15784,$C$4+$B244),\"\")","v":27},{"$f":"IF($C244,INDEX(Results!D$5:D$15784,$C$4+$B244),\"\")","v":"Hamburger SV"},{"$f":"IF($C244,INDEX(Results!E$5:E$15784,$C$4+$B244),\"\")","v":"TSG 1899 Hoffenheim"},{"$f":"IF($C244,INDEX(Results!F$5:F$15784,$C$4+$B244),\"\")","v":1},{"$f":"IF($C244,INDEX(Results!G$5:G$15784,$C$4+$B244),\"\")","v":3},0,3]
[null,239,{"$f":"B245<=Control!$C$17","v":true},{"$f":"IF($C245,INDEX(Results!C$5:C$15784,$C$4+$B245),\"\")","v":27},{"$f":"IF($C245,INDEX(Results!D$5:D$15784,$C$4+$B245),\"\")","v":"Hertha BSC Berlin"},{"$f":"IF($C245,INDEX(Results!E$5:E$15784,$C$4+$B245),\"\")","v":"FC Ingolstadt"},{"$f":"IF($C245,INDEX(Results!F$5:F$15784,$C$4+$B245),\"\")","v":2},{"$f":"IF($C245,INDEX(Results!G$5:G$15784,$C$4+$B245),\"\")","v":1},3,0]
[null,240,{"$f":"B246<=Control!$C$17","v":true},{"$f":"IF($C246,INDEX(Results!C$5:C$15784,$C$4+$B246),\"\")","v":27},{"$f":"IF($C246,INDEX(Results!D$5:D$15784,$C$4+$B246),\"\")","v":"Werder Bremen"},{"$f":"IF($C246,INDEX(Results!E$5:E$15784,$C$4+$B246),\"\")","v":"FSV Mainz 05"},{"$f":"IF($C246,INDEX(Results!F$5:F$15784,$C$4+$B246),\"\")","v":1},{"$f":"IF($C246,INDEX(Results!G$5:G$15784,$C$4+$B246),\"\")","v":1},1,1]
[null,241,{"$f":"B247<=Control!$C$17","v":true},{"$f":"IF($C247,INDEX(Results!C$5:C$15784,$C$4+$B247),0)","v":27},{"$f":"IF($C247,INDEX(Results!D$5:D$15784,$C$4+$B247),\"---\")","v":"VfL Wolfsburg"},{"$f":"IF($C247,INDEX(Results!E$5:E$15784,$C$4+$B247),\"---\")","v":"Darmstadt 98"},{"$f":"IF($C247,INDEX(Results!F$5:F$15784,$C$4+$B247),0)","v":1},{"$f":"IF($C247,INDEX(Results!G$5:G$15784,$C$4+$B247),0)","v":1},1,1]
[null,242,{"$f":"B248<=Control!$C$17","v":true},{"$f":"IF($C248,INDEX(Results!C$5:C$15784,$C$4+$B248),0)","v":27},{"$f":"IF($C248,INDEX(Results!D$5:D$15784,$C$4+$B248),\"---\")","v":"FC Augsburg"},{"$f":"IF($C248,INDEX(Results!E$5:E$15784,$C$4+$B248),\"---\")","v":"Borussia Dortmund"},{"$f":"IF($C248,INDEX(Results!F$5:F$15784,$C$4+$B248),0)","v":1},{"$f":"IF($C248,INDEX(Results!G$5:G$15784,$C$4+$B248),0)","v":3},0,3]
[null,243,{"$f":"B249<=Control!$C$17","v":true},{"$f":"IF($C249,INDEX(Results!C$5:C$15784,$C$4+$B249),0)","v":27},{"$f":"IF($C249,INDEX(Results!D$5:D$15784,$C$4+$B249),\"---\")","v":"VfB Stuttgart"},{"$f":"IF($C249,INDEX(Results!E$5:E$15784,$C$4+$B249),\"---\")","v":"Bayer Leverkusen"},{"$f":"IF($C249,INDEX(Results!F$5:F$15784,$C$4+$B249),0)","v":0},{"$f":"IF($C249,INDEX(Results!G$5:G$15784,$C$4+$B249),0)","v":2},0,3]
[null,244,{"$f":"B250<=Control!$C$17","v":true},{"$f":"IF($C250,INDEX(Results!C$5:C$15784,$C$4+$B250),0)","v":28},{"$f":"IF($C250,INDEX(Results!D$5:D$15784,$C$4+$B250),\"---\")","v":"Bayer Leverkusen"},{"$f":"IF($C250,INDEX(Results!E$5:E$15784,$C$4+$B250),\"---\")","v":"VfL Wolfsburg"},{"$f":"IF($C250,INDEX(Results!F$5:F$15784,$C$4+$B250),0)","v":3},{"$f":"IF($C250,INDEX(Results!G$5:G$15784,$C$4+$B250),0)","v":0},3,0]
[null,245,{"$f":"B251<=Control!$C$17","v":true},{"$f":"IF($C251,INDEX(Results!C$5:C$15784,$C$4+$B251),0)","v":28},{"$f":"IF($C251,INDEX(Results!D$5:D$15784,$C$4+$B251),\"---\")","v":"FC Bayern München"},{"$f":"IF($C251,INDEX(Results!E$5:E$15784,$C$4+$B251),\"---\")","v":"Eintracht Frankfurt"},{"$f":"IF($C251,INDEX(Results!F$5:F$15784,$C$4+$B251),0)","v":1},{"$f":"IF($C251,INDEX(Results!G$5:G$15784,$C$4+$B251),0)","v":0},3,0]
[null,246,{"$f":"B252<=Control!$C$17","v":true},{"$f":"IF($C252,INDEX(Results!C$5:C$15784,$C$4+$B252),0)","v":28},{"$f":"IF($C252,INDEX(Results!D$5:D$15784,$C$4+$B252),\"---\")","v":"Darmstadt 98"},{"$f":"IF($C252,INDEX(Results!E$5:E$15784,$C$4+$B252),\"---\")","v":"VfB Stuttgart"},{"$f":"IF($C252,INDEX(Results!F$5:F$15784,$C$4+$B252),0)","v":2},{"$f":"IF($C252,INDEX(Results!G$5:G$15784,$C$4+$B252),0)","v":2},1,1]
[null,247,{"$f":"B253<=Control!$C$17","v":true},{"$f":"IF($C253,INDEX(Results!C$5:C$15784,$C$4+$B253),0)","v":28},{"$f":"IF($C253,INDEX(Results!D$5:D$15784,$C$4+$B253),\"---\")","v":"Borussia Dortmund"},{"$f":"IF($C253,INDEX(Results!E$5:E$15784,$C$4+$B253),\"---\")","v":"Werder Bremen"},{"$f":"IF($C253,INDEX(Results!F$5:F$15784,$C$4+$B253),0)","v":3},{"$f":"IF($C253,INDEX(Results!G$5:G$15784,$C$4+$B253),0)","v":2},3,0]
[null,248,{"$f":"B254<=Control!$C$17","v":true},{"$f":"IF($C254,INDEX(Results!C$5:C$15784,$C$4+$B254),0)","v":28},{"$f":"IF($C254,INDEX(Results!D$5:D$15784,$C$4+$B254),\"---\")","v":"Hannover 96"},{"$f":"IF($C254,INDEX(Results!E$5:E$15784,$C$4+$B254),\"---\")","v":"Hamburger SV"},{"$f":"IF($C254,INDEX(Results!F$5:F$15784,$C$4+$B254),0)","v":0},{"$f":"IF($C254,INDEX(Results!G$5:G$15784,$C$4+$B254),0)","v":3},0,3]
[null,249,{"$f":"B255<=Control!$C$17","v":true},{"$f":"IF($C255,INDEX(Results!C$5:C$15784,$C$4+$B255),0)","v":28},{"$f":"IF($C255,INDEX(Results!D$5:D$15784,$C$4+$B255),\"---\")","v":"FC Ingolstadt"},{"$f":"IF($C255,INDEX(Results!E$5:E$15784,$C$4+$B255),\"---\")","v":"FC Schalke 04"},{"$f":"IF($C255,INDEX(Results!F$5:F$15784,$C$4+$B255),0)","v":3},{"$f":"IF($C255,INDEX(Results!G$5:G$15784,$C$4+$B255),0)","v":0},3,0]
[null,250,{"$f":"B256<=Control!$C$17","v":true},{"$f":"IF($C256,INDEX(Results!C$5:C$15784,$C$4+$B256),0)","v":28},{"$f":"IF($C256,INDEX(Results!D$5:D$15784,$C$4+$B256),\"---\")","v":"FSV Mainz 05"},{"$f":"IF($C256,INDEX(Results!E$5:E$15784,$C$4+$B256),\"---\")","v":"FC Augsburg"},{"$f":"IF($C256,INDEX(Results!F$5:F$15784,$C$4+$B256),0)","v":4},{"$f":"IF($C256,INDEX(Results!G$5:G$15784,$C$4+$B256),0)","v":2},3,0]
[null,251,{"$f":"B257<=Control!$C$17","v":true},{"$f":"IF($C257,INDEX(Results!C$5:C$15784,$C$4+$B257),0)","v":28},{"$f":"IF($C257,INDEX(Results!D$5:D$15784,$C$4+$B257),\"---\")","v":"TSG 1899 Hoffenheim"},{"$f":"IF($C257,INDEX(Results!E$5:E$15784,$C$4+$B257),\"---\")","v":"1.FC Köln"},{"$f":"IF($C257,INDEX(Results!F$5:F$15784,$C$4+$B257),0)","v":1},{"$f":"IF($C257,INDEX(Results!G$5:G$15784,$C$4+$B257),0)","v":1},1,1]
[null,252,{"$f":"B258<=Control!$C$17","v":true},{"$f":"IF($C258,INDEX(Results!C$5:C$15784,$C$4+$B258),0)","v":28},{"$f":"IF($C258,INDEX(Results!D$5:D$15784,$C$4+$B258),\"---\")","v":"Borussia M'gladbach"},{"$f":"IF($C258,INDEX(Results!E$5:E$15784,$C$4+$B258),\"---\")","v":"Hertha BSC Berlin"},{"$f":"IF($C258,INDEX(Results!F$5:F$15784,$C$4+$B258),0)","v":5},{"$f":"IF($C258,INDEX(Results!G$5:G$15784,$C$4+$B258),0)","v":0},3,0]
[null,253,{"$f":"B259<=Control!$C$17","v":true},{"$f":"IF($C259,INDEX(Results!C$5:C$15784,$C$4+$B259),0)","v":29},{"$f":"IF($C259,INDEX(Results!D$5:D$15784,$C$4+$B259),\"---\")","v":"Hertha BSC Berlin"},{"$f":"IF($C259,INDEX(Results!E$5:E$15784,$C$4+$B259),\"---\")","v":"Hannover 96"},{"$f":"IF($C259,INDEX(Results!F$5:F$15784,$C$4+$B259),0)","v":2},{"$f":"IF($C259,INDEX(Results!G$5:G$15784,$C$4+$B259),0)","v":2},1,1]
[null,254,{"$f":"B260<=Control!$C$17","v":true},{"$f":"IF($C260,INDEX(Results!C$5:C$15784,$C$4+$B260),0)","v":29},{"$f":"IF($C260,INDEX(Results!D$5:D$15784,$C$4+$B260),\"---\")","v":"Eintracht Frankfurt"},{"$f":"IF($C260,INDEX(Results!E$5:E$15784,$C$4+$B260),\"---\")","v":"TSG 1899 Hoffenheim"},{"$f":"IF($C260,INDEX(Results!F$5:F$15784,$C$4+$B260),0)","v":0},{"$f":"IF($C260,INDEX(Results!G$5:G$15784,$C$4+$B260),0)","v":2},0,3]
[null,255,{"$f":"B261<=Control!$C$17","v":true},{"$f":"IF($C261,INDEX(Results!C$5:C$15784,$C$4+$B261),0)","v":29},{"$f":"IF($C261,INDEX(Results!D$5:D$15784,$C$4+$B261),\"---\")","v":"Hamburger SV"},{"$f":"IF($C261,INDEX(Results!E$5:E$15784,$C$4+$B261),\"---\")","v":"Darmstadt 98"},{"$f":"IF($C261,INDEX(Results!F$5:F$15784,$C$4+$B261),0)","v":1},{"$f":"IF($C261,INDEX(Results!G$5:G$15784,$C$4+$B261),0)","v":2},0,3]
[null,256,{"$f":"B262<=Control!$C$17","v":true},{"$f":"IF($C262,INDEX(Results!C$5:C$15784,$C$4+$B262),0)","v":29},{"$f":"IF($C262,INDEX(Results!D$5:D$15784,$C$4+$B262),\"---\")","v":"FC Ingolstadt"},{"$f":"IF($C262,INDEX(Results!E$5:E$15784,$C$4+$B262),\"---\")","v":"Borussia M'gladbach"},{"$f":"IF($C262,INDEX(Results!F$5:F$15784,$C$4+$B262),0)","v":1},{"$f":"IF($C262,INDEX(Results!G$5:G$15784,$C$4+$B262),0)","v":0},3,0]
[null,257,{"$f":"B263<=Control!$C$17","v":true},{"$f":"IF($C263,INDEX(Results!C$5:C$15784,$C$4+$B263),0)","v":29},{"$f":"IF($C263,INDEX(Results!D$5:D$15784,$C$4+$B263),\"---\")","v":"VfB Stuttgart"},{"$f":"IF($C263,INDEX(Results!E$5:E$15784,$C$4+$B263),\"---\")","v":"FC Bayern München"},{"$f":"IF($C263,INDEX(Results!F$5:F$15784,$C$4+$B263),0)","v":1},{"$f":"IF($C263,INDEX(Results!G$5:G$15784,$C$4+$B263),0)","v":3},{"$f":"$C263*IF($G263>$H263,myPoints,IF($G263<$H263,0,1))","v":0},{"$f":"$C263*IF($G263>$H263,0,IF($G263<$H263,myPoints,1))","v":3}]
[null,258,{"$f":"B264<=Control!$C$17","v":true},{"$f":"IF($C264,INDEX(Results!C$5:C$15784,$C$4+$B264),0)","v":29},{"$f":"IF($C264,INDEX(Results!D$5:D$15784,$C$4+$B264),\"---\")","v":"Werder Bremen"},{"$f":"IF($C264,INDEX(Results!E$5:E$15784,$C$4+$B264),\"---\")","v":"FC Augsburg"},{"$f":"IF($C264,INDEX(Results!F$5:F$15784,$C$4+$B264),0)","v":1},{"$f":"IF($C264,INDEX(Results!G$5:G$15784,$C$4+$B264),0)","v":2},0,3]
[null,259,{"$f":"B265<=Control!$C$17","v":true},{"$f":"IF($C265,INDEX(Results!C$5:C$15784,$C$4+$B265),0)","v":29},{"$f":"IF($C265,INDEX(Results!D$5:D$15784,$C$4+$B265),\"---\")","v":"VfL Wolfsburg"},{"$f":"IF($C265,INDEX(Results!E$5:E$15784,$C$4+$B265),\"---\")","v":"FSV Mainz 05"},{"$f":"IF($C265,INDEX(Results!F$5:F$15784,$C$4+$B265),0)","v":1},{"$f":"IF($C265,INDEX(Results!G$5:G$15784,$C$4+$B265),0)","v":1},1,1]
[null,260,{"$f":"B266<=Control!$C$17","v":true},{"$f":"IF($C266,INDEX(Results!C$5:C$15784,$C$4+$B266),0)","v":29},{"$f":"IF($C266,INDEX(Results!D$5:D$15784,$C$4+$B266),\"---\")","v":"1.FC Köln"},{"$f":"IF($C266,INDEX(Results!E$5:E$15784,$C$4+$B266),\"---\")","v":"Bayer Leverkusen"},{"$f":"IF($C266,INDEX(Results!F$5:F$15784,$C$4+$B266),0)","v":0},{"$f":"IF($C266,INDEX(Results!G$5:G$15784,$C$4+$B266),0)","v":2},0,3]
[null,261,{"$f":"B267<=Control!$C$17","v":true},{"$f":"IF($C267,INDEX(Results!C$5:C$15784,$C$4+$B267),0)","v":29},{"$f":"IF($C267,INDEX(Results!D$5:D$15784,$C$4+$B267),\"---\")","v":"FC Schalke 04"},{"$f":"IF($C267,INDEX(Results!E$5:E$15784,$C$4+$B267),\"---\")","v":"Borussia Dortmund"},{"$f":"IF($C267,INDEX(Results!F$5:F$15784,$C$4+$B267),0)","v":2},{"$f":"IF($C267,INDEX(Results!G$5:G$15784,$C$4+$B267),0)","v":2},1,1]
[null,262,{"$f":"B268<=Control!$C$17","v":true},{"$f":"IF($C268,INDEX(Results!C$5:C$15784,$C$4+$B268),0)","v":30},{"$f":"IF($C268,INDEX(Results!D$5:D$15784,$C$4+$B268),\"---\")","v":"Hannover 96"},{"$f":"IF($C268,INDEX(Results!E$5:E$15784,$C$4+$B268),\"---\")","v":"Borussia M'gladbach"},{"$f":"IF($C268,INDEX(Results!F$5:F$15784,$C$4+$B268),0)","v":2},{"$f":"IF($C268,INDEX(Results!G$5:G$15784,$C$4+$B268),0)","v":0},3,0]
[null,263,{"$f":"B269<=Control!$C$17","v":true},{"$f":"IF($C269,INDEX(Results!C$5:C$15784,$C$4+$B269),0)","v":30},{"$f":"IF($C269,INDEX(Results!D$5:D$15784,$C$4+$B269),\"---\")","v":"FC Augsburg"},{"$f":"IF($C269,INDEX(Results!E$5:E$15784,$C$4+$B269),\"---\")","v":"VfB Stuttgart"},{"$f":"IF($C269,INDEX(Results!F$5:F$15784,$C$4+$B269),0)","v":1},{"$f":"IF($C269,INDEX(Results!G$5:G$15784,$C$4+$B269),0)","v":0},3,0]
[null,264,{"$f":"B270<=Control!$C$17","v":true},{"$f":"IF($C270,INDEX(Results!C$5:C$15784,$C$4+$B270),0)","v":30},{"$f":"IF($C270,INDEX(Results!D$5:D$15784,$C$4+$B270),\"---\")","v":"FC Bayern München"},{"$f":"IF($C270,INDEX(Results!E$5:E$15784,$C$4+$B270),\"---\")","v":"FC Schalke 04"},{"$f":"IF($C270,INDEX(Results!F$5:F$15784,$C$4+$B270),0)","v":3},{"$f":"IF($C270,INDEX(Results!G$5:G$15784,$C$4+$B270),0)","v":0},3,0]
[null,265,{"$f":"B271<=Control!$C$17","v":true},{"$f":"IF($C271,INDEX(Results!C$5:C$15784,$C$4+$B271),0)","v":30},{"$f":"IF($C271,INDEX(Results!D$5:D$15784,$C$4+$B271),\"---\")","v":"Darmstadt 98"},{"$f":"IF($C271,INDEX(Results!E$5:E$15784,$C$4+$B271),\"---\")","v":"FC Ingolstadt"},{"$f":"IF($C271,INDEX(Results!F$5:F$15784,$C$4+$B271),0)","v":2},{"$f":"IF($C271,INDEX(Results!G$5:G$15784,$C$4+$B271),0)","v":0},3,0]
[null,266,{"$f":"B272<=Control!$C$17","v":true},{"$f":"IF($C272,INDEX(Results!C$5:C$15784,$C$4+$B272),0)","v":30},{"$f":"IF($C272,INDEX(Results!D$5:D$15784,$C$4+$B272),\"---\")","v":"TSG 1899 Hoffenheim"},{"$f":"IF($C272,INDEX(Results!E$5:E$15784,$C$4+$B272),\"---\")","v":"Hertha BSC Berlin"},{"$f":"IF($C272,INDEX(Results!F$5:F$15784,$C$4+$B272),0)","v":2},{"$f":"IF($C272,INDEX(Results!G$5:G$15784,$C$4+$B272),0)","v":1},3,0]
[null,267,{"$f":"B273<=Control!$C$17","v":true},{"$f":"IF($C273,INDEX(Results!C$5:C$15784,$C$4+$B273),0)","v":30},{"$f":"IF($C273,INDEX(Results!D$5:D$15784,$C$4+$B273),\"---\")","v":"Bayer Leverkusen"},{"$f":"IF($C273,INDEX(Results!E$5:E$15784,$C$4+$B273),\"---\")","v":"Eintracht Frankfurt"},{"$f":"IF($C273,INDEX(Results!F$5:F$15784,$C$4+$B273),0)","v":3},{"$f":"IF($C273,INDEX(Results!G$5:G$15784,$C$4+$B273),0)","v":0},3,0]
[null,268,{"$f":"B274<=Control!$C$17","v":true},{"$f":"IF($C274,INDEX(Results!C$5:C$15784,$C$4+$B274),0)","v":30},{"$f":"IF($C274,INDEX(Results!D$5:D$15784,$C$4+$B274),\"---\")","v":"Werder Bremen"},{"$f":"IF($C274,INDEX(Results!E$5:E$15784,$C$4+$B274),\"---\")","v":"VfL Wolfsburg"},{"$f":"IF($C274,INDEX(Results!F$5:F$15784,$C$4+$B274),0)","v":3},{"$f":"IF($C274,INDEX(Results!G$5:G$15784,$C$4+$B274),0)","v":2},3,0]
[null,269,{"$f":"B275<=Control!$C$17","v":true},{"$f":"IF($C275,INDEX(Results!C$5:C$15784,$C$4+$B275),0)","v":30},{"$f":"IF($C275,INDEX(Results!D$5:D$15784,$C$4+$B275),\"---\")","v":"Borussia Dortmund"},{"$f":"IF($C275,INDEX(Results!E$5:E$15784,$C$4+$B275),\"---\")","v":"Hamburger SV"},{"$f":"IF($C275,INDEX(Results!F$5:F$15784,$C$4+$B275),0)","v":3},{"$f":"IF($C275,INDEX(Results!G$5:G$15784,$C$4+$B275),0)","v":0},3,0]
[null,270,{"$f":"B276<=Control!$C$17","v":true},{"$f":"IF($C276,INDEX(Results!C$5:C$15784,$C$4+$B276),0)","v":30},{"$f":"IF($C276,INDEX(Results!D$5:D$15784,$C$4+$B276),\"---\")","v":"FSV Mainz 05"},{"$f":"IF($C276,INDEX(Results!E$5:E$15784,$C$4+$B276),\"---\")","v":"1.FC Köln"},{"$f":"IF($C276,INDEX(Results!F$5:F$15784,$C$4+$B276),0)","v":2},{"$f":"IF($C276,INDEX(Results!G$5:G$15784,$C$4+$B276),0)","v":3},0,3]
[null,271,{"$f":"B277<=Control!$C$17","v":true},{"$f":"IF($C277,INDEX(Results!C$5:C$15784,$C$4+$B277),0)","v":31},{"$f":"IF($C277,INDEX(Results!D$5:D$15784,$C$4+$B277),\"---\")","v":"Hamburger SV"},{"$f":"IF($C277,INDEX(Results!E$5:E$15784,$C$4+$B277),\"---\")","v":"Werder Bremen"},{"$f":"IF($C277,INDEX(Results!F$5:F$15784,$C$4+$B277),0)","v":2},{"$f":"IF($C277,INDEX(Results!G$5:G$15784,$C$4+$B277),0)","v":1},3,0]
[null,272,{"$f":"B278<=Control!$C$17","v":true},{"$f":"IF($C278,INDEX(Results!C$5:C$15784,$C$4+$B278),0)","v":31},{"$f":"IF($C278,INDEX(Results!D$5:D$15784,$C$4+$B278),\"---\")","v":"1.FC Köln"},{"$f":"IF($C278,INDEX(Results!E$5:E$15784,$C$4+$B278),\"---\")","v":"Darmstadt 98"},{"$f":"IF($C278,INDEX(Results!F$5:F$15784,$C$4+$B278),0)","v":4},{"$f":"IF($C278,INDEX(Results!G$5:G$15784,$C$4+$B278),0)","v":1},3,0]
[null,273,{"$f":"B279<=Control!$C$17","v":true},{"$f":"IF($C279,INDEX(Results!C$5:C$15784,$C$4+$B279),0)","v":31},{"$f":"IF($C279,INDEX(Results!D$5:D$15784,$C$4+$B279),\"---\")","v":"Hertha BSC Berlin"},{"$f":"IF($C279,INDEX(Results!E$5:E$15784,$C$4+$B279),\"---\")","v":"FC Bayern München"},{"$f":"IF($C279,INDEX(Results!F$5:F$15784,$C$4+$B279),0)","v":0},{"$f":"IF($C279,INDEX(Results!G$5:G$15784,$C$4+$B279),0)","v":2},0,3]
[null,274,{"$f":"B280<=Control!$C$17","v":true},{"$f":"IF($C280,INDEX(Results!C$5:C$15784,$C$4+$B280),0)","v":31},{"$f":"IF($C280,INDEX(Results!D$5:D$15784,$C$4+$B280),\"---\")","v":"FC Ingolstadt"},{"$f":"IF($C280,INDEX(Results!E$5:E$15784,$C$4+$B280),\"---\")","v":"Hannover 96"},{"$f":"IF($C280,INDEX(Results!F$5:F$15784,$C$4+$B280),0)","v":2},{"$f":"IF($C280,INDEX(Results!G$5:G$15784,$C$4+$B280),0)","v":2},1,1]
[null,275,{"$f":"B281<=Control!$C$17","v":true},{"$f":"IF($C281,INDEX(Results!C$5:C$15784,$C$4+$B281),0)","v":31},{"$f":"IF($C281,INDEX(Results!D$5:D$15784,$C$4+$B281),\"---\")","v":"FC Schalke 04"},{"$f":"IF($C281,INDEX(Results!E$5:E$15784,$C$4+$B281),\"---\")","v":"Bayer Leverkusen"},{"$f":"IF($C281,INDEX(Results!F$5:F$15784,$C$4+$B281),0)","v":2},{"$f":"IF($C281,INDEX(Results!G$5:G$15784,$C$4+$B281),0)","v":3},0,3]
[null,276,{"$f":"B282<=Control!$C$17","v":true},{"$f":"IF($C282,INDEX(Results!C$5:C$15784,$C$4+$B282),0)","v":31},{"$f":"IF($C282,INDEX(Results!D$5:D$15784,$C$4+$B282),\"---\")","v":"VfB Stuttgart"},{"$f":"IF($C282,INDEX(Results!E$5:E$15784,$C$4+$B282),\"---\")","v":"Borussia Dortmund"},{"$f":"IF($C282,INDEX(Results!F$5:F$15784,$C$4+$B282),0)","v":0},{"$f":"IF($C282,INDEX(Results!G$5:G$15784,$C$4+$B282),0)","v":3},0,3]
[null,277,{"$f":"B283<=Control!$C$17","v":true},{"$f":"IF($C283,INDEX(Results!C$5:C$15784,$C$4+$B283),0)","v":31},{"$f":"IF($C283,INDEX(Results!D$5:D$15784,$C$4+$B283),\"---\")","v":"VfL Wolfsburg"},{"$f":"IF($C283,INDEX(Results!E$5:E$15784,$C$4+$B283),\"---\")","v":"FC Augsburg"},{"$f":"IF($C283,INDEX(Results!F$5:F$15784,$C$4+$B283),0)","v":0},{"$f":"IF($C283,INDEX(Results!G$5:G$15784,$C$4+$B283),0)","v":2},0,3]
[null,278,{"$f":"B284<=Control!$C$17","v":true},{"$f":"IF($C284,INDEX(Results!C$5:C$15784,$C$4+$B284),0)","v":31},{"$f":"IF($C284,INDEX(Results!D$5:D$15784,$C$4+$B284),\"---\")","v":"Eintracht Frankfurt"},{"$f":"IF($C284,INDEX(Results!E$5:E$15784,$C$4+$B284),\"---\")","v":"FSV Mainz 05"},{"$f":"IF($C284,INDEX(Results!F$5:F$15784,$C$4+$B284),0)","v":2},{"$f":"IF($C284,INDEX(Results!G$5:G$15784,$C$4+$B284),0)","v":1},3,0]
[null,279,{"$f":"B285<=Control!$C$17","v":true},{"$f":"IF($C285,INDEX(Results!C$5:C$15784,$C$4+$B285),0)","v":31},{"$f":"IF($C285,INDEX(Results!D$5:D$15784,$C$4+$B285),\"---\")","v":"Borussia M'gladbach"},{"$f":"IF($C285,INDEX(Results!E$5:E$15784,$C$4+$B285),\"---\")","v":"TSG 1899 Hoffenheim"},{"$f":"IF($C285,INDEX(Results!F$5:F$15784,$C$4+$B285),0)","v":3},{"$f":"IF($C285,INDEX(Results!G$5:G$15784,$C$4+$B285),0)","v":1},3,0]
[null,280,{"$f":"B286<=Control!$C$17","v":true},{"$f":"IF($C286,INDEX(Results!C$5:C$15784,$C$4+$B286),0)","v":32},{"$f":"IF($C286,INDEX(Results!D$5:D$15784,$C$4+$B286),\"---\")","v":"FC Augsburg"},{"$f":"IF($C286,INDEX(Results!E$5:E$15784,$C$4+$B286),\"---\")","v":"1.FC Köln"},{"$f":"IF($C286,INDEX(Results!F$5:F$15784,$C$4+$B286),0)","v":0},{"$f":"IF($C286,INDEX(Results!G$5:G$15784,$C$4+$B286),0)","v":0},1,1]
[null,281,{"$f":"B287<=Control!$C$17","v":true},{"$f":"IF($C287,INDEX(Results!C$5:C$15784,$C$4+$B287),0)","v":32},{"$f":"IF($C287,INDEX(Results!D$5:D$15784,$C$4+$B287),\"---\")","v":"FC Bayern München"},{"$f":"IF($C287,INDEX(Results!E$5:E$15784,$C$4+$B287),\"---\")","v":"Borussia M'gladbach"},{"$f":"IF($C287,INDEX(Results!F$5:F$15784,$C$4+$B287),0)","v":1},{"$f":"IF($C287,INDEX(Results!G$5:G$15784,$C$4+$B287),0)","v":1},1,1]
[null,282,{"$f":"B288<=Control!$C$17","v":true},{"$f":"IF($C288,INDEX(Results!C$5:C$15784,$C$4+$B288),0)","v":32},{"$f":"IF($C288,INDEX(Results!D$5:D$15784,$C$4+$B288),\"---\")","v":"Darmstadt 98"},{"$f":"IF($C288,INDEX(Results!E$5:E$15784,$C$4+$B288),\"---\")","v":"Eintracht Frankfurt"},{"$f":"IF($C288,INDEX(Results!F$5:F$15784,$C$4+$B288),0)","v":1},{"$f":"IF($C288,INDEX(Results!G$5:G$15784,$C$4+$B288),0)","v":2},0,3]
[null,283,{"$f":"B289<=Control!$C$17","v":true},{"$f":"IF($C289,INDEX(Results!C$5:C$15784,$C$4+$B289),0)","v":32},{"$f":"IF($C289,INDEX(Results!D$5:D$15784,$C$4+$B289),\"---\")","v":"Borussia Dortmund"},{"$f":"IF($C289,INDEX(Results!E$5:E$15784,$C$4+$B289),\"---\")","v":"VfL Wolfsburg"},{"$f":"IF($C289,INDEX(Results!F$5:F$15784,$C$4+$B289),0)","v":5},{"$f":"IF($C289,INDEX(Results!G$5:G$15784,$C$4+$B289),0)","v":1},3,0]
[null,284,{"$f":"B290<=Control!$C$17","v":true},{"$f":"IF($C290,INDEX(Results!C$5:C$15784,$C$4+$B290),0)","v":32},{"$f":"IF($C290,INDEX(Results!D$5:D$15784,$C$4+$B290),\"---\")","v":"Hannover 96"},{"$f":"IF($C290,INDEX(Results!E$5:E$15784,$C$4+$B290),\"---\")","v":"FC Schalke 04"},{"$f":"IF($C290,INDEX(Results!F$5:F$15784,$C$4+$B290),0)","v":1},{"$f":"IF($C290,INDEX(Results!G$5:G$15784,$C$4+$B290),0)","v":3},0,3]
[null,285,{"$f":"B291<=Control!$C$17","v":true},{"$f":"IF($C291,INDEX(Results!C$5:C$15784,$C$4+$B291),0)","v":32},{"$f":"IF($C291,INDEX(Results!D$5:D$15784,$C$4+$B291),\"---\")","v":"TSG 1899 Hoffenheim"},{"$f":"IF($C291,INDEX(Results!E$5:E$15784,$C$4+$B291),\"---\")","v":"FC Ingolstadt"},{"$f":"IF($C291,INDEX(Results!F$5:F$15784,$C$4+$B291),0)","v":2},{"$f":"IF($C291,INDEX(Results!G$5:G$15784,$C$4+$B291),0)","v":1},3,0]
[null,286,{"$f":"B292<=Control!$C$17","v":true},{"$f":"IF($C292,INDEX(Results!C$5:C$15784,$C$4+$B292),0)","v":32},{"$f":"IF($C292,INDEX(Results!D$5:D$15784,$C$4+$B292),\"---\")","v":"Bayer Leverkusen"},{"$f":"IF($C292,INDEX(Results!E$5:E$15784,$C$4+$B292),\"---\")","v":"Hertha BSC Berlin"},{"$f":"IF($C292,INDEX(Results!F$5:F$15784,$C$4+$B292),0)","v":2},{"$f":"IF($C292,INDEX(Results!G$5:G$15784,$C$4+$B292),0)","v":1},3,0]
[null,287,{"$f":"B293<=Control!$C$17","v":true},{"$f":"IF($C293,INDEX(Results!C$5:C$15784,$C$4+$B293),0)","v":32},{"$f":"IF($C293,INDEX(Results!D$5:D$15784,$C$4+$B293),\"---\")","v":"FSV Mainz 05"},{"$f":"IF($C293,INDEX(Results!E$5:E$15784,$C$4+$B293),\"---\")","v":"Hamburger SV"},{"$f":"IF($C293,INDEX(Results!F$5:F$15784,$C$4+$B293),0)","v":0},{"$f":"IF($C293,INDEX(Results!G$5:G$15784,$C$4+$B293),0)","v":0},1,1]
[null,288,{"$f":"B294<=Control!$C$17","v":true},{"$f":"IF($C294,INDEX(Results!C$5:C$15784,$C$4+$B294),0)","v":32},{"$f":"IF($C294,INDEX(Results!D$5:D$15784,$C$4+$B294),\"---\")","v":"Werder Bremen"},{"$f":"IF($C294,INDEX(Results!E$5:E$15784,$C$4+$B294),\"---\")","v":"VfB Stuttgart"},{"$f":"IF($C294,INDEX(Results!F$5:F$15784,$C$4+$B294),0)","v":6},{"$f":"IF($C294,INDEX(Results!G$5:G$15784,$C$4+$B294),0)","v":2},3,0]
[null,289,{"$f":"B295<=Control!$C$17","v":true},{"$f":"IF($C295,INDEX(Results!C$5:C$15784,$C$4+$B295),0)","v":33},{"$f":"IF($C295,INDEX(Results!D$5:D$15784,$C$4+$B295),\"---\")","v":"Eintracht Frankfurt"},{"$f":"IF($C295,INDEX(Results!E$5:E$15784,$C$4+$B295),\"---\")","v":"Borussia Dortmund"},{"$f":"IF($C295,INDEX(Results!F$5:F$15784,$C$4+$B295),0)","v":1},{"$f":"IF($C295,INDEX(Results!G$5:G$15784,$C$4+$B295),0)","v":0},3,0]
[null,290,{"$f":"B296<=Control!$C$17","v":true},{"$f":"IF($C296,INDEX(Results!C$5:C$15784,$C$4+$B296),0)","v":33},{"$f":"IF($C296,INDEX(Results!D$5:D$15784,$C$4+$B296),\"---\")","v":"1.FC Köln"},{"$f":"IF($C296,INDEX(Results!E$5:E$15784,$C$4+$B296),\"---\")","v":"Werder Bremen"},{"$f":"IF($C296,INDEX(Results!F$5:F$15784,$C$4+$B296),0)","v":0},{"$f":"IF($C296,INDEX(Results!G$5:G$15784,$C$4+$B296),0)","v":0},1,1]
[null,291,{"$f":"B297<=Control!$C$17","v":true},{"$f":"IF($C297,INDEX(Results!C$5:C$15784,$C$4+$B297),0)","v":33},{"$f":"IF($C297,INDEX(Results!D$5:D$15784,$C$4+$B297),\"---\")","v":"Hamburger SV"},{"$f":"IF($C297,INDEX(Results!E$5:E$15784,$C$4+$B297),\"---\")","v":"VfL Wolfsburg"},{"$f":"IF($C297,INDEX(Results!F$5:F$15784,$C$4+$B297),0)","v":0},{"$f":"IF($C297,INDEX(Results!G$5:G$15784,$C$4+$B297),0)","v":1},0,3]
[null,292,{"$f":"B298<=Control!$C$17","v":true},{"$f":"IF($C298,INDEX(Results!C$5:C$15784,$C$4+$B298),0)","v":33},{"$f":"IF($C298,INDEX(Results!D$5:D$15784,$C$4+$B298),\"---\")","v":"Hannover 96"},{"$f":"IF($C298,INDEX(Results!E$5:E$15784,$C$4+$B298),\"---\")","v":"TSG 1899 Hoffenheim"},{"$f":"IF($C298,INDEX(Results!F$5:F$15784,$C$4+$B298),0)","v":1},{"$f":"IF($C298,INDEX(Results!G$5:G$15784,$C$4+$B298),0)","v":0},3,0]
[null,293,{"$f":"B299<=Control!$C$17","v":true},{"$f":"IF($C299,INDEX(Results!C$5:C$15784,$C$4+$B299),0)","v":33},{"$f":"IF($C299,INDEX(Results!D$5:D$15784,$C$4+$B299),\"---\")","v":"Hertha BSC Berlin"},{"$f":"IF($C299,INDEX(Results!E$5:E$15784,$C$4+$B299),\"---\")","v":"Darmstadt 98"},{"$f":"IF($C299,INDEX(Results!F$5:F$15784,$C$4+$B299),0)","v":1},{"$f":"IF($C299,INDEX(Results!G$5:G$15784,$C$4+$B299),0)","v":2},0,3]
[null,294,{"$f":"B300<=Control!$C$17","v":true},{"$f":"IF($C300,INDEX(Results!C$5:C$15784,$C$4+$B300),0)","v":33},{"$f":"IF($C300,INDEX(Results!D$5:D$15784,$C$4+$B300),\"---\")","v":"FC Ingolstadt"},{"$f":"IF($C300,INDEX(Results!E$5:E$15784,$C$4+$B300),\"---\")","v":"FC Bayern München"},{"$f":"IF($C300,INDEX(Results!F$5:F$15784,$C$4+$B300),0)","v":1},{"$f":"IF($C300,INDEX(Results!G$5:G$15784,$C$4+$B300),0)","v":2},0,3]
[null,295,{"$f":"B301<=Control!$C$17","v":true},{"$f":"IF($C301,INDEX(Results!C$5:C$15784,$C$4+$B301),0)","v":33},{"$f":"IF($C301,INDEX(Results!D$5:D$15784,$C$4+$B301),\"---\")","v":"Borussia M'gladbach"},{"$f":"IF($C301,INDEX(Results!E$5:E$15784,$C$4+$B301),\"---\")","v":"Bayer Leverkusen"},{"$f":"IF($C301,INDEX(Results!F$5:F$15784,$C$4+$B301),0)","v":2},{"$f":"IF($C301,INDEX(Results!G$5:G$15784,$C$4+$B301),0)","v":1},3,0]
[null,296,{"$f":"B302<=Control!$C$17","v":true},{"$f":"IF($C302,INDEX(Results!C$5:C$15784,$C$4+$B302),0)","v":33},{"$f":"IF($C302,INDEX(Results!D$5:D$15784,$C$4+$B302),\"---\")","v":"FC Schalke 04"},{"$f":"IF($C302,INDEX(Results!E$5:E$15784,$C$4+$B302),\"---\")","v":"FC Augsburg"},{"$f":"IF($C302,INDEX(Results!F$5:F$15784,$C$4+$B302),0)","v":1},{"$f":"IF($C302,INDEX(Results!G$5:G$15784,$C$4+$B302),0)","v":1},1,1]
[null,297,{"$f":"B303<=Control!$C$17","v":true},{"$f":"IF($C303,INDEX(Results!C$5:C$15784,$C$4+$B303),0)","v":33},{"$f":"IF($C303,INDEX(Results!D$5:D$15784,$C$4+$B303),\"---\")","v":"VfB Stuttgart"},{"$f":"IF($C303,INDEX(Results!E$5:E$15784,$C$4+$B303),\"---\")","v":"FSV Mainz 05"},{"$f":"IF($C303,INDEX(Results!F$5:F$15784,$C$4+$B303),0)","v":1},{"$f":"IF($C303,INDEX(Results!G$5:G$15784,$C$4+$B303),0)","v":3},0,3]
[null,298,{"$f":"B304<=Control!$C$17","v":true},{"$f":"IF($C304,INDEX(Results!C$5:C$15784,$C$4+$B304),0)","v":34},{"$f":"IF($C304,INDEX(Results!D$5:D$15784,$C$4+$B304),\"---\")","v":"FC Augsburg"},{"$f":"IF($C304,INDEX(Results!E$5:E$15784,$C$4+$B304),\"---\")","v":"Hamburger SV"},{"$f":"IF($C304,INDEX(Results!F$5:F$15784,$C$4+$B304),0)","v":1},{"$f":"IF($C304,INDEX(Results!G$5:G$15784,$C$4+$B304),0)","v":3},0,3]
[null,299,{"$f":"B305<=Control!$C$17","v":true},{"$f":"IF($C305,INDEX(Results!C$5:C$15784,$C$4+$B305),0)","v":34},{"$f":"IF($C305,INDEX(Results!D$5:D$15784,$C$4+$B305),\"---\")","v":"FC Bayern München"},{"$f":"IF($C305,INDEX(Results!E$5:E$15784,$C$4+$B305),\"---\")","v":"Hannover 96"},{"$f":"IF($C305,INDEX(Results!F$5:F$15784,$C$4+$B305),0)","v":3},{"$f":"IF($C305,INDEX(Results!G$5:G$15784,$C$4+$B305),0)","v":1},3,0]
[null,300,{"$f":"B306<=Control!$C$17","v":true},{"$f":"IF($C306,INDEX(Results!C$5:C$15784,$C$4+$B306),0)","v":34},{"$f":"IF($C306,INDEX(Results!D$5:D$15784,$C$4+$B306),\"---\")","v":"Darmstadt 98"},{"$f":"IF($C306,INDEX(Results!E$5:E$15784,$C$4+$B306),\"---\")","v":"Borussia M'gladbach"},{"$f":"IF($C306,INDEX(Results!F$5:F$15784,$C$4+$B306),0)","v":0},{"$f":"IF($C306,INDEX(Results!G$5:G$15784,$C$4+$B306),0)","v":2},0,3]
[null,301,{"$f":"B307<=Control!$C$17","v":true},{"$f":"IF($C307,INDEX(Results!C$5:C$15784,$C$4+$B307),0)","v":34},{"$f":"IF($C307,INDEX(Results!D$5:D$15784,$C$4+$B307),\"---\")","v":"Borussia Dortmund"},{"$f":"IF($C307,INDEX(Results!E$5:E$15784,$C$4+$B307),\"---\")","v":"1.FC Köln"},{"$f":"IF($C307,INDEX(Results!F$5:F$15784,$C$4+$B307),0)","v":2},{"$f":"IF($C307,INDEX(Results!G$5:G$15784,$C$4+$B307),0)","v":2},1,1]
[null,302,{"$f":"B308<=Control!$C$17","v":true},{"$f":"IF($C308,INDEX(Results!C$5:C$15784,$C$4+$B308),0)","v":34},{"$f":"IF($C308,INDEX(Results!D$5:D$15784,$C$4+$B308),\"---\")","v":"TSG 1899 Hoffenheim"},{"$f":"IF($C308,INDEX(Results!E$5:E$15784,$C$4+$B308),\"---\")","v":"FC Schalke 04"},{"$f":"IF($C308,INDEX(Results!F$5:F$15784,$C$4+$B308),0)","v":1},{"$f":"IF($C308,INDEX(Results!G$5:G$15784,$C$4+$B308),0)","v":4},0,3]
[null,303,{"$f":"B309<=Control!$C$17","v":true},{"$f":"IF($C309,INDEX(Results!C$5:C$15784,$C$4+$B309),0)","v":34},{"$f":"IF($C309,INDEX(Results!D$5:D$15784,$C$4+$B309),\"---\")","v":"Bayer Leverkusen"},{"$f":"IF($C309,INDEX(Results!E$5:E$15784,$C$4+$B309),\"---\")","v":"FC Ingolstadt"},{"$f":"IF($C309,INDEX(Results!F$5:F$15784,$C$4+$B309),0)","v":3},{"$f":"IF($C309,INDEX(Results!G$5:G$15784,$C$4+$B309),0)","v":2},3,0]
[null,304,{"$f":"B310<=Control!$C$17","v":true},{"$f":"IF($C310,INDEX(Results!C$5:C$15784,$C$4+$B310),0)","v":34},{"$f":"IF($C310,INDEX(Results!D$5:D$15784,$C$4+$B310),\"---\")","v":"FSV Mainz 05"},{"$f":"IF($C310,INDEX(Results!E$5:E$15784,$C$4+$B310),\"---\")","v":"Hertha BSC Berlin"},{"$f":"IF($C310,INDEX(Results!F$5:F$15784,$C$4+$B310),0)","v":0},{"$f":"IF($C310,INDEX(Results!G$5:G$15784,$C$4+$B310),0)","v":0},1,1]
[null,305,{"$f":"B311<=Control!$C$17","v":true},{"$f":"IF($C311,INDEX(Results!C$5:C$15784,$C$4+$B311),0)","v":34},{"$f":"IF($C311,INDEX(Results!D$5:D$15784,$C$4+$B311),\"---\")","v":"Werder Bremen"},{"$f":"IF($C311,INDEX(Results!E$5:E$15784,$C$4+$B311),\"---\")","v":"Eintracht Frankfurt"},{"$f":"IF($C311,INDEX(Results!F$5:F$15784,$C$4+$B311),0)","v":1},{"$f":"IF($C311,INDEX(Results!G$5:G$15784,$C$4+$B311),0)","v":0},3,0]
[null,306,{"$f":"B312<=Control!$C$17","v":true},{"$f":"IF($C312,INDEX(Results!C$5:C$15784,$C$4+$B312),0)","v":34},{"$f":"IF($C312,INDEX(Results!D$5:D$15784,$C$4+$B312),\"---\")","v":"VfL Wolfsburg"},{"$f":"IF($C312,INDEX(Results!E$5:E$15784,$C$4+$B312),\"---\")","v":"VfB Stuttgart"},{"$f":"IF($C312,INDEX(Results!F$5:F$15784,$C$4+$B312),0)","v":3},{"$f":"IF($C312,INDEX(Results!G$5:G$15784,$C$4+$B312),0)","v":1},3,0]

{"sheet":"Calculation Positions","index":4,"n_rows":22,"n_cols":38,"rows_kept":22,"cut":false,"hidden":false,"merged":[]}
[]
[null,"Calculations III: development of team positions in table (generated by VBA)"]
[]
[null,"#","Season","Team",1,2,3,4,5,6,7,8,9,10,11,12,13,14,15,16,17,18,19,20,21,22,23,24,25,26,27,28,29,30,31,32,33,34]
[null,1,{"$f":"Control!$D$5","v":"2015/2016"},{"$f":"'Calculation Table'!H8","v":"FC Bayern München"},1,2,2,2,2,1,1,1,1,1,1,1,1,1,1,1,1,1,1,1,1,1,1,1,1,1,1,1,1,1,1,1,1,1]
[null,2,{"$f":"Control!$D$5","v":"2015/2016"},{"$f":"'Calculation Table'!H9","v":"FC Augsburg"},14,14,15,14,14,14,16,16,18,18,18,18,17,16,16,13,12,13,12,14,14,13,13,13,14,13,15,16,15,14,12,12,11,12]
[null,3,{"$f":"Control!$D$5","v":"2015/2016"},{"$f":"'Calculation Table'!H10","v":"Darmstadt 98"},10,11,12,11,12,10,9,10,9,11,13,13,13,12,12,12,13,12,14,11,13,14,14,14,15,14,13,13,13,11,13,14,13,14]
[null,4,{"$f":"Control!$D$5","v":"2015/2016"},{"$f":"'Calculation Table'!H11","v":"Borussia Dortmund"},2,1,1,1,1,2,2,2,2,2,2,2,2,2,2,2,2,2,2,2,2,2,2,2,2,2,2,2,2,2,2,2,2,2]
[null,5,{"$f":"Control!$D$5","v":"2015/2016"},{"$f":"'Calculation Table'!H12","v":"Bayer Leverkusen"},6,3,6,13,13,11,5,7,7,6,7,8,6,6,8,6,5,5,4,5,3,4,6,7,8,7,6,5,4,3,3,3,3,3]
[null,6,{"$f":"Control!$D$5","v":"2015/2016"},{"$f":"'Calculation Table'!H13","v":"FSV Mainz 05"},13,8,5,10,7,9,12,8,11,13,12,9,11,9,7,7,8,8,8,7,6,7,5,5,5,6,7,6,6,6,6,7,5,6]
[null,7,{"$f":"Control!$D$5","v":"2015/2016"},{"$f":"'Calculation Table'!H14","v":"Werder Bremen"},16,15,11,6,9,13,13,14,16,14,16,14,14,15,15,14,16,16,16,16,16,16,16,15,13,15,14,15,16,16,16,15,16,13]
[null,8,{"$f":"Control!$D$5","v":"2015/2016"},{"$f":"'Calculation Table'!H15","v":"VfB Stuttgart"},15,17,17,17,17,15,17,18,15,16,15,16,16,17,17,18,15,15,15,12,10,11,12,12,11,11,11,12,12,15,15,17,17,17]
[null,9,{"$f":"Control!$D$5","v":"2015/2016"},{"$f":"'Calculation Table'!H16","v":"VfL Wolfsburg"},5,6,3,3,3,4,4,9,4,4,3,3,3,3,5,4,7,7,7,8,8,8,8,8,7,8,8,8,8,8,10,10,8,8]
[null,10,{"$f":"Control!$D$5","v":"2015/2016"},{"$f":"'Calculation Table'!H17","v":"Hertha BSC Berlin"},8,7,10,7,11,5,6,4,5,5,6,4,4,5,4,3,3,3,3,3,4,3,3,3,3,3,3,3,3,4,4,5,6,7]
[null,11,{"$f":"Control!$D$5","v":"2015/2016"},{"$f":"'Calculation Table'!H18","v":"Eintracht Frankfurt"},12,13,8,4,8,12,11,12,13,12,11,12,12,13,13,15,14,14,13,15,15,15,15,16,16,16,17,17,17,17,17,16,15,16]
[null,12,{"$f":"Control!$D$5","v":"2015/2016"},{"$f":"'Calculation Table'!H19","v":"1.FC Köln"},4,5,4,8,5,7,7,5,6,9,9,7,9,10,10,10,9,9,9,9,9,9,10,10,12,9,9,11,11,10,8,8,9,9]
[null,13,{"$f":"Control!$D$5","v":"2015/2016"},{"$f":"'Calculation Table'!H20","v":"Hamburger SV"},18,10,13,12,10,6,10,11,12,10,10,11,10,7,9,9,10,11,11,13,11,12,11,11,10,12,12,10,10,12,11,11,12,10]
[null,14,{"$f":"Control!$D$5","v":"2015/2016"},{"$f":"'Calculation Table'!H21","v":"Hannover 96"},9,12,16,16,16,18,18,17,14,15,14,15,15,14,14,16,17,18,18,18,18,18,18,18,18,18,18,18,18,18,18,18,18,18]
[null,15,{"$f":"Control!$D$5","v":"2015/2016"},{"$f":"'Calculation Table'!H22","v":"TSG 1899 Hoffenheim"},11,16,14,15,15,17,15,15,17,17,17,17,18,18,18,17,18,17,17,17,17,17,17,17,17,17,16,14,14,13,14,13,14,15]
[null,16,{"$f":"Control!$D$5","v":"2015/2016"},{"$f":"'Calculation Table'!H23","v":"FC Schalke 04"},3,4,9,5,4,3,3,3,3,3,4,5,7,8,6,8,6,6,5,4,5,6,7,6,4,5,4,7,7,7,7,6,7,5]
[null,17,{"$f":"Control!$D$5","v":"2015/2016"},{"$f":"'Calculation Table'!H24","v":"FC Ingolstadt"},7,9,7,9,6,8,8,6,8,8,8,10,8,11,11,11,11,10,10,10,12,10,9,9,9,10,10,9,9,9,9,9,10,11]
[null,18,{"$f":"Control!$D$5","v":"2015/2016"},{"$f":"'Calculation Table'!H25","v":"Borussia M'gladbach"},17,18,18,18,18,16,14,13,10,7,5,6,5,4,3,5,4,4,6,6,7,5,4,4,6,4,5,4,5,5,5,4,4,4]

{"sheet":"Control","index":5,"n_rows":72,"n_cols":4,"rows_kept":72,"cut":false,"hidden":false,"merged":[]}
[]
[null,"Control"]
[]
[null,"Selected Matchday",34]
[null,"Season",52,{"$f":"INDEX($B$21:$B$72,C5,1)","v":"2015/2016"}]
[null,"Sort by",7]
[]
[null,"Point Rule",1]
[null,"Actual Point Rule"]
[null,"2 Points for a Win"]
[null,"3 Points for a Win"]
[]
[]
[null,"Points for Win",{"$f":"CHOOSE(C8,INDEX($C$21:$C$72,mySeason),2,3)","v":3}]
[null,"Teams",{"$f":"INDEX($D$21:$D$72,mySeason)","v":18}]
[null,"Matchdays",{"$f":"2*(C15-1)","v":34}]
[null,"Matches",{"$f":"C15*(C15-1)","v":306}]
[null,"Matches per day",{"$f":"C15/2","v":9}]
[]
[null,"Seasons","Points for Win","Teams"]
[null,"1963/1964",2,16]
[null,"1964/1965",2,16]
[null,"1965/1966",2,18]
[null,"1966/1967",2,18]
[null,"1967/1968",2,18]
[null,"1968/1969",2,18]
[null,"1969/1970",2,18]
[null,"1970/1971",2,18]
[null,"1971/1972",2,18]
[null,"1972/1973",2,18]
[null,"1973/1974",2,18]
[null,"1974/1975",2,18]
[null,"1975/1976",2,18]
[null,"1976/1977",2,18]
[null,"1977/1978",2,18]
[null,"1978/1979",2,18]
[null,"1979/1980",2,18]
[null,"1980/1981",2,18]
[null,"1981/1982",2,18]
[null,"1982/1983",2,18]
[null,"1983/1984",2,18]
[null,"1984/1985",2,18]
[null,"1985/1986",2,18]
[null,"1986/1987",2,18]
[null,"1987/1988",2,18]
[null,"1988/1989",2,18]
[null,"1989/1990",2,18]
[null,"1990/1991",2,18]
[null,"1992/1993",2,18]
[null,"1993/1994",2,18]
[null,"1994/1995",2,18]
[null,"1995/1996",3,18]
[null,"1996/1997",3,18]
[null,"1997/1998",3,18]
[null,"1998/1999",3,18]
[null,"1999/2000",3,18]
[null,"2000/2001",3,18]
[null,"2001/2002",3,18]
[null,"2002/2003",3,18]
[null,"2003/2004",3,18]
[null,"2004/2005",3,18]
[null,"2005/2006",3,18]
[null,"2006/2007",3,18]
[null,"2007/2008",3,18]
[null,"2008/2009",3,18]
[null,"2009/2010",3,18]
[null,"2010/2011",3,18]
[null,"2011/2012",3,18]
[null,"2012/2013",3,18]
[null,"2013/2014",3,18]
[null,"2014/2015",3,18]
[null,"2015/2016",3,18]