{"text_format":"1","workbook":"xlsx","n_sheets":3,"sheets":["germany_zip_code_2","data","control"],"not_rendered":{"charts":0,"images":0,"macros":1,"external_links":0,"defined_names":8,"comments":0,"pivot_tables":0},"unopened":[],"bounds":{"document_bytes":16777216,"sheet_cells":100000,"rows_first":2000,"rows_last":500,"rows_between":2000,"halvings":0,"cell_chars":16384,"cell_head_chars":4096},"cells_cut":0,"cells_raw":0,"read":"whole","date_system":"1900"}

{"sheet":"germany_zip_code_2","index":0,"n_rows":21,"n_cols":10,"rows_kept":21,"cut":false,"hidden":false,"merged":[]}
[]
[null,"Choropleth Map - Germany by ZIP Codes (\"PLZ 2\")",null,null,null,null,null,null,null,"www.cs-analytics.de"]
[]
[null,null,"Value",null,null,null,"Colors"]
[]
[]
[]
[]
[]
[]
[]
[null,null,{"$f":"control!D14","v":"0%  to 2%"}]
[null,null,{"$f":"control!D15","v":"2% to 4%"}]
[null,null,{"$f":"control!D16","v":"4% to 6%"}]
[null,null,{"$f":"control!D17","v":"6% to 8%"}]
[null,null,{"$f":"control!D18","v":"8% to 10%"}]
[null,null,{"$f":"control!D19","v":"10% to 12%"}]
[null,null,{"$f":"control!D20","v":"12% to 14%"}]
[null,null,{"$f":"control!D21","v":"14% to 16%"}]
[null,null,{"$f":"control!D22","v":"16% to 18%"}]
[null,null,{"$f":"control!D23","v":"18% or more"}]

{"sheet":"data","index":1,"n_rows":100,"n_cols":10,"rows_kept":100,"cut":false,"hidden":false,"merged":[]}
[]
[null,"Data",null,null,null,null,null,"Selection / Shape Definition"]
[]
[null,"The source data",null,null,null,null,null,"Calculation of selected data, shape name definition and shape index"]
[null,"No.","ZIP Code 2","Value 1","Value 2","Value 3",null,"Selection","Shape Names","Shape Index"]
[null,1,"01",9.1300000000000006E-2,0.13869999999999999,7.51E-2,null,{"$f":"INDEX($D6:$F6,1,control!$C$8)","v":9.1300000000000006E-2},"S_01",1]
[null,{"$f":"B6+1","v":2},"02",0.17610000000000001,9.0300000000000005E-2,2.1899999999999999E-2,null,{"$f":"INDEX($D7:$F7,1,control!$C$8)","v":0.17610000000000001},"S_02",2]
[null,{"$f":"B7+1","v":3},"03",0.1077,0.17199999999999999,0.16489999999999999,null,{"$f":"INDEX($D8:$F8,1,control!$C$8)","v":0.1077},"S_03",3]
[null,4,"04",8.4900000000000003E-2,0.1361,6.6199999999999995E-2,null,{"$f":"INDEX($D9:$F9,1,control!$C$8)","v":8.4900000000000003E-2},"S_04",4]
[null,5,"06",0.10150000000000001,0.20799999999999999,7.7899999999999997E-2,null,{"$f":"INDEX($D10:$F10,1,control!$C$8)","v":0.10150000000000001},"S_06",5]
[null,6,"07",8.8300000000000003E-2,0.18779999999999999,7.0900000000000005E-2,null,{"$f":"INDEX($D11:$F11,1,control!$C$8)","v":8.8300000000000003E-2},"S_07",6]
[null,7,"08",0.18060000000000001,0.1623,3.2199999999999999E-2,null,{"$f":"INDEX($D12:$F12,1,control!$C$8)","v":0.18060000000000001},"S_08",7]
[null,8,"09",3.04E-2,9.4500000000000001E-2,4.9799999999999997E-2,null,{"$f":"INDEX($D13:$F13,1,control!$C$8)","v":3.04E-2},"S_09",8]
[null,9,"10",0.1449,4.6399999999999997E-2,0.10630000000000001,null,{"$f":"INDEX($D14:$F14,1,control!$C$8)","v":0.1449},"S_10",9]
[null,10,"12",5.7000000000000002E-2,0.1331,2.7199999999999998E-2,null,{"$f":"INDEX($D15:$F15,1,control!$C$8)","v":5.7000000000000002E-2},"S_12",10]
[null,11,"13",5.0500000000000003E-2,0.20169999999999999,0.104,null,{"$f":"INDEX($D16:$F16,1,control!$C$8)","v":5.0500000000000003E-2},"S_13",11]
[null,12,"14",6.0900000000000003E-2,0.20710000000000001,0.1711,null,{"$f":"INDEX($D17:$F17,1,control!$C$8)","v":6.0900000000000003E-2},"S_14",12]
[null,13,"15",7.3099999999999998E-2,6.4100000000000004E-2,7.0699999999999999E-2,null,{"$f":"INDEX($D18:$F18,1,control!$C$8)","v":7.3099999999999998E-2},"S_15",13]
[null,14,"16",9.4E-2,5.7700000000000001E-2,8.8900000000000007E-2,null,{"$f":"INDEX($D19:$F19,1,control!$C$8)","v":9.4E-2},"S_16",14]
[null,15,"17",0.1227,2.1299999999999999E-2,0.10290000000000001,null,{"$f":"INDEX($D20:$F20,1,control!$C$8)","v":0.1227},"S_17",15]
[null,16,"18",0.19889999999999999,0.10349999999999999,0.15179999999999999,null,{"$f":"INDEX($D21:$F21,1,control!$C$8)","v":0.19889999999999999},"S_18",16]
[null,17,"19",2.9899999999999999E-2,0.15129999999999999,0.13750000000000001,null,{"$f":"INDEX($D22:$F22,1,control!$C$8)","v":2.9899999999999999E-2},"S_19",17]
[null,18,"20",0.1211,0.10249999999999999,0.1062,null,{"$f":"INDEX($D23:$F23,1,control!$C$8)","v":0.1211},"S_20",18]
[null,19,"21",0.18049999999999999,0.17660000000000001,0.17199999999999999,null,{"$f":"INDEX($D24:$F24,1,control!$C$8)","v":0.18049999999999999},"S_21",19]
[null,20,"22",6.1600000000000002E-2,0.1865,2.41E-2,null,{"$f":"INDEX($D25:$F25,1,control!$C$8)","v":6.1600000000000002E-2},"S_22",20]
[null,21,"23",2.07E-2,0.2036,0.15809999999999999,null,{"$f":"INDEX($D26:$F26,1,control!$C$8)","v":2.07E-2},"S_23",21]
[null,22,"24",0.1225,0.1017,0.15609999999999999,null,{"$f":"INDEX($D27:$F27,1,control!$C$8)","v":0.1225},"S_24",22]
[null,23,"25",3.0599999999999999E-2,0.18609999999999999,0.16869999999999999,null,{"$f":"INDEX($D28:$F28,1,control!$C$8)","v":3.0599999999999999E-2},"S_25",23]
[null,24,"26",0.17610000000000001,8.6699999999999999E-2,0.14799999999999999,null,{"$f":"INDEX($D29:$F29,1,control!$C$8)","v":0.17610000000000001},"S_26",24]
[null,25,"27",0.19570000000000001,0.1188,8.0500000000000002E-2,null,{"$f":"INDEX($D30:$F30,1,control!$C$8)","v":0.19570000000000001},"S_27",25]
[null,26,"28",0.15090000000000001,3.2000000000000001E-2,0.1978,null,{"$f":"INDEX($D31:$F31,1,control!$C$8)","v":0.15090000000000001},"S_28",26]
[null,27,"29",0.1007,0.14749999999999999,0.15390000000000001,null,{"$f":"INDEX($D32:$F32,1,control!$C$8)","v":0.1007},"S_29",27]
[null,28,"30",0.1774,0.10730000000000001,0.16550000000000001,null,{"$f":"INDEX($D33:$F33,1,control!$C$8)","v":0.1774},"S_30",28]
[null,29,"31",0.13320000000000001,0.1376,0.1192,null,{"$f":"INDEX($D34:$F34,1,control!$C$8)","v":0.13320000000000001},"S_31",29]
[null,30,"32",3.5400000000000001E-2,9.1899999999999996E-2,0.11459999999999999,null,{"$f":"INDEX($D35:$F35,1,control!$C$8)","v":3.5400000000000001E-2},"S_32",30]
[null,31,"33",2.1899999999999999E-2,0.15440000000000001,0.11600000000000001,null,{"$f":"INDEX($D36:$F36,1,control!$C$8)","v":2.1899999999999999E-2},"S_33",31]
[null,32,"34",5.2999999999999999E-2,0.1792,9.8900000000000002E-2,null,{"$f":"INDEX($D37:$F37,1,control!$C$8)","v":5.2999999999999999E-2},"S_34",32]
[null,33,"35",0.111,0.1188,0.13469999999999999,null,{"$f":"INDEX($D38:$F38,1,control!$C$8)","v":0.111},"S_35",33]
[null,34,"36",0.20899999999999999,4.7600000000000003E-2,0.1411,null,{"$f":"INDEX($D39:$F39,1,control!$C$8)","v":0.20899999999999999},"S_36",34]
[null,35,"37",0.16950000000000001,6.0699999999999997E-2,0.1948,null,{"$f":"INDEX($D40:$F40,1,control!$C$8)","v":0.16950000000000001},"S_37",35]
[null,36,"38",0.185,0.2056,0.1394,null,{"$f":"INDEX($D41:$F41,1,control!$C$8)","v":0.185},"S_38",36]
[null,37,"39",4.4999999999999998E-2,9.6000000000000002E-2,0.11119999999999999,null,{"$f":"INDEX($D42:$F42,1,control!$C$8)","v":4.4999999999999998E-2},"S_39",37]
[null,38,"40",0.14080000000000001,0.1321,0.1138,null,{"$f":"INDEX($D43:$F43,1,control!$C$8)","v":0.14080000000000001},"S_40",38]
[null,39,"41",7.0800000000000002E-2,0.1142,0.16900000000000001,null,{"$f":"INDEX($D44:$F44,1,control!$C$8)","v":7.0800000000000002E-2},"S_41",39]
[null,40,"42",2.2200000000000001E-2,4.6100000000000002E-2,0.14879999999999999,null,{"$f":"INDEX($D45:$F45,1,control!$C$8)","v":2.2200000000000001E-2},"S_42",40]
[null,41,"44",0.1573,2.8899999999999999E-2,6.1800000000000001E-2,null,{"$f":"INDEX($D46:$F46,1,control!$C$8)","v":0.1573},"S_44",41]
[null,42,"45",0.12180000000000001,0.16669999999999999,0.13639999999999999,null,{"$f":"INDEX($D47:$F47,1,control!$C$8)","v":0.12180000000000001},"S_45",42]
[null,43,"46",8.3900000000000002E-2,4.3499999999999997E-2,0.15840000000000001,null,{"$f":"INDEX($D48:$F48,1,control!$C$8)","v":8.3900000000000002E-2},"S_46",43]
[null,44,"47",0.113,9.1200000000000003E-2,3.9699999999999999E-2,null,{"$f":"INDEX($D49:$F49,1,control!$C$8)","v":0.113},"S_47",44]
[null,45,"48",0.17460000000000001,0.115,5.1999999999999998E-2,null,{"$f":"INDEX($D50:$F50,1,control!$C$8)","v":0.17460000000000001},"S_48",45]
[null,46,"49",6.2899999999999998E-2,0.1004,9.7900000000000001E-2,null,{"$f":"INDEX($D51:$F51,1,control!$C$8)","v":6.2899999999999998E-2},"S_49",46]
[null,47,"50",5.3400000000000003E-2,0.1222,4.58E-2,null,{"$f":"INDEX($D52:$F52,1,control!$C$8)","v":5.3400000000000003E-2},"S_50",47]
[null,48,"51",0.12720000000000001,9.6799999999999997E-2,0.192,null,{"$f":"INDEX($D53:$F53,1,control!$C$8)","v":0.12720000000000001},"S_51",48]
[null,49,"52",3.0099999999999998E-2,0.15890000000000001,0.15659999999999999,null,{"$f":"INDEX($D54:$F54,1,control!$C$8)","v":3.0099999999999998E-2},"S_52",49]
[null,50,"53",3.04E-2,7.3200000000000001E-2,0.19259999999999999,null,{"$f":"INDEX($D55:$F55,1,control!$C$8)","v":3.04E-2},"S_53",50]
[null,51,"54",0.11310000000000001,8.6699999999999999E-2,2.1100000000000001E-2,null,{"$f":"INDEX($D56:$F56,1,control!$C$8)","v":0.11310000000000001},"S_54",51]
[null,52,"55",3.8600000000000002E-2,0.16800000000000001,0.19539999999999999,null,{"$f":"INDEX($D57:$F57,1,control!$C$8)","v":3.8600000000000002E-2},"S_55",52]
[null,53,"56",0.18479999999999999,0.14249999999999999,0.13950000000000001,null,{"$f":"INDEX($D58:$F58,1,control!$C$8)","v":0.18479999999999999},"S_56",53]
[null,54,"57",0.1152,7.8700000000000006E-2,0.1087,null,{"$f":"INDEX($D59:$F59,1,control!$C$8)","v":0.1152},"S_57",54]
[null,55,"58",2.2200000000000001E-2,4.9200000000000001E-2,9.3899999999999997E-2,null,{"$f":"INDEX($D60:$F60,1,control!$C$8)","v":2.2200000000000001E-2},"S_58",55]
[null,56,"59",6.93E-2,0.11119999999999999,9.9299999999999999E-2,null,{"$f":"INDEX($D61:$F61,1,control!$C$8)","v":6.93E-2},"S_59",56]
[null,57,"60",5.9900000000000002E-2,8.2400000000000001E-2,0.1565,null,{"$f":"INDEX($D62:$F62,1,control!$C$8)","v":5.9900000000000002E-2},"S_60",57]
[null,58,"61",0.1237,6.88E-2,7.4399999999999994E-2,null,{"$f":"INDEX($D63:$F63,1,control!$C$8)","v":0.1237},"S_61",58]
[null,59,"63",6.8099999999999994E-2,0.1384,0.11119999999999999,null,{"$f":"INDEX($D64:$F64,1,control!$C$8)","v":6.8099999999999994E-2},"S_63",59]
[null,60,"64",8.0500000000000002E-2,7.3999999999999996E-2,0.12970000000000001,null,{"$f":"INDEX($D65:$F65,1,control!$C$8)","v":8.0500000000000002E-2},"S_64",60]
[null,61,"65",6.2300000000000001E-2,4.0800000000000003E-2,0.14929999999999999,null,{"$f":"INDEX($D66:$F66,1,control!$C$8)","v":6.2300000000000001E-2},"S_65",61]
[null,62,"66",0.15010000000000001,0.1114,8.0299999999999996E-2,null,{"$f":"INDEX($D67:$F67,1,control!$C$8)","v":0.15010000000000001},"S_66",62]
[null,63,"67",7.0000000000000007E-2,0.1215,0.16470000000000001,null,{"$f":"INDEX($D68:$F68,1,control!$C$8)","v":7.0000000000000007E-2},"S_67",63]
[null,64,"68",6.2100000000000002E-2,3.1399999999999997E-2,6.3E-2,null,{"$f":"INDEX($D69:$F69,1,control!$C$8)","v":6.2100000000000002E-2},"S_68",64]
[null,65,"69",9.3700000000000006E-2,0.10059999999999999,9.3399999999999997E-2,null,{"$f":"INDEX($D70:$F70,1,control!$C$8)","v":9.3700000000000006E-2},"S_69",65]
[null,66,"70",9.5100000000000004E-2,0.1246,9.8299999999999998E-2,null,{"$f":"INDEX($D71:$F71,1,control!$C$8)","v":9.5100000000000004E-2},"S_70",66]
[null,67,"71",0.17480000000000001,6.6199999999999995E-2,8.1199999999999994E-2,null,{"$f":"INDEX($D72:$F72,1,control!$C$8)","v":0.17480000000000001},"S_71",67]
[null,68,"72",0.127,0.1396,2.87E-2,null,{"$f":"INDEX($D73:$F73,1,control!$C$8)","v":0.127},"S_72",68]
[null,69,"73",8.6400000000000005E-2,0.1065,6.6500000000000004E-2,null,{"$f":"INDEX($D74:$F74,1,control!$C$8)","v":8.6400000000000005E-2},"S_73",69]
[null,70,"74",6.2300000000000001E-2,9.0200000000000002E-2,0.18379999999999999,null,{"$f":"INDEX($D75:$F75,1,control!$C$8)","v":6.2300000000000001E-2},"S_74",70]
[null,71,"75",0.1036,0.16270000000000001,0.15620000000000001,null,{"$f":"INDEX($D76:$F76,1,control!$C$8)","v":0.1036},"S_75",71]
[null,72,"76",0.1389,4.7800000000000002E-2,0.1303,null,{"$f":"INDEX($D77:$F77,1,control!$C$8)","v":0.1389},"S_76",72]
[null,73,"77",0.1479,0.1517,0.1615,null,{"$f":"INDEX($D78:$F78,1,control!$C$8)","v":0.1479},"S_77",73]
[null,74,"78",7.2400000000000006E-2,0.14549999999999999,4.8599999999999997E-2,null,{"$f":"INDEX($D79:$F79,1,control!$C$8)","v":7.2400000000000006E-2},"S_78",74]
[null,75,"79",4.8000000000000001E-2,0.16950000000000001,0.17699999999999999,null,{"$f":"INDEX($D80:$F80,1,control!$C$8)","v":4.8000000000000001E-2},"S_79",75]
[null,76,"80",0.1295,6.2100000000000002E-2,0.16320000000000001,null,{"$f":"INDEX($D81:$F81,1,control!$C$8)","v":0.1295},"S_80",76]
[null,77,"81",0.11849999999999999,3.3599999999999998E-2,0.16350000000000001,null,{"$f":"INDEX($D82:$F82,1,control!$C$8)","v":0.11849999999999999},"S_81",77]
[null,78,"82",0.1111,0.12959999999999999,0.13739999999999999,null,{"$f":"INDEX($D83:$F83,1,control!$C$8)","v":0.1111},"S_82",78]
[null,79,"83",5.8000000000000003E-2,0.15,8.6499999999999994E-2,null,{"$f":"INDEX($D84:$F84,1,control!$C$8)","v":5.8000000000000003E-2},"S_83",79]
[null,80,"84",0.14080000000000001,0.1229,5.4399999999999997E-2,null,{"$f":"INDEX($D85:$F85,1,control!$C$8)","v":0.14080000000000001},"S_84",80]
[null,81,"85",2.8799999999999999E-2,0.17380000000000001,0.12230000000000001,null,{"$f":"INDEX($D86:$F86,1,control!$C$8)","v":2.8799999999999999E-2},"S_85",81]
[null,82,"86",0.13800000000000001,0.1807,0.1135,null,{"$f":"INDEX($D87:$F87,1,control!$C$8)","v":0.13800000000000001},"S_86",82]
[null,83,"87",0.13719999999999999,0.18010000000000001,0.12759999999999999,null,{"$f":"INDEX($D88:$F88,1,control!$C$8)","v":0.13719999999999999},"S_87",83]
[null,84,"88",0.1547,9.0300000000000005E-2,0.1018,null,{"$f":"INDEX($D89:$F89,1,control!$C$8)","v":0.1547},"S_88",84]
[null,85,"89",7.4300000000000005E-2,0.1174,0.18360000000000001,null,{"$f":"INDEX($D90:$F90,1,control!$C$8)","v":7.4300000000000005E-2},"S_89",85]
[null,86,"90",8.7999999999999995E-2,9.0999999999999998E-2,2.3599999999999999E-2,null,{"$f":"INDEX($D91:$F91,1,control!$C$8)","v":8.7999999999999995E-2},"S_90",86]
[null,87,"91",0.106,6.54E-2,3.7699999999999997E-2,null,{"$f":"INDEX($D92:$F92,1,control!$C$8)","v":0.106},"S_91",87]
[null,88,"92",2.1000000000000001E-2,0.12670000000000001,0.18840000000000001,null,{"$f":"INDEX($D93:$F93,1,control!$C$8)","v":2.1000000000000001E-2},"S_92",88]
[null,89,"93",4.87E-2,0.06,6.0400000000000002E-2,null,{"$f":"INDEX($D94:$F94,1,control!$C$8)","v":4.87E-2},"S_93",89]
[null,90,"94",0.1004,2.1499999999999998E-2,0.1527,null,{"$f":"INDEX($D95:$F95,1,control!$C$8)","v":0.1004},"S_94",90]
[null,91,"95",0.1104,0.1135,6.2E-2,null,{"$f":"INDEX($D96:$F96,1,control!$C$8)","v":0.1104},"S_95",91]
[null,92,"96",0.10340000000000001,0.13569999999999999,0.1789,null,{"$f":"INDEX($D97:$F97,1,control!$C$8)","v":0.10340000000000001},"S_96",92]
[null,93,"97",0.10199999999999999,4.1599999999999998E-2,4.9500000000000002E-2,null,{"$f":"INDEX($D98:$F98,1,control!$C$8)","v":0.10199999999999999},"S_97",93]
[null,94,"98",8.8499999999999995E-2,7.2400000000000006E-2,0.16120000000000001,null,{"$f":"INDEX($D99:$F99,1,control!$C$8)","v":8.8499999999999995E-2},"S_98",94]
[null,95,"99",0.18709999999999999,5.6000000000000001E-2,6.4000000000000001E-2,null,{"$f":"INDEX($D100:$F100,1,control!$C$8)","v":0.18709999999999999},"S_99",95]

{"sheet":"control","index":2,"n_rows":52,"n_cols":28,"rows_kept":52,"cut":false,"hidden":false,"merged":[[6,5,8,9],[4,5,4,9]]}
[]
[null,"Control"]
[]
[null,"Metrics",{"$f":"data!$D$5","v":"Value 1"}]
[null,null,{"$f":"data!$E$5","v":"Value 2"},null,null,"Select a color scale here"]
[null,null,{"$f":"data!$F$5","v":"Value 3"}]
[null,null,null,null,null,"Recreate the shape index after you inserted a new map or added new shapes"]
[null,"Selection",1]
[]
[]
[]
[null,null,null,null,null,1,{"$f":"F12+1","v":2},{"$f":"G12+1","v":3},4,5,6,7,8,9,10,11,12,13,14,15,16,17,18,19,20,21,22,{"$f":"AA12+1","v":23}]
[null,"Threshold","RGB","Legend",null,{"$f":"$C$26","v":"Green Yellow Red"},{"$f":"$C$27","v":"Green to Pink"},{"$f":"$C$28","v":"Green to Purple"},{"$f":"$C$29","v":"Green to Brown"},{"$f":"$C$30","v":"Blue to Red"},{"$f":"$C$31","v":"Blue to Red Brown"},{"$f":"$C$32","v":"Brown to Purple"},{"$f":"$C$33","v":"Brown Blue Green"},{"$f":"$C$34","v":"Purple to Green"},{"$f":"$C$35","v":"Pink to Green"},{"$f":"$C$36","v":"Red to Blue"},{"$f":"$C$37","v":"Red to Black"},{"$f":"$C$38","v":"Red Yellow Blue"},{"$f":"$C$39","v":"Spectral"},{"$f":"$C$40","v":"Red Yellow Green"},{"$f":"$C$41","v":"Light"},{"$f":"$C$42","v":"Pairwise"},{"$f":"$C$43","v":"Light to Dark Blue"},{"$f":"$C$44","v":"Light to Dark Red"},{"$f":"$C$45","v":"Light to Dark Brown"},{"$f":"$C$46","v":"Light to Dark Green"},{"$f":"$C$47","v":"Light to Dark Yellow"},{"$f":"$C$48","v":"Light Grey to Black"}]
[null,0.02,3631104,{"$f":"\"0%  to \"&TEXT(B14,\"0%\")","v":"0%  to 2%"}]
[null,0.04,5281818,{"$f":"TEXT(B14,\"0%\")&\" to \"&TEXT(B15,\"0%\")","v":"2% to 4%"}]
[null,0.06,6536550,{"$f":"TEXT(B15,\"0%\")&\" to \"&TEXT(B16,\"0%\")","v":"4% to 6%"}]
[null,0.08,7002534,"6% to 8%"]
[null,0.1,9170905,"8% to 10%"]
[null,0.12,9167102,"10% to 12%"]
[null,0.14000000000000001,6401789,"12% to 14%"]
[null,0.16,4419060,"14% to 16%"]
[null,0.18,2568407,"16% to 18%"]
[null,1,2490533,{"$f":"TEXT(B22,\"0%\")&\" or more\"","v":"18% or more"}]
[null,null,null,null,null,{"$f":"IF(F$12=myColorScaleSelection,\"▲\",\"\")","v":"▲"},"","","","","","","","","","","","","","","","","","","","","",""]
[null,null,null,null,null,{"$f":"IF(F$12=myColorScaleSelection,\"Current Selection\",\"\")","v":"Current Selection"},"","","","","","","","","","","","","","","","","","","","","",""]
[null,"Color Scales","Green Yellow Red"]
[null,null,"Green to Pink"]
[null,null,"Green to Purple"]
[null,null,"Green to Brown"]
[null,null,"Blue to Red"]
[null,null,"Blue to Red Brown"]
[null,null,"Brown to Purple"]
[null,null,"Brown Blue Green"]
[null,null,"Purple to Green"]
[null,null,"Pink to Green"]
[null,null,"Red to Blue"]
[null,null,"Red to Black"]
[null,null,"Red Yellow Blue"]
[null,null,"Spectral"]
[null,null,"Red Yellow Green"]
[null,null,"Light"]
[null,null,"Pairwise"]
[null,null,"Light to Dark Blue"]
[null,null,"Light to Dark Red"]
[null,null,"Light to Dark Brown"]
[null,null,"Light to Dark Green"]
[null,null,"Light to Dark Yellow"]
[null,null,"Light Grey to Black"]
[]
[null,"Selection",1]
[]
[null,"Show Status Bar",false]