{"text_format":"1","workbook":"xlsx","n_sheets":5,"sheets":["Dashboard","Data","Control","Calculations","Flags"],"not_rendered":{"charts":3,"images":196,"macros":1,"external_links":0,"defined_names":4,"comments":0,"pivot_tables":0},"unopened":[],"bounds":{"document_bytes":16777216,"sheet_cells":100000,"rows_first":2000,"rows_last":500,"rows_between":2000,"halvings":0,"cell_chars":16384,"cell_head_chars":4096},"cells_cut":0,"cells_raw":0,"read":"whole","date_system":"1900"}

{"sheet":"Dashboard","index":0,"n_rows":38,"n_cols":14,"rows_kept":38,"cut":false,"hidden":false,"merged":[[1,1,2,7],[5,10,7,13],[14,9,14,13],[24,9,24,13],[8,10,8,13],[6,1,6,8]]}
[]
[null,"Mouse Hovering Actions on Microsoft Excel Dashboards",null,null,null,null,null,null,null,null,"Select a country"]
[null,null,null,null,null,null,null,null,null,null,"Select a year",{"$f":"Control!C9","v":1970}]
[null,"www.cs-analytics.de",null,null,null,{"$f":"Data!H2","v":"data source: www.gapminder.org"}]
[]
[null,null,"All Countries",null,"Highlight region",null,"Trace the path",null,null,null,{"$f":"Control!C5","v":"Finland"}]
[null,"Hover over a data point to select a country"]
[]
[null,null,null,null,null,null,null,null,null,null,{"$f":"INDEX(tab_xy_scatter_data[Region],Control!$C$4)","v":"Europe"}]
[]
[null,null,null,null,null,null,null,null,null,null,null,{"$f":"\"Fertility Rate \"&Control!$C$9","v":"Fertility Rate 1970"},null,{"$f":"INDEX(tab_xy_scatter_data[Fertility Rate All],Control!$C$4)","v":1.83}]
[null,null,null,null,null,null,null,null,null,null,null,{"$f":"\"Life Expectancy \"&Control!$C$9","v":"Life Expectancy 1970"},null,{"$f":"INDEX(tab_xy_scatter_data[Life Expectancy All],Control!$C$4)","v":70.36}]
[null,null,null,null,null,null,null,null,null,null,null,{"$f":"\"Population \"&Control!$C$9","v":"Population 1970"},null,{"$f":"INDEX(tab_xy_scatter_data[Population],Control!$C$4)","v":4605998}]
[]
[null,null,null,null,null,null,null,null,null,"Fertility Rate over time"]
[]
[]
[]
[]
[]
[]
[]
[]
[]
[null,null,null,null,null,null,null,null,null,"Life Expectancy over time"]
[]
[]
[]
[]
[]
[]
[]
[]
[]
[null,null,{"$f":"Control!$C$5&\" in \"&Control!$C$9","v":"Finland in 1970"}]
[null,null,{"$f":"IF(AND(Control!$C$14,Control!$C$9>MIN(tab_data[Year])),\"Trail of \"&Control!$C$5&\" between \" &MIN(tab_data[Year]) & \" and \" & Control!$C$9-1,\"\")","v":"Trail of Finland between 1950 and 1969"},null,null,null,null,null,null,null,{"$f":"Control!$C$5","v":"Finland"}]
[null,null,{"$f":"IF(AND(Control!$C$14,Control!$C$9<MAX(tab_data[Year])),\"Trail of \"&Control!$C$5&\" between \" &Control!$C$9+1 & \" and \"&MAX(tab_data[Year]),\"\")","v":"Trail of Finland between 1971 and 2013"},null,null,null,null,null,null,null,"average",null,"weighted average"]
[null,null,{"$f":"IF(Control!$C$13,\"All countries in \"&Control!$C$6&\" in \"&Control!$C$9,\"\")","v":"All countries in Europe in 1970"},null,null,null,null,null,null,null,"Range of all countries (min to max)"]

{"sheet":"Data","index":1,"n_rows":12858,"n_cols":8,"rows_kept":4500,"cut":true,"hidden":false,"merged":[],"bounds":{"rows_first":2000,"rows_last":500,"rows_between":2000,"halvings":0}}
[]
[null,"Data","Fertility Rates and Life Expectancy",null,null,null,null,"data source: www.gapminder.org"]
[]
[null,"Country","Region","Year","ID (Country|Year)","Fertility","Life Expectancy","Population"]
[null,"Afghanistan","Asia + Pacific",1950,"Afghanistan|1950",7.6710000000000003,26.673999999999999,8151455]
[null,"Afghanistan","Asia + Pacific",1951,"Afghanistan|1951",7.6710000000000003,26.931999999999999,8276820]
[null,"Afghanistan","Asia + Pacific",1952,"Afghanistan|1952",7.6710000000000003,27.448,8407148]
[null,"Afghanistan","Asia + Pacific",1953,"Afghanistan|1953",7.6710000000000003,27.963999999999999,8542906]
[null,"Afghanistan","Asia + Pacific",1954,"Afghanistan|1954",7.6710000000000003,28.48,8684494]
[null,"Afghanistan","Asia + Pacific",1955,"Afghanistan|1955",7.6710000000000003,28.995000000000001,8832253]
[null,"Afghanistan","Asia + Pacific",1956,"Afghanistan|1956",7.6710000000000003,29.510999999999999,8986449]
[null,"Afghanistan","Asia + Pacific",1957,"Afghanistan|1957",7.6710000000000003,30.027000000000001,9147286]
[null,"Afghanistan","Asia + Pacific",1958,"Afghanistan|1958",7.6710000000000003,30.542999999999999,9314915]
[null,"Afghanistan","Asia + Pacific",1959,"Afghanistan|1959",7.6710000000000003,31.059000000000001,9489453]
[null,"Afghanistan","Asia + Pacific",1960,"Afghanistan|1960",7.6710000000000003,31.574999999999999,9671046]
[null,"Afghanistan","Asia + Pacific",1961,"Afghanistan|1961",7.6710000000000003,32.091000000000001,9859928]
[null,"Afghanistan","Asia + Pacific",1962,"Afghanistan|1962",7.6710000000000003,32.607999999999997,10056480]
[null,"Afghanistan","Asia + Pacific",1963,"Afghanistan|1963",7.6710000000000003,33.124000000000002,10261254]
[null,"Afghanistan","Asia + Pacific",1964,"Afghanistan|1964",7.6710000000000003,33.639000000000003,10474903]
[null,"Afghanistan","Asia + Pacific",1965,"Afghanistan|1965",7.6710000000000003,34.152000000000001,10697983]
[null,"Afghanistan","Asia + Pacific",1966,"Afghanistan|1966",7.6710000000000003,34.661999999999999,10927724]
[null,"Afghanistan","Asia + Pacific",1967,"Afghanistan|1967",7.6710000000000003,35.17,11163656]
[null,"Afghanistan","Asia + Pacific",1968,"Afghanistan|1968",7.6710000000000003,35.673999999999999,11411022]
[null,"Afghanistan","Asia + Pacific",1969,"Afghanistan|1969",7.6710000000000003,36.171999999999997,11676990]
[null,"Afghanistan","Asia + Pacific",1970,"Afghanistan|1970",7.6710000000000003,36.662999999999997,11964906]
[null,"Afghanistan","Asia + Pacific",1971,"Afghanistan|1971",7.6710000000000003,37.143000000000001,12273101]
[null,"Afghanistan","Asia + Pacific",1972,"Afghanistan|1972",7.6710000000000003,37.613999999999997,12593688]
[null,"Afghanistan","Asia + Pacific",1973,"Afghanistan|1973",7.6710000000000003,38.075000000000003,12915499]
[null,"Afghanistan","Asia + Pacific",1974,"Afghanistan|1974",7.6710000000000003,38.529000000000003,13223928]
[null,"Afghanistan","Asia + Pacific",1975,"Afghanistan|1975",7.6710000000000003,38.976999999999997,13505544]
[null,"Afghanistan","Asia + Pacific",1976,"Afghanistan|1976",7.67,39.417000000000002,13766792]
[null,"Afghanistan","Asia + Pacific",1977,"Afghanistan|1977",7.67,39.854999999999997,14003408]
[null,"Afghanistan","Asia + Pacific",1978,"Afghanistan|1978",7.67,40.298000000000002,14179656]
[null,"Afghanistan","Asia + Pacific",1979,"Afghanistan|1979",7.6689999999999996,40.756,14249493]
[null,"Afghanistan","Asia + Pacific",1980,"Afghanistan|1980",7.6689999999999996,41.241999999999997,14185729]
[null,"Afghanistan","Asia + Pacific",1981,"Afghanistan|1981",7.67,41.77,13984092]
[null,"Afghanistan","Asia + Pacific",1982,"Afghanistan|1982",7.6710000000000003,42.347000000000001,13672870]
[null,"Afghanistan","Asia + Pacific",1983,"Afghanistan|1983",7.673,42.976999999999997,13300056]
[null,"Afghanistan","Asia + Pacific",1984,"Afghanistan|1984",7.6760000000000002,43.661000000000001,12931791]
[null,"Afghanistan","Asia + Pacific",1985,"Afghanistan|1985",7.6790000000000003,44.4,12625292]
[null,"Afghanistan","Asia + Pacific",1986,"Afghanistan|1986",7.681,45.192,12372113]
[null,"Afghanistan","Asia + Pacific",1987,"Afghanistan|1987",7.6820000000000004,46.024000000000001,12183387]
[null,"Afghanistan","Asia + Pacific",1988,"Afghanistan|1988",7.6820000000000004,46.88,12156685]
[null,"Afghanistan","Asia + Pacific",1989,"Afghanistan|1989",7.6820000000000004,47.744,12414686]
[null,"Afghanistan","Asia + Pacific",1990,"Afghanistan|1990",7.6870000000000003,48.600999999999999,13032161]
[null,"Afghanistan","Asia + Pacific",1991,"Afghanistan|1991",7.7,49.439,14069854]
[null,"Afghanistan","Asia + Pacific",1992,"Afghanistan|1992",7.7249999999999996,50.247,15472076]
[null,"Afghanistan","Asia + Pacific",1993,"Afghanistan|1993",7.758,51.017000000000003,17053213]
[null,"Afghanistan","Asia + Pacific",1994,"Afghanistan|1994",7.7960000000000003,51.738,18553819]
[null,"Afghanistan","Asia + Pacific",1995,"Afghanistan|1995",7.8319999999999999,52.4,19789880]
[null,"Afghanistan","Asia + Pacific",1996,"Afghanistan|1996",7.859,52.994999999999997,20684982]
[null,"Afghanistan","Asia + Pacific",1997,"Afghanistan|1997",7.8689999999999998,53.527000000000001,21299350]
[null,"Afghanistan","Asia + Pacific",1998,"Afghanistan|1998",7.8540000000000001,54.009,21752257]
[null,"Afghanistan","Asia + Pacific",1999,"Afghanistan|1999",7.8090000000000002,54.448999999999998,22227543]
[null,"Afghanistan","Asia + Pacific",2000,"Afghanistan|2000",7.7329999999999997,54.863,22856302]
[null,"Afghanistan","Asia + Pacific",2001,"Afghanistan|2001",7.6230000000000002,55.271000000000001,23677385]
[null,"Afghanistan","Asia + Pacific",2002,"Afghanistan|2002",7.484,55.686999999999998,24639841]
[null,"Afghanistan","Asia + Pacific",2003,"Afghanistan|2003",7.3209999999999997,56.122,25678639]
[null,"Afghanistan","Asia + Pacific",2004,"Afghanistan|2004",7.1360000000000001,56.582999999999998,26693486]
[null,"Afghanistan","Asia + Pacific",2005,"Afghanistan|2005",6.93,57.070999999999998,27614718]
[null,"Afghanistan","Asia + Pacific",2006,"Afghanistan|2006",6.702,57.582000000000001,28420974]
[null,"Afghanistan","Asia + Pacific",2007,"Afghanistan|2007",6.4560000000000004,58.101999999999997,29145841]
[null,"Afghanistan","Asia + Pacific",2008,"Afghanistan|2008",6.1959999999999997,58.618000000000002,29839994]
[null,"Afghanistan","Asia + Pacific",2009,"Afghanistan|2009",5.9279999999999999,59.124000000000002,30577756]
[null,"Afghanistan","Asia + Pacific",2010,"Afghanistan|2010",5.6589999999999998,59.612000000000002,31411743]
[null,"Afghanistan","Asia + Pacific",2011,"Afghanistan|2011",5.3949999999999996,60.079000000000001,32358260]
[null,"Afghanistan","Asia + Pacific",2012,"Afghanistan|2012",5.141,60.524000000000001,33397058]
[null,"Afghanistan","Asia + Pacific",2013,"Afghanistan|2013",4.9000000000000004,60.947000000000003,34499915]
[null,"Albania","Europe",1950,"Albania|1950",5.7990000000000004,54.191000000000003,1215002]
[null,"Albania","Europe",1951,"Albania|1951",5.8959999999999999,54.399000000000001,1239971]
[null,"Albania","Europe",1952,"Albania|1952",6.0709999999999997,54.875999999999998,1269302]
[null,"Albania","Europe",1953,"Albania|1953",6.2089999999999996,55.470999999999997,1302536]
[null,"Albania","Europe",1954,"Albania|1954",6.3090000000000002,56.183999999999997,1339240]
[null,"Albania","Europe",1955,"Albania|1955",6.3719999999999999,57.012,1378998]
[null,"Albania","Europe",1956,"Albania|1956",6.3979999999999997,57.947000000000003,1421417]
[null,"Albania","Europe",1957,"Albania|1957",6.3890000000000002,58.975999999999999,1466124]
[null,"Albania","Europe",1958,"Albania|1958",6.3479999999999999,60.073,1512765]
[null,"Albania","Europe",1959,"Albania|1959",6.2779999999999996,61.195999999999998,1561012]
[null,"Albania","Europe",1960,"Albania|1960",6.1859999999999999,62.292999999999999,1610565]
[null,"Albania","Europe",1961,"Albania|1961",6.0759999999999996,63.313000000000002,1661158]
[null,"Albania","Europe",1962,"Albania|1962",5.9560000000000004,64.201999999999998,1712563]
[null,"Albania","Europe",1963,"Albania|1963",5.8330000000000002,64.926000000000002,1764593]
[null,"Albania","Europe",1964,"Albania|1964",5.7110000000000003,65.474999999999994,1817098]
[null,"Albania","Europe",1965,"Albania|1965",5.5940000000000003,65.863,1869942]
[null,"Albania","Europe",1966,"Albania|1966",5.4829999999999997,66.122,1922993]
[null,"Albania","Europe",1967,"Albania|1967",5.3760000000000003,66.316000000000003,1976140]
[null,"Albania","Europe",1968,"Albania|1968",5.2679999999999998,66.5,2029314]
[null,"Albania","Europe",1969,"Albania|1969",5.16,66.701999999999998,2082474]
[null,"Albania","Europe",1970,"Albania|1970",5.05,66.947999999999993,2135599]
[null,"Albania","Europe",1971,"Albania|1971",4.9329999999999998,67.251000000000005,2188650]
[null,"Albania","Europe",1972,"Albania|1972",4.8090000000000002,67.594999999999999,2241623]
[null,"Albania","Europe",1973,"Albania|1973",4.6769999999999996,67.965999999999994,2294578]
[null,"Albania","Europe",1974,"Albania|1974",4.5380000000000003,68.355999999999995,2347607]
[null,"Albania","Europe",1975,"Albania|1975",4.3929999999999998,68.748000000000005,2400801]
[null,"Albania","Europe",1976,"Albania|1976",4.2439999999999998,69.120999999999995,2454255]
[null,"Albania","Europe",1977,"Albania|1977",4.0940000000000003,69.459000000000003,2508026]
[null,"Albania","Europe",1978,"Albania|1978",3.9470000000000001,69.753,2562121]
[null,"Albania","Europe",1979,"Albania|1979",3.8069999999999999,70.001000000000005,2616530]
[null,"Albania","Europe",1980,"Albania|1980",3.6779999999999999,70.218000000000004,2671300]
[null,"Albania","Europe",1981,"Albania|1981",3.5619999999999998,70.426000000000002,2725029]
[null,"Albania","Europe",1982,"Albania|1982",3.46,70.646000000000001,2777592]
[null,"Albania","Europe",1983,"Albania|1983",3.3719999999999999,70.885999999999996,2831682]
[null,"Albania","Europe",1984,"Albania|1984",3.2970000000000002,71.144000000000005,2891004]
[null,"Albania","Europe",1985,"Albania|1985",3.2330000000000001,71.397999999999996,2957390]
[null,"Albania","Europe",1986,"Albania|1986",3.177,71.614999999999995,3033393]
[null,"Albania","Europe",1987,"Albania|1987",3.1259999999999999,71.77,3116009]
[null,"Albania","Europe",1992,"Albania|1992",2.867,71.778999999999996,3266983]
[null,"Albania","Europe",1991,"Albania|1991",2.9169999999999998,71.799000000000007,3291695]
[null,"Albania","Europe",1993,"Albania|1993",2.819,71.813000000000002,3224901]
[null,"Albania","Europe",1990,"Albania|1990",2.97,71.841999999999999,3289483]
[null,"Albania","Europe",1988,"Albania|1988",3.0750000000000002,71.852999999999994,3194854]
[null,"Albania","Europe",1989,"Albania|1989",3.0230000000000001,71.87,3255859]
[null,"Albania","Europe",1994,"Albania|1994",2.7719999999999998,71.92,3179442]
[null,"Albania","Europe",1995,"Albania|1995",2.7229999999999999,72.117000000000004,3141102]
[null,"Albania","Europe",1996,"Albania|1996",2.67,72.415000000000006,3112597]
[null,"Albania","Europe",1997,"Albania|1997",2.6110000000000002,72.796000000000006,3091902]
[null,"Albania","Europe",1998,"Albania|1998",2.5430000000000001,73.234999999999999,3079037]
[null,"Albania","Europe",1999,"Albania|1999",2.4670000000000001,73.712999999999994,3072725]
[null,"Albania","Europe",2000,"Albania|2000",2.383,74.2,3071856]
[null,"Albania","Europe",2001,"Albania|2001",2.2909999999999999,74.664000000000001,3077378]
[null,"Albania","Europe",2002,"Albania|2002",2.1949999999999998,75.081000000000003,3089778]
[null,"Albania","Europe",2003,"Albania|2003",2.097,75.436999999999998,3106701]
[null,"Albania","Europe",2004,"Albania|2004",2.004,75.724999999999994,3124861]
[null,"Albania","Europe",2005,"Albania|2005",1.919,75.948999999999998,3141800]
[null,"Albania","Europe",2006,"Albania|2006",1.849,76.123999999999995,3156607]
[null,"Albania","Europe",2007,"Albania|2007",1.796,76.278000000000006,3169665]
[null,"Albania","Europe",2008,"Albania|2008",1.7609999999999999,76.433000000000007,3181397]
[null,"Albania","Europe",2009,"Albania|2009",1.744,76.597999999999999,3192723]
[null,"Albania","Europe",2010,"Albania|2010",1.7410000000000001,76.78,3204284]
[null,"Albania","Europe",2011,"Albania|2011",1.748,76.978999999999999,3215988]
[null,"Albania","Europe",2012,"Albania|2012",1.76,77.185000000000002,3227373]
[null,"Albania","Europe",2013,"Albania|2013",1.7709999999999999,77.391999999999996,3238316]
[null,"Algeria","Africa",1950,"Algeria|1950",7.6470000000000002,42.088999999999999,8752997]
[null,"Algeria","Africa",1951,"Algeria|1951",7.6470000000000002,42.283000000000001,8953373]
[null,"Algeria","Africa",1952,"Algeria|1952",7.6479999999999997,42.677999999999997,9140990]
[null,"Algeria","Africa",1953,"Algeria|1953",7.6479999999999997,43.081000000000003,9326099]
[null,"Algeria","Africa",1954,"Algeria|1954",7.6479999999999997,43.493000000000002,9515990]
[null,"Algeria","Africa",1955,"Algeria|1955",7.6479999999999997,43.914000000000001,9715002]
[null,"Algeria","Africa",1956,"Algeria|1956",7.6479999999999997,44.344999999999999,9924347]
[null,"Algeria","Africa",1957,"Algeria|1957",7.6479999999999997,44.783000000000001,10142284]
[null,"Algeria","Africa",1958,"Algeria|1958",7.6479999999999997,45.228999999999999,10364614]
[null,"Algeria","Africa",1959,"Algeria|1959",7.6479999999999997,45.680999999999997,10585506]
[null,"Algeria","Africa",1960,"Algeria|1960",7.6479999999999997,46.136000000000003,10799997]
[null,"Algeria","Africa",1961,"Algeria|1961",7.649,46.594000000000001,11006643]
[null,"Algeria","Africa",1962,"Algeria|1962",7.65,47.051000000000002,11209845]
[null,"Algeria","Africa",1963,"Algeria|1963",7.6520000000000001,47.505000000000003,11420845]
[null,"Algeria","Africa",1964,"Algeria|1964",7.6529999999999996,47.953000000000003,11654905]
[null,"Algeria","Africa",1965,"Algeria|1965",7.6550000000000002,48.389000000000003,11923002]
[null,"Algeria","Africa",1966,"Algeria|1966",7.657,48.805999999999997,12229853]
[null,"Algeria","Africa",1967,"Algeria|1967",7.6580000000000004,49.204999999999998,12572629]
[null,"Algeria","Africa",1968,"Algeria|1968",7.657,49.591999999999999,12945462]
[null,"Algeria","Africa",1969,"Algeria|1969",7.6520000000000001,49.975999999999999,13338918]
[null,"Algeria","Africa",1970,"Algeria|1970",7.641,50.366,13746185]
[null,"Algeria","Africa",1971,"Algeria|1971",7.6219999999999999,50.767000000000003,14165889]
[null,"Algeria","Africa",1972,"Algeria|1972",7.5910000000000002,51.195,14600659]
[null,"Algeria","Africa",1973,"Algeria|1973",7.548,51.67,15052371]
[null,"Algeria","Africa",1974,"Algeria|1974",7.492,52.213000000000001,15524137]
[null,"Algeria","Africa",1975,"Algeria|1975",7.4219999999999997,52.860999999999997,16018195]
[null,"Algeria","Africa",1976,"Algeria|1976",7.3390000000000004,53.655999999999999,16533323]
[null,"Algeria","Africa",1977,"Algeria|1977",7.2439999999999998,54.604999999999997,17068212]
[null,"Algeria","Africa",1978,"Algeria|1978",7.1379999999999999,55.697000000000003,17624756]
[null,"Algeria","Africa",1979,"Algeria|1979",7.0209999999999999,56.906999999999996,18205468]
[null,"Algeria","Africa",1980,"Algeria|1980",6.8890000000000002,58.198,18811199]
[null,"Algeria","Africa",1981,"Algeria|1981",6.7409999999999997,59.524000000000001,19442423]
[null,"Algeria","Africa",1982,"Algeria|1982",6.5759999999999996,60.826000000000001,20095648]
[null,"Algeria","Africa",1983,"Algeria|1983",6.3920000000000003,62.051000000000002,20762767]
[null,"Algeria","Africa",1984,"Algeria|1984",6.1920000000000002,63.16,21433070]
[null,"Algeria","Africa",1985,"Algeria|1985",5.976,64.12,22098298]
[null,"Algeria","Africa",1986,"Algeria|1986",5.7469999999999999,64.911000000000001,22753511]
[null,"Algeria","Africa",1987,"Algeria|1987",5.508,65.554000000000002,23398470]
[null,"Algeria","Africa",1988,"Algeria|1988",5.2629999999999999,66.072000000000003,24035237]
[null,"Algeria","Africa",1989,"Algeria|1989",5.0140000000000002,66.478999999999999,24668100]
[null,"Algeria","Africa",1990,"Algeria|1990",4.7610000000000001,66.796000000000006,25299182]
[null,"Algeria","Africa",1991,"Algeria|1991",4.5030000000000001,67.049000000000007,25930560]
[null,"Algeria","Africa",1992,"Algeria|1992",4.2380000000000004,67.265000000000001,26557969]
[null,"Algeria","Africa",1993,"Algeria|1993",3.9710000000000001,67.468000000000004,27169903]
[null,"Algeria","Africa",1994,"Algeria|1994",3.7050000000000001,67.674000000000007,27751086]
[null,"Algeria","Africa",1995,"Algeria|1995",3.4489999999999998,67.893000000000001,28291591]
[null,"Algeria","Africa",1996,"Algeria|1996",3.2069999999999999,68.123000000000005,28786855]
[null,"Algeria","Africa",1997,"Algeria|1997",2.9870000000000001,68.349999999999994,29242917]
[null,"Algeria","Africa",1998,"Algeria|1998",2.794,68.564999999999998,29673694]
[null,"Algeria","Africa",1999,"Algeria|1999",2.6339999999999999,68.769000000000005,30099010]
[null,"Algeria","Africa",2000,"Algeria|2000",2.5139999999999998,68.962999999999994,30533827]
[null,"Algeria","Africa",2001,"Algeria|2001",2.4390000000000001,69.149000000000001,30982214]
[null,"Algeria","Africa",2002,"Algeria|2002",2.407,69.33,31441848]
[null,"Algeria","Africa",2003,"Algeria|2003",2.4119999999999999,69.507999999999996,31913462]
[null,"Algeria","Africa",2004,"Algeria|2004",2.448,69.682000000000002,32396048]
[null,"Algeria","Africa",2005,"Algeria|2005",2.5070000000000001,69.853999999999999,32888449]
[null,"Algeria","Africa",2006,"Algeria|2006",2.58,70.02,33391954]
[null,"Algeria","Africa",2007,"Algeria|2007",2.6560000000000001,70.180000000000007,33906605]
[null,"Algeria","Africa",2008,"Algeria|2008",2.7250000000000001,70.331999999999994,34428028]
[null,"Algeria","Africa",2009,"Algeria|2009",2.7810000000000001,70.477000000000004,34950168]
[null,"Algeria","Africa",2010,"Algeria|2010",2.8170000000000002,70.614999999999995,35468208]
[null,"Algeria","Africa",2011,"Algeria|2011",2.8290000000000002,70.747,35980193]
[null,"Algeria","Africa",2012,"Algeria|2012",2.82,70.873999999999995,36485828]
[null,"Algeria","Africa",2013,"Algeria|2013",2.7949999999999999,71,36983924]
[null,"Angola","Africa",1950,"Angola|1950",6.9249999999999998,29.209,4147509]
[null,"Angola","Africa",1951,"Angola|1951",6.9429999999999996,29.407,4219332]
[null,"Angola","Africa",1952,"Angola|1952",6.98,29.803999999999998,4296534]
[null,"Angola","Africa",1953,"Angola|1953",7.0179999999999998,30.201000000000001,4376947]
[null,"Angola","Africa",1954,"Angola|1954",7.0579999999999998,30.599,4458962]
[null,"Angola","Africa",1955,"Angola|1955",7.0990000000000002,30.997,4541519]
[null,"Angola","Africa",1956,"Angola|1956",7.1420000000000003,31.396000000000001,4624143]
[null,"Angola","Africa",1957,"Angola|1957",7.1870000000000003,31.795999999999999,4706909]
[null,"Angola","Africa",1958,"Angola|1958",7.2309999999999999,32.195999999999998,4790376]
[null,"Angola","Africa",1959,"Angola|1959",7.2750000000000004,32.597000000000001,4875462]
[null,"Angola","Africa",1960,"Angola|1960",7.3159999999999998,32.997999999999998,4963068]
[null,"Angola","Africa",1961,"Angola|1961",7.3540000000000001,33.399000000000001,5053693]
[null,"Angola","Africa",1962,"Angola|1962",7.3849999999999998,33.801000000000002,5147083]
[null,"Angola","Africa",1963,"Angola|1963",7.41,34.203000000000003,5242084]
[null,"Angola","Africa",1964,"Angola|1964",7.4249999999999998,34.603999999999999,5337063]
[null,"Angola","Africa",1965,"Angola|1965",7.43,35.006999999999998,5431135]
[null,"Angola","Africa",1966,"Angola|1966",7.4219999999999997,35.409999999999997,5524090]
[null,"Angola","Africa",1967,"Angola|1967",7.4029999999999996,35.816000000000003,5617242]
[null,"Angola","Africa",1968,"Angola|1968",7.375,36.222000000000001,5713156]
[null,"Angola","Africa",1969,"Angola|1969",7.3390000000000004,36.627000000000002,5815282]
[null,"Angola","Africa",1970,"Angola|1970",7.3010000000000002,37.031999999999996,5926333]
[null,"Angola","Africa",1971,"Angola|1971",7.2640000000000002,37.439,6047736]
[null,"Angola","Africa",1972,"Angola|1972",7.2320000000000002,37.845999999999997,6179685]
[null,"Angola","Africa",1973,"Angola|1973",7.2080000000000002,38.247,6322194]
[null,"Angola","Africa",1974,"Angola|1974",7.1920000000000002,38.634999999999998,6474796]
[null,"Angola","Africa",1975,"Angola|1975",7.1849999999999996,38.997999999999998,6637419]
[null,"Angola","Africa",1976,"Angola|1976",7.1859999999999999,39.323999999999998,6808850]
[null,"Angola","Africa",1977,"Angola|1977",7.1890000000000001,39.604999999999997,6989988]
[null,"Angola","Africa",1978,"Angola|1978",7.194,39.840000000000003,7185188]
[null,"Angola","Africa",1979,"Angola|1979",7.1970000000000001,40.029000000000003,7400231]
[null,"Angola","Africa",1980,"Angola|1980",7.2,40.182000000000002,7638420]
[null,"Angola","Africa",1981,"Angola|1981",7.2009999999999996,40.311,7903368]
[null,"Angola","Africa",1982,"Angola|1982",7.2030000000000003,40.429000000000002,8191774]
[null,"Angola","Africa",1983,"Angola|1983",7.2050000000000001,40.546999999999997,8491682]
[null,"Angola","Africa",1984,"Angola|1984",7.2069999999999999,40.670999999999999,8786652]
[null,"Angola","Africa",1985,"Angola|1985",7.2080000000000002,40.793999999999997,9065562]
[null,"Angola","Africa",1986,"Angola|1986",7.2060000000000004,40.902000000000001,9322550]
[null,"Angola","Africa",1987,"Angola|1987",7.202,40.988,9562796]
[null,"Angola","Africa",1988,"Angola|1988",7.194,41.05,9799680]
[null,"Angola","Africa",1989,"Angola|1989",7.1820000000000004,41.1,10052567]
[null,"Angola","Africa",1990,"Angola|1990",7.165,41.151000000000003,10335052]
[null,"Angola","Africa",1991,"Angola|1991",7.1429999999999998,41.220999999999997,10653515]
[null,"Angola","Africa",1992,"Angola|1992",7.1159999999999997,41.329000000000001,11002910]
[null,"Angola","Africa",1993,"Angola|1993",7.0869999999999997,41.494999999999997,11371750]
[null,"Angola","Africa",1994,"Angola|1994",7.0540000000000003,41.735999999999997,11742960]
[null,"Angola","Africa",1995,"Angola|1995",7.0190000000000001,42.073,12105105]
[null,"Angola","Africa",1996,"Angola|1996",6.984,42.526000000000003,12452725]
[null,"Angola","Africa",1997,"Angola|1997",6.9489999999999998,43.088000000000001,12792237]
[null,"Angola","Africa",1998,"Angola|1998",6.9130000000000003,43.741999999999997,13138265]
[null,"Angola","Africa",1999,"Angola|1999",6.8780000000000001,44.468000000000004,13511575]
[null,"Angola","Africa",2000,"Angola|2000",6.8440000000000003,45.234000000000002,13926373]
[null,"Angola","Africa",2001,"Angola|2001",6.8109999999999999,46.003999999999998,14388244]
[null,"Angola","Africa",2002,"Angola|2002",6.7779999999999996,46.743000000000002,14890474]
[null,"Angola","Africa",2003,"Angola|2003",6.7430000000000003,47.424999999999997,15419943]
[null,"Angola","Africa",2004,"Angola|2004",6.7039999999999997,48.036000000000001,15957460]
[null,"Angola","Africa",2005,"Angola|2005",6.657,48.572000000000003,16489021]
[null,"Angola","Africa",2006,"Angola|2006",6.5979999999999999,49.040999999999997,17010366]
[null,"Angola","Africa",2007,"Angola|2007",6.5229999999999997,49.470999999999997,17525367]
[null,"Angola","Africa",2008,"Angola|2008",6.4340000000000002,49.881999999999998,18037964]
[null,"Angola","Africa",2009,"Angola|2009",6.3310000000000004,50.286000000000001,18555115]
[null,"Angola","Africa",2010,"Angola|2010",6.218,50.689,19081912]
[null,"Angola","Africa",2011,"Angola|2011",6.0990000000000002,51.094000000000001,19618432]
[null,"Angola","Africa",2012,"Angola|2012",5.9790000000000001,51.497999999999998,20162517]
[null,"Angola","Africa",2013,"Angola|2013",5.8630000000000004,51.899000000000001,20714494]
[null,"Antigua and Barbuda","North America",1950,"Antigua and Barbuda|1950",4.4459999999999997,57.536000000000001,46301]
[null,"Antigua and Barbuda","North America",1951,"Antigua and Barbuda|1951",4.4640000000000004,57.786000000000001,48316]
[null,"Antigua and Barbuda","North America",1952,"Antigua and Barbuda|1952",4.4960000000000004,58.283999999999999,49906]
[null,"Antigua and Barbuda","North America",1953,"Antigua and Barbuda|1953",4.5179999999999998,58.779000000000003,51117]
[null,"Antigua and Barbuda","North America",1954,"Antigua and Barbuda|1954",4.5309999999999997,59.271000000000001,52002]
[null,"Antigua and Barbuda","North America",1955,"Antigua and Barbuda|1955",4.5339999999999998,59.759,52625]
[null,"Antigua and Barbuda","North America",1956,"Antigua and Barbuda|1956",4.5279999999999996,60.243000000000002,53061]
[null,"Antigua and Barbuda","North America",1957,"Antigua and Barbuda|1957",4.5129999999999999,60.722000000000001,53393]
[null,"Antigua and Barbuda","North America",1958,"Antigua and Barbuda|1958",4.49,61.195999999999998,53711]
[null,"Antigua and Barbuda","North America",1959,"Antigua and Barbuda|1959",4.46,61.661000000000001,54107]
[null,"Antigua and Barbuda","North America",1960,"Antigua and Barbuda|1960",4.4249999999999998,62.113999999999997,54657]
[null,"Antigua and Barbuda","North America",1961,"Antigua and Barbuda|1961",4.3860000000000001,62.555,55408]
[null,"Antigua and Barbuda","North America",1962,"Antigua and Barbuda|1962",4.3440000000000003,62.978999999999999,56362]
[null,"Antigua and Barbuda","North America",1963,"Antigua and Barbuda|1963",4.2990000000000004,63.386000000000003,57472]
[null,"Antigua and Barbuda","North America",1964,"Antigua and Barbuda|1964",4.25,63.774999999999999,58653]
[null,"Antigua and Barbuda","North America",1965,"Antigua and Barbuda|1965",4.1929999999999996,64.149000000000001,59844]
[null,"Antigua and Barbuda","North America",1966,"Antigua and Barbuda|1966",4.125,64.510999999999996,61032]
[null,"Antigua and Barbuda","North America",1967,"Antigua and Barbuda|1967",4.0419999999999998,64.864999999999995,62226]
[null,"Antigua and Barbuda","North America",1968,"Antigua and Barbuda|1968",3.9420000000000002,65.212999999999994,63401]
[null,"Antigua and Barbuda","North America",1969,"Antigua and Barbuda|1969",3.8239999999999998,65.558000000000007,64528]
[null,"Antigua and Barbuda","North America",1970,"Antigua and Barbuda|1970",3.6840000000000002,65.897999999999996,65587]
[null,"Antigua and Barbuda","North America",1971,"Antigua and Barbuda|1971",3.5169999999999999,66.231999999999999,66554]
[null,"Antigua and Barbuda","North America",1972,"Antigua and Barbuda|1972",3.3279999999999998,66.558000000000007,67419]
[null,"Antigua and Barbuda","North America",1973,"Antigua and Barbuda|1973",3.1219999999999999,66.875,68182]
[null,"Antigua and Barbuda","North America",1974,"Antigua and Barbuda|1974",2.9079999999999999,67.180999999999997,68848]
[null,"Antigua and Barbuda","North America",1975,"Antigua and Barbuda|1975",2.7010000000000001,67.478999999999999,69420]
[null,"Antigua and Barbuda","North America",1976,"Antigua and Barbuda|1976",2.5139999999999998,67.768000000000001,69910]
[null,"Antigua and Barbuda","North America",1977,"Antigua and Barbuda|1977",2.3580000000000001,68.051000000000002,70301]
[null,"Antigua and Barbuda","North America",1978,"Antigua and Barbuda|1978",2.2389999999999999,68.328000000000003,70533]
[null,"Antigua and Barbuda","North America",1979,"Antigua and Barbuda|1979",2.1589999999999998,68.602000000000004,70525]
[null,"Antigua and Barbuda","North America",1980,"Antigua and Barbuda|1980",2.1150000000000002,68.873000000000005,70228]
[null,"Antigua and Barbuda","North America",1981,"Antigua and Barbuda|1981",2.0979999999999999,69.141000000000005,69639]
[null,"Antigua and Barbuda","North America",1982,"Antigua and Barbuda|1982",2.0960000000000001,69.408000000000001,68803]
[null,"Antigua and Barbuda","North America",1983,"Antigua and Barbuda|1983",2.0979999999999999,69.671000000000006,67792]
[null,"Antigua and Barbuda","North America",1984,"Antigua and Barbuda|1984",2.0979999999999999,69.930999999999997,66701]
[null,"Antigua and Barbuda","North America",1985,"Antigua and Barbuda|1985",2.0920000000000001,70.186000000000007,65614]
[null,"Antigua and Barbuda","North America",1986,"Antigua and Barbuda|1986",2.0819999999999999,70.435000000000002,64539]
[null,"Antigua and Barbuda","North America",1987,"Antigua and Barbuda|1987",2.0699999999999998,70.674999999999997,63510]
[null,"Antigua and Barbuda","North America",1988,"Antigua and Barbuda|1988",2.0619999999999998,70.906999999999996,62669]
[null,"Antigua and Barbuda","North America",1989,"Antigua and Barbuda|1989",2.0579999999999998,71.132000000000005,62192]
[null,"Antigua and Barbuda","North America",1990,"Antigua and Barbuda|1990",2.0609999999999999,71.350999999999999,62202]
[null,"Antigua and Barbuda","North America",1991,"Antigua and Barbuda|1991",2.073,71.567999999999998,62754]
[null,"Antigua and Barbuda","North America",1992,"Antigua and Barbuda|1992",2.0960000000000001,71.783000000000001,63802]
[null,"Antigua and Barbuda","North America",1993,"Antigua and Barbuda|1993",2.1280000000000001,72,65238]
[null,"Antigua and Barbuda","North America",1994,"Antigua and Barbuda|1994",2.1659999999999999,72.218999999999994,66895]
[null,"Antigua and Barbuda","North America",1995,"Antigua and Barbuda|1995",2.2080000000000002,72.441000000000003,68642]
[null,"Antigua and Barbuda","North America",1996,"Antigua and Barbuda|1996",2.2480000000000002,72.664000000000001,70450]
[null,"Antigua and Barbuda","North America",1997,"Antigua and Barbuda|1997",2.2810000000000001,72.888000000000005,72322]
[null,"Antigua and Barbuda","North America",1998,"Antigua and Barbuda|1998",2.3039999999999998,73.11,74190]
[null,"Antigua and Barbuda","North America",1999,"Antigua and Barbuda|1999",2.3159999999999998,73.328999999999994,75985]
[null,"Antigua and Barbuda","North America",2000,"Antigua and Barbuda|2000",2.3159999999999998,73.543999999999997,77656]
[null,"Antigua and Barbuda","North America",2001,"Antigua and Barbuda|2001",2.3050000000000002,73.754999999999995,79165]
[null,"Antigua and Barbuda","North America",2002,"Antigua and Barbuda|2002",2.2879999999999998,73.959999999999994,80507]
[null,"Antigua and Barbuda","North America",2003,"Antigua and Barbuda|2003",2.2679999999999998,74.16,81716]
[null,"Antigua and Barbuda","North America",2004,"Antigua and Barbuda|2004",2.246,74.355000000000004,82838]
[null,"Antigua and Barbuda","North America",2005,"Antigua and Barbuda|2005",2.2240000000000002,74.543999999999997,83916]
[null,"Antigua and Barbuda","North America",2006,"Antigua and Barbuda|2006",2.2029999999999998,74.728999999999999,84952]
[null,"Antigua and Barbuda","North America",2007,"Antigua and Barbuda|2007",2.1829999999999998,74.91,85935]
[null,"Antigua and Barbuda","North America",2008,"Antigua and Barbuda|2008",2.1640000000000001,75.087000000000003,86881]
[null,"Antigua and Barbuda","North America",2009,"Antigua and Barbuda|2009",2.1459999999999999,75.263000000000005,87802]
[null,"Antigua and Barbuda","North America",2010,"Antigua and Barbuda|2010",2.13,75.436999999999998,88710]
[null,"Antigua and Barbuda","North America",2011,"Antigua and Barbuda|2011",2.1150000000000002,75.61,89612]
[null,"Antigua and Barbuda","North America",2012,"Antigua and Barbuda|2012",2.1019999999999999,75.783000000000001,90510]
[null,"Antigua and Barbuda","North America",2013,"Antigua and Barbuda|2013",2.089,75.953999999999994,91404]
[null,"Argentina","Latin America + Caribbean",1950,"Argentina|1950",3.1640000000000001,61.417999999999999,17150335]
[null,"Argentina","Latin America + Caribbean",1951,"Argentina|1951",3.1619999999999999,61.728000000000002,17506378]
[null,"Argentina","Latin America + Caribbean",1952,"Argentina|1952",3.157,62.32,17865382]
[null,"Argentina","Latin America + Caribbean",1953,"Argentina|1953",3.1520000000000001,62.854999999999997,18223955]
[null,"Argentina","Latin America + Caribbean",1954,"Argentina|1954",3.1459999999999999,63.331000000000003,18579614]
[null,"Argentina","Latin America + Caribbean",1955,"Argentina|1955",3.141,63.749000000000002,18930778]
[null,"Argentina","Latin America + Caribbean",1956,"Argentina|1956",3.1360000000000001,64.11,19276813]
[null,"Argentina","Latin America + Caribbean",1957,"Argentina|1957",3.13,64.414000000000001,19617988]
[null,"Argentina","Latin America + Caribbean",1958,"Argentina|1958",3.1240000000000001,64.665000000000006,19955368]
[null,"Argentina","Latin America + Caribbean",1959,"Argentina|1959",3.117,64.866,20290620]
[null,"Argentina","Latin America + Caribbean",1960,"Argentina|1960",3.109,65.022000000000006,20625451]
[null,"Argentina","Latin America + Caribbean",1961,"Argentina|1961",3.1,65.141999999999996,20961000]
[null,"Argentina","Latin America + Caribbean",1962,"Argentina|1962",3.089,65.233999999999995,21297317]
[null,"Argentina","Latin America + Caribbean",1963,"Argentina|1963",3.0779999999999998,65.311000000000007,21633126]
[null,"Argentina","Latin America + Caribbean",1964,"Argentina|1964",3.0680000000000001,65.388000000000005,21966478]
[null,"Argentina","Latin America + Caribbean",1965,"Argentina|1965",3.0579999999999998,65.480999999999995,22296628]
[null,"Argentina","Latin America + Caribbean",1966,"Argentina|1966",3.0510000000000002,65.602999999999994,22622012]
[null,"Argentina","Latin America + Caribbean",1967,"Argentina|1967",3.048,65.759,22944941]
[null,"Argentina","Latin America + Caribbean",1968,"Argentina|1968",3.0489999999999999,65.953000000000003,23273148]
[null,"Argentina","Latin America + Caribbean",1969,"Argentina|1969",3.056,66.183999999999997,23616971]
[null,"Argentina","Latin America + Caribbean",1970,"Argentina|1970",3.073,66.448999999999998,23983358]
[null,"Argentina","Latin America + Caribbean",1971,"Argentina|1971",3.1040000000000001,66.739999999999995,24376109]
[null,"Argentina","Latin America + Caribbean",1972,"Argentina|1972",3.1480000000000001,67.043999999999997,24791983]
[null,"Argentina","Latin America + Caribbean",1973,"Argentina|1973",3.2029999999999998,67.349000000000004,25222223]
[null,"Argentina","Latin America + Caribbean",1974,"Argentina|1974",3.2639999999999998,67.652000000000001,25654154]
[null,"Argentina","Latin America + Caribbean",1975,"Argentina|1975",3.3210000000000002,67.95,26078731]
[null,"Argentina","Latin America + Caribbean",1976,"Argentina|1976",3.3660000000000001,68.248000000000005,26492716]
[null,"Argentina","Latin America + Caribbean",1977,"Argentina|1977",3.391,68.549000000000007,26899177]
[null,"Argentina","Latin America + Caribbean",1978,"Argentina|1978",3.391,68.855999999999995,27303001]
[null,"Argentina","Latin America + Caribbean",1979,"Argentina|1979",3.3679999999999999,69.164000000000001,27711808]
[null,"Argentina","Latin America + Caribbean",1980,"Argentina|1980",3.3250000000000002,69.463999999999999,28131040]
[null,"Argentina","Latin America + Caribbean",1981,"Argentina|1981",3.27,69.745999999999995,28561561]
[null,"Argentina","Latin America + Caribbean",1982,"Argentina|1982",3.2130000000000001,70.004000000000005,29001060]
[null,"Argentina","Latin America + Caribbean",1983,"Argentina|1983",3.1629999999999998,70.234999999999999,29447973]
[null,"Argentina","Latin America + Caribbean",1984,"Argentina|1984",3.1230000000000002,70.438999999999993,29899743]
[null,"Argentina","Latin America + Caribbean",1985,"Argentina|1985",3.093,70.623999999999995,30354240]
[null,"Argentina","Latin America + Caribbean",1986,"Argentina|1986",3.073,70.798000000000002,30810984]
[null,"Argentina","Latin America + Caribbean",1987,"Argentina|1987",3.056,70.971999999999994,31269799]
[null,"Argentina","Latin America + Caribbean",1988,"Argentina|1988",3.0369999999999999,71.156000000000006,31729130]
[null,"Argentina","Latin America + Caribbean",1989,"Argentina|1989",3.016,71.352999999999994,32187173]
[null,"Argentina","Latin America + Caribbean",1990,"Argentina|1990",2.9889999999999999,71.566000000000003,32642442]
[null,"Argentina","Latin America + Caribbean",1991,"Argentina|1991",2.956,71.790999999999997,33093579]
[null,"Argentina","Latin America + Caribbean",1992,"Argentina|1992",2.9180000000000001,72.024000000000001,33540023]
[null,"Argentina","Latin America + Caribbean",1993,"Argentina|1993",2.875,72.257000000000005,33982035]
[null,"Argentina","Latin America + Caribbean",1994,"Argentina|1994",2.827,72.489000000000004,34420352]
[null,"Argentina","Latin America + Caribbean",1995,"Argentina|1995",2.774,72.718999999999994,34855160]
[null,"Argentina","Latin America + Caribbean",1996,"Argentina|1996",2.7170000000000001,72.944999999999993,35287113]
[null,"Argentina","Latin America + Caribbean",1997,"Argentina|1997",2.657,73.168999999999997,35714929]
[null,"Argentina","Latin America + Caribbean",1998,"Argentina|1998",2.5960000000000001,73.39,36134642]
[null,"Argentina","Latin America + Caribbean",1999,"Argentina|1999",2.5350000000000001,73.608000000000004,36541029]
[null,"Argentina","Latin America + Caribbean",2000,"Argentina|2000",2.4769999999999999,73.822000000000003,36930709]
[null,"Argentina","Latin America + Caribbean",2001,"Argentina|2001",2.4239999999999999,74.033000000000001,37302116]
[null,"Argentina","Latin America + Caribbean",2002,"Argentina|2002",2.379,74.239999999999995,37657340]
[null,"Argentina","Latin America + Caribbean",2003,"Argentina|2003",2.34,74.444000000000003,38001251]
[null,"Argentina","Latin America + Caribbean",2004,"Argentina|2004",2.31,74.644999999999996,38340778]
[null,"Argentina","Latin America + Caribbean",2005,"Argentina|2005",2.286,74.843000000000004,38681174]
[null,"Argentina","Latin America + Caribbean",2006,"Argentina|2006",2.2679999999999998,75.036000000000001,39023850]
[null,"Argentina","Latin America + Caribbean",2007,"Argentina|2007",2.254,75.224999999999994,39368066]
[null,"Argentina","Latin America + Caribbean",2008,"Argentina|2008",2.2410000000000001,75.41,39714298]
[null,"Argentina","Latin America + Caribbean",2009,"Argentina|2009",2.2280000000000002,75.591999999999999,40062470]
[null,"Argentina","Latin America + Caribbean",2010,"Argentina|2010",2.2149999999999999,75.772000000000006,40412376]
[null,"Argentina","Latin America + Caribbean",2011,"Argentina|2011",2.2010000000000001,75.95,40764561]
[null,"Argentina","Latin America + Caribbean",2012,"Argentina|2012",2.1880000000000002,76.128,41118986]
[null,"Argentina","Latin America + Caribbean",2013,"Argentina|2013",2.1749999999999998,76.305000000000007,41473982]
[null,"Armenia","Europe",1950,"Armenia|1950",4.5250000000000004,61.965000000000003,1353506]
[null,"Armenia","Europe",1951,"Armenia|1951",4.5119999999999996,62.177999999999997,1382982]
[null,"Armenia","Europe",1952,"Armenia|1952",4.492,62.601999999999997,1419913]
[null,"Armenia","Europe",1953,"Armenia|1953",4.4809999999999999,63.024000000000001,1463017]
[null,"Armenia","Europe",1954,"Armenia|1954",4.4809999999999999,63.445999999999998,1511188]
[null,"Armenia","Europe",1955,"Armenia|1955",4.49,63.866,1563508]
[null,"Armenia","Europe",1956,"Armenia|1956",4.5060000000000002,64.284999999999997,1619242]
[null,"Armenia","Europe",1957,"Armenia|1957",4.5270000000000001,64.703999999999994,1677837]
[null,"Armenia","Europe",1958,"Armenia|1958",4.548,65.123999999999995,1738902]
[null,"Armenia","Europe",1959,"Armenia|1959",4.5590000000000002,65.545000000000002,1802171]
[null,"Armenia","Europe",1960,"Armenia|1960",4.55,65.971000000000004,1867396]
[null,"Armenia","Europe",1961,"Armenia|1961",4.5119999999999996,66.400999999999996,1934239]
[null,"Armenia","Europe",1962,"Armenia|1962",4.4349999999999996,66.837000000000003,2002170]
[null,"Armenia","Europe",1963,"Armenia|1963",4.3170000000000002,67.275000000000006,2070427]
[null,"Armenia","Europe",1964,"Armenia|1964",4.1609999999999996,67.713999999999999,2138133]
[null,"Armenia","Europe",1991,"Armenia|1991",2.4820000000000002,67.864000000000004,3512051]
[null,"Armenia","Europe",1990,"Armenia|1990",2.5379999999999998,67.876999999999995,3544695]
[null,"Armenia","Europe",1992,"Armenia|1992",2.399,67.978999999999999,3449940]
[null,"Armenia","Europe",1989,"Armenia|1989",2.5649999999999999,68.037000000000006,3542720]
[null,"Armenia","Europe",1965,"Armenia|1965",3.9790000000000001,68.150999999999996,2204650]
[null,"Armenia","Europe",1993,"Armenia|1993",2.2949999999999999,68.198999999999998,3370373]
[null,"Armenia","Europe",1988,"Armenia|1988",2.5659999999999998,68.331000000000003,3510439]
[null,"Armenia","Europe",1994,"Armenia|1994",2.1760000000000002,68.513000000000005,3290540]
[null,"Armenia","Europe",1966,"Armenia|1966",3.7879999999999998,68.587000000000003,2269475]
[null,"Armenia","Europe",1987,"Armenia|1987",2.5489999999999999,68.730999999999995,3457054]
[null,"Armenia","Europe",1995,"Armenia|1995",1.8,68.91,3223173]
[null,"Armenia","Europe",1967,"Armenia|1967",3.6059999999999999,69.015000000000001,2332624]
[null,"Armenia","Europe",1986,"Armenia|1986",2.5190000000000001,69.203999999999994,3396511]
[null,"Armenia","Europe",1996,"Armenia|1996",1.8,69.376000000000005,3172185]
[null,"Armenia","Europe",1968,"Armenia|1968",3.4470000000000001,69.424999999999997,2394635]
[null,"Armenia","Europe",1985,"Armenia|1985",2.4809999999999999,69.697000000000003,3339147]
[null,"Armenia","Europe",1969,"Armenia|1969",3.3140000000000001,69.808000000000007,2456370]
[null,"Armenia","Europe",1997,"Armenia|1997",1.7,69.891000000000005,3134836]
[null,"Armenia","Europe",1970,"Armenia|1970",3.2080000000000002,70.143000000000001,2518408]
[null,"Armenia","Europe",1984,"Armenia|1984",2.4409999999999998,70.149000000000001,3287588]
[null,"Armenia","Europe",1971,"Armenia|1971",3.1179999999999999,70.411000000000001,2580894]
[null,"Armenia","Europe",1998,"Armenia|1998",1.5,70.430000000000007,3109101]
[null,"Armenia","Europe",1983,"Armenia|1983",2.4060000000000001,70.518000000000001,3239212]
[null,"Armenia","Europe",1972,"Armenia|1972",3.032,70.603999999999999,2643464]
[null,"Armenia","Europe",1973,"Armenia|1973",2.9420000000000002,70.721999999999994,2705584]
[null,"Armenia","Europe",1974,"Armenia|1974",2.8460000000000001,70.774000000000001,2766495]
[null,"Armenia","Europe",1982,"Armenia|1982",2.3809999999999998,70.775000000000006,3192877]
[null,"Armenia","Europe",1975,"Armenia|1975",2.7450000000000001,70.781999999999996,2825650]
[null,"Armenia","Europe",1976,"Armenia|1976",2.6459999999999999,70.781999999999996,2882831]
[null,"Armenia","Europe",1977,"Armenia|1977",2.5550000000000002,70.796999999999997,2938181]
[null,"Armenia","Europe",1978,"Armenia|1978",2.4790000000000001,70.837000000000003,2991954]
[null,"Armenia","Europe",1979,"Armenia|1979",2.4209999999999998,70.896000000000001,3044564]
[null,"Armenia","Europe",1981,"Armenia|1981",2.3730000000000002,70.909000000000006,3145885]
[null,"Armenia","Europe",1980,"Armenia|1980",2.3849999999999998,70.936000000000007,3096298]
[null,"Armenia","Europe",1999,"Armenia|1999",1.4,70.971000000000004,3090624]
[null,"Armenia","Europe",2000,"Armenia|2000",1.3,71.494,3076098]
[null,"Armenia","Europe",2001,"Armenia|2001",1.2,71.980999999999995,3065810]
[null,"Armenia","Europe",2002,"Armenia|2002",1.2,72.430000000000007,3061067]
[null,"Armenia","Europe",2003,"Armenia|2003",1.4,72.835999999999999,3060554]
[null,"Armenia","Europe",2004,"Armenia|2004",1.4,73.191999999999993,3062612]
[null,"Armenia","Europe",2005,"Armenia|2005",1.4,73.491,3065954]
[null,"Armenia","Europe",2006,"Armenia|2006",1.3,73.73,3069844]
[null,"Armenia","Europe",2007,"Armenia|2007",1.4,73.92,3074181]
[null,"Armenia","Europe",2008,"Armenia|2008",1.4,74.069999999999993,3079087]
[null,"Armenia","Europe",2009,"Armenia|2009",1.6,74.191000000000003,3084979]
[null,"Armenia","Europe",2010,"Armenia|2010",1.55,74.290999999999997,3092072]
[null,"Armenia","Europe",2011,"Armenia|2011",1.5,74.381,3100236]
[null,"Armenia","Europe",2012,"Armenia|2012",1.7390000000000001,74.468999999999994,3108972]
[null,"Armenia","Europe",2013,"Armenia|2013",1.74,74.561000000000007,3117722]
[null,"Aruba","Latin America + Caribbean",1950,"Aruba|1950",5.8010000000000002,58.418999999999997,38066]
[null,"Aruba","Latin America + Caribbean",1951,"Aruba|1951",5.7670000000000003,58.962000000000003,38263]
[null,"Aruba","Latin America + Caribbean",1952,"Aruba|1952",5.6950000000000003,60.01,38966]
[null,"Aruba","Latin America + Caribbean",1953,"Aruba|1953",5.6159999999999997,60.98,40151]
[null,"Aruba","Latin America + Caribbean",1954,"Aruba|1954",5.53,61.872999999999998,41765]
[null,"Aruba","Latin America + Caribbean",1955,"Aruba|1955",5.4359999999999999,62.686999999999998,43729]
[null,"Aruba","Latin America + Caribbean",1956,"Aruba|1956",5.3339999999999996,63.423999999999999,45935]
[null,"Aruba","Latin America + Caribbean",1957,"Aruba|1957",5.2229999999999999,64.085999999999999,48244]
[null,"Aruba","Latin America + Caribbean",1958,"Aruba|1958",5.1020000000000003,64.676000000000002,50500]
[null,"Aruba","Latin America + Caribbean",1959,"Aruba|1959",4.9690000000000003,65.198999999999998,52536]
[null,"Aruba","Latin America + Caribbean",1960,"Aruba|1960",4.82,65.662000000000006,54209]
[null,"Aruba","Latin America + Caribbean",1961,"Aruba|1961",4.6550000000000002,66.073999999999998,55436]
[null,"Aruba","Latin America + Caribbean",1962,"Aruba|1962",4.4710000000000001,66.444000000000003,56227]
[null,"Aruba","Latin America + Caribbean",1963,"Aruba|1963",4.2709999999999999,66.787000000000006,56698]
[null,"Aruba","Latin America + Caribbean",1964,"Aruba|1964",4.0590000000000002,67.113,57031]
[null,"Aruba","Latin America + Caribbean",1965,"Aruba|1965",3.8420000000000001,67.435000000000002,57362]
[null,"Aruba","Latin America + Caribbean",1966,"Aruba|1966",3.625,67.762,57714]
[null,"Aruba","Latin America + Caribbean",1967,"Aruba|1967",3.4169999999999998,68.094999999999999,58052]
[null,"Aruba","Latin America + Caribbean",1968,"Aruba|1968",3.226,68.436000000000007,58388]
[null,"Aruba","Latin America + Caribbean",1969,"Aruba|1969",3.0539999999999998,68.784000000000006,58725]
[null,"Aruba","Latin America + Caribbean",1970,"Aruba|1970",2.9079999999999999,69.14,59066]
[null,"Aruba","Latin America + Caribbean",1971,"Aruba|1971",2.7879999999999998,69.498000000000005,59439]
[null,"Aruba","Latin America + Caribbean",1972,"Aruba|1972",2.6909999999999998,69.850999999999999,59849]
[null,"Aruba","Latin America + Caribbean",1973,"Aruba|1973",2.613,70.191999999999993,60238]
[null,"Aruba","Latin America + Caribbean",1974,"Aruba|1974",2.552,70.519000000000005,60524]
[null,"Aruba","Latin America + Caribbean",1975,"Aruba|1975",2.5059999999999998,70.834000000000003,60654]
[null,"Aruba","Latin America + Caribbean",1976,"Aruba|1976",2.472,71.14,60589]
[null,"Aruba","Latin America + Caribbean",1977,"Aruba|1977",2.4460000000000002,71.441000000000003,60366]
[null,"Aruba","Latin America + Caribbean",1978,"Aruba|1978",2.4249999999999998,71.736999999999995,60108]
[null,"Aruba","Latin America + Caribbean",1979,"Aruba|1979",2.4079999999999999,72.022999999999996,59980]
[null,"Aruba","Latin America + Caribbean",1980,"Aruba|1980",2.3919999999999999,72.293999999999997,60099]
[null,"Aruba","Latin America + Caribbean",1981,"Aruba|1981",2.3769999999999998,72.539000000000001,60570]
[null,"Aruba","Latin America + Caribbean",1982,"Aruba|1982",2.3639999999999999,72.751999999999995,61347]
[null,"Aruba","Latin America + Caribbean",1983,"Aruba|1983",2.3530000000000002,72.929000000000002,62208]
[null,"Aruba","Latin America + Caribbean",1984,"Aruba|1984",2.3420000000000001,73.070999999999998,62833]
[null,"Aruba","Latin America + Caribbean",1985,"Aruba|1985",2.3319999999999999,73.180999999999997,63030]
[null,"Aruba","Latin America + Caribbean",1986,"Aruba|1986",2.3199999999999998,73.262,62645]
[null,"Aruba","Latin America + Caribbean",1987,"Aruba|1987",2.3069999999999999,73.325000000000003,61830]
[null,"Aruba","Latin America + Caribbean",1988,"Aruba|1988",2.2909999999999999,73.378,61069]
[null,"Aruba","Latin America + Caribbean",1989,"Aruba|1989",2.2719999999999998,73.424999999999997,61026]
[null,"Aruba","Latin America + Caribbean",1990,"Aruba|1990",2.2490000000000001,73.468000000000004,62147]
[null,"Aruba","Latin America + Caribbean",1991,"Aruba|1991",2.2210000000000001,73.509,64642]
[null,"Aruba","Latin America + Caribbean",1992,"Aruba|1992",2.1869999999999998,73.543999999999997,68286]
[null,"Aruba","Latin America + Caribbean",1993,"Aruba|1993",2.149,73.572999999999993,72573]
[null,"Aruba","Latin America + Caribbean",1994,"Aruba|1994",2.1080000000000001,73.597999999999999,76762]
[null,"Aruba","Latin America + Caribbean",1995,"Aruba|1995",2.0640000000000001,73.622,80323]
[null,"Aruba","Latin America + Caribbean",1996,"Aruba|1996",2.0209999999999999,73.644999999999996,83069]
[null,"Aruba","Latin America + Caribbean",1997,"Aruba|1997",1.9790000000000001,73.668999999999997,85161]
[null,"Aruba","Latin America + Caribbean",1998,"Aruba|1998",1.94,73.697000000000003,86827]
[null,"Aruba","Latin America + Caribbean",1999,"Aruba|1999",1.905,73.733999999999995,88442]
[null,"Aruba","Latin America + Caribbean",2000,"Aruba|2000",1.8740000000000001,73.783000000000001,90271]
[null,"Aruba","Latin America + Caribbean",2001,"Aruba|2001",1.8480000000000001,73.852000000000004,92363]
[null,"Aruba","Latin America + Caribbean",2002,"Aruba|2002",1.825,73.94,94596]
[null,"Aruba","Latin America + Caribbean",2003,"Aruba|2003",1.8049999999999999,74.048000000000002,96875]
[null,"Aruba","Latin America + Caribbean",2004,"Aruba|2004",1.786,74.174999999999997,99046]
[null,"Aruba","Latin America + Caribbean",2005,"Aruba|2005",1.7689999999999999,74.316000000000003,100996]
[null,"Aruba","Latin America + Caribbean",2006,"Aruba|2006",1.754,74.466999999999999,102711]
[null,"Aruba","Latin America + Caribbean",2007,"Aruba|2007",1.7390000000000001,74.620999999999995,104225]
[null,"Aruba","Latin America + Caribbean",2008,"Aruba|2008",1.726,74.772000000000006,105526]
[null,"Aruba","Latin America + Caribbean",2009,"Aruba|2009",1.7130000000000001,74.918999999999997,106612]
[null,"Aruba","Latin America + Caribbean",2010,"Aruba|2010",1.7010000000000001,75.058999999999997,107488]
[null,"Aruba","Latin America + Caribbean",2011,"Aruba|2011",1.69,75.192999999999998,108141]
[null,"Aruba","Latin America + Caribbean",2012,"Aruba|2012",1.681,75.323999999999998,108587]
[null,"Aruba","Latin America + Caribbean",2013,"Aruba|2013",1.673,75.454999999999998,108883]
[null,"Australia","Asia + Pacific",1951,"Australia|1951",3.0590000000000002,68.72,8398540]
[null,"Australia","Asia + Pacific",1950,"Australia|1950",3.0670000000000002,69.02,8177344]
[null,"Australia","Asia + Pacific",1952,"Australia|1952",3.181,69.12,8604679]
[null,"Australia","Asia + Pacific",1953,"Australia|1953",3.1930000000000001,69.7,8804552]
[null,"Australia","Asia + Pacific",1954,"Australia|1954",3.1909999999999998,69.849999999999994,9004634]
[null,"Australia","Asia + Pacific",1956,"Australia|1956",3.33,70.05,9419635]
[null,"Australia","Asia + Pacific",1955,"Australia|1955",3.2749999999999999,70.17,9209085]
[null,"Australia","Asia + Pacific",1957,"Australia|1957",3.4209999999999998,70.33,9635700]
[null,"Australia","Asia + Pacific",1959,"Australia|1959",3.44,70.45,10072762]
[null,"Australia","Asia + Pacific",1964,"Australia|1964",3.1539999999999999,70.650000000000006,11122567]
[null,"Australia","Asia + Pacific",1968,"Australia|1968",2.8860000000000001,70.73,12175746]
[null,"Australia","Asia + Pacific",1970,"Australia|1970",2.859,70.81,12728362]
[null,"Australia","Asia + Pacific",1966,"Australia|1966",2.8849999999999998,70.819999999999993,11617580]
[null,"Australia","Asia + Pacific",1958,"Australia|1958",3.4209999999999998,70.88,9854726]
[null,"Australia","Asia + Pacific",1960,"Australia|1960",3.4510000000000001,70.89,10286184]
[null,"Australia","Asia + Pacific",1962,"Australia|1962",3.431,70.930000000000007,10697112]
[null,"Australia","Asia + Pacific",1965,"Australia|1965",2.9729999999999999,70.98,11359763]
[null,"Australia","Asia + Pacific",1963,"Australia|1963",3.343,70.989999999999995,10903699]
[null,"Australia","Asia + Pacific",1967,"Australia|1967",2.847,71.099999999999994,11892163]
[null,"Australia","Asia + Pacific",1969,"Australia|1969",2.887,71.14,12457299]
[null,"Australia","Asia + Pacific",1961,"Australia|1961",3.548,71.16,10493531]
[null,"Australia","Asia + Pacific",1971,"Australia|1971",2.9449999999999998,71.41,12987847]
[null,"Australia","Asia + Pacific",1974,"Australia|1974",2.3210000000000002,71.89,13690285]
[null,"Australia","Asia + Pacific",1972,"Australia|1972",2.7429999999999999,71.930000000000007,13236895]
[null,"Australia","Asia + Pacific",1973,"Australia|1973",2.4910000000000001,72.14,13472175]
[null,"Australia","Asia + Pacific",1975,"Australia|1975",2.1480000000000001,72.84,13889696]
[null,"Australia","Asia + Pacific",1976,"Australia|1976",2.06,72.88,14067994]
[null,"Australia","Asia + Pacific",1977,"Australia|1977",2.0070000000000001,73.489999999999995,14227905]
[null,"Australia","Asia + Pacific",1978,"Australia|1978",1.9490000000000001,73.88,14379565]
[null,"Australia","Asia + Pacific",1979,"Australia|1979",1.907,74.44,14536839]
[null,"Australia","Asia + Pacific",1980,"Australia|1980",1.891,74.599999999999994,14709918]
[null,"Australia","Asia + Pacific",1982,"Australia|1982",1.929,74.739999999999995,15109659]
[null,"Australia","Asia + Pacific",1981,"Australia|1981",1.9350000000000001,74.959999999999994,14901610]
[null,"Australia","Asia + Pacific",1985,"Australia|1985",1.923,75.45,15812088]
[null,"Australia","Asia + Pacific",1983,"Australia|1983",1.9239999999999999,75.55,15332790]
[null,"Australia","Asia + Pacific",1984,"Australia|1984",1.84,76.02,15567927]
[null,"Australia","Asia + Pacific",1986,"Australia|1986",1.8680000000000001,76.13,16066496]
[null,"Australia","Asia + Pacific",1987,"Australia|1987",1.845,76.319999999999993,16330369]
[null,"Australia","Asia + Pacific",1988,"Australia|1988",1.831,76.349999999999994,16596096]
[null,"Australia","Asia + Pacific",1989,"Australia|1989",1.8380000000000001,76.45,16853690]
[null,"Australia","Asia + Pacific",1990,"Australia|1990",1.9019999999999999,77.05,17096153]
[null,"Australia","Asia + Pacific",1991,"Australia|1991",1.849,77.540000000000006,17320633]
[null,"Australia","Asia + Pacific",1992,"Australia|1992",1.8879999999999999,77.540000000000006,17529469]
[null,"Australia","Asia + Pacific",1993,"Australia|1993",1.859,78.069999999999993,17727413]
[null,"Australia","Asia + Pacific",1994,"Australia|1994",1.8420000000000001,78.069999999999993,17921818]
[null,"Australia","Asia + Pacific",1995,"Australia|1995",1.8220000000000001,78.45,18118416]
[null,"Australia","Asia + Pacific",1996,"Australia|1996",1.796,78.53,18319637]
[null,"Australia","Asia + Pacific",1997,"Australia|1997",1.778,78.790000000000006,18525153]
[null,"Australia","Asia + Pacific",1998,"Australia|1998",1.762,79.28,18734878]
[null,"Australia","Asia + Pacific",1999,"Australia|1999",1.7549999999999999,79.53,18947894]
[null,"Australia","Asia + Pacific",2000,"Australia|2000",1.756,79.930000000000007,19164351]
[null,"Australia","Asia + Pacific",2001,"Australia|2001",1.7290000000000001,80.27,19382188]
[null,"Australia","Asia + Pacific",2002,"Australia|2002",1.756,80.290000000000006,19604051]
[null,"Australia","Asia + Pacific",2003,"Australia|2003",1.748,80.69,19840120]
[null,"Australia","Asia + Pacific",2004,"Australia|2004",1.7629999999999999,81.040000000000006,20103822]
[null,"Australia","Asia + Pacific",2005,"Australia|2005",1.7909999999999999,81.44,20403520]
[null,"Australia","Asia + Pacific",2008,"Australia|2008",1.956,81.566999999999993,21513817]
[null,"Australia","Asia + Pacific",2006,"Australia|2006",1.8169999999999999,81.63,20744295]
[null,"Australia","Asia + Pacific",2007,"Australia|2007",1.92,81.67,21119988]
[null,"Australia","Asia + Pacific",2009,"Australia|2009",1.903,81.936999999999998,21902300]
[null,"Australia","Asia + Pacific",2010,"Australia|2010",1.8859999999999999,82.090999999999994,22268384]
[null,"Australia","Asia + Pacific",2011,"Australia|2011",1.8839999999999999,82.230999999999995,22605732]
[null,"Australia","Asia + Pacific",2012,"Australia|2012",1.887,82.364000000000004,22918688]
[null,"Australia","Asia + Pacific",2013,"Australia|2013",1.8819999999999999,82.495999999999995,23213944]
[null,"Austria","Europe",1950,"Austria|1950",1.8660000000000001,64.88,6936445]
[null,"Austria","Europe",1951,"Austria|1951",2.0209999999999999,65.260000000000005,6930746]
[null,"Austria","Europe",1952,"Austria|1952",2.0609999999999999,66.8,6929474]
[null,"Austria","Europe",1953,"Austria|1953",2.0939999999999999,67.290000000000006,6931618]
[null,"Austria","Europe",1954,"Austria|1954",2.1560000000000001,67.319999999999993,6936580]
[null,"Austria","Europe",1957,"Austria|1957",2.5720000000000001,67.48,6968701]
[null,"Austria","Europe",1955,"Austria|1955",2.2890000000000001,67.599999999999994,6944174]
[null,"Austria","Europe",1956,"Austria|1956",2.4860000000000002,67.72,6954658]
[null,"Austria","Europe",1959,"Austria|1959",2.6880000000000002,68.42,7011632]
[null,"Austria","Europe",1958,"Austria|1958",2.6,68.489999999999995,6987299]
[null,"Austria","Europe",1960,"Austria|1960",2.6960000000000002,68.78,7042634]
[null,"Austria","Europe",1962,"Austria|1962",2.8,69.540000000000006,7124432]
[null,"Austria","Europe",1963,"Austria|1963",2.8210000000000002,69.67,7172179]
[null,"Austria","Europe",1961,"Austria|1961",2.786,69.75,7080528]
[null,"Austria","Europe",1965,"Austria|1965",2.7029999999999998,69.95,7268015]
[null,"Austria","Europe",1969,"Austria|1969",2.488,70.06,7431574]
[null,"Austria","Europe",1970,"Austria|1970",2.2919999999999998,70.11,7465908]
[null,"Austria","Europe",1967,"Austria|1967",2.621,70.14,7355039]
[null,"Austria","Europe",1964,"Austria|1964",2.7949999999999999,70.16,7220812]
[null,"Austria","Europe",1966,"Austria|1966",2.6629999999999998,70.260000000000005,7312775]
[null,"Austria","Europe",1968,"Austria|1968",2.5859999999999999,70.290000000000006,7394601]
[null,"Austria","Europe",1971,"Austria|1971",2.2000000000000002,70.31,7497731]
[null,"Austria","Europe",1972,"Austria|1972",2.085,70.63,7526469]
[null,"Austria","Europe",1974,"Austria|1974",1.9079999999999999,71.2,7568347]
[null,"Austria","Europe",1973,"Austria|1973",1.9379999999999999,71.209999999999994,7550638]
[null,"Austria","Europe",1975,"Austria|1975",1.827,71.33,7578498]
[null,"Austria","Europe",1976,"Austria|1976",1.6879999999999999,71.819999999999993,7580564]
[null,"Austria","Europe",1977,"Austria|1977",1.631,72.17,7575669]
[null,"Austria","Europe",1978,"Austria|1978",1.6040000000000001,72.25,7566450]
[null,"Austria","Europe",1979,"Austria|1979",1.5980000000000001,72.56,7556551]
[null,"Austria","Europe",1980,"Austria|1980",1.6519999999999999,72.7,7548798]
[null,"Austria","Europe",1981,"Austria|1981",1.6739999999999999,73.02,7544359]
[null,"Austria","Europe",1982,"Austria|1982",1.661,73.180000000000007,7543194]
[null,"Austria","Europe",1983,"Austria|1983",1.5589999999999999,73.25,7545472]
[null,"Austria","Europe",1984,"Austria|1984",1.522,73.790000000000006,7550960]
[null,"Austria","Europe",1985,"Austria|1985",1.474,74.010000000000005,7559621]
[null,"Austria","Europe",1986,"Austria|1986",1.4490000000000001,74.489999999999995,7570906]
[null,"Austria","Europe",1987,"Austria|1987",1.4319999999999999,74.930000000000007,7585345]
[null,"Austria","Europe",1988,"Austria|1988",1.4470000000000001,75.41,7605095]
[null,"Austria","Europe",1989,"Austria|1989",1.446,75.5,7632984]
[null,"Austria","Europe",1990,"Austria|1990",1.4570000000000001,75.77,7670513]
[null,"Austria","Europe",1991,"Austria|1991",1.5069999999999999,75.83,7719577]
[null,"Austria","Europe",1992,"Austria|1992",1.5049999999999999,76.040000000000006,7778255]
[null,"Austria","Europe",1993,"Austria|1993",1.5009999999999999,76.27,7839625]
[null,"Austria","Europe",1994,"Austria|1994",1.4650000000000001,76.59,7894229]
[null,"Austria","Europe",1995,"Austria|1995",1.4239999999999999,76.83,7935624]
[null,"Austria","Europe",1996,"Austria|1996",1.446,77.099999999999994,7960464]
[null,"Austria","Europe",1997,"Austria|1997",1.393,77.5,7971553]
[null,"Austria","Europe",1998,"Austria|1998",1.37,77.87,7976117]
[null,"Austria","Europe",1999,"Austria|1999",1.34,78.05,7984694]
[null,"Austria","Europe",2000,"Austria|2000",1.365,78.33,8004712]
[null,"Austria","Europe",2001,"Austria|2001",1.33,78.83,8038480]
[null,"Austria","Europe",2002,"Austria|2002",1.393,78.959999999999994,8083059]
[null,"Austria","Europe",2003,"Austria|2003",1.3759999999999999,78.959999999999994,8134235]
[null,"Austria","Europe",2004,"Austria|2004",1.419,79.47,8185553]
[null,"Austria","Europe",2005,"Austria|2005",1.4059999999999999,79.64,8232196]
[null,"Austria","Europe",2006,"Austria|2006",1.405,80.099999999999994,8273208]
[null,"Austria","Europe",2007,"Austria|2007",1.379,80.3,8309783]
[null,"Austria","Europe",2009,"Austria|2009",1.391,80.391999999999996,8369639]
[null,"Austria","Europe",2008,"Austria|2008",1.411,80.510000000000005,8341806]
[null,"Austria","Europe",2010,"Austria|2010",1.4379999999999999,80.594999999999999,8393644]
[null,"Austria","Europe",2011,"Austria|2011",1.4430000000000001,80.784999999999997,8413429]
[null,"Austria","Europe",2012,"Austria|2012",1.4570000000000001,80.965000000000003,8428915]
[null,"Austria","Europe",2013,"Austria|2013",1.4710000000000001,81.137,8441263]
[null,"Azerbaijan","Europe",1950,"Azerbaijan|1950",5.6440000000000001,57.134999999999998,2895997]
[null,"Azerbaijan","Europe",1951,"Azerbaijan|1951",5.593,57.341999999999999,2964962]
[null,"Azerbaijan","Europe",1952,"Azerbaijan|1952",5.5049999999999999,57.753999999999998,3044695]
[null,"Azerbaijan","Europe",1953,"Azerbaijan|1953",5.4429999999999996,58.165999999999997,3132625]
[null,"Azerbaijan","Europe",1954,"Azerbaijan|1954",5.4050000000000002,58.576000000000001,3226823]
[null,"Azerbaijan","Europe",1955,"Azerbaijan|1955",5.3929999999999998,58.984999999999999,3326002]
[null,"Azerbaijan","Europe",1956,"Azerbaijan|1956",5.4029999999999996,59.393999999999998,3429548]
[null,"Azerbaijan","Europe",1957,"Azerbaijan|1957",5.4340000000000002,59.802,3537490]
[null,"Azerbaijan","Europe",1958,"Azerbaijan|1958",5.4790000000000001,60.21,3650388]
[null,"Azerbaijan","Europe",1959,"Azerbaijan|1959",5.5279999999999996,60.62,3769151]
[null,"Azerbaijan","Europe",1960,"Azerbaijan|1960",5.5709999999999997,61.031999999999996,3894494]
[null,"Azerbaijan","Europe",1961,"Azerbaijan|1961",5.5960000000000001,61.447000000000003,4026358]
[null,"Azerbaijan","Europe",1962,"Azerbaijan|1962",5.5910000000000002,61.865000000000002,4163396]
[null,"Azerbaijan","Europe",1963,"Azerbaijan|1963",5.5490000000000004,62.283999999999999,4302765]
[null,"Azerbaijan","Europe",1964,"Azerbaijan|1964",5.468,62.701000000000001,4440733]
[null,"Azerbaijan","Europe",1965,"Azerbaijan|1965",5.3520000000000003,63.116999999999997,4574500]
[null,"Azerbaijan","Europe",1966,"Azerbaijan|1966",5.21,63.533000000000001,4702919]
[null,"Azerbaijan","Europe",1967,"Azerbaijan|1967",5.056,63.945,4826262]
[null,"Azerbaijan","Europe",1993,"Azerbaijan|1993",2.7989999999999999,64.171000000000006,7562075]
[null,"Azerbaijan","Europe",1992,"Azerbaijan|1992",2.883,64.245000000000005,7445925]
[null,"Azerbaijan","Europe",1994,"Azerbaijan|1994",2.6880000000000002,64.290999999999997,7669735]
[null,"Azerbaijan","Europe",1968,"Azerbaijan|1968",4.9009999999999998,64.341999999999999,4944932]
[null,"Azerbaijan","Europe",1991,"Azerbaijan|1991",2.94,64.494,7327570]
[null,"Azerbaijan","Europe",1995,"Azerbaijan|1995",2.5609999999999999,64.590999999999994,7764798]
[null,"Azerbaijan","Europe",1969,"Azerbaijan|1969",4.7530000000000001,64.712000000000003,5059921]
[null,"Azerbaijan","Europe",1990,"Azerbaijan|1990",2.9689999999999999,64.858000000000004,7211692]
[null,"Azerbaijan","Europe",1980,"Azerbaijan|1980",3.286,64.963999999999999,6160502]
[null,"Azerbaijan","Europe",1981,"Azerbaijan|1981",3.1789999999999998,64.995999999999995,6258490]
[null,"Azerbaijan","Europe",1979,"Azerbaijan|1979",3.407,65.016999999999996,6064905]
[null,"Azerbaijan","Europe",1996,"Azerbaijan|1996",2.427,65.022999999999996,7845310]
[null,"Azerbaijan","Europe",1970,"Azerbaijan|1970",4.6120000000000001,65.034999999999997,5172002]
[null,"Azerbaijan","Europe",1982,"Azerbaijan|1982",3.0920000000000001,65.108000000000004,6358780]
[null,"Azerbaijan","Europe",1978,"Azerbaijan|1978",3.5390000000000001,65.123999999999995,5971198]
[null,"Azerbaijan","Europe",1989,"Azerbaijan|1989",2.9729999999999999,65.245999999999995,7099449]
[null,"Azerbaijan","Europe",1977,"Azerbaijan|1977",3.6760000000000002,65.254000000000005,5878259]
[null,"Azerbaijan","Europe",1983,"Azerbaijan|1983",3.0259999999999998,65.283000000000001,6461139]
[null,"Azerbaijan","Europe",1971,"Azerbaijan|1971",4.4790000000000001,65.287000000000006,5281238]
[null,"Azerbaijan","Europe",1976,"Azerbaijan|1976",3.8140000000000001,65.387,5784587]
[null,"Azerbaijan","Europe",1972,"Azerbaijan|1972",4.3479999999999999,65.456999999999994,5387375]
[null,"Azerbaijan","Europe",1975,"Azerbaijan|1975",3.95,65.495999999999995,5688997]
[null,"Azerbaijan","Europe",1984,"Azerbaijan|1984",2.98,65.498999999999995,6565062]
[null,"Azerbaijan","Europe",1997,"Azerbaijan|1997",2.3010000000000002,65.510999999999996,7913692]
[null,"Azerbaijan","Europe",1973,"Azerbaijan|1973",4.2160000000000002,65.545000000000002,5490572]
[null,"Azerbaijan","Europe",1974,"Azerbaijan|1974",4.0839999999999996,65.554000000000002,5591016]
[null,"Azerbaijan","Europe",1988,"Azerbaijan|1988",2.964,65.566999999999993,6989708]
[null,"Azerbaijan","Europe",1985,"Azerbaijan|1985",2.9540000000000002,65.694999999999993,6670151]
[null,"Azerbaijan","Europe",1987,"Azerbaijan|1987",2.9529999999999998,65.757000000000005,6882160]
[null,"Azerbaijan","Europe",1986,"Azerbaijan|1986",2.9470000000000001,65.796000000000006,6775858]
[null,"Azerbaijan","Europe",1998,"Azerbaijan|1998",2.1930000000000001,65.989999999999995,7975648]
[null,"Azerbaijan","Europe",1999,"Azerbaijan|1999",2.1080000000000001,66.438000000000002,8039312]
[null,"Azerbaijan","Europe",2000,"Azerbaijan|2000",2.0489999999999999,66.850999999999999,8110723]
[null,"Azerbaijan","Europe",2001,"Azerbaijan|2001",2.0139999999999998,67.248999999999995,8191464]
[null,"Azerbaijan","Europe",2002,"Azerbaijan|2002",1.9970000000000001,67.662000000000006,8280252]
[null,"Azerbaijan","Europe",2003,"Azerbaijan|2003",1.9890000000000001,68.105000000000004,8376733]
[null,"Azerbaijan","Europe",2004,"Azerbaijan|2004",1.9870000000000001,68.569999999999993,8479668]
[null,"Azerbaijan","Europe",2005,"Azerbaijan|2005",1.988,69.033000000000001,8587902]
[null,"Azerbaijan","Europe",2006,"Azerbaijan|2006",1.9890000000000001,69.465999999999994,8701719]
[null,"Azerbaijan","Europe",2007,"Azerbaijan|2007",1.9890000000000001,69.840999999999994,8821012]
[null,"Azerbaijan","Europe",2008,"Azerbaijan|2008",1.986,70.141999999999996,8943600]
[null,"Azerbaijan","Europe",2009,"Azerbaijan|2009",1.98,70.366,9066604]
[null,"Azerbaijan","Europe",2010,"Azerbaijan|2010",1.97,70.518000000000001,9187783]
[null,"Azerbaijan","Europe",2011,"Azerbaijan|2011",1.956,70.616,9306023]
[null,"Azerbaijan","Europe",2012,"Azerbaijan|2012",1.94,70.686000000000007,9421233]
[null,"Azerbaijan","Europe",2013,"Azerbaijan|2013",1.9239999999999999,70.753,9533445]
[null,"Bahamas","Latin America + Caribbean",1950,"Bahamas|1950",3.9780000000000002,59.179000000000002,79088]
[null,"Bahamas","Latin America + Caribbean",1951,"Bahamas|1951",3.9910000000000001,59.395000000000003,79982]
[null,"Bahamas","Latin America + Caribbean",1952,"Bahamas|1952",4.0209999999999999,59.823999999999998,81426]
[null,"Bahamas","Latin America + Caribbean",1953,"Bahamas|1953",4.0620000000000003,60.241999999999997,83368]
[null,"Bahamas","Latin America + Caribbean",1954,"Bahamas|1954",4.1150000000000002,60.649000000000001,85773]
[null,"Bahamas","Latin America + Caribbean",1955,"Bahamas|1955",4.1779999999999999,61.046999999999997,88616]
[null,"Bahamas","Latin America + Caribbean",1956,"Bahamas|1956",4.2480000000000002,61.433999999999997,91890]
[null,"Bahamas","Latin America + Caribbean",1957,"Bahamas|1957",4.3230000000000004,61.81,95601]
[null,"Bahamas","Latin America + Caribbean",1958,"Bahamas|1958",4.3970000000000002,62.177,99765]
[null,"Bahamas","Latin America + Caribbean",1959,"Bahamas|1959",4.4580000000000002,62.533999999999999,104405]
[null,"Bahamas","Latin America + Caribbean",1960,"Bahamas|1960",4.4950000000000001,62.881,109527]
[null,"Bahamas","Latin America + Caribbean",1961,"Bahamas|1961",4.4960000000000004,63.22,115112]
[null,"Bahamas","Latin America + Caribbean",1962,"Bahamas|1962",4.45,63.551000000000002,121090]
[null,"Bahamas","Latin America + Caribbean",1963,"Bahamas|1963",4.3559999999999999,63.872999999999998,127340]
[null,"Bahamas","Latin America + Caribbean",1964,"Bahamas|1964",4.22,64.188999999999993,133709]
[null,"Bahamas","Latin America + Caribbean",1965,"Bahamas|1965",4.0570000000000004,64.498000000000005,140063]
[null,"Bahamas","Latin America + Caribbean",1966,"Bahamas|1966",3.8929999999999998,64.8,146379]
[null,"Bahamas","Latin America + Caribbean",1967,"Bahamas|1967",3.75,65.094999999999999,152623]
[null,"Bahamas","Latin America + Caribbean",1968,"Bahamas|1968",3.641,65.382999999999996,158644]
[null,"Bahamas","Latin America + Caribbean",1969,"Bahamas|1969",3.5710000000000002,65.665000000000006,164263]
[null,"Bahamas","Latin America + Caribbean",1970,"Bahamas|1970",3.5310000000000001,65.942999999999998,169367]
[null,"Bahamas","Latin America + Caribbean",1971,"Bahamas|1971",3.504,66.218000000000004,173875]
[null,"Bahamas","Latin America + Caribbean",1972,"Bahamas|1972",3.4689999999999999,66.489999999999995,177849]
[null,"Bahamas","Latin America + Caribbean",1973,"Bahamas|1973",3.411,66.759,181490]
[null,"Bahamas","Latin America + Caribbean",1974,"Bahamas|1974",3.33,67.027000000000001,185091]
[null,"Bahamas","Latin America + Caribbean",1975,"Bahamas|1975",3.234,67.290999999999997,188870]
[null,"Bahamas","Latin America + Caribbean",1976,"Bahamas|1976",3.1389999999999998,67.55,192885]
[null,"Bahamas","Latin America + Caribbean",1977,"Bahamas|1977",3.0619999999999998,67.802999999999997,197090]
[null,"Bahamas","Latin America + Caribbean",1978,"Bahamas|1978",3.012,68.05,201474]
[null,"Bahamas","Latin America + Caribbean",1979,"Bahamas|1979",2.99,68.290000000000006,205990]
[null,"Bahamas","Latin America + Caribbean",1980,"Bahamas|1980",2.9889999999999999,68.524000000000001,210600]
[null,"Bahamas","Latin America + Caribbean",1981,"Bahamas|1981",2.9940000000000002,68.754999999999995,215330]
[null,"Bahamas","Latin America + Caribbean",1982,"Bahamas|1982",2.9889999999999999,68.983999999999995,220188]
[null,"Bahamas","Latin America + Caribbean",1983,"Bahamas|1983",2.9649999999999999,69.212000000000003,225083]
[null,"Bahamas","Latin America + Caribbean",1984,"Bahamas|1984",2.919,69.438000000000002,229899]
[null,"Bahamas","Latin America + Caribbean",1985,"Bahamas|1985",2.8570000000000002,69.662999999999997,234553]
[null,"Bahamas","Latin America + Caribbean",1986,"Bahamas|1986",2.7890000000000001,69.885999999999996,238989]
[null,"Bahamas","Latin America + Caribbean",1987,"Bahamas|1987",2.7280000000000002,70.103999999999999,243236]
[null,"Bahamas","Latin America + Caribbean",1988,"Bahamas|1988",2.6829999999999998,70.316000000000003,247409]
[null,"Bahamas","Latin America + Caribbean",1989,"Bahamas|1989",2.6539999999999999,70.518000000000001,251671]
[null,"Bahamas","Latin America + Caribbean",1990,"Bahamas|1990",2.6389999999999998,70.704999999999998,256128]
[null,"Bahamas","Latin America + Caribbean",1991,"Bahamas|1991",2.6309999999999998,70.869,260845]
[null,"Bahamas","Latin America + Caribbean",1992,"Bahamas|1992",2.621,71.010000000000005,265761]
[null,"Bahamas","Latin America + Caribbean",1993,"Bahamas|1993",2.601,71.131,270701]
[null,"Bahamas","Latin America + Caribbean",1994,"Bahamas|1994",2.5659999999999998,71.239000000000004,275426]
[null,"Bahamas","Latin America + Caribbean",1995,"Bahamas|1995",2.5139999999999998,71.350999999999999,279774]
[null,"Bahamas","Latin America + Caribbean",1996,"Bahamas|1996",2.4430000000000001,71.481999999999999,283677]
[null,"Bahamas","Latin America + Caribbean",1997,"Bahamas|1997",2.3570000000000002,71.646000000000001,287217]
[null,"Bahamas","Latin America + Caribbean",1998,"Bahamas|1998",2.2629999999999999,71.849999999999994,290571]
[null,"Bahamas","Latin America + Caribbean",1999,"Bahamas|1999",2.165,72.093000000000004,293988]
[null,"Bahamas","Latin America + Caribbean",2000,"Bahamas|2000",2.0710000000000002,72.37,297651]
[null,"Bahamas","Latin America + Caribbean",2001,"Bahamas|2001",1.9890000000000001,72.668000000000006,301606]
[null,"Bahamas","Latin America + Caribbean",2002,"Bahamas|2002",1.9239999999999999,72.971000000000004,305801]
[null,"Bahamas","Latin America + Caribbean",2003,"Bahamas|2003",1.88,73.263999999999996,310201]
[null,"Bahamas","Latin America + Caribbean",2004,"Bahamas|2004",1.857,73.537999999999997,314739]
[null,"Bahamas","Latin America + Caribbean",2005,"Bahamas|2005",1.853,73.787000000000006,319358]
[null,"Bahamas","Latin America + Caribbean",2006,"Bahamas|2006",1.8620000000000001,74.010999999999996,324066]
[null,"Bahamas","Latin America + Caribbean",2007,"Bahamas|2007",1.8759999999999999,74.215999999999994,328861]
[null,"Bahamas","Latin America + Caribbean",2008,"Bahamas|2008",1.889,74.406999999999996,333661]
[null,"Bahamas","Latin America + Caribbean",2009,"Bahamas|2009",1.8979999999999999,74.587000000000003,338358]
[null,"Bahamas","Latin America + Caribbean",2010,"Bahamas|2010",1.901,74.757000000000005,342877]
[null,"Bahamas","Latin America + Caribbean",2011,"Bahamas|2011",1.8979999999999999,74.92,347176]
[null,"Bahamas","Latin America + Caribbean",2012,"Bahamas|2012",1.893,75.078999999999994,351275]
[null,"Bahamas","Latin America + Caribbean",2013,"Bahamas|2013",1.8879999999999999,75.236999999999995,355233]
[null,"Bahrain","West Asia",1950,"Bahrain|1950",7.0309999999999997,41.164000000000001,115612]
[null,"Bahrain","West Asia",1951,"Bahrain|1951",7.0090000000000003,41.582999999999998,116860]
[null,"Bahrain","West Asia",1952,"Bahrain|1952",6.9729999999999999,42.459000000000003,119567]
[null,"Bahrain","West Asia",1953,"Bahrain|1953",6.9489999999999998,43.405999999999999,123402]
[null,"Bahrain","West Asia",1954,"Bahrain|1954",6.9370000000000003,44.424999999999997,128072]
[null,"Bahrain","West Asia",1955,"Bahrain|1955",6.9379999999999997,45.515000000000001,133321]
[null,"Bahrain","West Asia",1956,"Bahrain|1956",6.95,46.674999999999997,138929]
[null,"Bahrain","West Asia",1957,"Bahrain|1957",6.9740000000000002,47.9,144713]
[null,"Bahrain","West Asia",1958,"Bahrain|1958",7.0069999999999997,49.182000000000002,150526]
[null,"Bahrain","West Asia",1959,"Bahrain|1959",7.0469999999999997,50.509,156258]
[null,"Bahrain","West Asia",1960,"Bahrain|1960",7.09,51.866,161825]
[null,"Bahrain","West Asia",1961,"Bahrain|1961",7.1319999999999997,53.231999999999999,167179]
[null,"Bahrain","West Asia",1962,"Bahrain|1962",7.1680000000000001,54.588000000000001,172294]
[null,"Bahrain","West Asia",1963,"Bahrain|1963",7.19,55.91,177170]
[null,"Bahrain","West Asia",1964,"Bahrain|1964",7.1920000000000002,57.182000000000002,181833]
[null,"Bahrain","West Asia",1965,"Bahrain|1965",7.165,58.389000000000003,186351]
[null,"Bahrain","West Asia",1966,"Bahrain|1966",7.101,59.526000000000003,190734]
[null,"Bahrain","West Asia",1967,"Bahrain|1967",6.9980000000000002,60.598999999999997,195111]
[null,"Bahrain","West Asia",1968,"Bahrain|1968",6.86,61.610999999999997,199818]
[null,"Bahrain","West Asia",1969,"Bahrain|1969",6.69,62.561999999999998,205291]
[null,"Bahrain","West Asia",1970,"Bahrain|1970",6.4980000000000002,63.45,211878]
[null,"Bahrain","West Asia",1971,"Bahrain|1971",6.2930000000000001,64.275999999999996,219532]
[null,"Bahrain","West Asia",1972,"Bahrain|1972",6.0890000000000004,65.043000000000006,228255]
[null,"Bahrain","West Asia",1973,"Bahrain|1973",5.8949999999999996,65.757000000000005,238468]
[null,"Bahrain","West Asia",1974,"Bahrain|1974",5.7160000000000002,66.421000000000006,250683]
[null,"Bahrain","West Asia",1975,"Bahrain|1975",5.556,67.040000000000006,265160]
[null,"Bahrain","West Asia",1976,"Bahrain|1976",5.4139999999999997,67.614999999999995,282245]
[null,"Bahrain","West Asia",1977,"Bahrain|1977",5.2830000000000004,68.150999999999996,301559]
[null,"Bahrain","West Asia",1978,"Bahrain|1978",5.157,68.650000000000006,321751]
[null,"Bahrain","West Asia",1979,"Bahrain|1979",5.0359999999999996,69.116,340980]
[null,"Bahrain","West Asia",1980,"Bahrain|1980",4.9169999999999998,69.549000000000007,357957]
[null,"Bahrain","West Asia",1981,"Bahrain|1981",4.8019999999999996,69.95,372074]
[null,"Bahrain","West Asia",1982,"Bahrain|1982",4.6900000000000004,70.319000000000003,383785]
[null,"Bahrain","West Asia",1983,"Bahrain|1983",4.5810000000000004,70.656000000000006,394164]
[null,"Bahrain","West Asia",1984,"Bahrain|1984",4.4720000000000004,70.965000000000003,404829]
[null,"Bahrain","West Asia",1985,"Bahrain|1985",4.3620000000000001,71.248000000000005,416929]
[null,"Bahrain","West Asia",1986,"Bahrain|1986",4.2480000000000002,71.507000000000005,430845]
[null,"Bahrain","West Asia",1987,"Bahrain|1987",4.1280000000000001,71.745000000000005,446142]
[null,"Bahrain","West Asia",1988,"Bahrain|1988",4.0019999999999998,71.966999999999999,462184]
[null,"Bahrain","West Asia",1989,"Bahrain|1989",3.8719999999999999,72.177000000000007,477995]
[null,"Bahrain","West Asia",1990,"Bahrain|1990",3.738,72.382000000000005,492891]
[null,"Bahrain","West Asia",1991,"Bahrain|1991",3.601,72.587000000000003,506685]
[null,"Bahrain","West Asia",1992,"Bahrain|1992",3.4660000000000002,72.793999999999997,519696]
[null,"Bahrain","West Asia",1993,"Bahrain|1993",3.335,73.004000000000005,532362]
[null,"Bahrain","West Asia",1994,"Bahrain|1994",3.2120000000000002,73.22,545329]
[null,"Bahrain","West Asia",1995,"Bahrain|1995",3.1,73.438999999999993,559069]
[null,"Bahrain","West Asia",1996,"Bahrain|1996",3.0049999999999999,73.661000000000001,574914]
[null,"Bahrain","West Asia",1997,"Bahrain|1997",2.9260000000000002,73.879000000000005,592986]
[null,"Bahrain","West Asia",1998,"Bahrain|1998",2.8620000000000001,74.091999999999999,611237]
[null,"Bahrain","West Asia",1999,"Bahrain|1999",2.81,74.298000000000002,626765]
[null,"Bahrain","West Asia",2000,"Bahrain|2000",2.7650000000000001,74.497,638193]
[null,"Bahrain","West Asia",2001,"Bahrain|2001",2.718,74.69,642510]
[null,"Bahrain","West Asia",2002,"Bahrain|2002",2.665,74.879000000000005,642070]
[null,"Bahrain","West Asia",2003,"Bahrain|2003",2.6019999999999999,75.063999999999993,647164]
[null,"Bahrain","West Asia",2004,"Bahrain|2004",2.5289999999999999,75.247,671760]
[null,"Bahrain","West Asia",2005,"Bahrain|2005",2.4489999999999998,75.424000000000007,724807]
[null,"Bahrain","West Asia",2006,"Bahrain|2006",2.367,75.594999999999999,811410]
[null,"Bahrain","West Asia",2007,"Bahrain|2007",2.2919999999999998,75.759,925733]
[null,"Bahrain","West Asia",2008,"Bahrain|2008",2.2290000000000001,75.914000000000001,1052359]
[null,"Bahrain","West Asia",2009,"Bahrain|2009",2.1789999999999998,76.061999999999998,1169578]
[null,"Bahrain","West Asia",2010,"Bahrain|2010",2.1419999999999999,76.203000000000003,1261835]
[null,"Bahrain","West Asia",2011,"Bahrain|2011",2.1150000000000002,76.338999999999999,1323535]
[null,"Bahrain","West Asia",2012,"Bahrain|2012",2.0939999999999999,76.474000000000004,1359485]
[null,"Bahrain","West Asia",2013,"Bahrain|2013",2.0750000000000002,76.608000000000004,1377273]
[null,"Bangladesh","Asia + Pacific",1950,"Bangladesh|1950",6.2329999999999997,42.875,37894678]
[null,"Bangladesh","Asia + Pacific",1951,"Bangladesh|1951",6.266,43.037999999999997,39112507]
[null,"Bangladesh","Asia + Pacific",1952,"Bangladesh|1952",6.3310000000000004,43.375999999999998,40207573]
[null,"Bangladesh","Asia + Pacific",1953,"Bangladesh|1953",6.3920000000000003,43.738999999999997,41257838]
[null,"Bangladesh","Asia + Pacific",1954,"Bangladesh|1954",6.45,44.127000000000002,42322978]
[null,"Bangladesh","Asia + Pacific",1955,"Bangladesh|1955",6.5039999999999996,44.540999999999997,43444382]
[null,"Bangladesh","Asia + Pacific",1956,"Bangladesh|1956",6.5549999999999997,44.984000000000002,44644395]
[null,"Bangladesh","Asia + Pacific",1957,"Bangladesh|1957",6.6020000000000003,45.453000000000003,45927072]
[null,"Bangladesh","Asia + Pacific",1958,"Bangladesh|1958",6.6459999999999999,45.951000000000001,47280463]
[null,"Bangladesh","Asia + Pacific",1959,"Bangladesh|1959",6.6870000000000003,46.478999999999999,48680410]
[null,"Bangladesh","Asia + Pacific",1972,"Bangladesh|1972",6.9279999999999999,46.874000000000002,68461849]
[null,"Bangladesh","Asia + Pacific",1960,"Bangladesh|1960",6.7249999999999996,47.036999999999999,50101943]
[null,"Bangladesh","Asia + Pacific",1971,"Bangladesh|1971",6.9420000000000002,47.045999999999999,67849312]
[null,"Bangladesh","Asia + Pacific",1973,"Bangladesh|1973",6.9039999999999999,47.161999999999999,68933357]
[null,"Bangladesh","Asia + Pacific",1970,"Bangladesh|1970",6.9470000000000001,47.58,66881158]
[null,"Bangladesh","Asia + Pacific",1961,"Bangladesh|1961",6.7610000000000001,47.618000000000002,51531438]
[null,"Bangladesh","Asia + Pacific",1974,"Bangladesh|1974",6.8689999999999998,47.917999999999999,69567500]
[null,"Bangladesh","Asia + Pacific",1962,"Bangladesh|1962",6.7939999999999996,48.209000000000003,52977254]
[null,"Bangladesh","Asia + Pacific",1969,"Bangladesh|1969",6.9450000000000003,48.307000000000002,65474474]
[null,"Bangladesh","Asia + Pacific",1963,"Bangladesh|1963",6.8250000000000002,48.781999999999996,54474293]
[null,"Bangladesh","Asia + Pacific",1968,"Bangladesh|1968",6.9349999999999996,49.008000000000003,63703327]
[null,"Bangladesh","Asia + Pacific",1975,"Bangladesh|1975",6.8209999999999997,49.061,70582168]
[null,"Bangladesh","Asia + Pacific",1964,"Bangladesh|1964",6.8529999999999998,49.296999999999997,56071080]
[null,"Bangladesh","Asia + Pacific",1967,"Bangladesh|1967",6.92,49.509,61702785]
[null,"Bangladesh","Asia + Pacific",1965,"Bangladesh|1965",6.8780000000000001,49.652000000000001,57791778]
[null,"Bangladesh","Asia + Pacific",1966,"Bangladesh|1966",6.9009999999999998,49.734000000000002,59681186]
[null,"Bangladesh","Asia + Pacific",1976,"Bangladesh|1976",6.758,50.435000000000002,72053923]
[null,"Bangladesh","Asia + Pacific",1977,"Bangladesh|1977",6.68,51.828000000000003,73915723]
[null,"Bangladesh","Asia + Pacific",1978,"Bangladesh|1978",6.5869999999999997,53.070999999999998,76066342]
[null,"Bangladesh","Asia + Pacific",1979,"Bangladesh|1979",6.48,54.093000000000004,78342736]
[null,"Bangladesh","Asia + Pacific",1980,"Bangladesh|1980",6.3559999999999999,54.872,80624423]
[null,"Bangladesh","Asia + Pacific",1981,"Bangladesh|1981",6.2160000000000002,55.445999999999998,82883616]
[null,"Bangladesh","Asia + Pacific",1982,"Bangladesh|1982",6.06,55.920999999999999,85156396]
[null,"Bangladesh","Asia + Pacific",1983,"Bangladesh|1983",5.89,56.384,87459802]
[null,"Bangladesh","Asia + Pacific",1984,"Bangladesh|1984",5.71,56.860999999999997,89828434]
[null,"Bangladesh","Asia + Pacific",1985,"Bangladesh|1985",5.5220000000000002,57.368000000000002,92283598]
[null,"Bangladesh","Asia + Pacific",1986,"Bangladesh|1986",5.327,57.9,94825499]
[null,"Bangladesh","Asia + Pacific",1987,"Bangladesh|1987",5.13,58.439,97429290]
[null,"Bangladesh","Asia + Pacific",1988,"Bangladesh|1988",4.9320000000000004,58.97,100062322]
[null,"Bangladesh","Asia + Pacific",1989,"Bangladesh|1989",4.7380000000000004,59.493000000000002,102681627]
[null,"Bangladesh","Asia + Pacific",1990,"Bangladesh|1990",4.55,60.014000000000003,105256026]
[null,"Bangladesh","Asia + Pacific",1991,"Bangladesh|1991",4.37,60.536999999999999,107768749]
[null,"Bangladesh","Asia + Pacific",1992,"Bangladesh|1992",4.1970000000000001,61.066000000000003,110225555]
[null,"Bangladesh","Asia + Pacific",1993,"Bangladesh|1993",4.0330000000000004,61.601999999999997,112645460]
[null,"Bangladesh","Asia + Pacific",1994,"Bangladesh|1994",3.8780000000000001,62.146000000000001,115059015]
[null,"Bangladesh","Asia + Pacific",1995,"Bangladesh|1995",3.7320000000000002,62.692999999999998,117486952]
[null,"Bangladesh","Asia + Pacific",1996,"Bangladesh|1996",3.5960000000000001,63.24,119928682]
[null,"Bangladesh","Asia + Pacific",1997,"Bangladesh|1997",3.468,63.78,122370403]
[null,"Bangladesh","Asia + Pacific",1998,"Bangladesh|1998",3.3460000000000001,64.307000000000002,124803351]
[null,"Bangladesh","Asia + Pacific",1999,"Bangladesh|1999",3.2309999999999999,64.819000000000003,127214841]
[null,"Bangladesh","Asia + Pacific",2000,"Bangladesh|2000",3.12,65.308999999999997,129592275]
[null,"Bangladesh","Asia + Pacific",2001,"Bangladesh|2001",3.0110000000000001,65.777000000000001,131944584]
[null,"Bangladesh","Asia + Pacific",2002,"Bangladesh|2002",2.9049999999999998,66.222999999999999,134266428]
[null,"Bangladesh","Asia + Pacific",2003,"Bangladesh|2003",2.802,66.650999999999996,136514768]
[null,"Bangladesh","Asia + Pacific",2004,"Bangladesh|2004",2.702,67.063999999999993,138633401]
[null,"Bangladesh","Asia + Pacific",2005,"Bangladesh|2005",2.6070000000000002,67.465000000000003,140587922]
[null,"Bangladesh","Asia + Pacific",2006,"Bangladesh|2006",2.52,67.86,142353501]
[null,"Bangladesh","Asia + Pacific",2007,"Bangladesh|2007",2.4430000000000001,68.253,143956805]
[null,"Bangladesh","Asia + Pacific",2008,"Bangladesh|2008",2.3769999999999998,68.647999999999996,145478300]
[null,"Bangladesh","Asia + Pacific",2009,"Bangladesh|2009",2.3220000000000001,69.046000000000006,147030145]
[null,"Bangladesh","Asia + Pacific",2010,"Bangladesh|2010",2.2770000000000001,69.448999999999998,148692131]
[null,"Bangladesh","Asia + Pacific",2011,"Bangladesh|2011",2.2400000000000002,69.853999999999999,150493658]
[null,"Bangladesh","Asia + Pacific",2012,"Bangladesh|2012",2.2080000000000002,70.257999999999996,152408774]
[null,"Bangladesh","Asia + Pacific",2013,"Bangladesh|2013",2.177,70.656999999999996,154393847]
[null,"Barbados","Latin America + Caribbean",1950,"Barbados|1950",4.516,56.124000000000002,210995]
[null,"Barbados","Latin America + Caribbean",1951,"Barbados|1951",4.4850000000000003,56.4,215673]
[null,"Barbados","Latin America + Caribbean",1952,"Barbados|1952",4.4290000000000003,56.95,219587]
[null,"Barbados","Latin America + Caribbean",1953,"Barbados|1953",4.3860000000000001,57.491,222747]
[null,"Barbados","Latin America + Caribbean",1954,"Barbados|1954",4.3550000000000004,58.023000000000003,225194]
[null,"Barbados","Latin America + Caribbean",1955,"Barbados|1955",4.3360000000000003,58.546999999999997,226999]
[null,"Barbados","Latin America + Caribbean",1956,"Barbados|1956",4.327,59.061999999999998,228265]
[null,"Barbados","Latin America + Caribbean",1957,"Barbados|1957",4.3280000000000003,59.569000000000003,229123]
[null,"Barbados","Latin America + Caribbean",1958,"Barbados|1958",4.3330000000000002,60.066000000000003,229728]
[null,"Barbados","Latin America + Caribbean",1959,"Barbados|1959",4.3369999999999997,60.552999999999997,230248]
[null,"Barbados","Latin America + Caribbean",1960,"Barbados|1960",4.3330000000000002,61.03,230831]
[null,"Barbados","Latin America + Caribbean",1961,"Barbados|1961",4.3129999999999997,61.496000000000002,231574]
[null,"Barbados","Latin America + Caribbean",1962,"Barbados|1962",4.2690000000000001,61.948999999999998,232490]
[null,"Barbados","Latin America + Caribbean",1963,"Barbados|1963",4.1959999999999997,62.390999999999998,233496]
[null,"Barbados","Latin America + Caribbean",1964,"Barbados|1964",4.0940000000000003,62.819000000000003,234455]
[null,"Barbados","Latin America + Caribbean",1965,"Barbados|1965",3.9630000000000001,63.235999999999997,235271]
[null,"Barbados","Latin America + Caribbean",1966,"Barbados|1966",3.8069999999999999,63.640999999999998,235912]
[null,"Barbados","Latin America + Caribbean",1967,"Barbados|1967",3.637,64.036000000000001,236443]
[null,"Barbados","Latin America + Caribbean",1968,"Barbados|1968",3.46,64.421999999999997,236974]
[null,"Barbados","Latin America + Caribbean",1969,"Barbados|1969",3.2839999999999998,64.798000000000002,237657]
[null,"Barbados","Latin America + Caribbean",1970,"Barbados|1970",3.113,65.164000000000001,238593]
[null,"Barbados","Latin America + Caribbean",1971,"Barbados|1971",2.9489999999999998,65.519000000000005,239841]
[null,"Barbados","Latin America + Caribbean",1972,"Barbados|1972",2.794,65.863,241345]
[null,"Barbados","Latin America + Caribbean",1973,"Barbados|1973",2.6480000000000001,66.194999999999993,242949]
[null,"Barbados","Latin America + Caribbean",1974,"Barbados|1974",2.5129999999999999,66.519000000000005,244433]
[null,"Barbados","Latin America + Caribbean",1975,"Barbados|1975",2.3929999999999998,66.834000000000003,245646]
[null,"Barbados","Latin America + Caribbean",1976,"Barbados|1976",2.2879999999999998,67.144999999999996,246523]
[null,"Barbados","Latin America + Caribbean",1977,"Barbados|1977",2.198,67.453999999999994,247128]
[null,"Barbados","Latin America + Caribbean",1978,"Barbados|1978",2.121,67.762,247589]
[null,"Barbados","Latin America + Caribbean",1979,"Barbados|1979",2.0569999999999999,68.067999999999998,248101]
[null,"Barbados","Latin America + Caribbean",1980,"Barbados|1980",2.004,68.373999999999995,248796]
[null,"Barbados","Latin America + Caribbean",1981,"Barbados|1981",1.96,68.674999999999997,249716]
[null,"Barbados","Latin America + Caribbean",1982,"Barbados|1982",1.9219999999999999,68.971999999999994,250809]
[null,"Barbados","Latin America + Caribbean",1983,"Barbados|1983",1.889,69.260000000000005,252017]
[null,"Barbados","Latin America + Caribbean",1984,"Barbados|1984",1.8580000000000001,69.540000000000006,253244]
[null,"Barbados","Latin America + Caribbean",1985,"Barbados|1985",1.83,69.811999999999998,254419]
[null,"Barbados","Latin America + Caribbean",1986,"Barbados|1986",1.8049999999999999,70.076999999999998,255532]
[null,"Barbados","Latin America + Caribbean",1987,"Barbados|1987",1.782,70.334999999999994,256602]
[null,"Barbados","Latin America + Caribbean",1988,"Barbados|1988",1.7649999999999999,70.588999999999999,257621]
[null,"Barbados","Latin America + Caribbean",1989,"Barbados|1989",1.75,70.837000000000003,258588]
[null,"Barbados","Latin America + Caribbean",1990,"Barbados|1990",1.74,71.078999999999994,259501]
[null,"Barbados","Latin America + Caribbean",1991,"Barbados|1991",1.732,71.313999999999993,260351]
[null,"Barbados","Latin America + Caribbean",1992,"Barbados|1992",1.7270000000000001,71.542000000000002,261136]
[null,"Barbados","Latin America + Caribbean",1993,"Barbados|1993",1.7250000000000001,71.760999999999996,261885]
[null,"Barbados","Latin America + Caribbean",1994,"Barbados|1994",1.724,71.971999999999994,262637]
[null,"Barbados","Latin America + Caribbean",1995,"Barbados|1995",1.726,72.174999999999997,263416]
[null,"Barbados","Latin America + Caribbean",1996,"Barbados|1996",1.73,72.372,264237]
[null,"Barbados","Latin America + Caribbean",1997,"Barbados|1997",1.736,72.563000000000002,265088]
[null,"Barbados","Latin America + Caribbean",1998,"Barbados|1998",1.7450000000000001,72.751000000000005,265941]
[null,"Barbados","Latin America + Caribbean",1999,"Barbados|1999",1.756,72.935000000000002,266758]
[null,"Barbados","Latin America + Caribbean",2000,"Barbados|2000",1.768,73.117999999999995,267511]
[null,"Barbados","Latin America + Caribbean",2001,"Barbados|2001",1.78,73.3,268192]
[null,"Barbados","Latin America + Caribbean",2002,"Barbados|2002",1.7909999999999999,73.480999999999995,268813]
[null,"Barbados","Latin America + Caribbean",2003,"Barbados|2003",1.8009999999999999,73.661000000000001,269389]
[null,"Barbados","Latin America + Caribbean",2004,"Barbados|2004",1.81,73.84,269947]
[null,"Barbados","Latin America + Caribbean",2005,"Barbados|2005",1.8169999999999999,74.018000000000001,270503]
[null,"Barbados","Latin America + Caribbean",2006,"Barbados|2006",1.8220000000000001,74.194000000000003,271062]
[null,"Barbados","Latin America + Caribbean",2007,"Barbados|2007",1.827,74.367999999999995,271618]
[null,"Barbados","Latin America + Caribbean",2008,"Barbados|2008",1.831,74.539000000000001,272180]
[null,"Barbados","Latin America + Caribbean",2009,"Barbados|2009",1.835,74.707999999999998,272750]
[null,"Barbados","Latin America + Caribbean",2010,"Barbados|2010",1.839,74.875,273331]
[null,"Barbados","Latin America + Caribbean",2011,"Barbados|2011",1.8420000000000001,75.040999999999997,273925]
[null,"Barbados","Latin America + Caribbean",2012,"Barbados|2012",1.845,75.204999999999998,274530]
[null,"Barbados","Latin America + Caribbean",2013,"Barbados|2013",1.849,75.37,275141]
[null,"Belarus","Europe",1950,"Belarus|1950",2.5310000000000001,65.022000000000006,7745003]
[null,"Belarus","Europe",1951,"Belarus|1951",2.5529999999999999,65.247,7717670]
[null,"Belarus","Europe",1952,"Belarus|1952",2.5950000000000002,65.691999999999993,7710974]
[null,"Belarus","Europe",1953,"Belarus|1953",2.6320000000000001,66.125,7724055]
[null,"Belarus","Europe",1954,"Belarus|1954",2.665,66.548000000000002,7755530]
[null,"Belarus","Europe",1955,"Belarus|1955",2.6930000000000001,66.957999999999998,7803500]
[null,"Belarus","Europe",1956,"Belarus|1956",2.7160000000000002,67.356999999999999,7865511]
[null,"Belarus","Europe",1957,"Belarus|1957",2.734,67.742000000000004,7938588]
[null,"Belarus","Europe",1999,"Belarus|1999",1.252,67.97,10107518]
[null,"Belarus","Europe",1958,"Belarus|1958",2.746,68.111000000000004,8019355]
[null,"Belarus","Europe",2002,"Belarus|2002",1.232,68.17,9963383]
[null,"Belarus","Europe",1997,"Belarus|1997",1.3380000000000001,68.37,10204382]
[null,"Belarus","Europe",1998,"Belarus|1998",1.2889999999999999,68.37,10157409]
[null,"Belarus","Europe",1995,"Belarus|1995",1.47,68.42,10274231]
[null,"Belarus","Europe",1996,"Belarus|1996",1.399,68.56,10244354]
[null,"Belarus","Europe",2001,"Belarus|2001",1.224,68.61,10009810]
[null,"Belarus","Europe",2003,"Belarus|2003",1.252,68.709999999999994,9917927]
[null,"Belarus","Europe",1994,"Belarus|1994",1.5489999999999999,68.81,10293127]
[null,"Belarus","Europe",2005,"Belarus|2005",1.3149999999999999,68.84,9825102]
[null,"Belarus","Europe",2000,"Belarus|2000",1.23,68.989999999999995,10057810]
[null,"Belarus","Europe",1993,"Belarus|1993",1.635,69.05,10301336]
[null,"Belarus","Europe",1959,"Belarus|1959",2.75,69.06,8104231]
[null,"Belarus","Europe",2004,"Belarus|2004",1.2809999999999999,69.09,9872110]
[null,"Belarus","Europe",2008,"Belarus|2008",1.4159999999999999,69.194000000000003,9680690]
[null,"Belarus","Europe",2009,"Belarus|2009",1.4410000000000001,69.468000000000004,9636016]
[null,"Belarus","Europe",2006,"Belarus|2006",1.351,69.510000000000005,9776823]
[null,"Belarus","Europe",2010,"Belarus|2010",1.46,69.613,9595421]
[null,"Belarus","Europe",2011,"Belarus|2011",1.4730000000000001,69.727999999999994,9559441]
[null,"Belarus","Europe",2012,"Belarus|2012",1.484,69.828999999999994,9527498]
[null,"Belarus","Europe",2013,"Belarus|2013",1.494,69.927999999999997,9498290]
[null,"Belarus","Europe",1992,"Belarus|1992",1.722,70.16,10298479]
[null,"Belarus","Europe",2007,"Belarus|2007",1.3859999999999999,70.41,9728228]
[null,"Belarus","Europe",1991,"Belarus|1991",1.8069999999999999,70.58,10284522]
[null,"Belarus","Europe",1984,"Belarus|1984",2.0990000000000002,70.650000000000006,9931687]
[null,"Belarus","Europe",1985,"Belarus|1985",2.0939999999999999,70.86,9998503]
[null,"Belarus","Europe",1980,"Belarus|1980",2.081,71.08,9658500]
[null,"Belarus","Europe",1990,"Belarus|1990",1.885,71.14,10259700]
[null,"Belarus","Europe",1983,"Belarus|1983",2.0960000000000001,71.28,9862430]
[null,"Belarus","Europe",1962,"Belarus|1962",2.6949999999999998,71.290000000000006,8356938]
[null,"Belarus","Europe",1979,"Belarus|1979",2.0840000000000001,71.319999999999993,9596589]
[null,"Belarus","Europe",1981,"Belarus|1981",2.0840000000000001,71.36,9724106]
[null,"Belarus","Europe",1982,"Belarus|1982",2.09,71.489999999999995,9792555]
[null,"Belarus","Europe",1989,"Belarus|1989",1.9530000000000001,71.680000000000007,10223861]
[null,"Belarus","Europe",1978,"Belarus|1978",2.0939999999999999,71.72,9538046]
[null,"Belarus","Europe",1960,"Belarus|1960",2.7429999999999999,71.849999999999994,8190006]
[null,"Belarus","Europe",1977,"Belarus|1977",2.11,71.86,9481560]
[null,"Belarus","Europe",1988,"Belarus|1988",2.008,71.89,10177584]
[null,"Belarus","Europe",1976,"Belarus|1976",2.1320000000000001,71.92,9425089]
[null,"Belarus","Europe",1963,"Belarus|1963",2.653,71.95,8438517]
[null,"Belarus","Europe",1975,"Belarus|1975",2.16,72.08,9367004]
[null,"Belarus","Europe",1987,"Belarus|1987",2.0499999999999998,72.150000000000006,10122880]
[null,"Belarus","Europe",1986,"Belarus|1986",2.0779999999999998,72.25,10062440]
[null,"Belarus","Europe",1970,"Belarus|1970",2.3039999999999998,72.319999999999993,9039503]
[null,"Belarus","Europe",1961,"Belarus|1961",2.726,72.569999999999993,8274466]
[null,"Belarus","Europe",1972,"Belarus|1972",2.2480000000000002,72.67,9181971]
[null,"Belarus","Europe",1973,"Belarus|1973",2.2200000000000002,72.709999999999994,9246050]
[null,"Belarus","Europe",1969,"Belarus|1969",2.3370000000000002,72.84,8959479]
[null,"Belarus","Europe",1971,"Belarus|1971",2.2749999999999999,72.959999999999994,9113454]
[null,"Belarus","Europe",1974,"Belarus|1974",2.19,73.010000000000005,9307285]
[null,"Belarus","Europe",1965,"Belarus|1965",2.5430000000000001,73.02,8607003]
[null,"Belarus","Europe",1967,"Belarus|1967",2.427,73.13,8785093]
[null,"Belarus","Europe",1968,"Belarus|1968",2.3780000000000001,73.239999999999995,8874033]
[null,"Belarus","Europe",1966,"Belarus|1966",2.4830000000000001,73.38,8695396]
[null,"Belarus","Europe",1964,"Belarus|1964",2.601,73.48,8521413]
[null,"Belgium","Europe",1950,"Belgium|1950",2.2949999999999999,66.349999999999994,8628489]
[null,"Belgium","Europe",1951,"Belgium|1951",2.3050000000000002,66.8,8665736]
[null,"Belgium","Europe",1952,"Belgium|1952",2.327,68,8710135]
[null,"Belgium","Europe",1953,"Belgium|1953",2.3530000000000002,68.37,8759521]
[null,"Belgium","Europe",1955,"Belgium|1955",2.4169999999999998,68.58,8866744]
[null,"Belgium","Europe",1954,"Belgium|1954",2.383,68.63,8812159]
[null,"Belgium","Europe",1956,"Belgium|1956",2.4540000000000002,68.87,8922420]
[null,"Belgium","Europe",1957,"Belgium|1957",2.4940000000000002,69.239999999999995,8978760]
[null,"Belgium","Europe",1960,"Belgium|1960",2.6040000000000001,69.650000000000006,9152271]
[null,"Belgium","Europe",1958,"Belgium|1958",2.5339999999999998,69.930000000000007,9035709]
[null,"Belgium","Europe",1963,"Belgium|1963",2.625,70.06,9329967]
[null,"Belgium","Europe",1962,"Belgium|1962",2.633,70.25,9271655]
[null,"Belgium","Europe",1959,"Belgium|1959",2.5720000000000001,70.33,9093483]
[null,"Belgium","Europe",1961,"Belgium|1961",2.625,70.52,9211920]
[null,"Belgium","Europe",1965,"Belgium|1965",2.5569999999999999,70.58,9435244]
[null,"Belgium","Europe",1968,"Belgium|1968",2.36,70.63,9555402]
[null,"Belgium","Europe",1966,"Belgium|1966",2.5009999999999999,70.650000000000006,9479970]
[null,"Belgium","Europe",1969,"Belgium|1969",2.2829999999999999,70.709999999999994,9590007]
[null,"Belgium","Europe",1964,"Belgium|1964",2.5990000000000002,70.73,9384939]
[null,"Belgium","Europe",1967,"Belgium|1967",2.4329999999999998,70.94,9519500]
[null,"Belgium","Europe",1970,"Belgium|1970",2.206,70.97,9624908]
[null,"Belgium","Europe",1971,"Belgium|1971",2.129,71.099999999999994,9660688]
[null,"Belgium","Europe",1972,"Belgium|1972",2.052,71.44,9696539]
[null,"Belgium","Europe",1973,"Belgium|1973",1.9770000000000001,71.650000000000006,9730978]
[null,"Belgium","Europe",1975,"Belgium|1975",1.839,72,9787677]
[null,"Belgium","Europe",1974,"Belgium|1974",1.905,72.010000000000005,9761867]
[null,"Belgium","Europe",1976,"Belgium|1976",1.7809999999999999,72.150000000000006,9808403]
[null,"Belgium","Europe",1978,"Belgium|1978",1.6890000000000001,72.75,9836487]
[null,"Belgium","Europe",1977,"Belgium|1977",1.7310000000000001,72.8,9824685]
[null,"Belgium","Europe",1979,"Belgium|1979",1.655,73.239999999999995,9843898]
[null,"Belgium","Europe",1980,"Belgium|1980",1.629,73.290000000000006,9847297]
[null,"Belgium","Europe",1981,"Belgium|1981",1.609,73.7,9846320]
[null,"Belgium","Europe",1982,"Belgium|1982",1.5940000000000001,73.930000000000007,9841800]
[null,"Belgium","Europe",1983,"Belgium|1983",1.581,73.930000000000007,9836784]
[null,"Belgium","Europe",1984,"Belgium|1984",1.571,74.430000000000007,9835279]
[null,"Belgium","Europe",1985,"Belgium|1985",1.5640000000000001,74.540000000000006,9840123]
[null,"Belgium","Europe",1986,"Belgium|1986",1.56,74.739999999999995,9852488]
[null,"Belgium","Europe",1987,"Belgium|1987",1.5609999999999999,75.349999999999994,9871551]
[null,"Belgium","Europe",1988,"Belgium|1988",1.5649999999999999,75.66,9895654]
[null,"Belgium","Europe",1989,"Belgium|1989",1.573,75.73,9922158]
[null,"Belgium","Europe",1990,"Belgium|1990",1.5820000000000001,76.14,9949019]
[null,"Belgium","Europe",1991,"Belgium|1991",1.591,76.3,9976325]
[null,"Belgium","Europe",1992,"Belgium|1992",1.599,76.459999999999994,10004469]
[null,"Belgium","Europe",1993,"Belgium|1993",1.603,76.47,10032084]
[null,"Belgium","Europe",1994,"Belgium|1994",1.605,76.819999999999993,10057529]
[null,"Belgium","Europe",1995,"Belgium|1995",1.6060000000000001,76.97,10079873]
[null,"Belgium","Europe",1996,"Belgium|1996",1.605,77.31,10098192]
[null,"Belgium","Europe",1997,"Belgium|1997",1.607,77.53,10113392]
[null,"Belgium","Europe",1998,"Belgium|1998",1.6120000000000001,77.62,10128653]
[null,"Belgium","Europe",1999,"Belgium|1999",1.62,77.8,10148371]
[null,"Belgium","Europe",2000,"Belgium|2000",1.633,77.91,10175684]
[null,"Belgium","Europe",2001,"Belgium|2001",1.6519999999999999,78.22,10211264]
[null,"Belgium","Europe",2002,"Belgium|2002",1.675,78.319999999999993,10254025]
[null,"Belgium","Europe",2003,"Belgium|2003",1.7,78.47,10303108]
[null,"Belgium","Europe",2004,"Belgium|2004",1.7270000000000001,79.12,10356993]
[null,"Belgium","Europe",2005,"Belgium|2005",1.754,79.209999999999994,10414209]
[null,"Belgium","Europe",2007,"Belgium|2007",1.8009999999999999,79.489999999999995,10538758]
[null,"Belgium","Europe",2006,"Belgium|2006",1.78,79.55,10474993]
[null,"Belgium","Europe",2008,"Belgium|2008",1.819,79.777000000000001,10602167]
[null,"Belgium","Europe",2009,"Belgium|2009",1.833,79.807000000000002,10660938]
[null,"Belgium","Europe",2010,"Belgium|2010",1.8420000000000001,80.007000000000005,10712066]
[null,"Belgium","Europe",2011,"Belgium|2011",1.847,80.194000000000003,10754056]
[null,"Belgium","Europe",2012,"Belgium|2012",1.851,80.373000000000005,10787788]
[null,"Belgium","Europe",2013,"Belgium|2013",1.8540000000000001,80.548000000000002,10815599]
[null,"Belize","Latin America + Caribbean",1950,"Belize|1950",6.69,54.805999999999997,68918]
[null,"Belize","Latin America + Caribbean",1951,"Belize|1951",6.68,55.085999999999999,71147]
[null,"Belize","Latin America + Caribbean",1952,"Belize|1952",6.66,55.643999999999998,73295]
[null,"Belize","Latin America + Caribbean",1953,"Belize|1953",6.64,56.197000000000003,75437]
[null,"Belize","Latin America + Caribbean",1954,"Belize|1954",6.62,56.744999999999997,77630]
[null,"Belize","Latin America + Caribbean",1955,"Belize|1955",6.6,57.289000000000001,79909]
[null,"Belize","Latin America + Caribbean",1956,"Belize|1956",6.58,57.829000000000001,82294]
[null,"Belize","Latin America + Caribbean",1957,"Belize|1957",6.56,58.366,84781]
[null,"Belize","Latin America + Caribbean",1958,"Belize|1958",6.54,58.901000000000003,87354]
[null,"Belize","Latin America + Caribbean",1959,"Belize|1959",6.52,59.439,89981]
[null,"Belize","Latin America + Caribbean",1960,"Belize|1960",6.5,59.981000000000002,92633]
[null,"Belize","Latin America + Caribbean",1961,"Belize|1961",6.48,60.530999999999999,95294]
[null,"Belize","Latin America + Caribbean",1962,"Belize|1962",6.46,61.091999999999999,97972]
[null,"Belize","Latin America + Caribbean",1963,"Belize|1963",6.44,61.662999999999997,100707]
[null,"Belize","Latin America + Caribbean",1964,"Belize|1964",6.42,62.241,103555]
[null,"Belize","Latin America + Caribbean",1965,"Belize|1965",6.4,62.823,106546]
[null,"Belize","Latin America + Caribbean",1966,"Belize|1966",6.3789999999999996,63.402000000000001,109704]
[null,"Belize","Latin America + Caribbean",1967,"Belize|1967",6.3579999999999997,63.970999999999997,112987]
[null,"Belize","Latin America + Caribbean",1968,"Belize|1968",6.3369999999999997,64.525000000000006,116283]
[null,"Belize","Latin America + Caribbean",1969,"Belize|1969",6.3159999999999998,65.058000000000007,119435]
[null,"Belize","Latin America + Caribbean",1970,"Belize|1970",6.2990000000000004,65.566000000000003,122336]
[null,"Belize","Latin America + Caribbean",1971,"Belize|1971",6.2880000000000003,66.046999999999997,124973]
[null,"Belize","Latin America + Caribbean",1972,"Belize|1972",6.2839999999999998,66.504000000000005,127389]
[null,"Belize","Latin America + Caribbean",1973,"Belize|1973",6.2850000000000001,66.938999999999993,129600]
[null,"Belize","Latin America + Caribbean",1974,"Belize|1974",6.2859999999999996,67.353999999999999,131642]
[null,"Belize","Latin America + Caribbean",1975,"Belize|1975",6.2779999999999996,67.751000000000005,133562]
[null,"Belize","Latin America + Caribbean",1976,"Belize|1976",6.25,68.135000000000005,135334]
[null,"Belize","Latin America + Caribbean",1977,"Belize|1977",6.1950000000000003,68.509,137009]
[null,"Belize","Latin America + Caribbean",1978,"Belize|1978",6.109,68.873999999999995,138806]
[null,"Belize","Latin America + Caribbean",1979,"Belize|1979",5.992,69.228999999999999,141014]
[null,"Belize","Latin America + Caribbean",1980,"Belize|1980",5.8490000000000002,69.576999999999998,143829]
[null,"Belize","Latin America + Caribbean",1981,"Belize|1981",5.6840000000000002,69.921000000000006,147358]
[null,"Belize","Latin America + Caribbean",1997,"Belize|1997",3.9049999999999998,69.945999999999998,232446]
[null,"Belize","Latin America + Caribbean",1996,"Belize|1996",4.008,69.954999999999998,226403]
[null,"Belize","Latin America + Caribbean",1998,"Belize|1998",3.8,70.024000000000001,238457]
[null,"Belize","Latin America + Caribbean",1995,"Belize|1995",4.1079999999999997,70.05,220311]
[null,"Belize","Latin America + Caribbean",1999,"Belize|1999",3.6960000000000002,70.186999999999998,244471]
[null,"Belize","Latin America + Caribbean",1994,"Belize|1994",4.2009999999999996,70.224000000000004,214153]
[null,"Belize","Latin America + Caribbean",1982,"Belize|1982",5.51,70.257000000000005,151535]
[null,"Belize","Latin America + Caribbean",2000,"Belize|2000",3.5939999999999999,70.424999999999997,250512]
[null,"Belize","Latin America + Caribbean",1993,"Belize|1993",4.2859999999999996,70.448999999999998,207962]
[null,"Belize","Latin America + Caribbean",1983,"Belize|1983",5.3360000000000003,70.575000000000003,156171]
[null,"Belize","Latin America + Caribbean",1992,"Belize|1992",4.3630000000000004,70.695999999999998,201832]
[null,"Belize","Latin America + Caribbean",2001,"Belize|2001",3.4929999999999999,70.718999999999994,256582]
[null,"Belize","Latin America + Caribbean",1984,"Belize|1984",5.17,70.864999999999995,160991]
[null,"Belize","Latin America + Caribbean",1991,"Belize|1991",4.4359999999999999,70.938999999999993,195895]
[null,"Belize","Latin America + Caribbean",2002,"Belize|2002",3.395,71.043000000000006,262667]
[null,"Belize","Latin America + Caribbean",1985,"Belize|1985",5.0190000000000001,71.105999999999995,165792]
[null,"Belize","Latin America + Caribbean",1990,"Belize|1990",4.508,71.147000000000006,190241]
[null,"Belize","Latin America + Caribbean",1986,"Belize|1986",4.8860000000000001,71.275999999999996,170504]
[null,"Belize","Latin America + Caribbean",1989,"Belize|1989",4.5839999999999996,71.293999999999997,184935]
[null,"Belize","Latin America + Caribbean",1987,"Belize|1987",4.7709999999999999,71.364000000000004,175192]
[null,"Belize","Latin America + Caribbean",1988,"Belize|1988",4.6710000000000003,71.367999999999995,179952]
[null,"Belize","Latin America + Caribbean",2003,"Belize|2003",3.2989999999999999,71.372,268760]
[null,"Belize","Latin America + Caribbean",2004,"Belize|2004",3.2080000000000002,71.69,274855]
[null,"Belize","Latin America + Caribbean",2005,"Belize|2005",3.1219999999999999,71.989000000000004,280947]
[null,"Belize","Latin America + Caribbean",2006,"Belize|2006",3.0430000000000001,72.263999999999996,287035]
[null,"Belize","Latin America + Caribbean",2007,"Belize|2007",2.9710000000000001,72.522999999999996,293124]
[null,"Belize","Latin America + Caribbean",2008,"Belize|2008",2.907,72.772000000000006,299237]
[null,"Belize","Latin America + Caribbean",2009,"Belize|2009",2.851,73.010999999999996,305398]
[null,"Belize","Latin America + Caribbean",2010,"Belize|2010",2.8010000000000002,73.239999999999995,311627]
[null,"Belize","Latin America + Caribbean",2011,"Belize|2011",2.7559999999999998,73.459999999999994,317928]
[null,"Belize","Latin America + Caribbean",2012,"Belize|2012",2.7149999999999999,73.673000000000002,324292]
[null,"Belize","Latin America + Caribbean",2013,"Belize|2013",2.6760000000000002,73.882000000000005,330721]
[null,"Benin","Africa",1950,"Benin|1950",5.7510000000000003,32.695999999999998,2255222]
[null,"Benin","Africa",1951,"Benin|1951",5.7770000000000001,32.954999999999998,2258097]
[null,"Benin","Africa",1952,"Benin|1952",5.8289999999999997,33.466999999999999,2264492]
[null,"Benin","Africa",1953,"Benin|1953",5.883,33.970999999999997,2274125]
[null,"Benin","Africa",1954,"Benin|1954",5.9379999999999997,34.465000000000003,2286767]
[null,"Benin","Africa",1955,"Benin|1955",5.9930000000000003,34.948999999999998,2302243]
[null,"Benin","Africa",1956,"Benin|1956",6.05,35.423999999999999,2320433]
[null,"Benin","Africa",1957,"Benin|1957",6.1079999999999997,35.892000000000003,2341271]
[null,"Benin","Africa",1958,"Benin|1958",6.1660000000000004,36.351999999999997,2364737]
[null,"Benin","Africa",1959,"Benin|1959",6.2249999999999996,36.808,2390851]
[null,"Benin","Africa",1960,"Benin|1960",6.282,37.262999999999998,2419644]
[null,"Benin","Africa",1961,"Benin|1961",6.3390000000000004,37.720999999999997,2451123]
[null,"Benin","Africa",1962,"Benin|1962",6.3940000000000001,38.183999999999997,2485248]
[null,"Benin","Africa",1963,"Benin|1963",6.4470000000000001,38.656999999999996,2521922]
[null,"Benin","Africa",1964,"Benin|1964",6.4969999999999999,39.142000000000003,2561022]
[null,"Benin","Africa",1965,"Benin|1965",6.5439999999999996,39.643999999999998,2602490]
[null,"Benin","Africa",1966,"Benin|1966",6.5880000000000001,40.164000000000001,2646310]
[null,"Benin","Africa",1967,"Benin|1967",6.63,40.701999999999998,2692610]
[null,"Benin","Africa",1968,"Benin|1968",6.6710000000000003,41.252000000000002,2741672]
[null,"Benin","Africa",1969,"Benin|1969",6.71,41.813000000000002,2793872]
[null,"Benin","Africa",1970,"Benin|1970",6.7480000000000002,42.38,2849508]
[null,"Benin","Africa",1971,"Benin|1971",6.7859999999999996,42.948,2908713]
[null,"Benin","Africa",1972,"Benin|1972",6.8230000000000004,43.512999999999998,2971515]
[null,"Benin","Africa",1973,"Benin|1973",6.86,44.067999999999998,3037990]
[null,"Benin","Africa",1974,"Benin|1974",6.8959999999999999,44.607999999999997,3108179]
[null,"Benin","Africa",1975,"Benin|1975",6.9290000000000003,45.122999999999998,3182130]
[null,"Benin","Africa",1976,"Benin|1976",6.9589999999999996,45.603999999999999,3259918]
[null,"Benin","Africa",1977,"Benin|1977",6.984,46.051000000000002,3341618]
[null,"Benin","Africa",1978,"Benin|1978",7.0039999999999996,46.470999999999997,3427274]
[null,"Benin","Africa",1979,"Benin|1979",7.0179999999999998,46.874000000000002,3516917]
[null,"Benin","Africa",1980,"Benin|1980",7.0250000000000004,47.283000000000001,3610578]
[null,"Benin","Africa",1981,"Benin|1981",7.0250000000000004,47.722000000000001,3708675]
[null,"Benin","Africa",1982,"Benin|1982",7.0209999999999999,48.207999999999998,3811326]
[null,"Benin","Africa",1983,"Benin|1983",7.01,48.750999999999998,3917941]
[null,"Benin","Africa",1984,"Benin|1984",6.9939999999999998,49.351999999999997,4027682]
[null,"Benin","Africa",1985,"Benin|1985",6.9720000000000004,50.01,4140176]
[null,"Benin","Africa",1986,"Benin|1986",6.9420000000000002,50.72,4254522]
[null,"Benin","Africa",1987,"Benin|1987",6.9039999999999999,51.456000000000003,4371470]
[null,"Benin","Africa",1988,"Benin|1988",6.8579999999999997,52.188000000000002,4494242]
[null,"Benin","Africa",1989,"Benin|1989",6.8049999999999997,52.889000000000003,4627194]
[null,"Benin","Africa",1990,"Benin|1990",6.7439999999999998,53.517000000000003,4773137]
[null,"Benin","Africa",1991,"Benin|1991",6.6769999999999996,54.033000000000001,4934077]
[null,"Benin","Africa",1992,"Benin|1992",6.6029999999999998,54.423000000000002,5108335]
[null,"Benin","Africa",1993,"Benin|1993",6.5259999999999998,54.689,5290562]
[null,"Benin","Africa",1994,"Benin|1994",6.4459999999999997,54.84,5473217]
[null,"Benin","Africa",1995,"Benin|1995",6.3650000000000002,54.902999999999999,5651141]
[null,"Benin","Africa",1996,"Benin|1996",6.2839999999999998,54.914000000000001,5821985]
[null,"Benin","Africa",1997,"Benin|1997",6.2050000000000001,54.921999999999997,5988093]
[null,"Benin","Africa",1998,"Benin|1998",6.1280000000000001,54.966999999999999,6154708]
[null,"Benin","Africa",1999,"Benin|1999",6.0510000000000002,55.073,6329476]
[null,"Benin","Africa",2000,"Benin|2000",5.9749999999999996,55.261000000000003,6517810]
[null,"Benin","Africa",2001,"Benin|2001",5.8979999999999997,55.537999999999997,6721337]
[null,"Benin","Africa",2002,"Benin|2002",5.8179999999999996,55.884,6937985]
[null,"Benin","Africa",2003,"Benin|2003",5.7329999999999997,56.277000000000001,7164976]
[null,"Benin","Africa",2004,"Benin|2004",5.6449999999999996,56.7,7397985]
[null,"Benin","Africa",2005,"Benin|2005",5.5529999999999999,57.131,7633757]
[null,"Benin","Africa",2006,"Benin|2006",5.4589999999999996,57.548999999999999,7871707]
[null,"Benin","Africa",2007,"Benin|2007",5.3650000000000002,57.933,8112573]
[null,"Benin","Africa",2008,"Benin|2008",5.2729999999999997,58.271999999999998,8355980]
[null,"Benin","Africa",2009,"Benin|2009",5.1820000000000004,58.56,8601771]
[null,"Benin","Africa",2010,"Benin|2010",5.0949999999999998,58.796999999999997,8849892]
[null,"Benin","Africa",2011,"Benin|2011",5.01,58.991999999999997,9099922]
[null,"Benin","Africa",2012,"Benin|2012",4.9269999999999996,59.164999999999999,9351838]
[null,"Benin","Africa",2013,"Benin|2013",4.8449999999999998,59.33,9606534]
[null,"Bhutan","Asia + Pacific",1950,"Bhutan|1950",6.67,28.798999999999999,168377]
[null,"Bhutan","Asia + Pacific",1951,"Bhutan|1951",6.67,28.975000000000001,174400]
[null,"Bhutan","Asia + Pacific",1952,"Bhutan|1952",6.67,29.331,180287]
[null,"Bhutan","Asia + Pacific",1953,"Bhutan|1953",6.67,29.693999999999999,186067]
[null,"Bhutan","Asia + Pacific",1954,"Bhutan|1954",6.67,30.064,191769]
[null,"Bhutan","Asia + Pacific",1955,"Bhutan|1955",6.67,30.440999999999999,197421]
[null,"Bhutan","Asia + Pacific",1956,"Bhutan|1956",6.67,30.823,203054]
[null,"Bhutan","Asia + Pacific",1957,"Bhutan|1957",6.67,31.21,208696]
[null,"Bhutan","Asia + Pacific",1958,"Bhutan|1958",6.67,31.6,214379]
[null,"Bhutan","Asia + Pacific",1959,"Bhutan|1959",6.67,31.986999999999998,220133]
[null,"Bhutan","Asia + Pacific",1960,"Bhutan|1960",6.67,32.369,225993]
[null,"Bhutan","Asia + Pacific",1961,"Bhutan|1961",6.67,32.741999999999997,232000]
[null,"Bhutan","Asia + Pacific",1962,"Bhutan|1962",6.67,33.104999999999997,238201]
[null,"Bhutan","Asia + Pacific",1963,"Bhutan|1963",6.67,33.463999999999999,244653]
[null,"Bhutan","Asia + Pacific",1964,"Bhutan|1964",6.67,33.826999999999998,251419]
[null,"Bhutan","Asia + Pacific",1965,"Bhutan|1965",6.67,34.212000000000003,258559]
[null,"Bhutan","Asia + Pacific",1966,"Bhutan|1966",6.67,34.636000000000003,266072]
[null,"Bhutan","Asia + Pacific",1967,"Bhutan|1967",6.67,35.115000000000002,274000]
[null,"Bhutan","Asia + Pacific",1968,"Bhutan|1968",6.67,35.658000000000001,282495]
[null,"Bhutan","Asia + Pacific",1969,"Bhutan|1969",6.67,36.268999999999998,291747]
[null,"Bhutan","Asia + Pacific",1970,"Bhutan|1970",6.6710000000000003,36.947000000000003,301879]
[null,"Bhutan","Asia + Pacific",1971,"Bhutan|1971",6.6740000000000004,37.688000000000002,312929]
[null,"Bhutan","Asia + Pacific",1972,"Bhutan|1972",6.6790000000000003,38.475999999999999,324815]
[null,"Bhutan","Asia + Pacific",1973,"Bhutan|1973",6.6849999999999996,39.292000000000002,337370]
[null,"Bhutan","Asia + Pacific",1974,"Bhutan|1974",6.69,40.125999999999998,350365]
[null,"Bhutan","Asia + Pacific",1975,"Bhutan|1975",6.6920000000000002,40.963000000000001,363603]
[null,"Bhutan","Asia + Pacific",1976,"Bhutan|1976",6.6849999999999996,41.793999999999997,377068]
[null,"Bhutan","Asia + Pacific",1977,"Bhutan|1977",6.6680000000000001,42.613999999999997,390732]
[null,"Bhutan","Asia + Pacific",1978,"Bhutan|1978",6.64,43.42,404375]
[null,"Bhutan","Asia + Pacific",1979,"Bhutan|1979",6.601,44.209000000000003,417734]
[null,"Bhutan","Asia + Pacific",1980,"Bhutan|1980",6.5529999999999999,44.976999999999997,430633]
[null,"Bhutan","Asia + Pacific",1981,"Bhutan|1981",6.5039999999999996,45.725999999999999,442648]
[null,"Bhutan","Asia + Pacific",1982,"Bhutan|1982",6.4560000000000004,46.462000000000003,453793]
[null,"Bhutan","Asia + Pacific",1983,"Bhutan|1983",6.41,47.192,464831]
[null,"Bhutan","Asia + Pacific",1984,"Bhutan|1984",6.3620000000000001,47.92,476846]
[null,"Bhutan","Asia + Pacific",1985,"Bhutan|1985",6.306,48.652000000000001,490438]
[null,"Bhutan","Asia + Pacific",1986,"Bhutan|1986",6.23,49.393000000000001,506423]
[null,"Bhutan","Asia + Pacific",1987,"Bhutan|1987",6.1269999999999998,50.145000000000003,524133]
[null,"Bhutan","Asia + Pacific",1988,"Bhutan|1988",5.9939999999999998,50.908999999999999,540918]
[null,"Bhutan","Asia + Pacific",1989,"Bhutan|1989",5.8289999999999997,51.685000000000002,553157]
[null,"Bhutan","Asia + Pacific",1990,"Bhutan|1990",5.6390000000000002,52.472999999999999,558500]
[null,"Bhutan","Asia + Pacific",1991,"Bhutan|1991",5.431,53.27,555747]
[null,"Bhutan","Asia + Pacific",1992,"Bhutan|1992",5.2160000000000002,54.070999999999998,546356]
[null,"Bhutan","Asia + Pacific",1993,"Bhutan|1993",5.0030000000000001,54.872,533895]
[null,"Bhutan","Asia + Pacific",1994,"Bhutan|1994",4.7960000000000003,55.670999999999999,523417]
[null,"Bhutan","Asia + Pacific",1995,"Bhutan|1995",4.5970000000000004,56.463000000000001,518584]
[null,"Bhutan","Asia + Pacific",1996,"Bhutan|1996",4.4009999999999998,57.247,520529]
[null,"Bhutan","Asia + Pacific",1997,"Bhutan|1997",4.2050000000000001,58.023000000000003,528222]
[null,"Bhutan","Asia + Pacific",1998,"Bhutan|1998",4.0060000000000002,58.792000000000002,540507]
[null,"Bhutan","Asia + Pacific",1999,"Bhutan|1999",3.806,59.552,555377]
[null,"Bhutan","Asia + Pacific",2000,"Bhutan|2000",3.6080000000000001,60.307000000000002,571262]
[null,"Bhutan","Asia + Pacific",2001,"Bhutan|2001",3.4169999999999998,61.063000000000002,588050]
[null,"Bhutan","Asia + Pacific",2002,"Bhutan|2002",3.2370000000000001,61.82,606024]
[null,"Bhutan","Asia + Pacific",2003,"Bhutan|2003",3.0710000000000002,62.576000000000001,624431]
[null,"Bhutan","Asia + Pacific",2004,"Bhutan|2004",2.923,63.323,642400]
[null,"Bhutan","Asia + Pacific",2005,"Bhutan|2005",2.7930000000000001,64.05,659293]
[null,"Bhutan","Asia + Pacific",2006,"Bhutan|2006",2.6819999999999999,64.741,674681]
[null,"Bhutan","Asia + Pacific",2007,"Bhutan|2007",2.5870000000000002,65.387,688581]
[null,"Bhutan","Asia + Pacific",2008,"Bhutan|2008",2.5059999999999998,65.980999999999995,701363]
[null,"Bhutan","Asia + Pacific",2009,"Bhutan|2009",2.4359999999999999,66.522999999999996,713665]
[null,"Bhutan","Asia + Pacific",2010,"Bhutan|2010",2.375,67.015000000000001,725940]
[null,"Bhutan","Asia + Pacific",2011,"Bhutan|2011",2.3220000000000001,67.465000000000003,738267]
[null,"Bhutan","Asia + Pacific",2012,"Bhutan|2012",2.2749999999999999,67.888000000000005,750443]
[null,"Bhutan","Asia + Pacific",2013,"Bhutan|2013",2.2320000000000002,68.293999999999997,762313]
[null,"Bolivia","Latin America + Caribbean",1950,"Bolivia|1950",6.7160000000000002,39.844999999999999,2713630]
[null,"Bolivia","Latin America + Caribbean",1951,"Bolivia|1951",6.7279999999999998,39.988,2767960]
[null,"Bolivia","Latin America + Caribbean",1952,"Bolivia|1952",6.7480000000000002,40.274000000000001,2824538]
[null,"Bolivia","Latin America + Caribbean",1953,"Bolivia|1953",6.7619999999999996,40.564,2883362]
[null,"Bolivia","Latin America + Caribbean",1954,"Bolivia|1954",6.7690000000000001,40.856000000000002,2944416]
[null,"Bolivia","Latin America + Caribbean",1955,"Bolivia|1955",6.77,41.15,3007667]
[null,"Bolivia","Latin America + Caribbean",1956,"Bolivia|1956",6.7649999999999997,41.447000000000003,3073070]
[null,"Bolivia","Latin America + Caribbean",1957,"Bolivia|1957",6.7539999999999996,41.746000000000002,3140563]
[null,"Bolivia","Latin America + Caribbean",1958,"Bolivia|1958",6.7380000000000004,42.048000000000002,3210075]
[null,"Bolivia","Latin America + Caribbean",1959,"Bolivia|1959",6.718,42.351999999999997,3281534]
[null,"Bolivia","Latin America + Caribbean",1960,"Bolivia|1960",6.6959999999999997,42.658999999999999,3354895]
[null,"Bolivia","Latin America + Caribbean",1961,"Bolivia|1961",6.6719999999999997,42.968000000000004,3430160]
[null,"Bolivia","Latin America + Caribbean",1962,"Bolivia|1962",6.6479999999999997,43.28,3507408]
[null,"Bolivia","Latin America + Caribbean",1963,"Bolivia|1963",6.6269999999999998,43.594999999999999,3586804]
[null,"Bolivia","Latin America + Caribbean",1964,"Bolivia|1964",6.6070000000000002,43.912999999999997,3668568]
[null,"Bolivia","Latin America + Caribbean",1965,"Bolivia|1965",6.593,44.228999999999999,3752892]
[null,"Bolivia","Latin America + Caribbean",1966,"Bolivia|1966",6.5860000000000003,44.536000000000001,3839751]
[null,"Bolivia","Latin America + Caribbean",1967,"Bolivia|1967",6.585,44.835000000000001,3929192]
[null,"Bolivia","Latin America + Caribbean",1968,"Bolivia|1968",6.5869999999999997,45.131999999999998,4021551]
[null,"Bolivia","Latin America + Caribbean",1969,"Bolivia|1969",6.5869999999999997,45.436,4117259]
[null,"Bolivia","Latin America + Caribbean",1970,"Bolivia|1970",6.5780000000000003,45.765000000000001,4216572]
[null,"Bolivia","Latin America + Caribbean",1971,"Bolivia|1971",6.5490000000000004,46.134999999999998,4319564]
[null,"Bolivia","Latin America + Caribbean",1972,"Bolivia|1972",6.4960000000000004,46.563000000000002,4426012]
[null,"Bolivia","Latin America + Caribbean",1973,"Bolivia|1973",6.415,47.055,4535500]
[null,"Bolivia","Latin America + Caribbean",1974,"Bolivia|1974",6.31,47.613999999999997,4647442]
[null,"Bolivia","Latin America + Caribbean",1975,"Bolivia|1975",6.1829999999999998,48.241999999999997,4761344]
[null,"Bolivia","Latin America + Caribbean",1976,"Bolivia|1976",6.0430000000000001,48.930999999999997,4877275]
[null,"Bolivia","Latin America + Caribbean",1977,"Bolivia|1977",5.899,49.665999999999997,4995172]
[null,"Bolivia","Latin America + Caribbean",1978,"Bolivia|1978",5.7610000000000001,50.429000000000002,5114274]
[null,"Bolivia","Latin America + Caribbean",1979,"Bolivia|1979",5.6340000000000003,51.206000000000003,5233624]
[null,"Bolivia","Latin America + Caribbean",1980,"Bolivia|1980",5.5209999999999999,51.987000000000002,5352649]
[null,"Bolivia","Latin America + Caribbean",1981,"Bolivia|1981",5.423,52.762999999999998,5471025]
[null,"Bolivia","Latin America + Caribbean",1982,"Bolivia|1982",5.3369999999999997,53.530999999999999,5589245]
[null,"Bolivia","Latin America + Caribbean",1983,"Bolivia|1983",5.2590000000000003,54.283999999999999,5708585]
[null,"Bolivia","Latin America + Caribbean",1984,"Bolivia|1984",5.1890000000000001,55.015999999999998,5830816]
[null,"Bolivia","Latin America + Caribbean",1985,"Bolivia|1985",5.1269999999999998,55.72,5957291]
[null,"Bolivia","Latin America + Caribbean",1986,"Bolivia|1986",5.0739999999999998,56.395000000000003,6088253]
[null,"Bolivia","Latin America + Caribbean",1987,"Bolivia|1987",5.0289999999999999,57.042999999999999,6223523]
[null,"Bolivia","Latin America + Caribbean",1988,"Bolivia|1988",4.9889999999999999,57.664000000000001,6363470]
[null,"Bolivia","Latin America + Caribbean",1989,"Bolivia|1989",4.952,58.256,6508417]
[null,"Bolivia","Latin America + Caribbean",1990,"Bolivia|1990",4.9130000000000003,58.816000000000003,6658462]
[null,"Bolivia","Latin America + Caribbean",1991,"Bolivia|1991",4.8659999999999997,59.341000000000001,6813834]
[null,"Bolivia","Latin America + Caribbean",1992,"Bolivia|1992",4.8099999999999996,59.832000000000001,6974168]
[null,"Bolivia","Latin America + Caribbean",1993,"Bolivia|1993",4.742,60.292000000000002,7138204]
[null,"Bolivia","Latin America + Caribbean",1994,"Bolivia|1994",4.6630000000000003,60.722999999999999,7304230]
[null,"Bolivia","Latin America + Caribbean",1995,"Bolivia|1995",4.5750000000000002,61.13,7470925]
[null,"Bolivia","Latin America + Caribbean",1996,"Bolivia|1996",4.4820000000000002,61.52,7637622]
[null,"Bolivia","Latin America + Caribbean",1997,"Bolivia|1997",4.3899999999999997,61.896999999999998,7804333]
[null,"Bolivia","Latin America + Caribbean",1998,"Bolivia|1998",4.3019999999999996,62.265999999999998,7971237]
[null,"Bolivia","Latin America + Caribbean",1999,"Bolivia|1999",4.2190000000000003,62.631,8138802]
[null,"Bolivia","Latin America + Caribbean",2000,"Bolivia|2000",4.1399999999999997,62.994,8307248]
[null,"Bolivia","Latin America + Caribbean",2001,"Bolivia|2001",4.0620000000000003,63.354999999999997,8476709]
[null,"Bolivia","Latin America + Caribbean",2002,"Bolivia|2002",3.9820000000000002,63.710999999999999,8646659]
[null,"Bolivia","Latin America + Caribbean",2003,"Bolivia|2003",3.8969999999999998,64.06,8815911]
[null,"Bolivia","Latin America + Caribbean",2004,"Bolivia|2004",3.8090000000000002,64.403999999999996,8982917]
[null,"Bolivia","Latin America + Caribbean",2005,"Bolivia|2005",3.72,64.742000000000004,9146655]
[null,"Bolivia","Latin America + Caribbean",2006,"Bolivia|2006",3.633,65.075000000000003,9306660]
[null,"Bolivia","Latin America + Caribbean",2007,"Bolivia|2007",3.5510000000000002,65.403999999999996,9463497]
[null,"Bolivia","Latin America + Caribbean",2008,"Bolivia|2008",3.4769999999999999,65.727999999999994,9618466]
[null,"Bolivia","Latin America + Caribbean",2009,"Bolivia|2009",3.4129999999999998,66.048000000000002,9773441]
[null,"Bolivia","Latin America + Caribbean",2010,"Bolivia|2010",3.3570000000000002,66.361999999999995,9929849]
[null,"Bolivia","Latin America + Caribbean",2011,"Bolivia|2011",3.3079999999999998,66.668999999999997,10088108]
[null,"Bolivia","Latin America + Caribbean",2012,"Bolivia|2012",3.2639999999999998,66.968999999999994,10248042]
[null,"Bolivia","Latin America + Caribbean",2013,"Bolivia|2013",3.2210000000000001,67.260000000000005,10409761]
[null,"Bosnia and Herzegovina","Europe",1950,"Bosnia and Herzegovina|1950",5.0620000000000003,51.421999999999997,2661293]
[null,"Bosnia and Herzegovina","Europe",1951,"Bosnia and Herzegovina|1951",4.9989999999999997,52.012999999999998,2720515]
[null,"Bosnia and Herzegovina","Europe",1952,"Bosnia and Herzegovina|1952",4.875,53.164999999999999,2779107]
[null,"Bosnia and Herzegovina","Europe",1953,"Bosnia and Herzegovina|1953",4.7569999999999997,54.259,2836208]
[null,"Bosnia and Herzegovina","Europe",1954,"Bosnia and Herzegovina|1954",4.6440000000000001,55.296999999999997,2891241]
[null,"Bosnia and Herzegovina","Europe",1955,"Bosnia and Herzegovina|1955",4.5369999999999999,56.277000000000001,2943905]
[null,"Bosnia and Herzegovina","Europe",1956,"Bosnia and Herzegovina|1956",4.4340000000000002,57.2,2994194]
[null,"Bosnia and Herzegovina","Europe",1957,"Bosnia and Herzegovina|1957",4.3360000000000003,58.067,3042383]
[null,"Bosnia and Herzegovina","Europe",1958,"Bosnia and Herzegovina|1958",4.2409999999999997,58.88,3088980]
[null,"Bosnia and Herzegovina","Europe",1959,"Bosnia and Herzegovina|1959",4.1470000000000002,59.64,3134654]
[null,"Bosnia and Herzegovina","Europe",1960,"Bosnia and Herzegovina|1960",4.0519999999999996,60.35,3180020]
[null,"Bosnia and Herzegovina","Europe",1961,"Bosnia and Herzegovina|1961",3.9540000000000002,61.015999999999998,3225391]
[null,"Bosnia and Herzegovina","Europe",1962,"Bosnia and Herzegovina|1962",3.8490000000000002,61.643999999999998,3270585]
[null,"Bosnia and Herzegovina","Europe",1963,"Bosnia and Herzegovina|1963",3.7370000000000001,62.24,3314827]
[null,"Bosnia and Herzegovina","Europe",1964,"Bosnia and Herzegovina|1964",3.6190000000000002,62.814,3357005]
[null,"Bosnia and Herzegovina","Europe",1965,"Bosnia and Herzegovina|1965",3.4950000000000001,63.377000000000002,3396402]
[null,"Bosnia and Herzegovina","Europe",1966,"Bosnia and Herzegovina|1966",3.367,63.935000000000002,3432671]
[null,"Bosnia and Herzegovina","Europe",1967,"Bosnia and Herzegovina|1967",3.2389999999999999,64.494,3466307]
[null,"Bosnia and Herzegovina","Europe",1968,"Bosnia and Herzegovina|1968",3.1139999999999999,65.054000000000002,3498470]
[null,"Bosnia and Herzegovina","Europe",1992,"Bosnia and Herzegovina|1992",1.5940000000000001,65.403000000000006,3931372]
[null,"Bosnia and Herzegovina","Europe",1993,"Bosnia and Herzegovina|1993",1.5580000000000001,65.557000000000002,3677379]
[null,"Bosnia and Herzegovina","Europe",1969,"Bosnia and Herzegovina|1969",2.9940000000000002,65.616,3530780]
[null,"Bosnia and Herzegovina","Europe",1991,"Bosnia and Herzegovina|1991",1.645,65.997,4157485]
[null,"Bosnia and Herzegovina","Europe",1970,"Bosnia and Herzegovina|1970",2.8809999999999998,66.180999999999997,3564389]
[null,"Bosnia and Herzegovina","Europe",1994,"Bosnia and Herzegovina|1994",1.538,66.462000000000003,3462032]
[null,"Bosnia and Herzegovina","Europe",1971,"Bosnia and Herzegovina|1971",2.7749999999999999,66.748000000000005,3599885]
[null,"Bosnia and Herzegovina","Europe",1990,"Bosnia and Herzegovina|1990",1.708,67.179000000000002,4308197]
[null,"Bosnia and Herzegovina","Europe",1972,"Bosnia and Herzegovina|1972",2.6749999999999998,67.308000000000007,3636930]
[null,"Bosnia and Herzegovina","Europe",1973,"Bosnia and Herzegovina|1973",2.581,67.852000000000004,3674638]
[null,"Bosnia and Herzegovina","Europe",1995,"Bosnia and Herzegovina|1995",1.528,67.972999999999999,3332098]
[null,"Bosnia and Herzegovina","Europe",1974,"Bosnia and Herzegovina|1974",2.4929999999999999,68.370999999999995,3711662]
[null,"Bosnia and Herzegovina","Europe",1989,"Bosnia and Herzegovina|1989",1.7749999999999999,68.662999999999997,4367069]
[null,"Bosnia and Herzegovina","Europe",1975,"Bosnia and Herzegovina|1975",2.4119999999999999,68.847999999999999,3747109]
[null,"Bosnia and Herzegovina","Europe",1976,"Bosnia and Herzegovina|1976",2.3359999999999999,69.269000000000005,3780559]
[null,"Bosnia and Herzegovina","Europe",1977,"Bosnia and Herzegovina|1977",2.2669999999999999,69.626999999999995,3812557]
[null,"Bosnia and Herzegovina","Europe",1996,"Bosnia and Herzegovina|1996",1.5189999999999999,69.817999999999998,3305672]
[null,"Bosnia and Herzegovina","Europe",1978,"Bosnia and Herzegovina|1978",2.202,69.924000000000007,3844329]
[null,"Bosnia and Herzegovina","Europe",1988,"Bosnia and Herzegovina|1988",1.8360000000000001,70.087999999999994,4349682]
[null,"Bosnia and Herzegovina","Europe",1979,"Bosnia and Herzegovina|1979",2.1440000000000001,70.165999999999997,3877598]
[null,"Bosnia and Herzegovina","Europe",1980,"Bosnia and Herzegovina|1980",2.0920000000000001,70.394999999999996,3913536]
[null,"Bosnia and Herzegovina","Europe",1981,"Bosnia and Herzegovina|1981",2.0499999999999998,70.671000000000006,3949509]
[null,"Bosnia and Herzegovina","Europe",1982,"Bosnia and Herzegovina|1982",2.0169999999999999,71.010999999999996,3984259]
[null,"Bosnia and Herzegovina","Europe",1987,"Bosnia and Herzegovina|1987",1.887,71.174999999999997,4279632]
[null,"Bosnia and Herzegovina","Europe",1983,"Bosnia and Herzegovina|1983",1.992,71.394999999999996,4021590]
[null,"Bosnia and Herzegovina","Europe",1997,"Bosnia and Herzegovina|1997",1.5029999999999999,71.638999999999996,3365616]
[null,"Bosnia and Herzegovina","Europe",1984,"Bosnia and Herzegovina|1984",1.9730000000000001,71.774000000000001,4066739]
[null,"Bosnia and Herzegovina","Europe",1986,"Bosnia and Herzegovina|1986",1.925,71.811000000000007,4194370]
[null,"Bosnia and Herzegovina","Europe",1985,"Bosnia and Herzegovina|1985",1.9530000000000001,71.980999999999995,4121595]
[null,"Bosnia and Herzegovina","Europe",1998,"Bosnia and Herzegovina|1998",1.474,73.155000000000001,3480285]
[null,"Bosnia and Herzegovina","Europe",1999,"Bosnia and Herzegovina|1999",1.4330000000000001,74.247,3601438]
[null,"Bosnia and Herzegovina","Europe",2000,"Bosnia and Herzegovina|2000",1.381,74.882000000000005,3693698]
[null,"Bosnia and Herzegovina","Europe",2001,"Bosnia and Herzegovina|2001",1.325,75.123999999999995,3748370]
[null,"Bosnia and Herzegovina","Europe",2003,"Bosnia and Herzegovina|2003",1.236,75.162000000000006,3782717]
[null,"Bosnia and Herzegovina","Europe",2002,"Bosnia and Herzegovina|2002",1.2749999999999999,75.165000000000006,3775883]
[null,"Bosnia and Herzegovina","Europe",2004,"Bosnia and Herzegovina|2004",1.21,75.17,3781358]
[null,"Bosnia and Herzegovina","Europe",2005,"Bosnia and Herzegovina|2005",1.1990000000000001,75.225999999999999,3781001]
[null,"Bosnia and Herzegovina","Europe",2006,"Bosnia and Herzegovina|2006",1.1990000000000001,75.337000000000003,3781588]
[null,"Bosnia and Herzegovina","Europe",2007,"Bosnia and Herzegovina|2007",1.2070000000000001,75.471000000000004,3779034]
[null,"Bosnia and Herzegovina","Europe",2008,"Bosnia and Herzegovina|2008",1.218,75.608000000000004,3774164]
[null,"Bosnia and Herzegovina","Europe",2009,"Bosnia and Herzegovina|2009",1.23,75.75,3767683]
[null,"Bosnia and Herzegovina","Europe",2010,"Bosnia and Herzegovina|2010",1.242,75.897999999999996,3760149]
[null,"Bosnia and Herzegovina","Europe",2011,"Bosnia and Herzegovina|2011",1.2549999999999999,76.052999999999997,3752228]
[null,"Bosnia and Herzegovina","Europe",2012,"Bosnia and Herzegovina|2012",1.268,76.210999999999999,3744235]
[null,"Bosnia and Herzegovina","Europe",2013,"Bosnia and Herzegovina|2013",1.2829999999999999,76.37,3735880]
[null,"Botswana","Africa",2008,"Botswana|2008",2.86,46.384,1954822]
[null,"Botswana","Africa",2007,"Botswana|2007",2.91,46.421999999999997,1927540]
[null,"Botswana","Africa",2009,"Botswana|2009",2.8109999999999999,46.441000000000003,1981576]
[null,"Botswana","Africa",2006,"Botswana|2006",2.9620000000000002,46.564999999999998,1900905]
[null,"Botswana","Africa",2010,"Botswana|2010",2.7610000000000001,46.588000000000001,2006945]
[null,"Botswana","Africa",2011,"Botswana|2011",2.7120000000000002,46.823999999999998,2030738]
[null,"Botswana","Africa",1950,"Botswana|1950",6.4690000000000003,46.829000000000001,412533]
[null,"Botswana","Africa",2005,"Botswana|2005",3.0169999999999999,46.835999999999999,1875673]
[null,"Botswana","Africa",1951,"Botswana|1951",6.4770000000000003,47.036999999999999,425268]
[null,"Botswana","Africa",2012,"Botswana|2012",2.665,47.152000000000001,2053237]
[null,"Botswana","Africa",2004,"Botswana|2004",3.0790000000000002,47.256999999999998,1852243]
[null,"Botswana","Africa",1952,"Botswana|1952",6.492,47.451000000000001,437177]
[null,"Botswana","Africa",2013,"Botswana|2013",2.6190000000000002,47.572000000000003,2074616]
[null,"Botswana","Africa",2003,"Botswana|2003",3.1480000000000001,47.838999999999999,1830127]
[null,"Botswana","Africa",1953,"Botswana|1953",6.508,47.863,448428]
[null,"Botswana","Africa",1954,"Botswana|1954",6.5229999999999997,48.274000000000001,459195]
[null,"Botswana","Africa",2002,"Botswana|2002",3.2269999999999999,48.585999999999999,1808103]
[null,"Botswana","Africa",1955,"Botswana|1955",6.5380000000000003,48.683999999999997,469656]
[null,"Botswana","Africa",1956,"Botswana|1956",6.5529999999999999,49.09,479998]
[null,"Botswana","Africa",1957,"Botswana|1957",6.5679999999999996,49.491999999999997,490411]
[null,"Botswana","Africa",2001,"Botswana|2001",3.3159999999999998,49.491999999999997,1784449]
[null,"Botswana","Africa",1958,"Botswana|1958",6.5830000000000002,49.889000000000003,501090]
[null,"Botswana","Africa",1959,"Botswana|1959",6.5990000000000002,50.277999999999999,512228]
[null,"Botswana","Africa",2000,"Botswana|2000",3.4129999999999998,50.567,1757925]
[null,"Botswana","Africa",1960,"Botswana|1960",6.6150000000000002,50.654000000000003,523997]
[null,"Botswana","Africa",1961,"Botswana|1961",6.6319999999999997,51.015000000000001,536540]
[null,"Botswana","Africa",1962,"Botswana|1962",6.649,51.363,549953]
[null,"Botswana","Africa",1963,"Botswana|1963",6.6660000000000004,51.7,564277]
[null,"Botswana","Africa",1999,"Botswana|1999",3.5190000000000001,51.817999999999998,1728179]
[null,"Botswana","Africa",1964,"Botswana|1964",6.681,52.034999999999997,579518]
[null,"Botswana","Africa",1965,"Botswana|1965",6.6929999999999996,52.384,595697]
[null,"Botswana","Africa",1966,"Botswana|1966",6.6980000000000004,52.764000000000003,612903]
[null,"Botswana","Africa",1967,"Botswana|1967",6.6959999999999997,53.186,631226]
[null,"Botswana","Africa",1998,"Botswana|1998",3.6309999999999998,53.216999999999999,1695587]
[null,"Botswana","Africa",1968,"Botswana|1968",6.6859999999999999,53.658999999999999,650676]
[null,"Botswana","Africa",1969,"Botswana|1969",6.6669999999999998,54.183999999999997,671247]
[null,"Botswana","Africa",1997,"Botswana|1997",3.746,54.715000000000003,1660538]
[null,"Botswana","Africa",1970,"Botswana|1970",6.641,54.759,692959]
[null,"Botswana","Africa",1971,"Botswana|1971",6.6109999999999998,55.378999999999998,715745]
[null,"Botswana","Africa",1972,"Botswana|1972",6.5789999999999997,56.027000000000001,739683]
[null,"Botswana","Africa",1996,"Botswana|1996",3.8660000000000001,56.256,1623704]
[null,"Botswana","Africa",1973,"Botswana|1973",6.5460000000000003,56.686,765101]
[null,"Botswana","Africa",1974,"Botswana|1974",6.5119999999999996,57.344000000000001,792432]
[null,"Botswana","Africa",1995,"Botswana|1995",3.9889999999999999,57.771000000000001,1585637]
[null,"Botswana","Africa",1975,"Botswana|1975",6.4770000000000003,57.99,821942]
[null,"Botswana","Africa",1976,"Botswana|1976",6.44,58.616,853774]
[null,"Botswana","Africa",1994,"Botswana|1994",4.117,59.195,1546414]
[null,"Botswana","Africa",1977,"Botswana|1977",6.399,59.219000000000001,887716]
[null,"Botswana","Africa",1978,"Botswana|1978",6.35,59.795999999999999,923234]
[null,"Botswana","Africa",1979,"Botswana|1979",6.2910000000000004,60.341000000000001,959584]
[null,"Botswana","Africa",1993,"Botswana|1993",4.2519999999999998,60.476999999999997,1506037]
[null,"Botswana","Africa",1980,"Botswana|1980",6.2169999999999996,60.859000000000002,996211]
[null,"Botswana","Africa",1981,"Botswana|1981",6.125,61.363999999999997,1032889]
[null,"Botswana","Africa",1992,"Botswana|1992",4.3940000000000001,61.572000000000003,1464924]
[null,"Botswana","Africa",1982,"Botswana|1982",6.0119999999999996,61.857999999999997,1069707]
[null,"Botswana","Africa",1983,"Botswana|1983",5.88,62.331000000000003,1106802]
[null,"Botswana","Africa",1991,"Botswana|1991",4.5419999999999998,62.444000000000003,1423570]
[null,"Botswana","Africa",1984,"Botswana|1984",5.7309999999999999,62.762,1144442]
[null,"Botswana","Africa",1990,"Botswana|1990",4.6980000000000004,63.067999999999998,1382371]
[null,"Botswana","Africa",1985,"Botswana|1985",5.5670000000000002,63.13,1182803]
[null,"Botswana","Africa",1986,"Botswana|1986",5.3929999999999998,63.41,1221790]
[null,"Botswana","Africa",1989,"Botswana|1989",4.8630000000000004,63.436999999999998,1341540]
[null,"Botswana","Africa",1987,"Botswana|1987",5.2140000000000004,63.573,1261235]
[null,"Botswana","Africa",1988,"Botswana|1988",5.0359999999999996,63.591000000000001,1301146]
[null,"Brazil","Latin America + Caribbean",1950,"Brazil|1950",6.18,50.04,53974725]
[null,"Brazil","Latin America + Caribbean",1951,"Brazil|1951",6.1680000000000001,50.28,55669001]
[null,"Brazil","Latin America + Caribbean",1952,"Brazil|1952",6.149,50.762999999999998,57422674]
[null,"Brazil","Latin America + Caribbean",1953,"Brazil|1953",6.1390000000000002,51.247999999999998,59215974]
[null,"Brazil","Latin America + Caribbean",1954,"Brazil|1954",6.1369999999999996,51.737000000000002,61036582]
[null,"Brazil","Latin America + Caribbean",1955,"Brazil|1955",6.1440000000000001,52.23,62879616]
[null,"Brazil","Latin America + Caribbean",1956,"Brazil|1956",6.157,52.725000000000001,64748101]
[null,"Brazil","Latin America + Caribbean",1957,"Brazil|1957",6.1760000000000002,53.222000000000001,66652501]
[null,"Brazil","Latin America + Caribbean",1958,"Brazil|1958",6.1950000000000003,53.72,68609363]
[null,"Brazil","Latin America + Caribbean",1959,"Brazil|1959",6.2089999999999996,54.213999999999999,70639029]
[null,"Brazil","Latin America + Caribbean",1960,"Brazil|1960",6.21,54.701999999999998,72758801]
[null,"Brazil","Latin America + Caribbean",1961,"Brazil|1961",6.19,55.179000000000002,74975656]
[null,"Brazil","Latin America + Caribbean",1962,"Brazil|1962",6.1429999999999998,55.643000000000001,77279855]
[null,"Brazil","Latin America + Caribbean",1963,"Brazil|1963",6.0629999999999997,56.091000000000001,79642214]
[null,"Brazil","Latin America + Caribbean",1964,"Brazil|1964",5.9530000000000003,56.521000000000001,82021855]
[null,"Brazil","Latin America + Caribbean",1965,"Brazil|1965",5.8150000000000004,56.935000000000002,84388983]
[null,"Brazil","Latin America + Caribbean",1966,"Brazil|1966",5.6580000000000004,57.334000000000003,86735163]
[null,"Brazil","Latin America + Caribbean",1967,"Brazil|1967",5.4909999999999997,57.722000000000001,89068235]
[null,"Brazil","Latin America + Caribbean",1968,"Brazil|1968",5.3259999999999996,58.104999999999997,91394916]
[null,"Brazil","Latin America + Caribbean",1969,"Brazil|1969",5.1680000000000001,58.484000000000002,93727990]
[null,"Brazil","Latin America + Caribbean",1970,"Brazil|1970",5.024,58.865000000000002,96078304]
[null,"Brazil","Latin America + Caribbean",1971,"Brazil|1971",4.8959999999999999,59.250999999999998,98445131]
[null,"Brazil","Latin America + Caribbean",1972,"Brazil|1972",4.782,59.643999999999998,100828667]
[null,"Brazil","Latin America + Caribbean",1973,"Brazil|1973",4.6790000000000003,60.042000000000002,103242395]
[null,"Brazil","Latin America + Caribbean",1974,"Brazil|1974",4.585,60.442999999999998,105703409]
[null,"Brazil","Latin America + Caribbean",1975,"Brazil|1975",4.4989999999999997,60.844000000000001,108224080]
[null,"Brazil","Latin America + Caribbean",1976,"Brazil|1976",4.4180000000000001,61.235999999999997,110804816]
[null,"Brazil","Latin America + Caribbean",1977,"Brazil|1977",4.3390000000000004,61.615000000000002,113442106]
[null,"Brazil","Latin America + Caribbean",1978,"Brazil|1978",4.2560000000000002,61.978000000000002,116138507]
[null,"Brazil","Latin America + Caribbean",1979,"Brazil|1979",4.1689999999999996,62.328000000000003,118895875]
[null,"Brazil","Latin America + Caribbean",1980,"Brazil|1980",4.0730000000000004,62.668999999999997,121711864]
[null,"Brazil","Latin America + Caribbean",1981,"Brazil|1981",3.9660000000000002,63.008000000000003,124588432]
[null,"Brazil","Latin America + Caribbean",1982,"Brazil|1982",3.8479999999999999,63.353000000000002,127514673]
[null,"Brazil","Latin America + Caribbean",1983,"Brazil|1983",3.7210000000000001,63.71,130459023]
[null,"Brazil","Latin America + Caribbean",1984,"Brazil|1984",3.5870000000000002,64.081000000000003,133380123]
[null,"Brazil","Latin America + Caribbean",1985,"Brazil|1985",3.4489999999999998,64.465999999999994,136246764]
[null,"Brazil","Latin America + Caribbean",1986,"Brazil|1986",3.3079999999999998,64.861999999999995,139049440]
[null,"Brazil","Latin America + Caribbean",1987,"Brazil|1987",3.17,65.263999999999996,141791325]
[null,"Brazil","Latin America + Caribbean",1988,"Brazil|1988",3.0390000000000001,65.667000000000002,144470377]
[null,"Brazil","Latin America + Caribbean",1989,"Brazil|1989",2.9169999999999998,66.067999999999998,147088677]
[null,"Brazil","Latin America + Caribbean",1990,"Brazil|1990",2.8090000000000002,66.468000000000004,149650206]
[null,"Brazil","Latin America + Caribbean",1991,"Brazil|1991",2.7170000000000001,66.867000000000004,152146887]
[null,"Brazil","Latin America + Caribbean",1992,"Brazil|1992",2.6429999999999998,67.266999999999996,154582103]
[null,"Brazil","Latin America + Caribbean",1993,"Brazil|1993",2.5830000000000002,67.668000000000006,156985824]
[null,"Brazil","Latin America + Caribbean",1994,"Brazil|1994",2.5369999999999999,68.066000000000003,159398558]
[null,"Brazil","Latin America + Caribbean",1995,"Brazil|1995",2.5019999999999998,68.459999999999994,161848162]
[null,"Brazil","Latin America + Caribbean",1996,"Brazil|1996",2.4740000000000002,68.846000000000004,164342524]
[null,"Brazil","Latin America + Caribbean",1997,"Brazil|1997",2.4510000000000001,69.221000000000004,166869168]
[null,"Brazil","Latin America + Caribbean",1998,"Brazil|1998",2.427,69.581999999999994,169409713]
[null,"Brazil","Latin America + Caribbean",1999,"Brazil|1999",2.399,69.929000000000002,171936271]
[null,"Brazil","Latin America + Caribbean",2000,"Brazil|2000",2.3639999999999999,70.260999999999996,174425387]
[null,"Brazil","Latin America + Caribbean",2001,"Brazil|2001",2.3180000000000001,70.578000000000003,176877135]
[null,"Brazil","Latin America + Caribbean",2002,"Brazil|2002",2.2639999999999998,70.882000000000005,179289227]
[null,"Brazil","Latin America + Caribbean",2003,"Brazil|2003",2.202,71.177000000000007,181633074]
[null,"Brazil","Latin America + Caribbean",2004,"Brazil|2004",2.1349999999999998,71.462999999999994,183873377]
[null,"Brazil","Latin America + Caribbean",2005,"Brazil|2005",2.0659999999999998,71.745000000000005,185986964]
[null,"Brazil","Latin America + Caribbean",2006,"Brazil|2006",2.0009999999999999,72.022000000000006,187958211]
[null,"Brazil","Latin America + Caribbean",2007,"Brazil|2007",1.944,72.298000000000002,189798070]
[null,"Brazil","Latin America + Caribbean",2008,"Brazil|2008",1.897,72.572000000000003,191543237]
[null,"Brazil","Latin America + Caribbean",2009,"Brazil|2009",1.8620000000000001,72.846000000000004,193246610]
[null,"Brazil","Latin America + Caribbean",2010,"Brazil|2010",1.8380000000000001,73.120999999999995,194946470]
[null,"Brazil","Latin America + Caribbean",2011,"Brazil|2011",1.8220000000000001,73.394999999999996,196655014]
[null,"Brazil","Latin America + Caribbean",2012,"Brazil|2012",1.8109999999999999,73.667000000000002,198360943]
[null,"Brazil","Latin America + Caribbean",2013,"Brazil|2013",1.8009999999999999,73.936999999999998,200050487]
[null,"Brunei","Asia + Pacific",1950,"Brunei|1950",7.5179999999999998,56.631999999999998,48001]
[null,"Brunei","Asia + Pacific",1951,"Brunei|1951",7.3609999999999998,56.933999999999997,51070]
[null,"Brunei","Asia + Pacific",1952,"Brunei|1952",7.0739999999999998,57.54,54083]
[null,"Brunei","Asia + Pacific",1953,"Brunei|1953",6.8419999999999996,58.148000000000003,57085]
[null,"Brunei","Asia + Pacific",1954,"Brunei|1954",6.6639999999999997,58.76,60113]
[null,"Brunei","Asia + Pacific",1955,"Brunei|1955",6.54,59.372999999999998,63194]
[null,"Brunei","Asia + Pacific",1956,"Brunei|1956",6.4660000000000002,59.988999999999997,66348]
[null,"Brunei","Asia + Pacific",1957,"Brunei|1957",6.4370000000000003,60.604999999999997,69587]
[null,"Brunei","Asia + Pacific",1958,"Brunei|1958",6.4420000000000002,61.219000000000001,72916]
[null,"Brunei","Asia + Pacific",1959,"Brunei|1959",6.4649999999999999,61.826000000000001,76335]
[null,"Brunei","Asia + Pacific",1960,"Brunei|1960",6.4870000000000001,62.421999999999997,79846]
[null,"Brunei","Asia + Pacific",1961,"Brunei|1961",6.4870000000000001,63.002000000000002,83458]
[null,"Brunei","Asia + Pacific",1962,"Brunei|1962",6.4480000000000004,63.56,87192]
[null,"Brunei","Asia + Pacific",1963,"Brunei|1963",6.36,64.093000000000004,91088]
[null,"Brunei","Asia + Pacific",1964,"Brunei|1964",6.2270000000000003,64.599000000000004,95191]
[null,"Brunei","Asia + Pacific",1965,"Brunei|1965",6.0679999999999996,65.078000000000003,99536]
[null,"Brunei","Asia + Pacific",1966,"Brunei|1966",5.9180000000000001,65.536000000000001,104130]
[null,"Brunei","Asia + Pacific",1967,"Brunei|1967",5.8040000000000003,65.974999999999994,108968]
[null,"Brunei","Asia + Pacific",1968,"Brunei|1968",5.742,66.403000000000006,114068]
[null,"Brunei","Asia + Pacific",1969,"Brunei|1969",5.7309999999999999,66.820999999999998,119440]
[null,"Brunei","Asia + Pacific",1970,"Brunei|1970",5.7510000000000003,67.230999999999995,125088]
[null,"Brunei","Asia + Pacific",1971,"Brunei|1971",5.7709999999999999,67.632000000000005,131010]
[null,"Brunei","Asia + Pacific",1972,"Brunei|1972",5.758,68.025000000000006,137181]
[null,"Brunei","Asia + Pacific",1973,"Brunei|1973",5.6870000000000003,68.406999999999996,143548]
[null,"Brunei","Asia + Pacific",1974,"Brunei|1974",5.5549999999999997,68.778999999999996,150039]
[null,"Brunei","Asia + Pacific",1975,"Brunei|1975",5.3650000000000002,69.138999999999996,156595]
[null,"Brunei","Asia + Pacific",1976,"Brunei|1976",5.1319999999999997,69.486000000000004,163208]
[null,"Brunei","Asia + Pacific",1977,"Brunei|1977",4.8840000000000003,69.819999999999993,169865]
[null,"Brunei","Asia + Pacific",1978,"Brunei|1978",4.6449999999999996,70.141000000000005,176488]
[null,"Brunei","Asia + Pacific",1979,"Brunei|1979",4.4290000000000003,70.450999999999993,182986]
[null,"Brunei","Asia + Pacific",1980,"Brunei|1980",4.2460000000000004,70.751000000000005,189300]
[null,"Brunei","Asia + Pacific",1981,"Brunei|1981",4.1029999999999998,71.043999999999997,195394]
[null,"Brunei","Asia + Pacific",1982,"Brunei|1982",3.992,71.331999999999994,201301]
[null,"Brunei","Asia + Pacific",1983,"Brunei|1983",3.9060000000000001,71.616,207122]
[null,"Brunei","Asia + Pacific",1984,"Brunei|1984",3.843,71.897999999999996,213002]
[null,"Brunei","Asia + Pacific",1985,"Brunei|1985",3.794,72.180000000000007,219050]
[null,"Brunei","Asia + Pacific",1986,"Brunei|1986",3.7549999999999999,72.460999999999999,225288]
[null,"Brunei","Asia + Pacific",1987,"Brunei|1987",3.7149999999999999,72.739999999999995,231700]
[null,"Brunei","Asia + Pacific",1988,"Brunei|1988",3.6680000000000001,73.015000000000001,238305]
[null,"Brunei","Asia + Pacific",1989,"Brunei|1989",3.6080000000000001,73.287000000000006,245112]
[null,"Brunei","Asia + Pacific",1990,"Brunei|1990",3.532,73.554000000000002,252125]
[null,"Brunei","Asia + Pacific",1991,"Brunei|1991",3.4350000000000001,73.813999999999993,259357]
[null,"Brunei","Asia + Pacific",1992,"Brunei|1992",3.3210000000000002,74.066999999999993,266794]
[null,"Brunei","Asia + Pacific",1993,"Brunei|1993",3.1970000000000001,74.313000000000002,274371]
[null,"Brunei","Asia + Pacific",1994,"Brunei|1994",3.0640000000000001,74.552000000000007,282000]
[null,"Brunei","Asia + Pacific",1995,"Brunei|1995",2.9289999999999998,74.786000000000001,289614]
[null,"Brunei","Asia + Pacific",1996,"Brunei|1996",2.798,75.016000000000005,297188]
[null,"Brunei","Asia + Pacific",1997,"Brunei|1997",2.677,75.245000000000005,304726]
[null,"Brunei","Asia + Pacific",1998,"Brunei|1998",2.569,75.472999999999999,312216]
[null,"Brunei","Asia + Pacific",1999,"Brunei|1999",2.4769999999999999,75.700999999999993,319654]
[null,"Brunei","Asia + Pacific",2000,"Brunei|2000",2.4009999999999998,75.927000000000007,327036]
[null,"Brunei","Asia + Pacific",2001,"Brunei|2001",2.3410000000000002,76.150000000000006,334348]
[null,"Brunei","Asia + Pacific",2002,"Brunei|2002",2.2919999999999998,76.367000000000004,341585]
[null,"Brunei","Asia + Pacific",2003,"Brunei|2003",2.2490000000000001,76.578000000000003,348771]
[null,"Brunei","Asia + Pacific",2004,"Brunei|2004",2.2109999999999999,76.783000000000001,355943]
[null,"Brunei","Asia + Pacific",2005,"Brunei|2005",2.177,76.981999999999999,363123]
[null,"Brunei","Asia + Pacific",2006,"Brunei|2006",2.1469999999999998,77.177999999999997,370317]
[null,"Brunei","Asia + Pacific",2007,"Brunei|2007",2.1190000000000002,77.372,377513]
[null,"Brunei","Asia + Pacific",2008,"Brunei|2008",2.0950000000000002,77.566000000000003,384695]
[null,"Brunei","Asia + Pacific",2009,"Brunei|2009",2.0720000000000001,77.760000000000005,391837]
[null,"Brunei","Asia + Pacific",2010,"Brunei|2010",2.0510000000000002,77.956000000000003,398920]
[null,"Brunei","Asia + Pacific",2011,"Brunei|2011",2.0310000000000001,78.153000000000006,405938]
[null,"Brunei","Asia + Pacific",2012,"Brunei|2012",2.012,78.349999999999994,412892]
[null,"Brunei","Asia + Pacific",2013,"Brunei|2013",1.994,78.546999999999997,419772]
[null,"Bulgaria","Europe",1952,"Bulgaria|1952",2.552,59.6,7324411]
[null,"Bulgaria","Europe",1951,"Bulgaria|1951",2.6219999999999999,60.63,7282560]
[null,"Bulgaria","Europe",1950,"Bulgaria|1950",2.66,61.39,7250999]
[null,"Bulgaria","Europe",1953,"Bulgaria|1953",2.4889999999999999,64.14,7375320]
[null,"Bulgaria","Europe",1954,"Bulgaria|1954",2.4340000000000002,64.400000000000006,7433978]
[null,"Bulgaria","Europe",1955,"Bulgaria|1955",2.387,64.81,7499009]
[null,"Bulgaria","Europe",1956,"Bulgaria|1956",2.3460000000000001,65.209999999999994,7568951]
[null,"Bulgaria","Europe",1959,"Bulgaria|1959",2.2639999999999998,66.569999999999993,7792759]
[null,"Bulgaria","Europe",1957,"Bulgaria|1957",2.3130000000000002,66.61,7642268]
[null,"Bulgaria","Europe",1958,"Bulgaria|1958",2.286,68.709999999999994,7717389]
[null,"Bulgaria","Europe",1960,"Bulgaria|1960",2.2450000000000001,69.180000000000007,7867008]
[null,"Bulgaria","Europe",1962,"Bulgaria|1962",2.2130000000000001,69.510000000000005,8008652]
[null,"Bulgaria","Europe",1961,"Bulgaria|1961",2.2290000000000001,70.22,7939132]
[null,"Bulgaria","Europe",1997,"Bulgaria|1997",1.2310000000000001,70.319999999999993,8198008]
[null,"Bulgaria","Europe",1963,"Bulgaria|1963",2.198,70.34,8075674]
[null,"Bulgaria","Europe",1967,"Bulgaria|1967",2.14,70.42,8324589]
[null,"Bulgaria","Europe",1969,"Bulgaria|1969",2.1320000000000001,70.430000000000007,8436396]
[null,"Bulgaria","Europe",1977,"Bulgaria|1977",2.1840000000000002,70.81,8784175]
[null,"Bulgaria","Europe",1994,"Bulgaria|1994",1.421,70.849999999999994,8449971]
[null,"Bulgaria","Europe",1996,"Bulgaria|1996",1.28,70.849999999999994,8273011]
[null,"Bulgaria","Europe",1971,"Bulgaria|1971",2.1440000000000001,70.87,8541136]
[null,"Bulgaria","Europe",1972,"Bulgaria|1972",2.1549999999999998,70.900000000000006,8590839]
[null,"Bulgaria","Europe",1998,"Bulgaria|1998",1.198,70.91,8130284]
[null,"Bulgaria","Europe",1995,"Bulgaria|1995",1.3440000000000001,70.95,8356624]
[null,"Bulgaria","Europe",1975,"Bulgaria|1975",2.19,71.05,8720706]
[null,"Bulgaria","Europe",1985,"Bulgaria|1985",1.9970000000000001,71.069999999999993,8960417]
[null,"Bulgaria","Europe",1982,"Bulgaria|1982",2.0550000000000002,71.08,8914880]
[null,"Bulgaria","Europe",1980,"Bulgaria|1980",2.113,71.099999999999994,8861536]
[null,"Bulgaria","Europe",1964,"Bulgaria|1964",2.181,71.14,8140705]
[null,"Bulgaria","Europe",1978,"Bulgaria|1978",2.1680000000000001,71.17,8810299]
[null,"Bulgaria","Europe",1993,"Bulgaria|1993",1.5069999999999999,71.180000000000007,8550495]
[null,"Bulgaria","Europe",1991,"Bulgaria|1991",1.6859999999999999,71.19,8743034]
[null,"Bulgaria","Europe",1992,"Bulgaria|1992",1.597,71.19,8651284]
[null,"Bulgaria","Europe",1974,"Bulgaria|1974",2.181,71.2,8681449]
[null,"Bulgaria","Europe",1966,"Bulgaria|1966",2.1509999999999998,71.23,8265527]
[null,"Bulgaria","Europe",1968,"Bulgaria|1968",2.133,71.25,8381450]
[null,"Bulgaria","Europe",1983,"Bulgaria|1983",2.0329999999999999,71.25,8938068]
[null,"Bulgaria","Europe",1970,"Bulgaria|1970",2.1349999999999998,71.27,8489572]
[null,"Bulgaria","Europe",1979,"Bulgaria|1979",2.1429999999999998,71.27,8835614]
[null,"Bulgaria","Europe",1965,"Bulgaria|1965",2.165,71.3,8204095]
[null,"Bulgaria","Europe",1990,"Bulgaria|1990",1.7689999999999999,71.31,8818915]
[null,"Bulgaria","Europe",1973,"Bulgaria|1973",2.169,71.34,8637941]
[null,"Bulgaria","Europe",1987,"Bulgaria|1987",1.944,71.34,8943245]
[null,"Bulgaria","Europe",1984,"Bulgaria|1984",2.0150000000000001,71.349999999999994,8954236]
[null,"Bulgaria","Europe",1976,"Bulgaria|1976",2.1909999999999998,71.38,8754869]
[null,"Bulgaria","Europe",1988,"Bulgaria|1988",1.899,71.400000000000006,8917563]
[null,"Bulgaria","Europe",1989,"Bulgaria|1989",1.841,71.459999999999994,8876627]
[null,"Bulgaria","Europe",1981,"Bulgaria|1981",2.0819999999999999,71.489999999999995,8888449]
[null,"Bulgaria","Europe",1986,"Bulgaria|1986",1.976,71.55,8956687]
[null,"Bulgaria","Europe",1999,"Bulgaria|1999",1.181,71.569999999999993,8067041]
[null,"Bulgaria","Europe",2000,"Bulgaria|2000",1.181,71.59,8006158]
[null,"Bulgaria","Europe",2001,"Bulgaria|2001",1.1950000000000001,71.900000000000006,7947761]
[null,"Bulgaria","Europe",2002,"Bulgaria|2002",1.2210000000000001,72.14,7892666]
[null,"Bulgaria","Europe",2003,"Bulgaria|2003",1.254,72.349999999999994,7840117]
[null,"Bulgaria","Europe",2005,"Bulgaria|2005",1.3280000000000001,72.53,7739115]
[null,"Bulgaria","Europe",2004,"Bulgaria|2004",1.29,72.540000000000006,7789180]
[null,"Bulgaria","Europe",2006,"Bulgaria|2006",1.365,72.64,7689520]
[null,"Bulgaria","Europe",2007,"Bulgaria|2007",1.4,72.95,7640283]
[null,"Bulgaria","Europe",2009,"Bulgaria|2009",1.4610000000000001,73.132000000000005,7542674]
[null,"Bulgaria","Europe",2010,"Bulgaria|2010",1.4850000000000001,73.242999999999995,7494332]
[null,"Bulgaria","Europe",2008,"Bulgaria|2008",1.4330000000000001,73.316999999999993,7591322]
[null,"Bulgaria","Europe",2011,"Bulgaria|2011",1.506,73.346999999999994,7446135]
[null,"Bulgaria","Europe",2012,"Bulgaria|2012",1.524,73.447999999999993,7397873]
[null,"Bulgaria","Europe",2013,"Bulgaria|2013",1.5409999999999999,73.549000000000007,7349462]
[null,"Burkina Faso","Africa",1950,"Burkina Faso|1950",6.0339999999999998,29.981999999999999,4284459]
[null,"Burkina Faso","Africa",1951,"Burkina Faso|1951",6.0529999999999999,30.224,4326475]
[null,"Burkina Faso","Africa",1952,"Burkina Faso|1952",6.0890000000000004,30.707000000000001,4371948]
[null,"Burkina Faso","Africa",1953,"Burkina Faso|1953",6.1219999999999999,31.184000000000001,4421583]
[null,"Burkina Faso","Africa",1954,"Burkina Faso|1954",6.1520000000000001,31.658000000000001,4475785]
[null,"Burkina Faso","Africa",1955,"Burkina Faso|1955",6.18,32.127000000000002,4534650]
[null,"Burkina Faso","Africa",1956,"Burkina Faso|1956",6.2050000000000001,32.591000000000001,4597951]
[null,"Burkina Faso","Africa",1957,"Burkina Faso|1957",6.2270000000000003,33.052999999999997,4665157]
[null,"Burkina Faso","Africa",1958,"Burkina Faso|1958",6.2480000000000002,33.512,4735491]
[null,"Burkina Faso","Africa",1959,"Burkina Faso|1959",6.2690000000000001,33.970999999999997,4808018]
[null,"Burkina Faso","Africa",1960,"Burkina Faso|1960",6.2910000000000004,34.432000000000002,4881947]
[null,"Burkina Faso","Africa",1961,"Burkina Faso|1961",6.3159999999999998,34.896999999999998,4956921]
[null,"Burkina Faso","Africa",1962,"Burkina Faso|1962",6.3440000000000003,35.369,5033296]
[null,"Burkina Faso","Africa",1963,"Burkina Faso|1963",6.3769999999999998,35.847000000000001,5112252]
[null,"Burkina Faso","Africa",1964,"Burkina Faso|1964",6.4139999999999997,36.331000000000003,5195464]
[null,"Burkina Faso","Africa",1965,"Burkina Faso|1965",6.4539999999999997,36.814999999999998,5284154]
[null,"Burkina Faso","Africa",1966,"Burkina Faso|1966",6.4930000000000003,37.290999999999997,5378861]
[null,"Burkina Faso","Africa",1967,"Burkina Faso|1967",6.53,37.753999999999998,5479285]
[null,"Burkina Faso","Africa",1968,"Burkina Faso|1968",6.5629999999999997,38.207000000000001,5584807]
[null,"Burkina Faso","Africa",1969,"Burkina Faso|1969",6.593,38.652000000000001,5694428]
[null,"Burkina Faso","Africa",1970,"Burkina Faso|1970",6.6230000000000002,39.094999999999999,5807492]
[null,"Burkina Faso","Africa",1971,"Burkina Faso|1971",6.657,39.542000000000002,5923949]
[null,"Burkina Faso","Africa",1972,"Burkina Faso|1972",6.6970000000000001,40.003,6044303]
[null,"Burkina Faso","Africa",1973,"Burkina Faso|1973",6.7439999999999998,40.493000000000002,6169133]
[null,"Burkina Faso","Africa",1974,"Burkina Faso|1974",6.7990000000000004,41.024999999999999,6299238]
[null,"Burkina Faso","Africa",1975,"Burkina Faso|1975",6.859,41.63,6435274]
[null,"Burkina Faso","Africa",1976,"Burkina Faso|1976",6.9219999999999997,42.343000000000004,6577502]
[null,"Burkina Faso","Africa",1977,"Burkina Faso|1977",6.984,43.165999999999997,6726016]
[null,"Burkina Faso","Africa",1978,"Burkina Faso|1978",7.0410000000000004,44.081000000000003,6881106]
[null,"Burkina Faso","Africa",1979,"Burkina Faso|1979",7.09,45.06,7043049]
[null,"Burkina Faso","Africa",1980,"Burkina Faso|1980",7.1269999999999998,46.048999999999999,7212088]
[null,"Burkina Faso","Africa",1981,"Burkina Faso|1981",7.1520000000000001,46.984000000000002,7388473]
[null,"Burkina Faso","Africa",1982,"Burkina Faso|1982",7.165,47.81,7572382]
[null,"Burkina Faso","Africa",1983,"Burkina Faso|1983",7.1669999999999998,48.485999999999997,7763888]
[null,"Burkina Faso","Africa",1984,"Burkina Faso|1984",7.1589999999999998,48.991999999999997,7963009]
[null,"Burkina Faso","Africa",1985,"Burkina Faso|1985",7.1420000000000003,49.323,8169792]
[null,"Burkina Faso","Africa",1993,"Burkina Faso|1993",6.9169999999999998,49.36,10118634]
[null,"Burkina Faso","Africa",1992,"Burkina Faso|1992",6.95,49.374000000000002,9844931]
[null,"Burkina Faso","Africa",1994,"Burkina Faso|1994",6.8819999999999997,49.38,10401025]
[null,"Burkina Faso","Africa",1991,"Burkina Faso|1991",6.9790000000000001,49.408999999999999,9580035]
[null,"Burkina Faso","Africa",1995,"Burkina Faso|1995",6.8440000000000003,49.448999999999998,10692138]
[null,"Burkina Faso","Africa",1990,"Burkina Faso|1990",7.0069999999999997,49.454000000000001,9323996]
[null,"Burkina Faso","Africa",1986,"Burkina Faso|1986",7.1189999999999998,49.491999999999997,8384383]
[null,"Burkina Faso","Africa",1989,"Burkina Faso|1989",7.0359999999999996,49.505000000000003,9076631]
[null,"Burkina Faso","Africa",1988,"Burkina Faso|1988",7.0640000000000001,49.545000000000002,8837666]
[null,"Burkina Faso","Africa",1987,"Burkina Faso|1987",7.0919999999999996,49.55,8606963]
[null,"Burkina Faso","Africa",1996,"Burkina Faso|1996",6.8010000000000002,49.576000000000001,10992170]
[null,"Burkina Faso","Africa",1997,"Burkina Faso|1997",6.7539999999999996,49.755000000000003,11301608]
[null,"Burkina Faso","Africa",1998,"Burkina Faso|1998",6.7039999999999997,49.984000000000002,11621159]
[null,"Burkina Faso","Africa",1999,"Burkina Faso|1999",6.65,50.262,11951701]
[null,"Burkina Faso","Africa",2000,"Burkina Faso|2000",6.5919999999999996,50.588999999999999,12294012]
[null,"Burkina Faso","Africa",2001,"Burkina Faso|2001",6.5309999999999997,50.963000000000001,12648474]
[null,"Burkina Faso","Africa",2002,"Burkina Faso|2002",6.468,51.375,13015435]
[null,"Burkina Faso","Africa",2003,"Burkina Faso|2003",6.4029999999999996,51.816000000000003,13395599]
[null,"Burkina Faso","Africa",2004,"Burkina Faso|2004",6.335,52.277999999999999,13789736]
[null,"Burkina Faso","Africa",2005,"Burkina Faso|2005",6.2649999999999997,52.75,14198463]
[null,"Burkina Faso","Africa",2006,"Burkina Faso|2006",6.1929999999999996,53.226999999999997,14622202]
[null,"Burkina Faso","Africa",2007,"Burkina Faso|2007",6.1159999999999997,53.703000000000003,15061127]
[null,"Burkina Faso","Africa",2008,"Burkina Faso|2008",6.0369999999999999,54.173999999999999,15515258]
[null,"Burkina Faso","Africa",2009,"Burkina Faso|2009",5.9539999999999997,54.634,15984479]
[null,"Burkina Faso","Africa",2010,"Burkina Faso|2010",5.8689999999999998,55.081000000000003,16468714]
[null,"Burkina Faso","Africa",2011,"Burkina Faso|2011",5.7809999999999997,55.512999999999998,16967845]
[null,"Burkina Faso","Africa",2012,"Burkina Faso|2012",5.6929999999999996,55.932000000000002,17481984]
[null,"Burkina Faso","Africa",2013,"Burkina Faso|2013",5.6050000000000004,56.344000000000001,18011507]
[null,"Burundi","Africa",1950,"Burundi|1950",6.82,38.426000000000002,2456300]
[null,"Burundi","Africa",1951,"Burundi|1951",6.8109999999999999,38.578000000000003,2504993]
[null,"Burundi","Africa",1952,"Burundi|1952",6.798,38.881,2550737]
[null,"Burundi","Africa",1953,"Burundi|1953",6.7919999999999998,39.183,2595383]
[null,"Burundi","Africa",1954,"Burundi|1954",6.7939999999999996,39.482999999999997,2640339]
[null,"Burundi","Africa",1955,"Burundi|1955",6.8040000000000003,39.783000000000001,2686568]
[null,"Burundi","Africa",1956,"Burundi|1956",6.8209999999999997,40.081000000000003,2734574]
[null,"Burundi","Africa",1957,"Burundi|1957",6.8449999999999998,40.378999999999998,2784417]
[null,"Burundi","Africa",1958,"Burundi|1958",6.875,40.677999999999997,2835768]
[null,"Burundi","Africa",1959,"Burundi|1959",6.9119999999999999,40.978999999999999,2888007]
[null,"Burundi","Africa",1960,"Burundi|1960",6.9530000000000003,41.284999999999997,2940498]
[null,"Burundi","Africa",1961,"Burundi|1961",6.9980000000000002,41.594999999999999,2992893]
[null,"Burundi","Africa",1962,"Burundi|1962",7.0449999999999999,41.91,3045392]
[null,"Burundi","Africa",1963,"Burundi|1963",7.0919999999999996,42.228000000000002,3098852]
[null,"Burundi","Africa",1964,"Burundi|1964",7.1379999999999999,42.542999999999999,3154474]
[null,"Burundi","Africa",1965,"Burundi|1965",7.1790000000000003,42.841000000000001,3212864]
[null,"Burundi","Africa",1966,"Burundi|1966",7.2160000000000002,43.106000000000002,3275465]
[null,"Burundi","Africa",1967,"Burundi|1967",7.2469999999999999,43.332000000000001,3341476]
[null,"Burundi","Africa",1968,"Burundi|1968",7.2720000000000002,43.518999999999998,3406650]
[null,"Burundi","Africa",1969,"Burundi|1969",7.2930000000000001,43.679000000000002,3465190]
[null,"Burundi","Africa",1970,"Burundi|1970",7.3109999999999999,43.832999999999998,3513499]
[null,"Burundi","Africa",1971,"Burundi|1971",7.3289999999999997,44.011000000000003,3549864]
[null,"Burundi","Africa",1972,"Burundi|1972",7.3479999999999999,44.235999999999997,3577187]
[null,"Burundi","Africa",1973,"Burundi|1973",7.37,44.521999999999998,3602204]
[null,"Burundi","Africa",1974,"Burundi|1974",7.3949999999999996,44.87,3634284]
[null,"Burundi","Africa",1975,"Burundi|1975",7.4189999999999996,45.271999999999998,3680401]
[null,"Burundi","Africa",1976,"Burundi|1976",7.4390000000000001,45.71,3742452]
[null,"Burundi","Africa",1977,"Burundi|1977",7.452,46.158000000000001,3819115]
[null,"Burundi","Africa",1993,"Burundi|1993",7.4180000000000001,46.463999999999999,5933293]
[null,"Burundi","Africa",1994,"Burundi|1994",7.3680000000000003,46.476999999999997,6017127]
[null,"Burundi","Africa",1978,"Burundi|1978",7.4569999999999999,46.587000000000003,3910124]
[null,"Burundi","Africa",1992,"Burundi|1992",7.4649999999999999,46.628,5835071]
[null,"Burundi","Africa",1995,"Burundi|1995",7.3179999999999996,46.654000000000003,6086751]
[null,"Burundi","Africa",1991,"Burundi|1991",7.508,46.951000000000001,5724030]
[null,"Burundi","Africa",1996,"Burundi|1996",7.2670000000000003,46.951000000000001,6140258]
[null,"Burundi","Africa",1979,"Burundi|1979",7.4550000000000001,46.984999999999999,4014190]
[null,"Burundi","Africa",1997,"Burundi|1997",7.2169999999999996,47.298000000000002,6181493]
[null,"Burundi","Africa",1980,"Burundi|1980",7.45,47.347000000000001,4129997]
[null,"Burundi","Africa",1990,"Burundi|1990",7.5419999999999998,47.381,5601720]
[null,"Burundi","Africa",1998,"Burundi|1998",7.165,47.64,6223515]
[null,"Burundi","Africa",1981,"Burundi|1981",7.4489999999999998,47.680999999999997,4257303]
[null,"Burundi","Africa",1989,"Burundi|1989",7.5640000000000001,47.843000000000004,5467413]
[null,"Burundi","Africa",1999,"Burundi|1999",7.1120000000000001,47.957999999999998,6283662]
[null,"Burundi","Africa",1982,"Burundi|1982",7.4539999999999997,47.993000000000002,4395560]
[null,"Burundi","Africa",2000,"Burundi|2000",7.0570000000000004,48.250999999999998,6374347]
[null,"Burundi","Africa",1988,"Burundi|1988",7.5720000000000001,48.253999999999998,5321108]
[null,"Burundi","Africa",1983,"Burundi|1983",7.4690000000000003,48.277999999999999,4542467]
[null,"Burundi","Africa",1984,"Burundi|1984",7.492,48.52,4695065]
[null,"Burundi","Africa",2001,"Burundi|2001",7,48.533999999999999,6499653]
[null,"Burundi","Africa",1987,"Burundi|1987",7.5650000000000004,48.545999999999999,5166403]
[null,"Burundi","Africa",1985,"Burundi|1985",7.52,48.674999999999997,4850597]
[null,"Burundi","Africa",1986,"Burundi|1986",7.5460000000000003,48.69,5008201]
[null,"Burundi","Africa",2002,"Burundi|2002",6.9390000000000001,48.84,6656071]
[null,"Burundi","Africa",2003,"Burundi|2003",6.8730000000000002,49.191000000000003,6838764]
[null,"Burundi","Africa",2004,"Burundi|2004",6.8029999999999999,49.588999999999999,7039534]
[null,"Burundi","Africa",2005,"Burundi|2005",6.7290000000000001,50.036000000000001,7251424]
[null,"Burundi","Africa",2006,"Burundi|2006",6.65,50.526000000000003,7474363]
[null,"Burundi","Africa",2007,"Burundi|2007",6.5670000000000002,51.045000000000002,7707781]
[null,"Burundi","Africa",2008,"Burundi|2008",6.4809999999999999,51.578000000000003,7943385]
[null,"Burundi","Africa",2009,"Burundi|2009",6.3929999999999998,52.112000000000002,8170853]
[null,"Burundi","Africa",2010,"Burundi|2010",6.3040000000000003,52.637999999999998,8382849]
[null,"Burundi","Africa",2011,"Burundi|2011",6.2140000000000004,53.148000000000003,8575172]
[null,"Burundi","Africa",2012,"Burundi|2012",6.1230000000000002,53.637,8749387]
[null,"Burundi","Africa",2013,"Burundi|2013",6.0330000000000004,54.103999999999999,8911183]
[null,"Cambodia","Asia + Pacific",1977,"Cambodia|1977",5.4409999999999998,19.138000000000002,6796368]
[null,"Cambodia","Asia + Pacific",1976,"Cambodia|1976",5.4980000000000002,20.260000000000002,6972559]
[null,"Cambodia","Asia + Pacific",1978,"Cambodia|1978",5.4589999999999996,20.411999999999999,6618684]
[null,"Cambodia","Asia + Pacific",1975,"Cambodia|1975",5.6219999999999999,23.419,7097800]
[null,"Cambodia","Asia + Pacific",1979,"Cambodia|1979",5.5449999999999999,24.018999999999998,6506208]
[null,"Cambodia","Asia + Pacific",1974,"Cambodia|1974",5.7949999999999999,27.882999999999999,7157572]
[null,"Cambodia","Asia + Pacific",1980,"Cambodia|1980",5.6849999999999996,29.437999999999999,6505693]
[null,"Cambodia","Asia + Pacific",1973,"Cambodia|1973",5.9880000000000004,32.591000000000001,7162333]
[null,"Cambodia","Asia + Pacific",1981,"Cambodia|1981",5.85,35.787999999999997,6636869]
[null,"Cambodia","Asia + Pacific",1972,"Cambodia|1972",6.173,36.682000000000002,7118136]
[null,"Cambodia","Asia + Pacific",1971,"Cambodia|1971",6.3380000000000001,39.767000000000003,7039481]
[null,"Cambodia","Asia + Pacific",1950,"Cambodia|1950",6.9530000000000003,39.779000000000003,4345800]
[null,"Cambodia","Asia + Pacific",1951,"Cambodia|1951",6.95,39.911999999999999,4457418]
[null,"Cambodia","Asia + Pacific",1952,"Cambodia|1952",6.9459999999999997,40.161000000000001,4555803]
[null,"Cambodia","Asia + Pacific",1953,"Cambodia|1953",6.9450000000000003,40.377000000000002,4648644]
[null,"Cambodia","Asia + Pacific",1954,"Cambodia|1954",6.9450000000000003,40.56,4741920]
[null,"Cambodia","Asia + Pacific",1955,"Cambodia|1955",6.9470000000000001,40.710999999999999,4839899]
[null,"Cambodia","Asia + Pacific",1956,"Cambodia|1956",6.95,40.835000000000001,4945074]
[null,"Cambodia","Asia + Pacific",1957,"Cambodia|1957",6.9550000000000001,40.936,5058226]
[null,"Cambodia","Asia + Pacific",1958,"Cambodia|1958",6.96,41.021000000000001,5178625]
[null,"Cambodia","Asia + Pacific",1959,"Cambodia|1959",6.9649999999999999,41.107999999999997,5304357]
[null,"Cambodia","Asia + Pacific",1960,"Cambodia|1960",6.9669999999999996,41.210999999999999,5433306]
[null,"Cambodia","Asia + Pacific",1961,"Cambodia|1961",6.9640000000000004,41.344000000000001,5564215]
[null,"Cambodia","Asia + Pacific",1962,"Cambodia|1962",6.9550000000000001,41.512,5697598]
[null,"Cambodia","Asia + Pacific",1970,"Cambodia|1970",6.4749999999999996,41.661999999999999,6937996]
[null,"Cambodia","Asia + Pacific",1963,"Cambodia|1963",6.9370000000000003,41.707000000000001,5836139]
[null,"Cambodia","Asia + Pacific",1964,"Cambodia|1964",6.9089999999999998,41.9,5983575]
[null,"Cambodia","Asia + Pacific",1982,"Cambodia|1982",6.008,41.965000000000003,6883519]
[null,"Cambodia","Asia + Pacific",1965,"Cambodia|1965",6.8680000000000003,42.103000000000002,6141404]
[null,"Cambodia","Asia + Pacific",1966,"Cambodia|1966",6.8150000000000004,42.332000000000001,6310320]
[null,"Cambodia","Asia + Pacific",1969,"Cambodia|1969",6.5830000000000002,42.46,6811663]
[null,"Cambodia","Asia + Pacific",1967,"Cambodia|1967",6.7489999999999997,42.537999999999997,6485769]
[null,"Cambodia","Asia + Pacific",1968,"Cambodia|1968",6.6719999999999997,42.621000000000002,6657435]
[null,"Cambodia","Asia + Pacific",1983,"Cambodia|1983",6.13,47.104999999999997,7211815]
[null,"Cambodia","Asia + Pacific",1984,"Cambodia|1984",6.2,50.841000000000001,7570081]
[null,"Cambodia","Asia + Pacific",1985,"Cambodia|1985",6.21,53.067,7919802]
[null,"Cambodia","Asia + Pacific",1986,"Cambodia|1986",6.16,54.006,8250479]
[null,"Cambodia","Asia + Pacific",1987,"Cambodia|1987",6.0650000000000004,54.277999999999999,8571130]
[null,"Cambodia","Asia + Pacific",1988,"Cambodia|1988",5.9409999999999998,54.404000000000003,8885701]
[null,"Cambodia","Asia + Pacific",1989,"Cambodia|1989",5.7919999999999998,54.570999999999998,9203893]
[null,"Cambodia","Asia + Pacific",1990,"Cambodia|1990",5.6230000000000002,54.896000000000001,9531928]
[null,"Cambodia","Asia + Pacific",1991,"Cambodia|1991",5.4379999999999997,55.404000000000003,9868226]
[null,"Cambodia","Asia + Pacific",1992,"Cambodia|1992",5.24,55.993000000000002,10205755]
[null,"Cambodia","Asia + Pacific",1993,"Cambodia|1993",5.0330000000000004,56.591999999999999,10539239]
[null,"Cambodia","Asia + Pacific",1994,"Cambodia|1994",4.8250000000000002,57.219000000000001,10862069]
[null,"Cambodia","Asia + Pacific",1995,"Cambodia|1995",4.62,57.89,11169233]
[null,"Cambodia","Asia + Pacific",1996,"Cambodia|1996",4.423,58.616,11458858]
[null,"Cambodia","Asia + Pacific",1997,"Cambodia|1997",4.2359999999999998,59.395000000000003,11731187]
[null,"Cambodia","Asia + Pacific",1998,"Cambodia|1998",4.0590000000000002,60.223999999999997,11986128]
[null,"Cambodia","Asia + Pacific",1999,"Cambodia|1999",3.8959999999999999,61.1,12224414]
[null,"Cambodia","Asia + Pacific",2000,"Cambodia|2000",3.75,62.03,12446949]
[null,"Cambodia","Asia + Pacific",2001,"Cambodia|2001",3.6190000000000002,63.018999999999998,12653684]
[null,"Cambodia","Asia + Pacific",2002,"Cambodia|2002",3.504,64.055000000000007,12845222]
[null,"Cambodia","Asia + Pacific",2003,"Cambodia|2003",3.4009999999999998,65.116,13024171]
[null,"Cambodia","Asia + Pacific",2004,"Cambodia|2004",3.31,66.177000000000007,13193961]
[null,"Cambodia","Asia + Pacific",2005,"Cambodia|2005",3.23,67.198999999999998,13357574]
[null,"Cambodia","Asia + Pacific",2006,"Cambodia|2006",3.1619999999999999,68.143000000000001,13515884]
[null,"Cambodia","Asia + Pacific",2007,"Cambodia|2007",3.1019999999999999,68.983999999999995,13669857]
[null,"Cambodia","Asia + Pacific",2008,"Cambodia|2008",3.0510000000000002,69.709999999999994,13822644]
[null,"Cambodia","Asia + Pacific",2009,"Cambodia|2009",3.0070000000000001,70.314999999999998,13977903]
[null,"Cambodia","Asia + Pacific",2010,"Cambodia|2010",2.9660000000000002,70.811000000000007,14138255]
[null,"Cambodia","Asia + Pacific",2011,"Cambodia|2011",2.9289999999999998,71.22,14305183]
[null,"Cambodia","Asia + Pacific",2012,"Cambodia|2012",2.8940000000000001,71.576999999999998,14478320]
[null,"Cambodia","Asia + Pacific",2013,"Cambodia|2013",2.8610000000000002,71.915999999999997,14656016]
[null,"Cameroon","Africa",1950,"Cameroon|1950",5.5369999999999999,37.869,4466497]
[null,"Cameroon","Africa",1951,"Cameroon|1951",5.5190000000000001,38.029000000000003,4549464]
[null,"Cameroon","Africa",1952,"Cameroon|1952",5.49,38.357999999999997,4634190]
[null,"Cameroon","Africa",1953,"Cameroon|1953",5.4710000000000001,38.703000000000003,4720787]
[null,"Cameroon","Africa",1954,"Cameroon|1954",5.4649999999999999,39.064999999999998,4809464]
[null,"Cameroon","Africa",1955,"Cameroon|1955",5.4690000000000003,39.444000000000003,4900528]
[null,"Cameroon","Africa",1956,"Cameroon|1956",5.4850000000000003,39.840000000000003,4994394]
[null,"Cameroon","Africa",1957,"Cameroon|1957",5.5119999999999996,40.25,5091573]
[null,"Cameroon","Africa",1958,"Cameroon|1958",5.5490000000000004,40.673000000000002,5192659]
[null,"Cameroon","Africa",1959,"Cameroon|1959",5.5940000000000003,41.106000000000002,5298296]
[null,"Cameroon","Africa",1960,"Cameroon|1960",5.6470000000000002,41.545999999999999,5409083]
[null,"Cameroon","Africa",1961,"Cameroon|1961",5.7050000000000001,41.987000000000002,5525481]
[null,"Cameroon","Africa",1962,"Cameroon|1962",5.766,42.429000000000002,5647721]
[null,"Cameroon","Africa",1963,"Cameroon|1963",5.8280000000000003,42.866999999999997,5775774]
[null,"Cameroon","Africa",1964,"Cameroon|1964",5.89,43.302999999999997,5909450]
[null,"Cameroon","Africa",1965,"Cameroon|1965",5.9489999999999998,43.74,6048706]
[null,"Cameroon","Africa",1966,"Cameroon|1966",6.0049999999999999,44.183999999999997,6193834]
[null,"Cameroon","Africa",1967,"Cameroon|1967",6.0579999999999998,44.639000000000003,6345309]
[null,"Cameroon","Africa",1968,"Cameroon|1968",6.11,45.110999999999997,6503500]
[null,"Cameroon","Africa",1969,"Cameroon|1969",6.1589999999999998,45.597999999999999,6668834]
[null,"Cameroon","Africa",1970,"Cameroon|1970",6.2050000000000001,46.103000000000002,6841763]
[null,"Cameroon","Africa",1971,"Cameroon|1971",6.2469999999999999,46.625,7022124]
[null,"Cameroon","Africa",1972,"Cameroon|1972",6.2859999999999996,47.158999999999999,7210272]
[null,"Cameroon","Africa",1973,"Cameroon|1973",6.3220000000000001,47.698999999999998,7407756]
[null,"Cameroon","Africa",1974,"Cameroon|1974",6.3559999999999999,48.24,7616558]
[null,"Cameroon","Africa",1975,"Cameroon|1975",6.391,48.774999999999999,7837926]
[null,"Cameroon","Africa",1976,"Cameroon|1976",6.4290000000000003,49.304000000000002,8072879]
[null,"Cameroon","Africa",1977,"Cameroon|1977",6.47,49.82,8320635]
[null,"Cameroon","Africa",1978,"Cameroon|1978",6.516,50.319000000000003,8578425]
[null,"Cameroon","Africa",1979,"Cameroon|1979",6.5629999999999997,50.792999999999999,8842355]
[null,"Cameroon","Africa",1980,"Cameroon|1980",6.609,51.235999999999997,9109727]
[null,"Cameroon","Africa",1981,"Cameroon|1981",6.6509999999999998,51.642000000000003,9379109]
[null,"Cameroon","Africa",2003,"Cameroon|2003",5.4640000000000004,51.662999999999997,16783366]
[null,"Cameroon","Africa",2002,"Cameroon|2002",5.5149999999999997,51.679000000000002,16408085]
[null,"Cameroon","Africa",2004,"Cameroon|2004",5.4130000000000003,51.74,17165267]
[null,"Cameroon","Africa",2001,"Cameroon|2001",5.5670000000000002,51.781999999999996,16039737]
[null,"Cameroon","Africa",2005,"Cameroon|2005",5.3579999999999997,51.911999999999999,17553589]
[null,"Cameroon","Africa",2000,"Cameroon|2000",5.6210000000000004,51.96,15678269]
[null,"Cameroon","Africa",1982,"Cameroon|1982",6.6829999999999998,52.01,9651552]
[null,"Cameroon","Africa",2006,"Cameroon|2006",5.2990000000000004,52.173000000000002,17948395]
[null,"Cameroon","Africa",1999,"Cameroon|1999",5.6820000000000004,52.198999999999998,15324051]
[null,"Cameroon","Africa",1983,"Cameroon|1983",6.7030000000000003,52.337000000000003,9929831]
[null,"Cameroon","Africa",1998,"Cameroon|1998",5.7489999999999997,52.472000000000001,14976200]
[null,"Cameroon","Africa",2007,"Cameroon|2007",5.2350000000000003,52.502000000000002,18350022]
[null,"Cameroon","Africa",1984,"Cameroon|1984",6.7080000000000002,52.624000000000002,10218016]
[null,"Cameroon","Africa",1997,"Cameroon|1997",5.8230000000000004,52.753,14631908]
[null,"Cameroon","Africa",1985,"Cameroon|1985",6.6970000000000001,52.87,10518855]
[null,"Cameroon","Africa",2008,"Cameroon|2008",5.1669999999999998,52.878,18758778]
[null,"Cameroon","Africa",1996,"Cameroon|1996",5.9029999999999996,53.017000000000003,14287475]
[null,"Cameroon","Africa",1986,"Cameroon|1986",6.6689999999999996,53.082000000000001,10832919]
[null,"Cameroon","Africa",1995,"Cameroon|1995",5.9889999999999999,53.246000000000002,13940337]
[null,"Cameroon","Africa",1987,"Cameroon|1987",6.6269999999999998,53.262999999999998,11158600]
[null,"Cameroon","Africa",2009,"Cameroon|2009",5.0940000000000003,53.287999999999997,19175028]
[null,"Cameroon","Africa",1988,"Cameroon|1988",6.5720000000000001,53.414999999999999,11493770]
[null,"Cameroon","Africa",1994,"Cameroon|1994",6.08,53.426000000000002,13589699]
[null,"Cameroon","Africa",1989,"Cameroon|1989",6.508,53.536000000000001,11835344]
[null,"Cameroon","Africa",1993,"Cameroon|1993",6.173,53.554000000000002,13236573]
[null,"Cameroon","Africa",1990,"Cameroon|1990",6.4340000000000002,53.619,12180819]
[null,"Cameroon","Africa",1992,"Cameroon|1992",6.2640000000000002,53.631,12882506]
[null,"Cameroon","Africa",1991,"Cameroon|1991",6.3520000000000003,53.652000000000001,12529904]
[null,"Cameroon","Africa",2010,"Cameroon|2010",5.0170000000000003,53.718000000000004,19598889]
[null,"Cameroon","Africa",2011,"Cameroon|2011",4.9390000000000001,54.16,20030362]
[null,"Cameroon","Africa",2012,"Cameroon|2012",4.859,54.61,20468943]
[null,"Cameroon","Africa",2013,"Cameroon|2013",4.78,55.064999999999998,20913595]
[null,"Canada","North America",1950,"Canada|1950",3.4260000000000002,68.28,13736997]
[null,"Canada","North America",1951,"Canada|1951",3.472,68.55,14132558]
[null,"Canada","North America",1952,"Canada|1952",3.617,68.75,14518772]
[null,"Canada","North America",1953,"Canada|1953",3.6960000000000002,69.13,14909614]
[null,"Canada","North America",1957,"Canada|1957",3.93,69.959999999999994,16621974]
[null,"Canada","North America",1954,"Canada|1954",3.8079999999999998,69.989999999999995,15314040]
[null,"Canada","North America",1956,"Canada|1956",3.8410000000000002,70.040000000000006,16174093]
[null,"Canada","North America",1955,"Canada|1955",3.8130000000000002,70.05,15735988]
[null,"Canada","North America",1958,"Canada|1958",3.8929999999999998,70.62,17069068]
[null,"Canada","North America",1959,"Canada|1959",3.9430000000000001,70.66,17502043]
[null,"Canada","North America",1960,"Canada|1960",3.9089999999999998,71.040000000000006,17909009]
[null,"Canada","North America",1961,"Canada|1961",3.8530000000000002,71.27,18284009]
[null,"Canada","North America",1962,"Canada|1962",3.7709999999999999,71.3,18630957]
[null,"Canada","North America",1963,"Canada|1963",3.681,71.31,18965320]
[null,"Canada","North America",1964,"Canada|1964",3.5129999999999999,71.69,19309343]
[null,"Canada","North America",1965,"Canada|1965",3.149,71.790000000000006,19678005]
[null,"Canada","North America",1966,"Canada|1966",2.8140000000000001,71.92,20078135]
[null,"Canada","North America",1967,"Canada|1967",2.5960000000000001,72.13,20501867]
[null,"Canada","North America",1968,"Canada|1968",2.456,72.290000000000006,20931716]
[null,"Canada","North America",1969,"Canada|1969",2.4049999999999998,72.45,21342600]
[null,"Canada","North America",1970,"Canada|1970",2.3109999999999999,72.650000000000006,21716855]
[null,"Canada","North America",1972,"Canada|1972",1.9650000000000001,72.88,22344104]
[null,"Canada","North America",1971,"Canada|1971",2.137,72.98,22048431]
[null,"Canada","North America",1973,"Canada|1973",1.875,73.11,22614673]
[null,"Canada","North America",1974,"Canada|1974",1.83,73.19,22876657]
[null,"Canada","North America",1975,"Canada|1975",1.831,73.489999999999995,23142272]
[null,"Canada","North America",1976,"Canada|1976",1.782,73.92,23416090]
[null,"Canada","North America",1977,"Canada|1977",1.75,74.209999999999994,23695198]
[null,"Canada","North America",1978,"Canada|1978",1.6970000000000001,74.540000000000006,23975639]
[null,"Canada","North America",1979,"Canada|1979",1.6950000000000001,74.900000000000006,24250641]
[null,"Canada","North America",1980,"Canada|1980",1.68,75.14,24516277]
[null,"Canada","North America",1981,"Canada|1981",1.6519999999999999,75.55,24769849]
[null,"Canada","North America",1982,"Canada|1982",1.6359999999999999,75.760000000000005,25016047]
[null,"Canada","North America",1983,"Canada|1983",1.62,76.13,25266950]
[null,"Canada","North America",1985,"Canada|1985",1.61,76.41,25842588]
[null,"Canada","North America",1984,"Canada|1984",1.6240000000000001,76.430000000000007,25538860]
[null,"Canada","North America",1986,"Canada|1986",1.5940000000000001,76.56,26183106]
[null,"Canada","North America",1987,"Canada|1987",1.5760000000000001,76.86,26554540]
[null,"Canada","North America",1988,"Canada|1988",1.599,76.930000000000007,26943398]
[null,"Canada","North America",1989,"Canada|1989",1.6579999999999999,77.2,27330298]
[null,"Canada","North America",1990,"Canada|1990",1.7150000000000001,77.510000000000005,27700854]
[null,"Canada","North America",1991,"Canada|1991",1.714,77.69,28051725]
[null,"Canada","North America",1993,"Canada|1993",1.6819999999999999,77.83,28704519]
[null,"Canada","North America",1992,"Canada|1992",1.7110000000000001,77.95,28386162]
[null,"Canada","North America",1994,"Canada|1994",1.6850000000000001,78.010000000000005,29009032]
[null,"Canada","North America",1995,"Canada|1995",1.67,78.13,29302092]
[null,"Canada","North America",1996,"Canada|1996",1.631,78.400000000000006,29582222]
[null,"Canada","North America",1997,"Canada|1997",1.5669999999999999,78.61,29850242]
[null,"Canada","North America",1998,"Canada|1998",1.556,78.83,30113972]
[null,"Canada","North America",1999,"Canada|1999",1.544,79.05,30383823]
[null,"Canada","North America",2000,"Canada|2000",1.5069999999999999,79.41,30667365]
[null,"Canada","North America",2001,"Canada|2001",1.536,79.650000000000006,30967236]
[null,"Canada","North America",2002,"Canada|2002",1.5129999999999999,79.77,31281727]
[null,"Canada","North America",2003,"Canada|2003",1.542,79.95,31608562]
[null,"Canada","North America",2004,"Canada|2004",1.548,80.25,31943605]
[null,"Canada","North America",2005,"Canada|2005",1.5660000000000001,80.36,32283413]
[null,"Canada","North America",2007,"Canada|2007",1.657,80.591999999999999,32977334]
[null,"Canada","North America",2008,"Canada|2008",1.6808000000000001,80.742999999999995,33327954]
[null,"Canada","North America",2006,"Canada|2006",1.613,80.78,32627978]
[null,"Canada","North America",2009,"Canada|2009",1.6679999999999999,80.813999999999993,33675448]
[null,"Canada","North America",2010,"Canada|2010",1.6269,80.986000000000004,34016593]
[null,"Canada","North America",2011,"Canada|2011",1.61,81.156999999999996,34349561]
[null,"Canada","North America",2012,"Canada|2012",1.6639999999999999,81.322999999999993,34674708]
[null,"Canada","North America",2013,"Canada|2013",1.67,81.481999999999999,34993747]
[null,"Cape Verde","Africa",1950,"Cape Verde|1950",6.4969999999999999,47.801000000000002,178064]
[null,"Cape Verde","Africa",1951,"Cape Verde|1951",6.5129999999999999,47.865000000000002,181974]
[null,"Cape Verde","Africa",1952,"Cape Verde|1952",6.5460000000000003,47.996000000000002,185568]
[null,"Cape Verde","Africa",1953,"Cape Verde|1953",6.5819999999999999,48.13,188848]
[null,"Cape Verde","Africa",1954,"Cape Verde|1954",6.6210000000000004,48.265999999999998,191854]
[null,"Cape Verde","Africa",1955,"Cape Verde|1955",6.6619999999999999,48.404000000000003,194664]
[null,"Cape Verde","Africa",1956,"Cape Verde|1956",6.7060000000000004,48.542000000000002,197395]
[null,"Cape Verde","Africa",1957,"Cape Verde|1957",6.7510000000000003,48.680999999999997,200202]
[null,"Cape Verde","Africa",1958,"Cape Verde|1958",6.7969999999999997,48.817,203267]
[null,"Cape Verde","Africa",1959,"Cape Verde|1959",6.8419999999999996,48.945999999999998,206789]
[null,"Cape Verde","Africa",1960,"Cape Verde|1960",6.8849999999999998,49.064999999999998,210933]
[null,"Cape Verde","Africa",1961,"Cape Verde|1961",6.9219999999999997,49.173999999999999,215792]
[null,"Cape Verde","Africa",1962,"Cape Verde|1962",6.9530000000000003,49.274999999999999,221343]
[null,"Cape Verde","Africa",1968,"Cape Verde|1968",6.97,50.850999999999999,259610]
[null,"Cape Verde","Africa",1973,"Cape Verde|1973",6.8550000000000004,54.765999999999998,300922]
[null,"Cape Verde","Africa",1979,"Cape Verde|1979",6.4729999999999999,59.579000000000001,300726]
[null,"Cape Verde","Africa",1984,"Cape Verde|1984",5.9790000000000001,63.116,322560]
[null,"Cape Verde","Africa",1989,"Cape Verde|1989",5.4409999999999998,65.727000000000004,342646]
[null,"Cape Verde","Africa",1996,"Cape Verde|1996",4.3879999999999999,68.099999999999994,404166]
[null,"Cape Verde","Africa",2001,"Cape Verde|2001",3.5270000000000001,70.296000000000006,445096]
[null,"Cape Verde","Africa",2007,"Cape Verde|2007",2.66,72.959000000000003,483023]
[null,"Cape Verde","Africa",2012,"Cape Verde|2012",2.331,74.771000000000001,505335]
[null,"Central African Republic","Africa",1953,"Central African Republic|1953",5.5460000000000003,33.646000000000001,1367806]
[null,"Central African Republic","Africa",1956,"Central African Republic|1956",5.6920000000000002,34.869999999999997,1417223]
[null,"Central African Republic","Africa",1960,"Central African Republic|1960",5.84,36.488999999999997,1503509]
[null,"Central African Republic","Africa",1965,"Central African Republic|1965",5.9370000000000003,38.734999999999999,1648838]
[null,"Central African Republic","Africa",1971,"Central African Republic|1971",5.9539999999999997,42.728000000000002,1864764]
[null,"Central African Republic","Africa",2001,"Central African Republic|2001",5.3929999999999998,43.823999999999998,3767068]
[null,"Central African Republic","Africa",2003,"Central African Republic|2003",5.2569999999999997,44.262,3890075]
[null,"Central African Republic","Africa",1974,"Central African Republic|1974",5.9509999999999996,45.167999999999999,1975985]
[null,"Central African Republic","Africa",2007,"Central African Republic|2007",4.9029999999999996,46.131,4160940]
[null,"Central African Republic","Africa",2009,"Central African Republic|2009",4.7160000000000002,47.445,4318128]
[null,"Central African Republic","Africa",1979,"Central African Republic|1979",5.9539999999999997,48.38,2213492]
[null,"Central African Republic","Africa",1981,"Central African Republic|1981",5.9550000000000001,48.93,2339759]
[null,"Chad","Africa",1950,"Chad|1950",6.0620000000000003,35.555,2429431]
[null,"Chad","Africa",1957,"Chad|1957",6.19,37.229999999999997,2778716]
[null,"Chad","Africa",1958,"Chad|1958",6.21,37.496000000000002,2835038]
[null,"Chad","Africa",1963,"Chad|1963",6.3010000000000002,38.799999999999997,3150606]
[null,"Chad","Africa",1968,"Chad|1968",6.4320000000000004,40.435000000000002,3499681]
[null,"Chad","Africa",1975,"Chad|1975",6.78,43.325000000000003,4114094]
[null,"Chad","Africa",1980,"Chad|1980",6.9580000000000002,44.698999999999998,4554089]
[null,"Chad","Africa",1986,"Chad|1986",7.1609999999999996,46.084000000000003,5304490]
[null,"Chad","Africa",1991,"Chad|1991",7.3460000000000001,46.381999999999998,6197766]
[null,"Chad","Africa",1996,"Chad|1996",7.4260000000000002,46.499000000000002,7219081]
[null,"Chad","Africa",2002,"Chad|2002",7.2679999999999998,46.951999999999998,8831199]
[null,"Chad","Africa",2008,"Chad|2008",6.8049999999999997,48.881,10653762]
[null,"Chad","Africa",2013,"Chad|2013",6.2629999999999999,51.182000000000002,12141876]
[null,"Channel Islands","Europe",1955,"Channel Islands|1955",2.1080000000000001,69.974000000000004,105559]
[null,"Channel Islands","Europe",1960,"Channel Islands|1960",2.4209999999999998,70.739000000000004,109396]
[null,"Channel Islands","Europe",1961,"Channel Islands|1961",2.4809999999999999,70.832999999999998,110381]
[null,"Channel Islands","Europe",1966,"Channel Islands|1966",2.4750000000000001,71.391000000000005,116200]
[null,"Channel Islands","Europe",1971,"Channel Islands|1971",2.0190000000000001,71.918999999999997,122338]
[null,"Channel Islands","Europe",1978,"Channel Islands|1978",1.5049999999999999,72.983000000000004,127299]
[null,"Channel Islands","Europe",1983,"Channel Islands|1983",1.4330000000000001,74.100999999999999,130905]
[null,"Channel Islands","Europe",1989,"Channel Islands|1989",1.4570000000000001,75.287000000000006,139136]
[null,"Channel Islands","Europe",1994,"Channel Islands|1994",1.4410000000000001,76.337999999999994,141594]
[null,"Channel Islands","Europe",2002,"Channel Islands|2002",1.4079999999999999,78.138999999999996,146626]
[null,"Channel Islands","Europe",2006,"Channel Islands|2006",1.417,79.16,149682]
[null,"Channel Islands","Europe",2011,"Channel Islands|2011",1.444,80.046999999999997,153876]
[null,"Chile","Latin America + Caribbean",1952,"Chile|1952",4.8840000000000003,54.668999999999997,6321806]
[null,"Chile","Latin America + Caribbean",1958,"Chile|1958",5.5510000000000002,56.332000000000001,7278151]
[null,"Chile","Latin America + Caribbean",1963,"Chile|1963",5.3419999999999996,58.28,8254329]
[null,"Chile","Latin America + Caribbean",1969,"Chile|1969",4.202,61.441000000000003,9400225]
[null,"Chile","Latin America + Caribbean",1970,"Chile|1970",4.0229999999999997,62.024000000000001,9577572]
[null,"Chile","Latin America + Caribbean",1975,"Chile|1975",3.1629999999999998,65.338999999999999,10418880]
[null,"Chile","Latin America + Caribbean",1981,"Chile|1981",2.6560000000000001,69.742000000000004,11348442]
[null,"Chile","Latin America + Caribbean",1986,"Chile|1986",2.6560000000000001,72.218000000000004,12310666]
[null,"Chile","Latin America + Caribbean",1995,"Chile|1995",2.3879999999999999,75.040000000000006,14409416]
[null,"Chile","Latin America + Caribbean",1998,"Chile|1998",2.1920000000000002,76.05,15039162]
[null,"Chile","Latin America + Caribbean",2003,"Chile|2003",1.9850000000000001,77.48,15959793]
[null,"Chile","Latin America + Caribbean",2009,"Chile|2009",1.873,78.936000000000007,16955737]
[null,"China","Asia + Pacific",1960,"China|1960",3.9860000000000002,31.63176,658270094]
[null,"China","Asia + Pacific",1952,"China|1952",5.9729999999999999,40.405000000000001,578489714]
[null,"China","Asia + Pacific",1953,"China|1953",5.6689999999999996,44.559519999999999,589018891]
[null,"China","Asia + Pacific",1967,"China|1967",5.2519999999999998,58.381120000000003,747678772]
[null,"China","Asia + Pacific",1968,"China|1968",6.37,59.405200000000001,769666505]
[null,"China","Asia + Pacific",1975,"China|1975",3.5760000000000001,62.698880000000003,915040954]
[null,"China","Asia + Pacific",1978,"China|1978",2.7429999999999999,64.244320000000002,957584105]
[null,"China","Asia + Pacific",1984,"China|1984",2.7690000000000001,68.099999999999994,1040397958]
[null,"China","Asia + Pacific",1990,"China|1990",2.5059999999999998,69.451999999999998,1145195229]
[null,"China","Asia + Pacific",1995,"China|1995",1.746,70.295000000000002,1213986610]
[null,"China","Asia + Pacific",2001,"China|2001",1.514,72.608999999999995,1277903627]
[null,"China","Asia + Pacific",2006,"China|2006",1.6020000000000001,74.253,1314581402]
[null,"China","Asia + Pacific",2012,"China|2012",1.663,75.177999999999997,1353600687]
[null,"Colombia","Latin America + Caribbean",1951,"Colombia|1951",6.7690000000000001,48.988999999999997,12344434]
[null,"Colombia","Latin America + Caribbean",1959,"Colombia|1959",6.8019999999999996,56.164999999999999,15537230]
[null,"Colombia","Latin America + Caribbean",1965,"Colombia|1965",6.5590000000000002,59.094000000000001,18555731]
[null,"Colombia","Latin America + Caribbean",1970,"Colombia|1970",5.5990000000000002,60.902999999999999,21329811]
[null,"Colombia","Latin America + Caribbean",1971,"Colombia|1971",5.37,61.241,21861689]
[null,"Colombia","Latin America + Caribbean",1976,"Colombia|1976",4.4969999999999999,63.265000000000001,24517307]
[null,"Colombia","Latin America + Caribbean",1984,"Colombia|1984",3.5249999999999999,67.311000000000007,29359535]
[null,"Colombia","Latin America + Caribbean",1988,"Colombia|1988",3.2109999999999999,68.058000000000007,31913250]
[null,"Colombia","Latin America + Caribbean",1993,"Colombia|1993",2.9660000000000002,68.86,35146220]
[null,"Colombia","Latin America + Caribbean",1998,"Colombia|1998",2.7269999999999999,70.423000000000002,38439099]
[null,"Colombia","Latin America + Caribbean",2004,"Colombia|2004",2.5179999999999998,72.066000000000003,42385712]
[null,"Colombia","Latin America + Caribbean",2009,"Colombia|2009",2.4049999999999998,73.212999999999994,45654044]
[null,"Comoros","Africa",1952,"Comoros|1952",5.9340000000000002,40.552999999999997,164338]
[null,"Comoros","Africa",1957,"Comoros|1957",6.56,42.280999999999999,182359]
[null,"Comoros","Africa",1962,"Comoros|1962",6.8970000000000002,44.244,200199]
[null,"Comoros","Africa",1968,"Comoros|1968",7.0549999999999997,46.753999999999998,227075]
[null,"Comoros","Africa",1973,"Comoros|1973",7.0549999999999997,49.139000000000003,254997]
[null,"Comoros","Africa",1978,"Comoros|1978",7.1059999999999999,51.176000000000002,304071]
[null,"Comoros","Africa",1980,"Comoros|1980",7.1289999999999996,51.966999999999999,328861]
[null,"Comoros","Africa",1985,"Comoros|1985",6.5759999999999996,54.029000000000003,385740]
[null,"Comoros","Africa",1991,"Comoros|1991",5.4470000000000001,55.845999999999997,448576]
[null,"Comoros","Africa",1996,"Comoros|1996",5.2530000000000001,56.960999999999999,507062]
[null,"Comoros","Africa",2003,"Comoros|2003",5.2830000000000004,58.604999999999997,609271]
[null,"Comoros","Africa",2008,"Comoros|2008",5.0510000000000002,59.771000000000001,697034]
[null,"Comoros","Africa",2013,"Comoros|2013",4.7140000000000004,60.874000000000002,792913]
[null,"Congo Democratic Republic","Africa",1955,"Congo Democratic Republic|1955",5.97,39.869,13580254]
[null,"Congo Democratic Republic","Africa",1960,"Congo Democratic Republic|1960",6.0010000000000003,41.097999999999999,15367539]
[null,"Congo Democratic Republic","Africa",1965,"Congo Democratic Republic|1965",6.0890000000000004,42.256999999999998,17543319]
[null,"Congo Democratic Republic","Africa",1970,"Congo Democratic Republic|1970",6.2140000000000004,43.917000000000002,20267009]
[null,"Congo Democratic Republic","Africa",1977,"Congo Democratic Republic|1977",6.4429999999999996,45.606999999999999,24740389]
[null,"Congo Democratic Republic","Africa",1999,"Congo Democratic Republic|1999",7.1429999999999998,46.145000000000003,48429878]
[null,"Congo Democratic Republic","Africa",1980,"Congo Democratic Republic|1980",6.585,46.148000000000003,27018690]
[null,"Congo Democratic Republic","Africa",1982,"Congo Democratic Republic|1982",6.6890000000000001,46.518999999999998,28551259]
[null,"Congo Democratic Republic","Africa",2002,"Congo Democratic Republic|2002",6.96,47.05,52491329]
[null,"Congo Democratic Republic","Africa",1990,"Congo Democratic Republic|1990",7.133,47.484999999999999,36406226]
[null,"Congo Democratic Republic","Africa",2005,"Congo Democratic Republic|2005",6.7279999999999998,47.85,57420522]
[null,"Congo Democratic Republic","Africa",2011,"Congo Democratic Republic|2011",6.1459999999999999,49.322000000000003,67757577]
[null,"Congo Republic","Africa",1952,"Congo Republic|1952",5.6760000000000002,42.783999999999999,841524]
[null,"Congo Republic","Africa",1958,"Congo Republic|1958",5.8040000000000003,47.235999999999997,964452]
[null,"Congo Republic","Africa",1964,"Congo Republic|1964",6.056,50.98,1126584]
[null,"Congo Republic","Africa",1967,"Congo Republic|1967",6.1740000000000004,52.326999999999998,1224134]
[null,"Congo Republic","Africa",2002,"Congo Republic|2002",5.1280000000000001,52.716000000000001,3288923]
[null,"Congo Republic","Africa",1970,"Congo Republic|1970",6.2590000000000003,53.39,1335088]
[null,"Congo Republic","Africa",2005,"Congo Republic|2005",5.1189999999999998,54.058,3533177]
[null,"Congo Republic","Africa",1992,"Congo Republic|1992",5.2359999999999998,54.207000000000001,2520196]
[null,"Congo Republic","Africa",1975,"Congo Republic|1975",6.3250000000000002,54.825000000000003,1554793]
[null,"Congo Republic","Africa",1979,"Congo Republic|1979",6.2309999999999999,55.918999999999997,1746676]
[null,"Congo Republic","Africa",1987,"Congo Republic|1987",5.5910000000000002,56.393000000000001,2201097]
[null,"Congo Republic","Africa",1985,"Congo Republic|1985",5.774,56.747999999999998,2081152]
[null,"Costa Rica","Latin America + Caribbean",1950,"Costa Rica|1950",6.55,56.113999999999997,966015]
[null,"Costa Rica","Latin America + Caribbean",1958,"Costa Rica|1958",7.22,60.442999999999998,1246366]
[null,"Costa Rica","Latin America + Caribbean",1961,"Costa Rica|1961",7.2949999999999999,62.167999999999999,1381414]
[null,"Costa Rica","Latin America + Caribbean",1967,"Costa Rica|1967",5.9969999999999999,65.344999999999999,1680257]
[null,"Costa Rica","Latin America + Caribbean",1972,"Costa Rica|1972",4.4880000000000004,67.805999999999997,1908913]
[null,"Costa Rica","Latin America + Caribbean",1978,"Costa Rica|1978",3.7189999999999999,71.304000000000002,2217457]
[null,"Costa Rica","Latin America + Caribbean",1983,"Costa Rica|1983",3.5169999999999999,73.87,2547555]
[null,"Costa Rica","Latin America + Caribbean",1985,"Costa Rica|1985",3.4630000000000001,74.542000000000002,2691778]
[null,"Costa Rica","Latin America + Caribbean",1990,"Costa Rica|1990",3.1749999999999998,75.683000000000007,3070240]
[null,"Costa Rica","Latin America + Caribbean",1995,"Costa Rica|1995",2.758,76.744,3468918]
[null,"Costa Rica","Latin America + Caribbean",2001,"Costa Rica|2001",2.3450000000000002,77.884,4002946]
[null,"Costa Rica","Latin America + Caribbean",2006,"Costa Rica|2006",2.0059999999999998,78.576999999999998,4381820]
[null,"Costa Rica","Latin America + Caribbean",2011,"Costa Rica|2011",1.827,79.492999999999995,4726575]
[null,"Cote d'Ivoire","Africa",1952,"Cote d'Ivoire|1952",6.7359999999999998,31.858000000000001,2793262]
[null,"Cote d'Ivoire","Africa",1959,"Cote d'Ivoire|1959",7.274,36.167000000000002,3509432]
[null,"Cote d'Ivoire","Africa",1964,"Cote d'Ivoire|1964",7.6390000000000002,39.488,4251345]
[null,"Cote d'Ivoire","Africa",1970,"Cote d'Ivoire|1970",7.9080000000000004,43.692,5416416]
[null,"Cote d'Ivoire","Africa",2002,"Cote d'Ivoire|2002",5.2069999999999999,46.249000000000002,17180649]
[null,"Cote d'Ivoire","Africa",2000,"Cote d'Ivoire|2000",5.375,46.429000000000002,16581653]
[null,"Cote d'Ivoire","Africa",1976,"Cote d'Ivoire|1976",7.8840000000000003,48.338999999999999,7086257]
[null,"Cote d'Ivoire","Africa",1995,"Cote d'Ivoire|1995",5.81,49.533999999999999,14677200]
[null,"Cote d'Ivoire","Africa",1978,"Cote d'Ivoire|1978",7.774,49.564,7767109]
[null,"Cote d'Ivoire","Africa",2012,"Cote d'Ivoire|2012",4.8940000000000001,50.366999999999997,20594615]
[null,"Cote d'Ivoire","Africa",1992,"Cote d'Ivoire|1992",6.1139999999999999,51.616999999999997,13381799]
[null,"Cote d'Ivoire","Africa",1986,"Cote d'Ivoire|1986",6.8840000000000003,52.671999999999997,10896269]
[null,"Croatia","Europe",1951,"Croatia|1951",2.8959999999999999,60.51,3875666]
[null,"Croatia","Europe",1957,"Croatia|1957",2.4460000000000002,63.429000000000002,4000475]
[null,"Croatia","Europe",1962,"Croatia|1962",2.2730000000000001,65.543999999999997,4077596]
[null,"Croatia","Europe",1967,"Croatia|1967",2.1040000000000001,67.37,4140383]
[null,"Croatia","Europe",1971,"Croatia|1971",1.9870000000000001,68.686999999999998,4183960]
[null,"Croatia","Europe",1979,"Croatia|1979",2.0099999999999998,70.210999999999999,4354275]
[null,"Croatia","Europe",1985,"Croatia|1985",1.919,71.301000000000002,4471404]
[null,"Croatia","Europe",1990,"Croatia|1990",1.67,72.331000000000003,4517200]
[null,"Croatia","Europe",1995,"Croatia|1995",1.5169999999999999,73.724000000000004,4669001]
[null,"Croatia","Europe",1996,"Croatia|1996",1.514,74.040999999999997,4656706]
[null,"Croatia","Europe",2004,"Croatia|2004",1.373,75.278999999999996,4449522]
[null,"Croatia","Europe",2007,"Croatia|2007",1.413,75.930000000000007,4425995]
[null,"Croatia","Europe",2013,"Croatia|2013",1.5009999999999999,77.048000000000002,4378806]
[null,"Cuba","Latin America + Caribbean",1954,"Cuba|1954",3.778,60.283000000000001,6419791]
[null,"Cuba","Latin America + Caribbean",1960,"Cuba|1960",4.1820000000000004,63.834000000000003,7133582]
[null,"Cuba","Latin America + Caribbean",1965,"Cuba|1965",4.617,66.956000000000003,7941840]
[null,"Cuba","Latin America + Caribbean",1973,"Cuba|1973",3.4,71.259,9160532]
[null,"Cuba","Latin America + Caribbean",1977,"Cuba|1977",2.3319999999999999,72.921999999999997,9614061]
[null,"Cuba","Latin America + Caribbean",1982,"Cuba|1982",1.8260000000000001,74.183999999999997,9905577]
[null,"Cuba","Latin America + Caribbean",1988,"Cuba|1988",1.81,74.616,10366500]
[null,"Cuba","Latin America + Caribbean",1993,"Cuba|1993",1.65,74.965000000000003,10790686]
[null,"Cuba","Latin America + Caribbean",1998,"Cuba|1998",1.615,76.224999999999994,11031429]
[null,"Cuba","Latin America + Caribbean",2000,"Cuba|2000",1.6259999999999999,76.683999999999997,11104313]
[null,"Cuba","Latin America + Caribbean",2005,"Cuba|2005",1.57,77.724999999999994,11254242]
[null,"Cuba","Latin America + Caribbean",2010,"Cuba|2010",1.4670000000000001,78.736000000000004,11257979]
[null,"Cyprus","Europe",1952,"Cyprus|1952",3.7269999999999999,66.518000000000001,506628]
[null,"Cyprus","Europe",1957,"Cyprus|1957",3.5310000000000001,68.558999999999997,549500]
[null,"Cyprus","Europe",1965,"Cyprus|1965",3.133,71.197000000000003,581056]
[null,"Cyprus","Europe",1969,"Cyprus|1969",2.6859999999999999,72.317999999999998,606224]
[null,"Cyprus","Europe",1974,"Cyprus|1974",2.3929999999999998,73.53,642496]
[null,"Cyprus","Europe",1980,"Cyprus|1980",2.3540000000000001,74.790000000000006,685510]
[null,"Cyprus","Europe",1985,"Cyprus|1985",2.4580000000000002,75.718000000000004,703752]
[null,"Cyprus","Europe",1992,"Cyprus|1992",2.3370000000000002,76.864999999999995,800707]
[null,"Cyprus","Europe",1997,"Cyprus|1997",1.9450000000000001,77.597999999999999,890758]
[null,"Cyprus","Europe",2002,"Cyprus|2002",1.613,78.27,979874]
[null,"Cyprus","Europe",2003,"Cyprus|2003",1.577,78.394999999999996,998134]
[null,"Cyprus","Europe",2008,"Cyprus|2008",1.4930000000000001,79.045000000000002,1077001]
[null,"Cyprus","Europe",2013,"Cyprus|2013",1.4610000000000001,79.840999999999994,1141453]
[null,"Czech Republic","Europe",1970,"Czech Republic|1970",2.0449999999999999,69.53,9788863]
[null,"Czech Republic","Europe",1962,"Czech Republic|1962",2.2269999999999999,69.900000000000006,9599284]
[null,"Czech Republic","Europe",1965,"Czech Republic|1965",2.069,70.27,9686318]
[null,"Czech Republic","Europe",1960,"Czech Republic|1960",2.3039999999999998,70.459999999999994,9521854]
[null,"Czech Republic","Europe",1976,"Czech Republic|1976",2.3079999999999998,70.66,10049465]
[null,"Czech Republic","Europe",1984,"Czech Republic|1984",1.99,70.989999999999995,10301798]
[null,"Czech Republic","Europe",1988,"Czech Republic|1988",1.905,71.78,10299711]
[null,"Czech Republic","Europe",1994,"Czech Republic|1994",1.49,73.13,10322561]
[null,"Czech Republic","Europe",2000,"Czech Republic|2000",1.1279999999999999,75.05,10242890]
[null,"Czech Republic","Europe",2005,"Czech Republic|2005",1.298,76.22,10220638]
[null,"Czech Republic","Europe",2006,"Czech Republic|2006",1.3460000000000001,76.78,10258796]
[null,"Czech Republic","Europe",2011,"Czech Republic|2011",1.5249999999999999,77.414000000000001,10534293]
[null,"Denmark","Europe",1953,"Denmark|1953",2.5950000000000002,71.150000000000006,4378663]
[null,"Denmark","Europe",1959,"Denmark|1959",2.4940000000000002,72.22,4549237]
[null,"Denmark","Europe",1961,"Denmark|1961",2.5470000000000002,72.47,4612789]
[null,"Denmark","Europe",1970,"Denmark|1970",1.95,73.38,4928704]
[null,"Denmark","Europe",1974,"Denmark|1974",1.8959999999999999,73.84,5038752]
[null,"Denmark","Europe",1978,"Denmark|1978",1.6679999999999999,74.45,5108145]
[null,"Denmark","Europe",1987,"Denmark|1987",1.496,74.8,5116854]
[null,"Denmark","Europe",1991,"Denmark|1991",1.6830000000000001,75.290000000000006,5155038]
[null,"Denmark","Europe",1997,"Denmark|1997",1.752,76.11,5277572]
[null,"Denmark","Europe",2004,"Denmark|2004",1.784,77.58,5400280]
[null,"Denmark","Europe",2005,"Denmark|2005",1.802,78.319999999999993,5419444]
[null,"Denmark","Europe",2010,"Denmark|2010",1.8751,78.968999999999994,5550142]
[null,"Djibouti","Africa",1951,"Djibouti|1951",6.3040000000000003,40.530999999999999,63464]
[null,"Djibouti","Africa",1956,"Djibouti|1956",6.3540000000000001,42.331000000000003,72203]
[null,"Djibouti","Africa",1962,"Djibouti|1962",6.5270000000000001,44.892000000000003,95652]
[null,"Djibouti","Africa",1967,"Djibouti|1967",6.702,47.203000000000003,133253]
[null,"Djibouti","Africa",1974,"Djibouti|1974",6.8170000000000002,51.442,206763]
[null,"Djibouti","Africa",1979,"Djibouti|1979",6.52,53.241,320332]
[null,"Djibouti","Africa",1984,"Djibouti|1984",6.2389999999999999,55.173999999999999,384409]
[null,"Djibouti","Africa",1990,"Djibouti|1990",6.0869999999999997,56.677999999999997,562290]
[null,"Djibouti","Africa",1993,"Djibouti|1993",5.7270000000000003,57.017000000000003,603534]
[null,"Djibouti","Africa",1994,"Djibouti|1994",5.548,57.055999999999997,613219]
[null,"Djibouti","Africa",2007,"Djibouti|2007",3.8319999999999999,58.816000000000003,839453]
[null,"Djibouti","Africa",2012,"Djibouti|2012",3.4569999999999999,61.319000000000003,922708]
[null,"Djibouti","Africa",2013,"Djibouti|2013",3.387,61.801000000000002,940090]
[null,"Dominican Republic","Latin America + Caribbean",1954,"Dominican Republic|1954",7.657,47.170999999999999,2702503]
[null,"Dominican Republic","Latin America + Caribbean",1959,"Dominican Republic|1959",7.6070000000000002,51.042999999999999,3199436]
[null,"Dominican Republic","Latin America + Caribbean",1966,"Dominican Republic|1966",6.9039999999999999,55.972999999999999,4015213]
[null,"Dominican Republic","Latin America + Caribbean",1971,"Dominican Republic|1971",5.9829999999999997,59.03,4637627]
[null,"Dominican Republic","Latin America + Caribbean",1976,"Dominican Republic|1976",5.0140000000000002,61.411999999999999,5274591]
[null,"Dominican Republic","Latin America + Caribbean",1982,"Dominican Republic|1982",4.1900000000000004,63.795000000000002,6064722]
[null,"Dominican Republic","Latin America + Caribbean",1987,"Dominican Republic|1987",3.6949999999999998,66.257999999999996,6764750]
[null,"Dominican Republic","Latin America + Caribbean",1993,"Dominican Republic|1993",3.262,69.091999999999999,7631076]
[null,"Dominican Republic","Latin America + Caribbean",1999,"Dominican Republic|1999",2.9260000000000002,70.36,8458164]
[null,"Dominican Republic","Latin America + Caribbean",2004,"Dominican Republic|2004",2.7810000000000001,71.400999999999996,9129965]
[null,"Dominican Republic","Latin America + Caribbean",2010,"Dominican Republic|2010",2.5840000000000001,72.733999999999995,9927320]
[null,"Ecuador","Latin America + Caribbean",1951,"Ecuador|1951",6.694,47.534999999999997,3475475]
[null,"Ecuador","Latin America + Caribbean",1956,"Ecuador|1956",6.7229999999999999,50.466999999999999,3967916]
[null,"Ecuador","Latin America + Caribbean",1960,"Ecuador|1960",6.6890000000000001,53.146000000000001,4439206]
[null,"Ecuador","Latin America + Caribbean",1963,"Ecuador|1963",6.6230000000000002,54.915999999999997,4848259]
[null,"Ecuador","Latin America + Caribbean",1969,"Ecuador|1969",6.2380000000000004,57.387,5798368]
[null,"Ecuador","Latin America + Caribbean",1974,"Ecuador|1974",5.593,59.58,6711284]
[null,"Ecuador","Latin America + Caribbean",1979,"Ecuador|1979",4.875,62.314999999999998,7739894]
[null,"Ecuador","Latin America + Caribbean",1985,"Ecuador|1985",4.2169999999999996,66.063000000000002,9090592]
[null,"Ecuador","Latin America + Caribbean",1993,"Ecuador|1993",3.488,70.298000000000002,10953182]
[null,"Ecuador","Latin America + Caribbean",1997,"Ecuador|1997",3.2130000000000001,72.126999999999995,11774005]
[null,"Ecuador","Latin America + Caribbean",2002,"Ecuador|2002",2.9830000000000001,73.984999999999999,12767415]
[null,"Ecuador","Latin America + Caribbean",2007,"Ecuador|2007",2.7679999999999998,74.972999999999999,13849721]
[null,"Ecuador","Latin America + Caribbean",2013,"Ecuador|2013",2.5590000000000002,76.471000000000004,15061398]
[null,"Egypt","Africa",1954,"Egypt|1954",6.6479999999999997,43.045000000000002,23799589]
[null,"Egypt","Africa",1960,"Egypt|1960",6.63,48.073999999999998,27903093]
[null,"Egypt","Africa",1961,"Egypt|1961",6.6050000000000004,48.642000000000003,28648825]
[null,"Egypt","Africa",1966,"Egypt|1966",6.327,50.976999999999997,32586961]
[null,"Egypt","Africa",1972,"Egypt|1972",5.7629999999999999,52.926000000000002,37577248]
[null,"Egypt","Africa",1977,"Egypt|1977",5.5069999999999997,56.253999999999998,41961731]
[null,"Egypt","Africa",1981,"Egypt|1981",5.31,59.027999999999999,46025305]
[null,"Egypt","Africa",1989,"Egypt|1989",4.5220000000000002,64.173000000000002,55667119]
[null,"Egypt","Africa",1994,"Egypt|1994",3.7570000000000001,66.325999999999993,61032081]
[null,"Egypt","Africa",2000,"Egypt|2000",3.306,68.632000000000005,67648419]
[null,"Egypt","Africa",2005,"Egypt|2005",3.0529999999999999,69.463999999999999,74203215]
[null,"Egypt","Africa",2012,"Egypt|2012",2.8069999999999999,70.933000000000007,83958369]
[null,"El Salvador","Latin America + Caribbean",1953,"El Salvador|1953",6.3339999999999996,45.52,2325449]
[null,"El Salvador","Latin America + Caribbean",1958,"El Salvador|1958",6.6449999999999996,49.749000000000002,2620149]
[null,"El Salvador","Latin America + Caribbean",1963,"El Salvador|1963",6.7359999999999998,53.356999999999999,3047718]
[null,"El Salvador","Latin America + Caribbean",1964,"El Salvador|1964",6.6989999999999998,53.953000000000003,3146076]
[null,"El Salvador","Latin America + Caribbean",1969,"El Salvador|1969",6.3,56.198,3636782]
[null,"El Salvador","Latin America + Caribbean",1973,"El Salvador|1973",5.9139999999999997,57.036999999999999,4037935]
[null,"El Salvador","Latin America + Caribbean",1974,"El Salvador|1974",5.8170000000000002,57.106000000000002,4136133]
[null,"El Salvador","Latin America + Caribbean",1986,"El Salvador|1986",4.367,60.892000000000003,5060307]
[null,"El Salvador","Latin America + Caribbean",1992,"El Salvador|1992",3.7770000000000001,67.572000000000003,5498489]
[null,"El Salvador","Latin America + Caribbean",1997,"El Salvador|1997",3.323,69.248999999999995,5839103]
[null,"El Salvador","Latin America + Caribbean",2002,"El Salvador|2002",2.6829999999999998,70.126999999999995,5988233]
[null,"El Salvador","Latin America + Caribbean",2006,"El Salvador|2006",2.3860000000000001,70.965000000000003,6074487]
[null,"Equatorial Guinea","Africa",1950,"Equatorial Guinea|1950",5.5060000000000002,33.881999999999998,225536]
[null,"Equatorial Guinea","Africa",1956,"Equatorial Guinea|1956",5.4950000000000001,35.536000000000001,239826]
[null,"Equatorial Guinea","Africa",1961,"Equatorial Guinea|1961",5.5149999999999997,37.040999999999997,255100]
[null,"Equatorial Guinea","Africa",1966,"Equatorial Guinea|1966",5.6189999999999998,38.545999999999999,275472]
[null,"Equatorial Guinea","Africa",1967,"Equatorial Guinea|1967",5.64,38.847000000000001,282446]
[null,"Equatorial Guinea","Africa",1973,"Equatorial Guinea|1973",5.6769999999999996,40.65,262377]
[null,"Equatorial Guinea","Africa",1979,"Equatorial Guinea|1979",5.7080000000000002,42.59,215116]
[null,"Equatorial Guinea","Africa",1984,"Equatorial Guinea|1984",5.8259999999999996,44.429000000000002,293701]
[null,"Equatorial Guinea","Africa",1989,"Equatorial Guinea|1989",5.8970000000000002,46.2,362325]
[null,"Equatorial Guinea","Africa",1995,"Equatorial Guinea|1995",5.8970000000000002,47.585999999999999,442527]
[null,"Equatorial Guinea","Africa",2000,"Equatorial Guinea|2000",5.7729999999999997,47.722999999999999,520380]
[null,"Equatorial Guinea","Africa",2006,"Equatorial Guinea|2006",5.4569999999999999,49.28,625777]
[null,"Equatorial Guinea","Africa",2012,"Equatorial Guinea|2012",4.9450000000000003,52.561999999999998,740471]
[null,"Eritrea","Africa",1953,"Eritrea|1953",6.9790000000000001,35.939,1210063]
[null,"Eritrea","Africa",1959,"Eritrea|1959",6.9279999999999999,37.148000000000003,1388725]
[null,"Eritrea","Africa",1961,"Eritrea|1961",6.8680000000000003,37.606999999999999,1459988]
[null,"Eritrea","Africa",1970,"Eritrea|1970",6.65,40.529000000000003,1847000]
[null,"Eritrea","Africa",1971,"Eritrea|1971",6.6369999999999996,40.9,1896028]
[null,"Eritrea","Africa",1976,"Eritrea|1976",6.6159999999999997,42.494999999999997,2181178]
[null,"Eritrea","Africa",1982,"Eritrea|1982",6.6180000000000003,43.841000000000001,2602966]
[null,"Eritrea","Africa",1987,"Eritrea|1987",6.5350000000000001,46.164000000000001,2967048]
[null,"Eritrea","Africa",1994,"Eritrea|1994",6.351,51.597000000000001,3186063]
[null,"Eritrea","Africa",1999,"Eritrea|1999",6.0149999999999997,55.512,3539885]
[null,"Eritrea","Africa",2004,"Eritrea|2004",5.5819999999999999,58.226999999999997,4318343]
[null,"Eritrea","Africa",2009,"Eritrea|2009",5.0629999999999997,60.752000000000002,5097998]
[null,"Estonia","Europe",1951,"Estonia|1951",2.0819999999999999,64.602000000000004,1113922]
[null,"Estonia","Europe",1994,"Estonia|1994",1.5069999999999999,66.67,1467016]
[null,"Estonia","Europe",1993,"Estonia|1993",1.6020000000000001,68.19,1497364]
[null,"Estonia","Europe",1984,"Estonia|1984",2.1659999999999999,69.650000000000006,1513617]
[null,"Estonia","Europe",1983,"Estonia|1983",2.1339999999999999,69.78,1502292]
[null,"Estonia","Europe",1985,"Estonia|1985",2.1890000000000001,69.790000000000006,1525790]
[null,"Estonia","Europe",1963,"Estonia|1963",1.9450000000000001,69.900000000000006,1259824]
[null,"Estonia","Europe",1989,"Estonia|1989",2.0430000000000001,70.53,1571840]
[null,"Estonia","Europe",1964,"Estonia|1964",1.9530000000000001,70.64,1275487]
[null,"Estonia","Europe",1974,"Estonia|1974",2.125,70.8,1420709]
[null,"Estonia","Europe",2002,"Estonia|2002",1.377,71.23,1356644]
[null,"Estonia","Europe",2007,"Estonia|2007",1.5980000000000001,73.14,1342873]
[null,"Estonia","Europe",2012,"Estonia|2012",1.609,74.334999999999994,1339762]
[null,"Ethiopia","Africa",1955,"Ethiopia|1955",6.992,35.238,20297664]
[null,"Ethiopia","Africa",1960,"Ethiopia|1960",6.88,38.418999999999997,22553350]
[null,"Ethiopia","Africa",1966,"Ethiopia|1966",6.867,41.667000000000002,26128435]
[null,"Ethiopia","Africa",1971,"Ethiopia|1971",7.02,43.219000000000001,29777985]
[null,"Ethiopia","Africa",1980,"Ethiopia|1980",7.3159999999999998,43.753,35426282]
[null,"Ethiopia","Africa",1978,"Ethiopia|1978",7.23,44.02,34294030]
[null,"Ethiopia","Africa",1976,"Ethiopia|1976",7.1669999999999998,44.118000000000002,33486288]
[null,"Ethiopia","Africa",1988,"Ethiopia|1988",7.3470000000000004,46.079000000000001,45240322]
[null,"Ethiopia","Africa",1994,"Ethiopia|1994",7.0460000000000003,48.716999999999999,55281054]
[null,"Ethiopia","Africa",1999,"Ethiopia|1999",6.6589999999999998,51.603000000000002,63868806]
[null,"Ethiopia","Africa",2005,"Ethiopia|2005",5.6929999999999996,56.585000000000001,74263861]
[null,"Ethiopia","Africa",2013,"Ethiopia|2013",4.5190000000000001,63.634999999999998,88356373]
[null,"Fiji","Asia + Pacific",1952,"Fiji|1952",6.59,51.947000000000003,304808]
[null,"Fiji","Asia + Pacific",1958,"Fiji|1958",6.74,54.963999999999999,368303]
[null,"Fiji","Asia + Pacific",1963,"Fiji|1963",5.8810000000000002,57.133000000000003,436199]
[null,"Fiji","Asia + Pacific",1968,"Fiji|1968",4.8920000000000003,59.122999999999998,498903]
[null,"Fiji","Asia + Pacific",1974,"Fiji|1974",4.1059999999999999,61.191000000000003,565426]
[null,"Fiji","Asia + Pacific",1976,"Fiji|1976",4.0179999999999998,61.802999999999997,587565]
[null,"Fiji","Asia + Pacific",1981,"Fiji|1981",3.8639999999999999,63.262,651006]
[null,"Fiji","Asia + Pacific",1986,"Fiji|1986",3.5680000000000001,64.576999999999998,718535]
[null,"Fiji","Asia + Pacific",1991,"Fiji|1991",3.3740000000000001,65.730999999999995,735262]
[null,"Fiji","Asia + Pacific",1997,"Fiji|1997",3.2090000000000001,66.975999999999999,793165]
[null,"Fiji","Asia + Pacific",2001,"Fiji|2001",3.0459999999999998,67.733999999999995,814780]
[null,"Fiji","Asia + Pacific",2009,"Fiji|2009",2.7010000000000001,69.078000000000003,852323]
[null,"Finland","Europe",1950,"Finland|1950",3.16,64.239999999999995,4009003]
[null,"Finland","Europe",1957,"Finland|1957",2.86,67.489999999999995,4319898]
[null,"Finland","Europe",1960,"Finland|1960",2.71,69.010000000000005,4430001]
[null,"Finland","Europe",1966,"Finland|1966",2.41,69.650000000000006,4576277]
[null,"Finland","Europe",1971,"Finland|1971",1.7,70.180000000000007,4622759]
[null,"Finland","Europe",1978,"Finland|1978",1.65,73.08,4750001]
[null,"Finland","Europe",1983,"Finland|1983",1.74,74.459999999999994,4853221]
[null,"Finland","Europe",1982,"Finland|1982",1.72,74.55,4826163]
[null,"Finland","Europe",1989,"Finland|1989",1.71,75.010000000000005,4967527]
[null,"Finland","Europe",1995,"Finland|1995",1.81,76.66,5107802]
[null,"Finland","Europe",2001,"Finland|2001",1.73,78.23,5185180]
[null,"Finland","Europe",2006,"Finland|2006",1.84,79.489999999999995,5265936]
[null,"Finland","Europe",2012,"Finland|2012",1.8,80.361999999999995,5402627]
[null,"France","Europe",1952,"France|1952",2.7559999999999998,67.41,42328940]
[null,"France","Europe",1958,"France|1958",2.718,70.16,44678632]
[null,"France","Europe",1962,"France|1962",2.81,70.510000000000005,46919371]
[null,"France","Europe",1971,"France|1971",2.4119999999999999,72.13,51161640]
[null,"France","Europe",1975,"France|1975",2.0550000000000002,72.98,52691826]
[null,"France","Europe",1981,"France|1981",1.8360000000000001,74.510000000000005,54135673]
[null,"France","Europe",1986,"France|1986",1.827,75.75,55575215]
[null,"France","Europe",1987,"France|1987",1.81,76.34,55870924]
[null,"France","Europe",1993,"France|1993",1.7170000000000001,77.5,57412239]
[null,"France","Europe",1998,"France|1998",1.772,78.790000000000006,58496138]
[null,"France","Europe",2005,"France|2005",1.9359999999999999,80.47,60996506]
[null,"France","Europe",2008,"France|2008",1.9730000000000001,81.254000000000005,62098413]
[null,"French Guiana","Latin America + Caribbean",1950,"French Guiana|1950",5.0759999999999996,52.25,25479]
[null,"French Guiana","Latin America + Caribbean",1956,"French Guiana|1956",4.9249999999999998,55.216999999999999,29136]
[null,"French Guiana","Latin America + Caribbean",1962,"French Guiana|1962",5.0250000000000004,59.277999999999999,34775]
[null,"French Guiana","Latin America + Caribbean",1968,"French Guiana|1968",4.9210000000000003,64.459999999999994,44870]
[null,"French Guiana","Latin America + Caribbean",1973,"French Guiana|1973",4.0549999999999997,65.808999999999997,53580]
[null,"French Guiana","Latin America + Caribbean",1978,"French Guiana|1978",3.343,66.867000000000004,62711]
[null,"French Guiana","Latin America + Caribbean",1984,"French Guiana|1984",3.6030000000000002,69.787999999999997,82548]
[null,"French Guiana","Latin America + Caribbean",1989,"French Guiana|1989",3.851,71.602000000000004,111472]
[null,"French Guiana","Latin America + Caribbean",1991,"French Guiana|1991",3.9670000000000001,72.274000000000001,121979]
[null,"French Guiana","Latin America + Caribbean",1996,"French Guiana|1996",4.0049999999999999,73.838999999999999,143449]
[null,"French Guiana","Latin America + Caribbean",2001,"French Guiana|2001",3.7650000000000001,74.915000000000006,171889]
[null,"French Guiana","Latin America + Caribbean",2007,"French Guiana|2007",3.3210000000000002,75.823999999999998,214366]
[null,"French Polynesia","Asia + Pacific",1950,"French Polynesia|1950",5.9720000000000004,45.597999999999999,60696]
[null,"French Polynesia","Asia + Pacific",1954,"French Polynesia|1954",6.0049999999999999,51.267000000000003,67690]
[null,"French Polynesia","Asia + Pacific",1960,"French Polynesia|1960",5.6580000000000004,56.281999999999996,79335]
[null,"French Polynesia","Asia + Pacific",1965,"French Polynesia|1965",5.3140000000000001,58.241999999999997,92859]
[null,"French Polynesia","Asia + Pacific",1971,"French Polynesia|1971",4.9800000000000004,60.518000000000001,114591]
[null,"French Polynesia","Asia + Pacific",1976,"French Polynesia|1976",4.423,62.23,133865]
[null,"French Polynesia","Asia + Pacific",1983,"French Polynesia|1983",3.8119999999999998,66.394000000000005,164893]
[null,"French Polynesia","Asia + Pacific",1988,"French Polynesia|1988",3.5790000000000002,68.149000000000001,187044]
[null,"French Polynesia","Asia + Pacific",1993,"French Polynesia|1993",3.0590000000000002,69.680000000000007,207494]
[null,"French Polynesia","Asia + Pacific",1994,"French Polynesia|1994",2.9460000000000002,70.046999999999997,211583]
[null,"French Polynesia","Asia + Pacific",1999,"French Polynesia|1999",2.52,71.954999999999998,233532]
[null,"French Polynesia","Asia + Pacific",2008,"French Polynesia|2008",2.1560000000000001,75.108999999999995,264541]
[null,"French Polynesia","Asia + Pacific",2011,"French Polynesia|2011",2.0920000000000001,75.837999999999994,273777]
[null,"Gabon","Africa",1952,"Gabon|1952",3.9689999999999999,36.79,470676]
[null,"Gabon","Africa",1957,"Gabon|1957",4.173,38.728999999999999,479323]
[null,"Gabon","Africa",1963,"Gabon|1963",4.6189999999999998,40.927,494663]
[null,"Gabon","Africa",1968,"Gabon|1968",4.9610000000000003,44.942999999999998,514963]
[null,"Gabon","Africa",1975,"Gabon|1975",5.4119999999999999,50.75,595417]
[null,"Gabon","Africa",1980,"Gabon|1980",5.6840000000000002,54.908000000000001,682641]
[null,"Gabon","Africa",1985,"Gabon|1985",5.6890000000000001,59.067999999999998,793810]
[null,"Gabon","Africa",1986,"Gabon|1986",5.6539999999999999,59.75,818863]
[null,"Gabon","Africa",2006,"Gabon|2006",4.335,60.476999999999997,1397192]
[null,"Gabon","Africa",1989,"Gabon|1989",5.4909999999999997,61.136000000000003,899739]
[null,"Gabon","Africa",1995,"Gabon|1995",4.9870000000000001,61.158999999999999,1087327]
[null,"Gabon","Africa",1992,"Gabon|1992",5.2590000000000003,61.478999999999999,991289]
[null,"Gambia","Africa",1950,"Gambia|1950",5.23,29.690999999999999,271372]
[null,"Gambia","Africa",1955,"Gambia|1955",5.367,30.902000000000001,306119]
[null,"Gambia","Africa",1960,"Gambia|1960",5.5730000000000004,32.034999999999997,372625]
[null,"Gambia","Africa",1969,"Gambia|1969",6.0430000000000001,36.984999999999999,446488]
[null,"Gambia","Africa",1972,"Gambia|1972",6.1849999999999996,39.555999999999997,487790]
[null,"Gambia","Africa",1978,"Gambia|1978",6.3419999999999996,44.66,589570]
[null,"Gambia","Africa",1983,"Gambia|1983",6.2770000000000001,48.61,704894]
[null,"Gambia","Africa",1988,"Gambia|1988",6.141,51.481000000000002,887224]
[null,"Gambia","Africa",1994,"Gambia|1994",6.056,53.194000000000003,1094974]
[null,"Gambia","Africa",1996,"Gambia|1996",6.0179999999999998,53.801000000000002,1158308]
[null,"Gambia","Africa",2005,"Gambia|2005",5.8120000000000003,56.720999999999997,1503678]
[null,"Gambia","Africa",2006,"Gambia|2006",5.8029999999999999,57.021000000000001,1547259]
[null,"Gambia","Africa",2011,"Gambia|2011",5.7889999999999997,58.353999999999999,1776103]
[null,"Georgia","Europe",1953,"Georgia|1953",2.968,60.845999999999997,3710244]
[null,"Georgia","Europe",1957,"Georgia|1957",2.9249999999999998,62.445999999999998,3967208]
[null,"Georgia","Europe",1964,"Georgia|1964",2.8639999999999999,65.293000000000006,4419666]
[null,"Georgia","Europe",1970,"Georgia|1970",2.5950000000000002,67.456000000000003,4707491]
[null,"Georgia","Europe",1975,"Georgia|1975",2.5019999999999998,69.016000000000005,4907996]
[null,"Georgia","Europe",1980,"Georgia|1980",2.3149999999999999,69.697999999999993,5073000]
[null,"Georgia","Europe",1992,"Georgia|1992",2.0760000000000001,70.191999999999993,5346229]
[null,"Georgia","Europe",1990,"Georgia|1990",2.1800000000000002,70.265000000000001,5459999]
[null,"Georgia","Europe",1998,"Georgia|1998",1.6919999999999999,71.224999999999994,4863694]
[null,"Georgia","Europe",2003,"Georgia|2003",1.609,72.676000000000002,4569880]
[null,"Georgia","Europe",2008,"Georgia|2008",1.788,73.599000000000004,4394018]
[null,"Georgia","Europe",2009,"Georgia|2009",1.8089999999999999,73.742999999999995,4373630]
[null,"Germany","Europe",1951,"Germany|1951",2.0830000000000002,66.962999999999994,68713920]
[null,"Germany","Europe",1957,"Germany|1957",2.286,68.981999999999999,71232304]
[null,"Germany","Europe",1962,"Germany|1962",2.4710000000000001,70.206999999999994,74068738]
[null,"Germany","Europe",1967,"Germany|1967",2.37,70.744,77026811]
[null,"Germany","Europe",1973,"Germany|1973",1.7,71.177000000000007,78635758]
[null,"Germany","Europe",1978,"Germany|1978",1.4890000000000001,72.600999999999999,78526576]
[null,"Germany","Europe",1984,"Germany|1984",1.4570000000000001,74.111000000000004,77686865]
[null,"Germany","Europe",1990,"Germany|1990",1.359,75.39,79098094]
[null,"Germany","Europe",1995,"Germany|1995",1.3129999999999999,76.66,81929441]
[null,"Germany","Europe",2001,"Germany|2001",1.3520000000000001,78.58,82384256]
[null,"Germany","Europe",2006,"Germany|2006",1.3560000000000001,79.81,82536138]
[null,"Germany","Europe",2011,"Germany|2011",1.397,80.41,82162512]
[null,"Ghana","Africa",1951,"Ghana|1951",6.3849999999999998,41.387999999999998,5088932]
[null,"Ghana","Africa",1954,"Ghana|1954",6.4989999999999997,42.951999999999998,5568967]
[null,"Ghana","Africa",1960,"Ghana|1960",6.7489999999999997,45.844000000000001,6742107]
[null,"Ghana","Africa",1965,"Ghana|1965",6.9180000000000001,47.823999999999998,7807845]
[null,"Ghana","Africa",1970,"Ghana|1970",6.95,49.338999999999999,8681818]
[null,"Ghana","Africa",1976,"Ghana|1976",6.7709999999999999,51.11,10119038]
[null,"Ghana","Africa",1982,"Ghana|1982",6.3920000000000003,52.906999999999996,11624726]
[null,"Ghana","Africa",1987,"Ghana|1987",5.9349999999999996,55.14,13638708]
[null,"Ghana","Africa",1998,"Ghana|1998",4.7930000000000001,57.031999999999996,18281113]
[null,"Ghana","Africa",2002,"Ghana|2002",4.5659999999999998,57.430999999999997,20114361]
[null,"Ghana","Africa",2004,"Ghana|2004",4.4550000000000001,58.237000000000002,21119911]
[null,"Ghana","Africa",2009,"Ghana|2009",4.1189999999999998,60.375,23824402]
[null,"Greece","Europe",1951,"Greece|1951",2.2799999999999998,65.477000000000004,7646718]
[null,"Greece","Europe",1952,"Greece|1952",2.2909999999999999,65.617000000000004,7725959]
[null,"Greece","Europe",1957,"Greece|1957",2.266,67.022999999999996,8126135]
[null,"Greece","Europe",1962,"Greece|1962",2.2189999999999999,68.960999999999999,8431099]
[null,"Greece","Europe",1970,"Greece|1970",2.3639999999999999,70.948999999999998,8793002]
[null,"Greece","Europe",1974,"Greece|1974",2.3460000000000001,72.100999999999999,8968522]
[null,"Greece","Europe",1980,"Greece|1980",2.1720000000000002,73.667000000000002,9642504]
[null,"Greece","Europe",1985,"Greece|1985",1.7310000000000001,75.087000000000003,9934292]
[null,"Greece","Europe",1990,"Greece|1990",1.423,76.584000000000003,10160501]
[null,"Greece","Europe",1996,"Greece|1996",1.306,77.888999999999996,10754641]
[null,"Greece","Europe",2003,"Greece|2003",1.304,79.120999999999995,11111072]
[null,"Greece","Europe",2008,"Greece|2008",1.4590000000000001,79.89,11291807]
[null,"Greece","Europe",2013,"Greece|2013",1.5289999999999999,80.77,11445691]
[null,"Grenada","Latin America + Caribbean",1954,"Grenada|1954",6.2210000000000001,57.161000000000001,79414]
[null,"Grenada","Latin America + Caribbean",1955,"Grenada|1955",6.4279999999999999,57.680999999999997,81009]
[null,"Grenada","Latin America + Caribbean",1960,"Grenada|1960",6.7430000000000003,60.067999999999998,89844]
[null,"Grenada","Latin America + Caribbean",1966,"Grenada|1966",5.3,62.476999999999997,94858]
[null,"Grenada","Latin America + Caribbean",1972,"Grenada|1972",4.5369999999999999,64.462000000000003,93896]
[null,"Grenada","Latin America + Caribbean",1977,"Grenada|1977",4.3369999999999997,65.832999999999998,90134]
[null,"Grenada","Latin America + Caribbean",1983,"Grenada|1983",4.2450000000000001,67.233000000000004,95903]
[null,"Grenada","Latin America + Caribbean",1988,"Grenada|1988",4.0679999999999996,68.247,97978]
[null,"Grenada","Latin America + Caribbean",1991,"Grenada|1991",3.7010000000000001,68.765000000000001,96368]
[null,"Grenada","Latin America + Caribbean",2000,"Grenada|2000",2.5819999999999999,70.340999999999994,101522]
[null,"Grenada","Latin America + Caribbean",2005,"Grenada|2005",2.3439999999999999,71.474000000000004,102734]
[null,"Grenada","Latin America + Caribbean",2010,"Grenada|2010",2.2400000000000002,72.375,104487]
[null,"Guadeloupe","Latin America + Caribbean",1952,"Guadeloupe|1952",5.609,52.94,217331]
[null,"Guadeloupe","Latin America + Caribbean",1957,"Guadeloupe|1957",5.6230000000000002,56.837000000000003,252317]
[null,"Guadeloupe","Latin America + Caribbean",1958,"Guadeloupe|1958",5.6319999999999997,57.546999999999997,260525]
[null,"Guadeloupe","Latin America + Caribbean",1964,"Guadeloupe|1964",5.5389999999999997,61.511000000000003,296326]
[null,"Guadeloupe","Latin America + Caribbean",1969,"Guadeloupe|1969",5.0750000000000002,64.454999999999998,316932]
[null,"Guadeloupe","Latin America + Caribbean",1975,"Guadeloupe|1975",3.758,67.456000000000003,328514]
[null,"Guadeloupe","Latin America + Caribbean",1980,"Guadeloupe|1980",2.706,69.747,326951]
[null,"Guadeloupe","Latin America + Caribbean",1989,"Guadeloupe|1989",2.3260000000000001,73.349000000000004,381130]
[null,"Guadeloupe","Latin America + Caribbean",1992,"Guadeloupe|1992",2.149,74.436999999999998,394606]
[null,"Guadeloupe","Latin America + Caribbean",1997,"Guadeloupe|1997",2.0760000000000001,76.147000000000006,413372]
[null,"Guadeloupe","Latin America + Caribbean",2003,"Guadeloupe|2003",2.077,78.043999999999997,438895]
[null,"Guadeloupe","Latin America + Caribbean",2008,"Guadeloupe|2008",2.1320000000000001,79.548000000000002,455247]
[null,"Guadeloupe","Latin America + Caribbean",2013,"Guadeloupe|2013",2.08,80.947000000000003,467335]
[null,"Guam","Asia + Pacific",1952,"Guam|1952",5.4930000000000003,56.878999999999998,61068]
[null,"Guam","Asia + Pacific",1961,"Guam|1961",6.048,61.48,68835]
[null,"Guam","Asia + Pacific",1962,"Guam|1962",5.984,61.984999999999999,70441]
[null,"Guam","Asia + Pacific",1967,"Guam|1967",4.9390000000000001,64.36,79687]
[null,"Guam","Asia + Pacific",1972,"Guam|1972",4.1369999999999996,66.472999999999999,89350]
[null,"Guam","Asia + Pacific",1978,"Guam|1978",3.4470000000000001,68.623999999999995,101903]
[null,"Guam","Asia + Pacific",1985,"Guam|1985",3.0950000000000002,70.700999999999993,119464]
[null,"Guam","Asia + Pacific",1990,"Guam|1990",3.0129999999999999,71.924999999999997,133914]
[null,"Guam","Asia + Pacific",1995,"Guam|1995",2.8719999999999999,73.266999999999996,145559]
[null,"Guam","Asia + Pacific",2000,"Guam|2000",2.8239999999999998,75.010999999999996,155147]
[null,"Guam","Asia + Pacific",2006,"Guam|2006",2.5990000000000002,76.956999999999994,171024]
[null,"Guam","Asia + Pacific",2010,"Guam|2010",2.472,78.046000000000006,179896]
[null,"Guatemala","Latin America + Caribbean",1953,"Guatemala|1953",6.931,42.198999999999998,3429673]
[null,"Guatemala","Latin America + Caribbean",1959,"Guatemala|1959",6.5579999999999998,44.978000000000002,4047330]
[null,"Guatemala","Latin America + Caribbean",1964,"Guatemala|1964",6.4340000000000002,47.884,4636016]
[null,"Guatemala","Latin America + Caribbean",1965,"Guatemala|1965",6.399,48.505000000000003,4762956]
[null,"Guatemala","Latin America + Caribbean",1970,"Guatemala|1970",6.2350000000000003,52.040999999999997,5447687]
[null,"Guatemala","Latin America + Caribbean",1979,"Guatemala|1979",6.1959999999999997,56.762999999999998,6867413]
[null,"Guatemala","Latin America + Caribbean",1982,"Guatemala|1982",6.109,58.048999999999999,7393131]
[null,"Guatemala","Latin America + Caribbean",1987,"Guatemala|1987",5.7640000000000002,60.573999999999998,8333124]
[null,"Guatemala","Latin America + Caribbean",1992,"Guatemala|1992",5.4649999999999999,63.234000000000002,9345130]
[null,"Guatemala","Latin America + Caribbean",1998,"Guatemala|1998",4.97,66.653999999999996,10723154]
[null,"Guatemala","Latin America + Caribbean",2004,"Guatemala|2004",4.4589999999999996,69.409000000000006,12404764]
[null,"Guatemala","Latin America + Caribbean",2010,"Guatemala|2010",3.9740000000000002,71.099999999999994,14388929]
[null,"Guinea","Africa",1951,"Guinea|1951",5.9820000000000002,32.673000000000002,3139830]
[null,"Guinea","Africa",1956,"Guinea|1956",6.0460000000000003,33.978999999999999,3343673]
[null,"Guinea","Africa",1962,"Guinea|1962",6.1210000000000004,35.265999999999998,3645873]
[null,"Guinea","Africa",1967,"Guinea|1967",6.1470000000000002,36.048000000000002,3963201]
[null,"Guinea","Africa",1971,"Guinea|1971",6.2210000000000001,36.933,4195876]
[null,"Guinea","Africa",1974,"Guinea|1974",6.3179999999999996,38.039000000000001,4270991]
[null,"Guinea","Africa",1979,"Guinea|1979",6.5,40.65,4359115]
[null,"Guinea","Africa",1985,"Guinea|1985",6.641,45.481000000000002,4923603]
[null,"Guinea","Africa",1990,"Guinea|1990",6.5789999999999997,49.95,5759374]
[null,"Guinea","Africa",1998,"Guinea|1998",6.0890000000000004,51.487000000000002,8112650]
[null,"Guinea","Africa",1995,"Guinea|1995",6.3079999999999998,51.72,7565235]
[null,"Guinea","Africa",2007,"Guinea|2007",5.423,53.957999999999998,9373619]
[null,"Guinea","Africa",2013,"Guinea|2013",4.915,56.112000000000002,10753680]
[null,"Guinea-Bissau","Africa",1964,"Guinea-Bissau|1964",5.32,42.985999999999997,598294]
[null,"Guinea-Bissau","Africa",1969,"Guinea-Bissau|1969",5.6429999999999998,43.893999999999998,596459]
[null,"Guinea-Bissau","Africa",1975,"Guinea-Bissau|1975",6.8659999999999997,44.85,694113]
[null,"Guinea-Bissau","Africa",1981,"Guinea-Bissau|1981",6.423,46.146000000000001,856143]
[null,"Guinea-Bissau","Africa",1982,"Guinea-Bissau|1982",6.5419999999999998,46.415999999999997,874270]
[null,"Guinea-Bissau","Africa",1987,"Guinea-Bissau|1987",6.7279999999999998,47.991,957688]
[null,"Guinea-Bissau","Africa",1992,"Guinea-Bissau|1992",6.5540000000000003,49.756999999999998,1058839]
[null,"Guinea-Bissau","Africa",1998,"Guinea-Bissau|1998",6.0190000000000001,51.152000000000001,1193585]
[null,"Guinea-Bissau","Africa",2002,"Guinea-Bissau|2002",5.69,51.8,1289526]
[null,"Guinea-Bissau","Africa",2009,"Guinea-Bissau|2009",5.18,53.34,1484120]
[null,"Guyana","Latin America + Caribbean",1951,"Guyana|1951",5.4089999999999998,57.026000000000003,423477]
[null,"Guyana","Latin America + Caribbean",1956,"Guyana|1956",5.883,57.69,498187]
[null,"Guyana","Latin America + Caribbean",1962,"Guyana|1962",5.4850000000000003,58.457999999999998,591554]
[null,"Guyana","Latin America + Caribbean",1969,"Guyana|1969",5.1120000000000001,59.326000000000001,708276]
[null,"Guyana","Latin America + Caribbean",1973,"Guyana|1973",4.9189999999999996,59.805999999999997,739970]
[null,"Guyana","Latin America + Caribbean",1979,"Guyana|1979",3.9350000000000001,60.491,774748]
[null,"Guyana","Latin America + Caribbean",1984,"Guyana|1984",2.714,61.113999999999997,758499]
[null,"Guyana","Latin America + Caribbean",1989,"Guyana|1989",2.4710000000000001,61.88,728147]
[null,"Guyana","Latin America + Caribbean",1990,"Guyana|1990",2.4670000000000001,62.033999999999999,724931]
[null,"Guyana","Latin America + Caribbean",1996,"Guyana|1996",2.5049999999999999,62.813000000000002,728990]
[null,"Guyana","Latin America + Caribbean",2002,"Guyana|2002",2.645,63.662999999999997,738011]
[null,"Guyana","Latin America + Caribbean",2007,"Guyana|2007",2.754,65.046999999999997,750068]
[null,"Guyana","Latin America + Caribbean",2012,"Guyana|2012",2.5910000000000002,66.134,757623]
[null,"Haiti","Latin America + Caribbean",1954,"Haiti|1954",6.2960000000000003,38.545999999999999,3451618]
[null,"Haiti","Latin America + Caribbean",1957,"Haiti|1957",6.31,40.395000000000003,3648930]
[null,"Haiti","Latin America + Caribbean",1965,"Haiti|1965",6.1790000000000003,45.006,4272760]
[null,"Haiti","Latin America + Caribbean",1970,"Haiti|1970",5.7619999999999996,47.204000000000001,4709644]
[null,"Haiti","Latin America + Caribbean",1975,"Haiti|1975",5.6420000000000003,49.023000000000003,5141143]
[null,"Haiti","Latin America + Caribbean",1981,"Haiti|1981",6.1219999999999999,51.082999999999998,5819084]
[null,"Haiti","Latin America + Caribbean",1986,"Haiti|1986",5.9210000000000003,52.969000000000001,6540928]
[null,"Haiti","Latin America + Caribbean",1989,"Haiti|1989",5.5490000000000004,54.115000000000002,6977397]
[null,"Haiti","Latin America + Caribbean",1993,"Haiti|1993",5.1029999999999998,55.470999999999997,7573160]
[null,"Haiti","Latin America + Caribbean",1998,"Haiti|1998",4.5469999999999997,56.972000000000001,8342233]
[null,"Haiti","Latin America + Caribbean",2004,"Haiti|2004",3.8490000000000002,58.844999999999999,9212634]
[null,"Haiti","Latin America + Caribbean",2008,"Haiti|2008",3.5,60.911000000000001,9736332]
[null,"Honduras","Latin America + Caribbean",1951,"Honduras|1951",7.4790000000000001,41.064999999999998,1524916]
[null,"Honduras","Latin America + Caribbean",1957,"Honduras|1957",7.4980000000000002,44.287999999999997,1822159]
[null,"Honduras","Latin America + Caribbean",1963,"Honduras|1963",7.4409999999999998,48.28,2207969]
[null,"Honduras","Latin America + Caribbean",1968,"Honduras|1968",7.383,51.320999999999998,2549206]
[null,"Honduras","Latin America + Caribbean",1974,"Honduras|1974",6.9349999999999996,55.106000000000002,3011047]
[null,"Honduras","Latin America + Caribbean",1979,"Honduras|1979",6.431,58.825000000000003,3515736]
[null,"Honduras","Latin America + Caribbean",1982,"Honduras|1982",6.0620000000000003,61.207000000000001,3858691]
[null,"Honduras","Latin America + Caribbean",1991,"Honduras|1991",5.048,67.141999999999996,5026843]
[null,"Honduras","Latin America + Caribbean",1996,"Honduras|1996",4.4930000000000003,69.257000000000005,5706605]
[null,"Honduras","Latin America + Caribbean",1997,"Honduras|1997",4.3659999999999997,69.626000000000005,5835607]
[null,"Honduras","Latin America + Caribbean",2002,"Honduras|2002",3.7749999999999999,70.888999999999996,6477525]
[null,"Honduras","Latin America + Caribbean",2008,"Honduras|2008",3.2730000000000001,72.234999999999999,7302742]
[null,"Hong Kong","Asia + Pacific",1951,"Hong Kong|1951",4.47,62.378,2036119]
[null,"Hong Kong","Asia + Pacific",1955,"Hong Kong|1955",4.5039999999999996,64.540000000000006,2489955]
[null,"Hong Kong","Asia + Pacific",1961,"Hong Kong|1961",5.2130000000000001,68.010000000000005,3227278]
[null,"Hong Kong","Asia + Pacific",1966,"Hong Kong|1966",4.2460000000000004,70.370999999999995,3868368]
[null,"Hong Kong","Asia + Pacific",1971,"Hong Kong|1971",3.33,72.245999999999995,4005661]
[null,"Hong Kong","Asia + Pacific",1976,"Hong Kong|1976",2.625,73.778000000000006,4485716]
[null,"Hong Kong","Asia + Pacific",1983,"Hong Kong|1983",1.655,75.769000000000005,5291060]
[null,"Hong Kong","Asia + Pacific",1989,"Hong Kong|1989",1.3220000000000001,77.272999999999996,5721987]
[null,"Hong Kong","Asia + Pacific",1994,"Hong Kong|1994",1.1060000000000001,78.48,6048024]
[null,"Hong Kong","Asia + Pacific",1999,"Hong Kong|1999",0.877,79.986999999999995,6692636]
[null,"Hong Kong","Asia + Pacific",2000,"Hong Kong|2000",0.88100000000000001,80.361000000000004,6783317]
[null,"Hong Kong","Asia + Pacific",2009,"Hong Kong|2009",1.0549999999999999,82.662999999999997,6987976]
[null,"Hong Kong","Asia + Pacific",2012,"Hong Kong|2012",1.115,83.198999999999998,7196450]
[null,"Hungary","Europe",1952,"Hungary|1952",2.722,64.03,9594893]
[null,"Hungary","Europe",1959,"Hungary|1959",2.1419999999999999,67.319999999999993,9957295]
[null,"Hungary","Europe",1963,"Hungary|1963",1.885,68.98,10073845]
[null,"Hungary","Europe",1986,"Hungary|1986",1.833,69.14,10502732]
[null,"Hungary","Europe",1992,"Hungary|1992",1.7490000000000001,69.209999999999994,10352695]
[null,"Hungary","Europe",1989,"Hungary|1989",1.8420000000000001,69.44,10399695]
[null,"Hungary","Europe",1987,"Hungary|1987",1.841,69.61,10464389]
[null,"Hungary","Europe",1966,"Hungary|1966",1.915,69.930000000000007,10173802]
[null,"Hungary","Europe",1998,"Hungary|1998",1.373,71,10264982]
[null,"Hungary","Europe",2003,"Hungary|2003",1.288,72.63,10134513]
[null,"Hungary","Europe",2005,"Hungary|2005",1.2989999999999999,72.989999999999995,10086936]
[null,"Hungary","Europe",2009,"Hungary|2009",1.349,74.081000000000003,10002247]
[null,"Iceland","Europe",1950,"Iceland|1950",3.621,71.010000000000005,142998]
[null,"Iceland","Europe",1963,"Iceland|1963",3.8639999999999999,72.98,186092]
[null,"Iceland","Europe",1957,"Iceland|1957",4.1760000000000002,73.47,165227]
[null,"Iceland","Europe",1968,"Iceland|1968",3.218,73.94,199273]
[null,"Iceland","Europe",1974,"Iceland|1974",2.726,74.37,215485]
[null,"Iceland","Europe",1978,"Iceland|1978",2.4220000000000002,76.42,224096]
[null,"Iceland","Europe",1988,"Iceland|1988",2.1349999999999998,77.08,249526]
[null,"Iceland","Europe",1990,"Iceland|1990",2.157,77.98,254793]
[null,"Iceland","Europe",1997,"Iceland|1997",2.0739999999999998,78.95,272836]
[null,"Iceland","Europe",2002,"Iceland|2002",2.0030000000000001,80.5,286783]
[null,"Iceland","Europe",2007,"Iceland|2007",2.105,81.31,305721]
[null,"Iceland","Europe",2005,"Iceland|2005",2.0609999999999999,81.430000000000007,296743]
[null,"Iceland","Europe",2012,"Iceland|2012",2.0960000000000001,81.96,328290]
[null,"India","Asia + Pacific",1953,"India|1953",5.9089999999999998,36.521999999999998,391724533]
[null,"India","Asia + Pacific",1958,"India|1958",5.8929999999999998,39.969000000000001,430442283]
[null,"India","Asia + Pacific",1965,"India|1965",5.7809999999999997,45.140999999999998,496400381]
[null,"India","Asia + Pacific",1971,"India|1971",5.41,49.554000000000002,566651479]
[null,"India","Asia + Pacific",1976,"India|1976",5,53.158999999999999,636992593]
[null,"India","Asia + Pacific",1981,"India|1981",4.5970000000000004,55.767000000000003,716493309]
[null,"India","Asia + Pacific",1989,"India|1989",3.9609999999999999,58.238,855707358]
[null,"India","Asia + Pacific",1993,"India|1993",3.6280000000000001,59.447000000000003,928226051]
[null,"India","Asia + Pacific",1998,"India|1998",3.2690000000000001,61.338000000000001,1018471141]
[null,"India","Asia + Pacific",2004,"India|2004",2.8839999999999999,63.683999999999997,1122991192]
[null,"India","Asia + Pacific",2009,"India|2009",2.6,65.369,1207740408]
[null,"India","Asia + Pacific",2010,"India|2010",2.5630000000000002,65.650000000000006,1224614327]
[null,"Indonesia","Asia + Pacific",1952,"Indonesia|1952",5.4630000000000001,37.802,77258010]
[null,"Indonesia","Asia + Pacific",1957,"Indonesia|1957",5.665,42.271999999999998,85615311]
[null,"Indonesia","Asia + Pacific",1963,"Indonesia|1963",5.6340000000000003,47.207000000000001,99018230]
[null,"Indonesia","Asia + Pacific",1968,"Indonesia|1968",5.556,50.973999999999997,112461009]
[null,"Indonesia","Asia + Pacific",1974,"Indonesia|1974",5.1520000000000001,55.045000000000002,130863441]
[null,"Indonesia","Asia + Pacific",1979,"Indonesia|1979",4.5570000000000004,58.036999999999999,147403681]
[null,"Indonesia","Asia + Pacific",1985,"Indonesia|1985",3.7450000000000001,61.180999999999997,168119209]
[null,"Indonesia","Asia + Pacific",1991,"Indonesia|1991",3.0230000000000001,63.893999999999998,187451800]
[null,"Indonesia","Asia + Pacific",1996,"Indonesia|1996",2.6280000000000001,65.87,202257039]
[null,"Indonesia","Asia + Pacific",2001,"Indonesia|2001",2.4750000000000001,67.623999999999995,216203499]
[null,"Indonesia","Asia + Pacific",2007,"Indonesia|2007",2.4900000000000002,69.444999999999993,232461746]
[null,"Indonesia","Asia + Pacific",2010,"Indonesia|2010",2.4340000000000002,70.185000000000002,239870937]
[null,"Iran","Asia + Pacific",1950,"Iran|1950",6.915,39.417999999999999,17414215]
[null,"Iran","Asia + Pacific",1955,"Iran|1955",6.9080000000000004,42.046999999999997,19433222]
[null,"Iran","Asia + Pacific",1960,"Iran|1960",6.9269999999999996,44.947000000000003,21999103]
[null,"Iran","Asia + Pacific",1966,"Iran|1966",6.77,48.3,25743217]
[null,"Iran","Asia + Pacific",1971,"Iran|1971",6.359,51.661999999999999,29421198]
[null,"Iran","Asia + Pacific",1984,"Iran|1984",6.3739999999999997,53.881999999999998,44790735]
[null,"Iran","Asia + Pacific",1978,"Iran|1978",6.3540000000000001,55.533000000000001,35998637]
[null,"Iran","Asia + Pacific",1988,"Iran|1988",5.468,60.152999999999999,51810746]
[null,"Iran","Asia + Pacific",1994,"Iran|1994",3.492,67.289000000000001,58808655]
[null,"Iran","Asia + Pacific",1999,"Iran|1999",2.3370000000000002,69.241,64278307]
[null,"Iran","Asia + Pacific",2004,"Iran|2004",1.895,71.126000000000005,68893323]
[null,"Iran","Asia + Pacific",2011,"Iran|2011",1.9119999999999999,73.417000000000002,74798599]
[null,"Iraq","West Asia",1952,"Iraq|1952",7.4370000000000003,37.216999999999999,6092562]
[null,"Iraq","West Asia",1953,"Iraq|1953",7.0650000000000004,38.726999999999997,6255685]
[null,"Iraq","West Asia",1958,"Iraq|1958",6.1779999999999999,45.558999999999997,7031285]
[null,"Iraq","West Asia",1963,"Iraq|1963",6.6890000000000001,51.58,7991619]
[null,"Iraq","West Asia",1971,"Iraq|1971",7.3079999999999998,58.848999999999997,10358219]
[null,"Iraq","West Asia",1983,"Iraq|1983",6.3380000000000001,59.962000000000003,14799456]
[null,"Iraq","West Asia",1984,"Iraq|1984",6.2759999999999998,60.673000000000002,15137560]
[null,"Iraq","West Asia",1986,"Iraq|1986",6.1639999999999997,63.087000000000003,15818309]
[null,"Iraq","West Asia",2009,"Iraq|2009",4.2759999999999998,68.649000000000001,30724614]
[null,"Iraq","West Asia",2012,"Iraq|2012",4.0860000000000003,69.180999999999997,33703068]
[null,"Iraq","West Asia",1993,"Iraq|1993",5.6050000000000004,70.408000000000001,19008018]
[null,"Iraq","West Asia",2000,"Iraq|2000",4.9649999999999999,70.844999999999999,23857458]
[null,"Ireland","Europe",1951,"Ireland|1951",3.4489999999999998,64.78,2920750]
[null,"Ireland","Europe",1954,"Ireland|1954",3.4039999999999999,68.069999999999993,2913706]
[null,"Ireland","Europe",1956,"Ireland|1956",3.496,69.010000000000005,2884992]
[null,"Ireland","Europe",1964,"Ireland|1964",3.9870000000000001,70.489999999999995,2860976]
[null,"Ireland","Europe",1969,"Ireland|1969",3.8170000000000002,70.849999999999994,2935643]
[null,"Ireland","Europe",1973,"Ireland|1973",3.7389999999999999,71.239999999999995,3085214]
[null,"Ireland","Europe",1977,"Ireland|1977",3.3380000000000001,72,3284081]
[null,"Ireland","Europe",1983,"Ireland|1983",2.6779999999999999,73.260000000000005,3505714]
[null,"Ireland","Europe",1989,"Ireland|1989",2.06,74.58,3530188]
[null,"Ireland","Europe",1993,"Ireland|1993",1.901,75.400000000000006,3565952]
[null,"Ireland","Europe",2001,"Ireland|2001",1.958,77.239999999999995,3865820]
[null,"Ireland","Europe",2007,"Ireland|2007",1.9990000000000001,79.655000000000001,4291258]
[null,"Ireland","Europe",2011,"Ireland|2011",2.0019999999999998,80.349000000000004,4525802]
[null,"Israel","Europe",1953,"Israel|1953",4.2069999999999999,65.715999999999994,1546309]
[null,"Israel","Europe",1959,"Israel|1959",3.8570000000000002,68.378,2012232]
[null,"Israel","Europe",1960,"Israel|1960",3.843,68.703000000000003,2089963]
[null,"Israel","Europe",1965,"Israel|1965",3.81,70.123000000000005,2522641]
[null,"Israel","Europe",1970,"Israel|1970",3.8170000000000002,71.185000000000002,2849534]
[null,"Israel","Europe",1976,"Israel|1976",3.59,72.596999999999994,3428067]
[null,"Israel","Europe",1981,"Israel|1981",3.2189999999999999,74.046000000000006,3816400]
[null,"Israel","Europe",1985,"Israel|1985",3.0870000000000002,75.44,4083495]
[null,"Israel","Europe",1993,"Israel|1993",2.9369999999999998,77.39,4986162]
[null,"Israel","Europe",1998,"Israel|1998",2.9249999999999998,78.290000000000006,5765115]
[null,"Israel","Europe",2004,"Israel|2004",2.91,79.959999999999994,6471236]
[null,"Israel","Europe",2009,"Israel|2009",2.919,81.105000000000004,7260949]
[null,"Israel","Europe",2011,"Israel|2011",2.9169999999999998,81.472999999999999,7562194]
[null,"Italy","Europe",1955,"Italy|1955",2.2829999999999999,68.25,48131479]
[null,"Italy","Europe",1963,"Italy|1963",2.4740000000000002,69.349999999999994,50647763]
[null,"Italy","Europe",1969,"Italy|1969",2.4969999999999999,70.900000000000006,52952971]
[null,"Italy","Europe",1966,"Italy|1966",2.524,71.02,51839323]
[null,"Italy","Europe",1972,"Italy|1972",2.3769999999999998,72.19,54074032]
[null,"Italy","Europe",1978,"Italy|1978",1.897,73.83,55849349]
[null,"Italy","Europe",1985,"Italy|1985",1.413,75.67,56772141]
[null,"Italy","Europe",1990,"Italy|1990",1.3009999999999999,77.06,56832330]
[null,"Italy","Europe",1996,"Italy|1996",1.228,78.52,56938342]
[null,"Italy","Europe",2001,"Italy|2001",1.23,80.010000000000005,57199219]
[null,"Italy","Europe",2008,"Italy|2008",1.3919999999999999,81.236000000000004,59891479]
[null,"Italy","Europe",2011,"Italy|2011",1.454,82.082999999999998,60788694]
[null,"Jamaica","Latin America + Caribbean",1954,"Jamaica|1954",4.5220000000000002,59.883000000000003,1520687]
[null,"Jamaica","Latin America + Caribbean",1960,"Jamaica|1960",5.4189999999999996,64.272999999999996,1629025]
[null,"Jamaica","Latin America + Caribbean",1965,"Jamaica|1965",5.8150000000000004,66.677999999999997,1760400]
[null,"Jamaica","Latin America + Caribbean",1970,"Jamaica|1970",5.4770000000000003,68.259,1869031]
[null,"Jamaica","Latin America + Caribbean",1972,"Jamaica|1972",5.1079999999999997,68.766999999999996,1924871]
[null,"Jamaica","Latin America + Caribbean",1977,"Jamaica|1977",4.1150000000000002,69.856999999999999,2059107]
[null,"Jamaica","Latin America + Caribbean",1998,"Jamaica|1998",2.6549999999999998,70.335999999999999,2533550]
[null,"Jamaica","Latin America + Caribbean",1992,"Jamaica|1992",2.855,70.501000000000005,2398249]
[null,"Jamaica","Latin America + Caribbean",1981,"Jamaica|1981",3.6429999999999998,70.741,2164601]
[null,"Jamaica","Latin America + Caribbean",1987,"Jamaica|1987",3.1429999999999998,71.004000000000005,2331427]
[null,"Jamaica","Latin America + Caribbean",2005,"Jamaica|2005",2.4700000000000002,71.488,2681653]
[null,"Jamaica","Latin America + Caribbean",2010,"Jamaica|2010",2.3340000000000001,72.897000000000006,2741052]
[null,"Japan","Asia + Pacific",1952,"Japan|1952",3.0960000000000001,63.03,85174302]
[null,"Japan","Asia + Pacific",1955,"Japan|1955",2.468,65.77,88389061]
[null,"Japan","Asia + Pacific",1963,"Japan|1963",1.9650000000000001,69.81,95228052]
[null,"Japan","Asia + Pacific",1966,"Japan|1966",1.9970000000000001,71.14,98495891]
[null,"Japan","Asia + Pacific",1974,"Japan|1974",2.048,73.91,109498615]
[null,"Japan","Asia + Pacific",1975,"Japan|1975",1.9970000000000001,74.41,110808090]
[null,"Japan","Asia + Pacific",1979,"Japan|1979",1.802,76.209999999999994,114996088]
[null,"Japan","Asia + Pacific",1986,"Japan|1986",1.6950000000000001,78.260000000000005,120553260]
[null,"Japan","Asia + Pacific",1991,"Japan|1991",1.5349999999999999,79.31,122703017]
[null,"Japan","Asia + Pacific",1998,"Japan|1998",1.3540000000000001,80.77,125325617]
[null,"Japan","Asia + Pacific",2003,"Japan|2003",1.3,82.07,126184149]
[null,"Japan","Asia + Pacific",2007,"Japan|2007",1.329,82.87,126515486]
[null,"Japan","Asia + Pacific",2013,"Japan|2013",1.419,83.58,126345235]
[null,"Jordan","West Asia",1955,"Jordan|1955",7.2759999999999998,48.603000000000002,649110]
[null,"Jordan","West Asia",1960,"Jordan|1960",7.6870000000000003,52.651000000000003,895357]
[null,"Jordan","West Asia",1966,"Jordan|1966",8.0530000000000008,57.279000000000003,1220890]
[null,"Jordan","West Asia",1972,"Jordan|1972",7.8179999999999996,61.545000000000002,1825322]
[null,"Jordan","West Asia",1977,"Jordan|1977",7.4550000000000001,64.683000000000007,2108538]
[null,"Jordan","West Asia",1978,"Jordan|1978",7.391,65.222999999999999,2164159]
[null,"Jordan","West Asia",1983,"Jordan|1983",6.9349999999999996,67.498000000000005,2584859]
[null,"Jordan","West Asia",1991,"Jordan|1991",5.3490000000000002,70.111000000000004,3599359]
[null,"Jordan","West Asia",1995,"Jordan|1995",4.6769999999999996,70.882999999999996,4382005]
[null,"Jordan","West Asia",2000,"Jordan|2000",4.0529999999999999,71.724000000000004,4827096]
[null,"Jordan","West Asia",2006,"Jordan|2006",3.6890000000000001,72.753,5495117]
[null,"Jordan","West Asia",2011,"Jordan|2011",3.3860000000000001,73.545000000000002,6330169]
[null,"Kazakhstan","Asia + Pacific",1952,"Kazakhstan|1952",4.3849999999999998,54.859000000000002,7041605]
[null,"Kazakhstan","Asia + Pacific",1960,"Kazakhstan|1960",4.5629999999999997,58.421999999999997,9995997]
[null,"Kazakhstan","Asia + Pacific",1964,"Kazakhstan|1964",4.2009999999999996,60.195999999999998,11577537]
[null,"Kazakhstan","Asia + Pacific",1970,"Kazakhstan|1970",3.5379999999999998,62.542000000000002,13109992]
[null,"Kazakhstan","Asia + Pacific",1999,"Kazakhstan|1999",1.9350000000000001,63.281999999999996,15082372]
[null,"Kazakhstan","Asia + Pacific",1975,"Kazakhstan|1975",3.2490000000000001,63.784999999999997,14136006]
[null,"Kazakhstan","Asia + Pacific",1977,"Kazakhstan|1977",3.1059999999999999,64.233999999999995,14461277]
[null,"Kazakhstan","Asia + Pacific",1994,"Kazakhstan|1994",2.3559999999999999,64.484999999999999,16120117]
[null,"Kazakhstan","Asia + Pacific",1993,"Kazakhstan|1993",2.4830000000000001,65.097999999999999,16293800]
[null,"Kazakhstan","Asia + Pacific",2008,"Kazakhstan|2008",2.5099999999999998,65.801000000000002,15655345]
[null,"Kazakhstan","Asia + Pacific",2011,"Kazakhstan|2011",2.5179999999999998,66.251999999999995,16206750]
[null,"Kazakhstan","Asia + Pacific",1985,"Kazakhstan|1985",3.0230000000000001,66.971999999999994,15780002]
[null,"Kazakhstan","Asia + Pacific",1988,"Kazakhstan|1988",2.9790000000000001,67.296999999999997,16344294]
[null,"Kenya","Africa",1956,"Kenya|1956",7.7,43.893999999999998,7186225]
[null,"Kenya","Africa",1962,"Kenya|1962",8.0419999999999998,47.634999999999998,8628949]
[null,"Kenya","Africa",1967,"Kenya|1967",8.125,50.512999999999998,10154382]
[null,"Kenya","Africa",2000,"Kenya|2000",5.0119999999999996,52.863999999999997,31253701]
[null,"Kenya","Africa",1998,"Kenya|1998",5.0590000000000002,53.692,29696410]
[null,"Kenya","Africa",1997,"Kenya|1997",5.1020000000000003,54.365000000000002,28944780]
[null,"Kenya","Africa",1996,"Kenya|1996",5.165,55.143999999999998,28191597]
[null,"Kenya","Africa",2007,"Kenya|2007",4.8239999999999998,56.627000000000002,37485246]
[null,"Kenya","Africa",2008,"Kenya|2008",4.7610000000000001,57.648000000000003,38455418]
[null,"Kenya","Africa",1982,"Kenya|1982",7.27,58.765000000000001,17557466]
[null,"Kenya","Africa",1988,"Kenya|1988",6.4219999999999997,59.529000000000003,21894026]
[null,"Kenya","Africa",2013,"Kenya|2013",4.3819999999999997,61.716000000000001,43923719]
[null,"Kiribati","Asia + Pacific",1954,"Kiribati|1954",6.3959999999999999,44.194000000000003,28298]
[null,"Kiribati","Asia + Pacific",1959,"Kiribati|1959",6.8949999999999996,46.456000000000003,32090]
[null,"Kiribati","Asia + Pacific",1965,"Kiribati|1965",7.2210000000000001,49.167000000000002,37895]
[null,"Kiribati","Asia + Pacific",1970,"Kiribati|1970",6.0510000000000002,51.421999999999997,43891]
[null,"Kiribati","Asia + Pacific",1973,"Kiribati|1973",5.1029999999999998,52.774999999999999,46629]
[null,"Kiribati","Asia + Pacific",1982,"Kiribati|1982",5.0149999999999997,56.857999999999997,57668]
[null,"Kiribati","Asia + Pacific",1987,"Kiribati|1987",4.7480000000000002,59.444000000000003,66457]
[null,"Kiribati","Asia + Pacific",1988,"Kiribati|1988",4.7039999999999997,59.89,68416]
[null,"Kiribati","Asia + Pacific",1993,"Kiribati|1993",4.5270000000000001,61.774999999999999,75227]
[null,"Kiribati","Asia + Pacific",2000,"Kiribati|2000",3.8809999999999998,64.641999999999996,84010]
[null,"Kiribati","Asia + Pacific",2005,"Kiribati|2005",3.3239999999999998,66.325000000000003,91988]
[null,"Kiribati","Asia + Pacific",2010,"Kiribati|2010",3.048,67.944999999999993,99546]
[null,"Korea Democratic Republic","Asia + Pacific",1952,"Korea Democratic Republic|1952",3.2469999999999999,36.177,9458418]
[null,"Korea Democratic Republic","Asia + Pacific",1957,"Korea Democratic Republic|1957",5.0309999999999997,49.021000000000001,10080542]
[null,"Korea Democratic Republic","Asia + Pacific",1962,"Korea Democratic Republic|1962",4.173,52.076000000000001,11478046]
[null,"Korea Democratic Republic","Asia + Pacific",1967,"Korea Democratic Republic|1967",4.2619999999999996,56.506,13048499]
[null,"Korea Democratic Republic","Asia + Pacific",1974,"Korea Democratic Republic|1974",3.5640000000000001,62.896000000000001,15759909]
[null,"Korea Democratic Republic","Asia + Pacific",1997,"Korea Democratic Republic|1997",2.0419999999999998,64.772000000000006,22278723]
[null,"Korea Democratic Republic","Asia + Pacific",2001,"Korea Democratic Republic|2001",1.992,66.099999999999994,23083419]
[null,"Korea Democratic Republic","Asia + Pacific",2002,"Korea Democratic Republic|2002",1.996,66.953000000000003,23264576]
[null,"Korea Democratic Republic","Asia + Pacific",1984,"Korea Democratic Republic|1984",2.6539999999999999,67.569000000000003,18421195]
[null,"Korea Democratic Republic","Asia + Pacific",1986,"Korea Democratic Republic|1986",2.5150000000000001,68.284000000000006,19006458]
[null,"Korea Democratic Republic","Asia + Pacific",2008,"Korea Democratic Republic|2008",2.0049999999999999,68.738,24126329]
[null,"Korea Democratic Republic","Asia + Pacific",1992,"Korea Democratic Republic|1992",2.2349999999999999,69.492000000000004,20804249]
[null,"Korea Democratic Republic","Asia + Pacific",2013,"Korea Democratic Republic|2013",1.988,69.998999999999995,24654358]
[null,"Korea Republic","Asia + Pacific",1955,"Korea Republic|1955",6.01,49.527000000000001,21168216]
[null,"Korea Republic","Asia + Pacific",1961,"Korea Republic|1961",5.9889999999999999,53.72,25808981]
[null,"Korea Republic","Asia + Pacific",1966,"Korea Republic|1966",4.9870000000000001,57.634,29009251]
[null,"Korea Republic","Asia + Pacific",1972,"Korea Republic|1972",4.2699999999999996,62.683,32766592]
[null,"Korea Republic","Asia + Pacific",1977,"Korea Republic|1977",3.1070000000000002,64.891999999999996,35840876]
[null,"Korea Republic","Asia + Pacific",1982,"Korea Republic|1982",2.2429999999999999,67.137,38674216]
[null,"Korea Republic","Asia + Pacific",1988,"Korea Republic|1988",1.6279999999999999,70.665999999999997,42089874]
[null,"Korea Republic","Asia + Pacific",1994,"Korea Republic|1994",1.6539999999999999,73.498000000000005,44365820]
[null,"Korea Republic","Asia + Pacific",1995,"Korea Republic|1995",1.6319999999999999,73.91,44662143]
[null,"Korea Republic","Asia + Pacific",2000,"Korea Republic|2000",1.3520000000000001,76.114000000000004,45987624]
[null,"Korea Republic","Asia + Pacific",2005,"Korea Republic|2005",1.1950000000000001,78.748999999999995,47044126]
[null,"Korea Republic","Asia + Pacific",2011,"Korea Republic|2011",1.2849999999999999,81.045000000000002,48391343]
[null,"Kuwait","West Asia",1955,"Kuwait|1955",7.194,55.893000000000001,195987]
[null,"Kuwait","West Asia",1958,"Kuwait|1958",7.2130000000000001,58.536999999999999,221984]
[null,"Kuwait","West Asia",1964,"Kuwait|1964",7.3810000000000002,62.780999999999999,433288]
[null,"Kuwait","West Asia",1969,"Kuwait|1969",7.327,65.406000000000006,696610]
[null,"Kuwait","West Asia",1975,"Kuwait|1975",6.4269999999999996,67.808000000000007,1053753]
[null,"Kuwait","West Asia",1980,"Kuwait|1980",5.524,69.477000000000004,1376963]
[null,"Kuwait","West Asia",1982,"Kuwait|1982",5.0750000000000002,70.108999999999995,1514013]
[null,"Kuwait","West Asia",1992,"Kuwait|1992",2.1440000000000001,72.37,1924077]
[null,"Kuwait","West Asia",1997,"Kuwait|1997",2.7879999999999998,72.873999999999995,1678812]
[null,"Kuwait","West Asia",1998,"Kuwait|1998",2.8780000000000001,72.959999999999994,1763693]
[null,"Kuwait","West Asia",2003,"Kuwait|2003",2.66,73.391000000000005,2126786]
[null,"Kuwait","West Asia",2013,"Kuwait|2013",2.6,74.287999999999997,2959015]
[null,"Kyrgyzstan","Asia + Pacific",1951,"Kyrgyzstan|1951",4.4729999999999999,52.14,1763226]
[null,"Kyrgyzstan","Asia + Pacific",1956,"Kyrgyzstan|1956",4.7149999999999999,54.414999999999999,1946540]
[null,"Kyrgyzstan","Asia + Pacific",1961,"Kyrgyzstan|1961",5.2549999999999999,56.682000000000002,2245062]
[null,"Kyrgyzstan","Asia + Pacific",1967,"Kyrgyzstan|1967",5.1120000000000001,59.365000000000002,2735838]
[null,"Kyrgyzstan","Asia + Pacific",1972,"Kyrgyzstan|1972",4.7240000000000002,61.103999999999999,3103694]
[null,"Kyrgyzstan","Asia + Pacific",1980,"Kyrgyzstan|1980",4.0350000000000001,63.155000000000001,3627499]
[null,"Kyrgyzstan","Asia + Pacific",1984,"Kyrgyzstan|1984",4.0970000000000004,64.753,3933002]
[null,"Kyrgyzstan","Asia + Pacific",1996,"Kyrgyzstan|1996",3.1709999999999998,66.022999999999996,4658815]
[null,"Kyrgyzstan","Asia + Pacific",1993,"Kyrgyzstan|1993",3.5510000000000002,66.227999999999994,4506563]
[null,"Kyrgyzstan","Asia + Pacific",2001,"Kyrgyzstan|2001",2.5939999999999999,66.346999999999994,4987944]
[null,"Kyrgyzstan","Asia + Pacific",1991,"Kyrgyzstan|1991",3.7669999999999999,66.349000000000004,4441582]
[null,"Kyrgyzstan","Asia + Pacific",2007,"Kyrgyzstan|2007",2.7280000000000002,66.738,5139213]
[null,"Kyrgyzstan","Asia + Pacific",2012,"Kyrgyzstan|2012",3.0619999999999998,67.37,5448085]
[null,"La Reunion","Africa",1954,"La Reunion|1954",6.7590000000000003,49.722000000000001,283870]
[null,"La Reunion","Africa",1959,"La Reunion|1959",6.609,54.853999999999999,325805]
[null,"La Reunion","Africa",1964,"La Reunion|1964",6.4039999999999999,58.901000000000003,377511]
[null,"La Reunion","Africa",1968,"La Reunion|1968",5.46,61.743000000000002,436627]
[null,"La Reunion","Africa",1976,"La Reunion|1976",3.2450000000000001,66.534000000000006,488763]
[null,"La Reunion","Africa",1982,"La Reunion|1982",2.798,69.426000000000002,527682]
[null,"La Reunion","Africa",1987,"La Reunion|1987",2.6960000000000002,71.543999999999997,580048]
[null,"La Reunion","Africa",1992,"La Reunion|1992",2.444,73.414000000000001,636547]
[null,"La Reunion","Africa",1998,"La Reunion|1998",2.3420000000000001,75.444000000000003,714327]
[null,"La Reunion","Africa",2001,"La Reunion|2001",2.4060000000000001,76.382000000000005,750771]
[null,"La Reunion","Africa",2009,"La Reunion|2009",2.3570000000000002,78.614999999999995,836137]
[null,"La Reunion","Africa",2010,"La Reunion|2010",2.327,78.879000000000005,846068]
[null,"Laos","Asia + Pacific",1951,"Laos|1951",5.94,40.473999999999997,1724429]
[null,"Laos","Asia + Pacific",1957,"Laos|1957",5.9539999999999997,42.268000000000001,1987164]
[null,"Laos","Asia + Pacific",1962,"Laos|1962",5.9660000000000002,43.805,2230493]
[null,"Laos","Asia + Pacific",1968,"Laos|1968",5.9729999999999999,45.634999999999998,2562718]
[null,"Laos","Asia + Pacific",1974,"Laos|1974",6.0289999999999999,47.433999999999997,2983956]
[null,"Laos","Asia + Pacific",1979,"Laos|1979",6.2329999999999997,48.759,3186599]
[null,"Laos","Asia + Pacific",1985,"Laos|1985",6.3609999999999998,50.933,3647754]
[null,"Laos","Asia + Pacific",1990,"Laos|1990",6.1520000000000001,54.158999999999999,4192414]
[null,"Laos","Asia + Pacific",1995,"Laos|1995",5.3979999999999997,58.125999999999998,4795112]
[null,"Laos","Asia + Pacific",2002,"Laos|2002",3.8290000000000002,62.912999999999997,5496700]
[null,"Laos","Asia + Pacific",2007,"Laos|2007",3.4809999999999999,65.546999999999997,5931385]
[null,"Laos","Asia + Pacific",2012,"Laos|2012",3.1080000000000001,67.864999999999995,6373934]
[null,"Laos","Asia + Pacific",2013,"Laos|2013",3.02,68.308999999999997,6458911]
[null,"Latvia","Europe",1955,"Latvia|1955",1.982,65.423000000000002,2014992]
[null,"Latvia","Europe",1958,"Latvia|1958",1.9379999999999999,68.018000000000001,2081785]
[null,"Latvia","Europe",1981,"Latvia|1981",1.974,69.069999999999993,2524804]
[null,"Latvia","Europe",1978,"Latvia|1978",1.9039999999999999,69.34,2491929]
[null,"Latvia","Europe",1959,"Latvia|1959",1.919,69.48,2106392]
[null,"Latvia","Europe",1962,"Latvia|1962",1.8560000000000001,69.91,2184569]
[null,"Latvia","Europe",1972,"Latvia|1972",1.958,70.260000000000005,2405177]
[null,"Latvia","Europe",2006,"Latvia|2006",1.43,70.53,2293080]
[null,"Latvia","Europe",2007,"Latvia|2007",1.4670000000000001,70.77,2281693]
[null,"Latvia","Europe",1966,"Latvia|1966",1.81,71.19,2284026]
[null,"Latvia","Europe",2010,"Latvia|2010",1.5529999999999999,71.835999999999999,2252060]
[null,"Lebanon","West Asia",1951,"Lebanon|1951",5.7530000000000001,59.814,1466906]
[null,"Lebanon","West Asia",1956,"Lebanon|1956",5.7320000000000002,61.89,1683491]
[null,"Lebanon","West Asia",1958,"Lebanon|1958",5.7409999999999997,62.609000000000002,1792134]
[null,"Lebanon","West Asia",1964,"Lebanon|1964",5.5830000000000002,64.435000000000002,2147273]
[null,"Lebanon","West Asia",1969,"Lebanon|1969",5.0640000000000001,65.8,2407221]
[null,"Lebanon","West Asia",1974,"Lebanon|1974",4.5339999999999998,66.995000000000005,2723330]
[null,"Lebanon","West Asia",1981,"Lebanon|1981",3.8980000000000001,68.113,2807342]
[null,"Lebanon","West Asia",1986,"Lebanon|1986",3.379,69.143000000000001,2888455]
[null,"Lebanon","West Asia",1991,"Lebanon|1991",2.919,70.537000000000006,3026061]
[null,"Lebanon","West Asia",1997,"Lebanon|1997",2.468,72.974999999999994,3597350]
[null,"Lebanon","West Asia",2002,"Lebanon|2002",2.044,75.424000000000007,3868504]
[null,"Lebanon","West Asia",2008,"Lebanon|2008",1.57,78.391999999999996,4166915]
[null,"Lesotho","Africa",1950,"Lesotho|1950",5.8109999999999999,41.018999999999998,733942]
[null,"Lesotho","Africa",2004,"Lesotho|2004",3.6539999999999999,43.597000000000001,2047006]
[null,"Lesotho","Africa",1955,"Lesotho|1955",5.8620000000000001,43.637,787810]
[null,"Lesotho","Africa",2002,"Lesotho|2002",3.8620000000000001,44.610999999999997,2010261]
[null,"Lesotho","Africa",1959,"Lesotho|1959",5.8479999999999999,46.057000000000002,837523]
[null,"Lesotho","Africa",1964,"Lesotho|1964",5.806,48.076999999999998,915820]
[null,"Lesotho","Africa",1966,"Lesotho|1966",5.8010000000000002,48.396999999999998,952235]
[null,"Lesotho","Africa",1999,"Lesotho|1999",4.2,49.113999999999997,1934337]
[null,"Lesotho","Africa",1974,"Lesotho|1974",5.78,50.417999999999999,1123261]
[null,"Lesotho","Africa",1978,"Lesotho|1978",5.6719999999999997,52.57,1241725]
[null,"Lesotho","Africa",1996,"Lesotho|1996",4.4749999999999996,55.222000000000001,1829222]
[null,"Lesotho","Africa",1984,"Lesotho|1984",5.3769999999999998,55.896999999999998,1453098]
[null,"Lesotho","Africa",1992,"Lesotho|1992",4.7590000000000003,59.695,1699284]
[null,"Liberia","Africa",1953,"Liberia|1953",6.2750000000000004,33.231999999999999,958098]
[null,"Liberia","Africa",1958,"Liberia|1958",6.3609999999999998,34.223999999999997,1064823]
[null,"Liberia","Africa",1959,"Liberia|1959",6.383,34.435000000000002,1089763]
[null,"Liberia","Africa",1964,"Liberia|1964",6.5,36.048999999999999,1230038]
[null,"Liberia","Africa",1971,"Liberia|1971",6.7359999999999998,39.866999999999997,1479831]
[null,"Liberia","Africa",1976,"Liberia|1976",6.907,43.430999999999997,1706539]
[null,"Liberia","Africa",1981,"Liberia|1981",6.9729999999999999,46.435000000000002,1988931]
[null,"Liberia","Africa",1984,"Liberia|1984",6.9169999999999998,47.206000000000003,2179471]
[null,"Liberia","Africa",1992,"Liberia|1992",6.3360000000000003,47.838999999999999,2054179]
[null,"Liberia","Africa",1996,"Liberia|1996",6.109,50.984000000000002,2203809]
[null,"Liberia","Africa",2004,"Liberia|2004",5.5469999999999997,54.116,3092721]
[null,"Liberia","Africa",2009,"Liberia|2009",5.1059999999999999,58.884,3835929]
[null,"Libya","Africa",1954,"Libya|1954",7.3209999999999997,36.506,1093883]
[null,"Libya","Africa",1956,"Libya|1956",7.3920000000000003,37.597000000000001,1163569]
[null,"Libya","Africa",1961,"Libya|1961",7.5709999999999997,44.210999999999999,1399552]
[null,"Libya","Africa",1963,"Libya|1963",7.6420000000000003,47.414999999999999,1504811]
[null,"Libya","Africa",1968,"Libya|1968",7.8079999999999998,53.920999999999999,1833611]
[null,"Libya","Africa",1973,"Libya|1973",7.9569999999999999,58.902000000000001,2264278]
[null,"Libya","Africa",1979,"Libya|1979",7.8730000000000002,63.548000000000002,2924086]
[null,"Libya","Africa",1984,"Libya|1984",6.8970000000000002,66.233999999999995,3708142]
[null,"Libya","Africa",1988,"Libya|1988",5.5810000000000004,67.742000000000004,4164147]
[null,"Libya","Africa",1996,"Libya|1996",3.544,70.525000000000006,4862665]
[null,"Libya","Africa",2001,"Libya|2001",2.984,72.209999999999994,5331311]
[null,"Libya","Africa",2007,"Libya|2007",2.69,74.045000000000002,6023053]
[null,"Libya","Africa",2012,"Libya|2012",2.41,75.13,6469497]
[null,"Lithuania","Europe",1954,"Lithuania|1954",2.7240000000000002,65.727999999999994,2608493]
[null,"Lithuania","Europe",1957,"Lithuania|1957",2.67,67.554000000000002,2676930]
[null,"Lithuania","Europe",1960,"Lithuania|1960",2.5489999999999999,70.28,2769849]
[null,"Lithuania","Europe",1992,"Lithuania|1992",1.8480000000000001,70.400000000000006,3689943]
[null,"Lithuania","Europe",1981,"Lithuania|1981",2.048,70.66,3455403]
[null,"Lithuania","Europe",1983,"Lithuania|1983",2.0499999999999998,70.98,3505769]
[null,"Lithuania","Europe",1969,"Lithuania|1969",2.3090000000000002,71.22,3104044]
[null,"Lithuania","Europe",1974,"Lithuania|1974",2.2429999999999999,71.540000000000006,3268867]
[null,"Lithuania","Europe",1989,"Lithuania|1989",2.004,71.66,3682059]
[null,"Lithuania","Europe",2001,"Lithuania|2001",1.3080000000000001,71.790000000000006,3479622]
[null,"Lithuania","Europe",2012,"Lithuania|2012",1.504,71.941999999999993,3292454]
[null,"Lithuania","Europe",2000,"Lithuania|2000",1.3380000000000001,72.180000000000007,3500028]
[null,"Luxembourg","Europe",1951,"Luxembourg|1951",1.8959999999999999,65.42,297212]
[null,"Luxembourg","Europe",1957,"Luxembourg|1957",2.2210000000000001,67.332999999999998,308067]
[null,"Luxembourg","Europe",1964,"Luxembourg|1964",2.3740000000000001,69.069999999999993,328603]
[null,"Luxembourg","Europe",1970,"Luxembourg|1970",1.96,69.58,339184]
[null,"Luxembourg","Europe",1967,"Luxembourg|1967",2.2229999999999999,69.69,334657]
[null,"Luxembourg","Europe",1975,"Luxembourg|1975",1.57,70.5,358956]
[null,"Luxembourg","Europe",1983,"Luxembourg|1983",1.448,73.349999999999994,364897]
[null,"Luxembourg","Europe",1987,"Luxembourg|1987",1.4730000000000001,74.150000000000006,370806]
[null,"Luxembourg","Europe",1990,"Luxembourg|1990",1.5620000000000001,75.39,381225]
[null,"Luxembourg","Europe",1997,"Luxembourg|1997",1.7210000000000001,76.81,419355]
[null,"Luxembourg","Europe",2003,"Luxembourg|2003",1.65,77.959999999999994,446340]
[null,"Luxembourg","Europe",2009,"Luxembourg|2009",1.631,79.81,497637]
[null,"Macao","Asia + Pacific",1950,"Macao|1950",3.762,59.987000000000002,196482]
[null,"Macao","Asia + Pacific",1955,"Macao|1955",4.968,62.368000000000002,181445]
[null,"Macao","Asia + Pacific",1960,"Macao|1960",4.9450000000000003,64.930999999999997,171450]
[null,"Macao","Asia + Pacific",1966,"Macao|1966",3.2610000000000001,67.66,216869]
[null,"Macao","Asia + Pacific",1971,"Macao|1971",1.98,69.558999999999997,253879]
[null,"Macao","Asia + Pacific",1976,"Macao|1976",1.44,71.289000000000001,245913]
[null,"Macao","Asia + Pacific",1978,"Macao|1978",1.4850000000000001,71.944000000000003,242455]
[null,"Macao","Asia + Pacific",1983,"Macao|1983",1.966,73.462999999999994,271665]
[null,"Macao","Asia + Pacific",1989,"Macao|1989",1.798,75.103999999999999,348443]
[null,"Macao","Asia + Pacific",1994,"Macao|1994",1.3120000000000001,76.331000000000003,391906]
[null,"Macao","Asia + Pacific",2003,"Macao|2003",0.83799999999999997,78.248000000000005,459456]
[null,"Macao","Asia + Pacific",2006,"Macao|2006",0.874,78.885999999999996,493267]
[null,"Macao","Asia + Pacific",2011,"Macao|2011",1.0309999999999999,79.971000000000004,555731]
[null,"Macedonia","Europe",1953,"Macedonia|1953",3.99,55.386000000000003,1322002]
[null,"Macedonia","Europe",1958,"Macedonia|1958",3.806,59.31,1375395]
[null,"Macedonia","Europe",1963,"Macedonia|1963",3.528,62.469000000000001,1442355]
[null,"Macedonia","Europe",1970,"Macedonia|1970",2.98,66.301000000000002,1567968]
[null,"Macedonia","Europe",1975,"Macedonia|1975",2.7450000000000001,68.02,1675598]
[null,"Macedonia","Europe",1976,"Macedonia|1976",2.7029999999999998,68.212000000000003,1701231]
[null,"Macedonia","Europe",1981,"Macedonia|1981",2.5369999999999999,68.763000000000005,1806228]
[null,"Macedonia","Europe",1986,"Macedonia|1986",2.3690000000000002,70.090999999999994,1840767]
[null,"Macedonia","Europe",1992,"Macedonia|1992",2.1640000000000001,71.495999999999995,1934265]
[null,"Macedonia","Europe",1997,"Macedonia|1997",1.8520000000000001,72.540999999999997,1982994]
[null,"Macedonia","Europe",2003,"Macedonia|2003",1.5669999999999999,73.808000000000007,2027819]
[null,"Macedonia","Europe",2009,"Macedonia|2009",1.462,74.587000000000003,2056769]
[null,"Madagascar","Africa",1950,"Madagascar|1950",7.3,35.348999999999997,4083554]
[null,"Madagascar","Africa",1956,"Madagascar|1956",7.3,38.020000000000003,4651404]
[null,"Madagascar","Africa",1958,"Madagascar|1958",7.3,38.993000000000002,4869698]
[null,"Madagascar","Africa",1967,"Madagascar|1967",7.31,43.31,6060590]
[null,"Madagascar","Africa",1973,"Madagascar|1973",7.3,46.203000000000003,7100076]
[null,"Madagascar","Africa",1978,"Madagascar|1978",6.8570000000000002,48.317,8157215]
[null,"Madagascar","Africa",1979,"Madagascar|1979",6.6870000000000003,48.683,8383124]
[null,"Madagascar","Africa",1984,"Madagascar|1984",6.1349999999999998,49.634,9530197]
[null,"Madagascar","Africa",1991,"Madagascar|1991",6.2249999999999996,51.594999999999999,11620718]
[null,"Madagascar","Africa",1996,"Madagascar|1996",5.9240000000000004,55.43,13547271]
[null,"Madagascar","Africa",2001,"Madagascar|2001",5.4429999999999996,59.128999999999998,15846412]
[null,"Madagascar","Africa",2006,"Madagascar|2006",4.952,61.649000000000001,18426870]
[null,"Madagascar","Africa",2012,"Madagascar|2012",4.5279999999999996,64.28,21928518]
[null,"Malawi","Africa",1952,"Malawi|1952",6.7789999999999999,36.231999999999999,2984164]
[null,"Malawi","Africa",1960,"Malawi|1960",6.9130000000000003,37.856999999999999,3525246]
[null,"Malawi","Africa",1965,"Malawi|1965",7.101,38.927999999999997,3974682]
[null,"Malawi","Africa",1970,"Malawi|1970",7.3040000000000003,40.64,4531280]
[null,"Malawi","Africa",1976,"Malawi|1976",7.5549999999999997,42.99,5481074]
[null,"Malawi","Africa",1981,"Malawi|1981",7.6189999999999998,44.792999999999999,6409111]
[null,"Malawi","Africa",1999,"Malawi|1999",6.3170000000000002,45.970999999999997,10922265]
[null,"Malawi","Africa",1985,"Malawi|1985",7.5490000000000004,46.128999999999998,7268257]
[null,"Malawi","Africa",1987,"Malawi|1987",7.4020000000000001,46.643000000000001,8128340]
[null,"Malawi","Africa",1993,"Malawi|1993",6.6139999999999999,47.067,9721620]
[null,"Malawi","Africa",2004,"Malawi|2004",6.0019999999999998,48.1,12472794]
[null,"Malawi","Africa",2009,"Malawi|2009",5.7119999999999997,52.75,14442290]
[null,"Malaysia","Asia + Pacific",1952,"Malaysia|1952",6.226,54.472000000000001,6433126]
[null,"Malaysia","Asia + Pacific",1957,"Malaysia|1957",6.26,57.654000000000003,7441991]
[null,"Malaysia","Asia + Pacific",1963,"Malaysia|1963",5.9420000000000002,61.146999999999998,8998621]
[null,"Malaysia","Asia + Pacific",1968,"Malaysia|1968",5.165,63.581000000000003,10376210]
[null,"Malaysia","Asia + Pacific",1973,"Malaysia|1973",4.4690000000000003,65.644999999999996,11742976]
[null,"Malaysia","Asia + Pacific",1977,"Malaysia|1977",3.99,67.081000000000003,12891897]
[null,"Malaysia","Asia + Pacific",1985,"Malaysia|1985",3.6560000000000001,69.497,15762856]
[null,"Malaysia","Asia + Pacific",1990,"Malaysia|1990",3.5150000000000001,70.745999999999995,18208562]
[null,"Malaysia","Asia + Pacific",1991,"Malaysia|1991",3.4849999999999999,70.974000000000004,18707774]
[null,"Malaysia","Asia + Pacific",1996,"Malaysia|1996",3.2749999999999999,72.040000000000006,21247102]
[null,"Malaysia","Asia + Pacific",2002,"Malaysia|2002",2.544,73.162000000000006,24515323]
[null,"Malaysia","Asia + Pacific",2010,"Malaysia|2010",2.0019999999999998,74.478999999999999,28401017]
[null,"Malaysia","Asia + Pacific",2013,"Malaysia|2013",1.964,75.016999999999996,29787203]
[null,"Maldives","Asia + Pacific",1955,"Maldives|1955",6.4989999999999997,33.655999999999999,79642]
[null,"Maldives","Asia + Pacific",1960,"Maldives|1960",7.0209999999999999,35.924999999999997,90050]
[null,"Maldives","Asia + Pacific",1966,"Maldives|1966",7.218,40.694000000000003,105325]
[null,"Maldives","Asia + Pacific",1971,"Maldives|1971",7.2009999999999996,44.933999999999997,119308]
[null,"Maldives","Asia + Pacific",1977,"Maldives|1977",6.931,49.564,143701]
[null,"Maldives","Asia + Pacific",1983,"Maldives|1983",7.2450000000000001,55.027999999999999,173861]
[null,"Maldives","Asia + Pacific",1988,"Maldives|1988",6.6639999999999997,59.04,206522]
[null,"Maldives","Asia + Pacific",1993,"Maldives|1993",5.1459999999999999,63.043999999999997,237606]
[null,"Maldives","Asia + Pacific",1994,"Maldives|1994",4.8449999999999998,63.843000000000004,243256]
[null,"Maldives","Asia + Pacific",2004,"Maldives|2004",2.5960000000000001,73.066000000000003,290988]
[null,"Maldives","Asia + Pacific",2006,"Maldives|2006",2.4489999999999998,74.593000000000004,299419]
[null,"Maldives","Asia + Pacific",2011,"Maldives|2011",2.3140000000000001,77.188000000000002,320081]
[null,"Mali","Africa",1952,"Mali|1952",6.4649999999999999,26.856000000000002,4750451]
[null,"Mali","Africa",1958,"Mali|1958",6.657,27.963999999999999,5117468]
[null,"Mali","Africa",1965,"Mali|1965",6.8159999999999998,29.488,5597238]
[null,"Mali","Africa",1969,"Mali|1969",6.8890000000000002,31.72,5936162]
[null,"Mali","Africa",1975,"Mali|1975",6.9660000000000002,35.917999999999999,6604259]
[null,"Mali","Africa",1980,"Mali|1980",7.0460000000000003,39.628,7245598]
[null,"Mali","Africa",1986,"Mali|1986",7.0949999999999998,44.204000000000001,8139016]
[null,"Mali","Africa",1991,"Mali|1991",7.0439999999999996,46.84,8861362]
[null,"Mali","Africa",1992,"Mali|1992",7.0229999999999997,47.127000000000002,9076261]
[null,"Mali","Africa",1998,"Mali|1998",6.8730000000000002,48.308999999999997,10662517]
[null,"Mali","Africa",2003,"Mali|2003",6.8029999999999999,50.537999999999997,12380104]
[null,"Mali","Africa",2009,"Mali|2009",6.83,53.357999999999997,14909813]
[null,"Malta","Europe",1950,"Malta|1950",4.2110000000000003,65.569999999999993,311997]
[null,"Malta","Europe",1955,"Malta|1955",4.0110000000000001,66.253,314341]
[null,"Malta","Europe",1959,"Malta|1959",3.657,67.293000000000006,313725]
[null,"Malta","Europe",1967,"Malta|1967",2.238,69.694999999999993,304369]
[null,"Malta","Europe",1972,"Malta|1972",1.9750000000000001,71.045000000000002,303123]
[null,"Malta","Europe",1978,"Malta|1978",2.097,72.545000000000002,317130]
[null,"Malta","Europe",1983,"Malta|1983",2.0569999999999999,73.733000000000004,340572]
[null,"Malta","Europe",1990,"Malta|1990",2.0539999999999998,75.301000000000002,367524]
[null,"Malta","Europe",1995,"Malta|1995",1.93,76.352999999999994,386576]
[null,"Malta","Europe",2000,"Malta|2000",1.593,77.364000000000004,397420]
[null,"Malta","Europe",2001,"Malta|2001",1.5209999999999999,77.561000000000007,399746]
[null,"Malta","Europe",2006,"Malta|2006",1.373,78.513999999999996,411084]
[null,"Malta","Europe",2011,"Malta|2011",1.367,79.399000000000001,417855]
[null,"Martinique","Latin America + Caribbean",1953,"Martinique|1953",5.7329999999999997,55.927,233349]
[null,"Martinique","Latin America + Caribbean",1959,"Martinique|1959",5.6630000000000003,59.811999999999998,274714]
[null,"Martinique","Latin America + Caribbean",1965,"Martinique|1965",5.2779999999999996,63.283999999999999,311488]
[null,"Martinique","Latin America + Caribbean",1970,"Martinique|1970",4.6130000000000004,65.986000000000004,325561]
[null,"Martinique","Latin America + Caribbean",1975,"Martinique|1975",3.3330000000000002,68.513999999999996,328542]
[null,"Martinique","Latin America + Caribbean",1978,"Martinique|1978",2.593,69.927999999999997,326056]
[null,"Martinique","Latin America + Caribbean",1987,"Martinique|1987",2.1080000000000001,73.673000000000002,348630]
[null,"Martinique","Latin America + Caribbean",1993,"Martinique|1993",1.9550000000000001,75.855000000000004,365618]
[null,"Martinique","Latin America + Caribbean",1998,"Martinique|1998",1.9119999999999999,77.548000000000002,378962]
[null,"Martinique","Latin America + Caribbean",2003,"Martinique|2003",1.966,79.052999999999997,393022]
[null,"Martinique","Latin America + Caribbean",2004,"Martinique|2004",1.964,79.308000000000007,395211]
[null,"Martinique","Latin America + Caribbean",2011,"Martinique|2011",1.8540000000000001,80.944999999999993,407121]
[null,"Mauritania","Africa",1951,"Mauritania|1951",6.1790000000000003,37.72,672223]
[null,"Mauritania","Africa",1957,"Mauritania|1957",6.6849999999999996,41.417999999999999,785592]
[null,"Mauritania","Africa",1962,"Mauritania|1962",6.7939999999999996,44.835000000000001,903773]
[null,"Mauritania","Africa",1968,"Mauritania|1968",6.7949999999999999,48.185000000000002,1070585]
[null,"Mauritania","Africa",1973,"Mauritania|1973",6.7389999999999999,50.503999999999998,1237242]
[null,"Mauritania","Africa",1980,"Mauritania|1980",6.4260000000000002,54.28,1517817]
[null,"Mauritania","Africa",1985,"Mauritania|1985",6.1779999999999999,56.914000000000001,1747839]
[null,"Mauritania","Africa",1990,"Mauritania|1990",5.9779999999999998,58.441000000000003,1995548]
[null,"Mauritania","Africa",1996,"Mauritania|1996",5.633,59.356000000000002,2357678]
[null,"Mauritania","Africa",2001,"Mauritania|2001",5.3209999999999997,59.826000000000001,2720367]
[null,"Mauritania","Africa",2005,"Mauritania|2005",5.0949999999999998,60.292000000000002,3047249]
[null,"Mauritania","Africa",2008,"Mauritania|2008",4.9390000000000001,60.741,3295254]
[null,"Mauritania","Africa",2013,"Mauritania|2013",4.67,61.55,3704414]
[null,"Mauritius","Africa",1954,"Mauritius|1954",5.8159999999999998,51.82,553338]
[null,"Mauritius","Africa",1960,"Mauritius|1960",6.1669999999999998,58.786999999999999,659351]
[null,"Mauritius","Africa",1965,"Mauritius|1965",5.51,62.457999999999998,753065]
[null,"Mauritius","Africa",1972,"Mauritius|1972",3.5750000000000002,63.533999999999999,852981]
[null,"Mauritius","Africa",1977,"Mauritius|1977",3.0710000000000002,65.435000000000002,921718]
[null,"Mauritius","Africa",1982,"Mauritius|1982",2.4119999999999999,67.805000000000007,986620]
[null,"Mauritius","Africa",1988,"Mauritius|1988",2.2869999999999999,68.858999999999995,1038704]
[null,"Mauritius","Africa",1993,"Mauritius|1993",2.2210000000000001,70.153999999999996,1105659]
[null,"Mauritius","Africa",1999,"Mauritius|1999",2.0179999999999998,70.912000000000006,1184470]
[null,"Mauritius","Africa",2005,"Mauritius|2005",1.7529999999999999,72.491,1256742]
[null,"Mauritius","Africa",2010,"Mauritius|2010",1.5209999999999999,73.141999999999996,1299172]
[null,"Mauritius","Africa",2011,"Mauritius|2011",1.51,73.295000000000002,1306593]
[null,"Mayotte","Africa",1952,"Mayotte|1952",7.91,46.677,16468]
[null,"Mayotte","Africa",1957,"Mayotte|1957",7.91,52.335000000000001,20897]
[null,"Mayotte","Africa",1966,"Mayotte|1966",7.91,59.695999999999998,31684]
[null,"Mayotte","Africa",1969,"Mayotte|1969",7.91,61.725000000000001,35364]
[null,"Mayotte","Africa",1975,"Mayotte|1975",7.9530000000000003,65.298000000000002,45268]
[null,"Mayotte","Africa",1980,"Mayotte|1980",7.681,67.863,55016]
[null,"Mayotte","Africa",1985,"Mayotte|1985",7.12,70.116,70912]
[null,"Mayotte","Africa",1991,"Mayotte|1991",5.577,72.527000000000001,97901]
[null,"Mayotte","Africa",1993,"Mayotte|1993",5.0880000000000001,73.278000000000006,109918]
[null,"Mayotte","Africa",2002,"Mayotte|2002",4.4880000000000004,76.325999999999993,158983]
[null,"Mayotte","Africa",2008,"Mayotte|2008",4.24,78.052000000000007,191805]
[null,"Mayotte","Africa",2013,"Mayotte|2013",3.802,79.19,223907]
[null,"Mexico","Latin America + Caribbean",1950,"Mexico|1950",6.6150000000000002,48.555999999999997,27865814]
[null,"Mexico","Latin America + Caribbean",1960,"Mexico|1960",6.7830000000000004,57.082999999999998,38418829]
[null,"Mexico","Latin America + Caribbean",1961,"Mexico|1961",6.7759999999999998,57.673999999999999,39684127]
[null,"Mexico","Latin America + Caribbean",1967,"Mexico|1967",6.7770000000000001,60.171999999999997,47572205]
[null,"Mexico","Latin America + Caribbean",1972,"Mexico|1972",6.5250000000000004,62.332999999999998,55081201]
[null,"Mexico","Latin America + Caribbean",1977,"Mexico|1977",5.4180000000000001,65.016000000000005,63723359]
[null,"Mexico","Latin America + Caribbean",1983,"Mexico|1983",4.1740000000000004,67.950999999999993,73223336]
[null,"Mexico","Latin America + Caribbean",1987,"Mexico|1987",3.669,69.637,79358780]
[null,"Mexico","Latin America + Caribbean",1995,"Mexico|1995",2.9660000000000002,72.817999999999998,92272749]
[null,"Mexico","Latin America + Caribbean",2000,"Mexico|2000",2.6589999999999998,74.38,99959594]
[null,"Mexico","Latin America + Caribbean",2005,"Mexico|2005",2.448,75.617000000000004,106483757]
[null,"Mexico","Latin America + Caribbean",2011,"Mexico|2011",2.2480000000000002,77.06,114793341]
[null,"Mexico","Latin America + Caribbean",2012,"Mexico|2012",2.2160000000000002,77.281000000000006,116146768]
[null,"Micronesia Federated States of","Asia + Pacific",1954,"Micronesia Federated States of|1954",7.1269999999999998,55.176000000000002,36767]
[null,"Micronesia Federated States of","Asia + Pacific",1959,"Micronesia Federated States of|1959",6.9560000000000004,57.18,43120]
[null,"Micronesia Federated States of","Asia + Pacific",1964,"Micronesia Federated States of|1964",6.8929999999999998,59.176000000000002,50481]
[null,"Micronesia Federated States of","Asia + Pacific",1970,"Micronesia Federated States of|1970",6.9379999999999997,61.634,61431]
[null,"Micronesia Federated States of","Asia + Pacific",1975,"Micronesia Federated States of|1975",6.6820000000000004,63.843000000000004,63143]
[null,"Micronesia Federated States of","Asia + Pacific",1981,"Micronesia Federated States of|1981",6.1289999999999996,65.281000000000006,75456]
[null,"Micronesia Federated States of","Asia + Pacific",1987,"Micronesia Federated States of|1987",5.2990000000000004,65.867999999999995,90037]
[null,"Micronesia Federated States of","Asia + Pacific",1992,"Micronesia Federated States of|1992",4.82,66.438999999999993,101314]
[null,"Micronesia Federated States of","Asia + Pacific",1998,"Micronesia Federated States of|1998",4.4710000000000001,67.091999999999999,107605]
[null,"Micronesia Federated States of","Asia + Pacific",2003,"Micronesia Federated States of|2003",4.0069999999999997,67.668000000000006,108325]
[null,"Micronesia Federated States of","Asia + Pacific",2006,"Micronesia Federated States of|2006",3.7389999999999999,68.11,109789]
[null,"Moldova","Europe",1951,"Moldova|1951",3.4849999999999999,58.375,2381454]
[null,"Moldova","Europe",1956,"Moldova|1956",3.488,60.494999999999997,2700778]
[null,"Moldova","Europe",1957,"Moldova|1957",3.4630000000000001,60.88,2776526]
[null,"Moldova","Europe",1962,"Moldova|1962",3.1779999999999999,62.743000000000002,3145451]
[null,"Moldova","Europe",1967,"Moldova|1967",2.722,64.475999999999999,3444753]
[null,"Moldova","Europe",1978,"Moldova|1978",2.4540000000000002,65.037000000000006,3942280]
[null,"Moldova","Europe",1982,"Moldova|1982",2.5459999999999998,65.204999999999998,4090009]
[null,"Moldova","Europe",1984,"Moldova|1984",2.62,65.887,4174737]
[null,"Moldova","Europe",1999,"Moldova|1999",1.613,66.849000000000004,4167099]
[null,"Moldova","Europe",2001,"Moldova|2001",1.5349999999999999,67.204999999999998,4040204]
[null,"Moldova","Europe",1989,"Moldova|1989",2.5059999999999998,67.605000000000004,4345236]
[null,"Moldova","Europe",2006,"Moldova|2006",1.4870000000000001,68.078000000000003,3714961]
[null,"Moldova","Europe",2012,"Moldova|2012",1.462,68.778999999999996,3519266]
[null,"Mongolia","Asia + Pacific",1954,"Mongolia|1954",5.7140000000000004,43.771000000000001,839736]
[null,"Mongolia","Asia + Pacific",1959,"Mongolia|1959",6.718,47.481000000000002,932921]
[null,"Mongolia","Asia + Pacific",1964,"Mongolia|1964",7.5579999999999998,51.771000000000001,1076571]
[null,"Mongolia","Asia + Pacific",1967,"Mongolia|1967",7.5910000000000002,53.701000000000001,1175616]
[null,"Mongolia","Asia + Pacific",1971,"Mongolia|1971",7.5460000000000003,55.817999999999998,1319817]
[null,"Mongolia","Asia + Pacific",1977,"Mongolia|1977",6.78,56.86,1565380]
[null,"Mongolia","Asia + Pacific",1982,"Mongolia|1982",5.8639999999999999,57.293999999999997,1781213]
[null,"Mongolia","Asia + Pacific",1987,"Mongolia|1987",4.9059999999999997,59.265999999999998,2039204]
[null,"Mongolia","Asia + Pacific",1993,"Mongolia|1993",3.18,60.843000000000004,2271236]
[null,"Mongolia","Asia + Pacific",2000,"Mongolia|2000",2.1440000000000001,62.875999999999998,2411369]
[null,"Mongolia","Asia + Pacific",2005,"Mongolia|2005",2.1930000000000001,65.19,2547339]
[null,"Mongolia","Asia + Pacific",2010,"Mongolia|2010",2.4369999999999998,66.825000000000003,2756001]
[null,"Montenegro","Europe",1951,"Montenegro|1951",4.0730000000000004,59.292999999999999,401735]
[null,"Montenegro","Europe",1957,"Montenegro|1957",3.7909999999999999,61.832000000000001,443661]
[null,"Montenegro","Europe",1961,"Montenegro|1961",3.4169999999999998,64.491,475371]
[null,"Montenegro","Europe",1968,"Montenegro|1968",2.7730000000000001,68.706999999999994,514031]
[null,"Montenegro","Europe",1969,"Montenegro|1969",2.726,69.293000000000006,515746]
[null,"Montenegro","Europe",1974,"Montenegro|1974",2.5489999999999999,71.694999999999993,542304]
[null,"Montenegro","Europe",1980,"Montenegro|1980",2.266,73.057000000000002,576069]
[null,"Montenegro","Europe",2003,"Montenegro|2003",1.7789999999999999,73.584999999999994,627500]
[null,"Montenegro","Europe",1987,"Montenegro|1987",1.98,74.099000000000004,585546]
[null,"Montenegro","Europe",1988,"Montenegro|1988",1.94,74.224999999999994,592740]
[null,"Montenegro","Europe",2010,"Montenegro|2010",1.698,74.489000000000004,631490]
[null,"Montenegro","Europe",2013,"Montenegro|2013",1.6659999999999999,74.820999999999998,633167]
[null,"Montenegro","Europe",1995,"Montenegro|1995",1.8149999999999999,74.984999999999999,643227]
[null,"Morocco","Africa",1954,"Morocco|1954",6.6920000000000002,46.158000000000001,9870670]
[null,"Morocco","Africa",1961,"Morocco|1961",7.1059999999999999,48.878999999999998,11947688]
[null,"Morocco","Africa",1966,"Morocco|1966",7.024,51.006999999999998,13703369]
[null,"Morocco","Africa",1971,"Morocco|1971",6.5880000000000001,52.945,15706226]
[null,"Morocco","Africa",1972,"Morocco|1972",6.4850000000000003,53.311,16099392]
[null,"Morocco","Africa",1977,"Morocco|1977",5.97,55.536999999999999,18158169]
[null,"Morocco","Africa",1986,"Morocco|1986",4.7539999999999996,62.213000000000001,22818601]
[null,"Morocco","Africa",1989,"Morocco|1989",4.2169999999999996,64.183000000000007,24310585]
[null,"Morocco","Africa",1994,"Morocco|1994",3.4569999999999999,66.619,26523600]
[null,"Morocco","Africa",2000,"Morocco|2000",2.698,68.22,28793236]
[null,"Morocco","Africa",2005,"Morocco|2005",2.3849999999999998,69.150000000000006,30392473]
[null,"Morocco","Africa",2010,"Morocco|2010",2.5830000000000002,70.245999999999995,31951412]
[null,"Morocco","Africa",2013,"Morocco|2013",2.7349999999999999,70.941000000000003,32925553]
[null,"Mozambique","Africa",1958,"Mozambique|1958",6.6,34.055999999999997,7359490]
[null,"Mozambique","Africa",1964,"Mozambique|1964",6.6020000000000003,36.773000000000003,8296714]
[null,"Mozambique","Africa",1969,"Mozambique|1969",6.5960000000000001,38.805999999999997,9245275]
[null,"Mozambique","Africa",1974,"Mozambique|1974",6.5640000000000001,41.122,10353943]
[null,"Mozambique","Africa",1980,"Mozambique|1980",6.49,42.881999999999998,12145501]
[null,"Mozambique","Africa",1984,"Mozambique|1984",6.42,42.947000000000003,13199259]
[null,"Mozambique","Africa",1987,"Mozambique|1987",6.3449999999999998,43.057000000000002,13365201]
[null,"Mozambique","Africa",1992,"Mozambique|1992",6.14,44.408999999999999,14318167]
[null,"Mozambique","Africa",1997,"Mozambique|1997",5.88,46.747,16862385]
[null,"Mozambique","Africa",2003,"Mozambique|2003",5.7210000000000001,47.695999999999998,19721009]
[null,"Mozambique","Africa",2007,"Mozambique|2007",5.5880000000000001,48.283999999999999,21811326]
[null,"Myanmar","Asia + Pacific",1950,"Myanmar|1950",6.0259999999999998,33.281999999999996,17157508]
[null,"Myanmar","Asia + Pacific",1956,"Myanmar|1956",5.9889999999999999,39.96,19255085]
[null,"Myanmar","Asia + Pacific",1961,"Myanmar|1961",6.0730000000000004,43.383000000000003,21407053]
[null,"Myanmar","Asia + Pacific",1967,"Myanmar|1967",6.109,48.926000000000002,24397064]
[null,"Myanmar","Asia + Pacific",1972,"Myanmar|1972",5.7910000000000004,51.817,27475978]
[null,"Myanmar","Asia + Pacific",1976,"Myanmar|1976",5.3869999999999996,53.36,30210895]
[null,"Myanmar","Asia + Pacific",1979,"Myanmar|1979",5.0999999999999996,54.579000000000001,32204485]
[null,"Myanmar","Asia + Pacific",1984,"Myanmar|1984",4.4560000000000004,56.524000000000001,35481981]
[null,"Myanmar","Asia + Pacific",1989,"Myanmar|1989",3.5659999999999998,58.381999999999998,38661616]
[null,"Myanmar","Asia + Pacific",1995,"Myanmar|1995",2.851,60.470999999999997,42133199]
[null,"Myanmar","Asia + Pacific",2001,"Myanmar|2001",2.3530000000000002,62.38,45323903]
[null,"Myanmar","Asia + Pacific",2007,"Myanmar|2007",2.0750000000000002,64.037000000000006,46915826]
[null,"Myanmar","Asia + Pacific",2012,"Myanmar|2012",1.9590000000000001,65.009,48724387]
[null,"Namibia","Africa",1953,"Namibia|1953",6.0090000000000003,42.125999999999998,515039]
[null,"Namibia","Africa",1959,"Namibia|1959",6.13,46.271000000000001,588430]
[null,"Namibia","Africa",1964,"Namibia|1964",6.2160000000000002,49.290999999999997,665298]
[null,"Namibia","Africa",1968,"Namibia|1968",6.3470000000000004,51.488999999999997,737803]
[null,"Namibia","Africa",2001,"Namibia|2001",3.9380000000000002,54.456000000000003,1936399]
[null,"Namibia","Africa",1976,"Namibia|1976",6.6470000000000002,55.75,928223]
[null,"Namibia","Africa",2005,"Namibia|2005",3.5910000000000002,56.039000000000001,2079951]
[null,"Namibia","Africa",1998,"Namibia|1998",4.24,57.337000000000003,1802579]
[null,"Namibia","Africa",1996,"Namibia|1996",4.4690000000000003,59.402000000000001,1700975]
[null,"Namibia","Africa",2008,"Namibia|2008",3.3639999999999999,60.274999999999999,2200422]
[null,"Namibia","Africa",1993,"Namibia|1993",4.8419999999999996,61.048000000000002,1558055]
[null,"Namibia","Africa",2010,"Namibia|2010",3.2290000000000001,62.594000000000001,2283289]
[null,"Nepal","Asia + Pacific",1951,"Nepal|1951",5.992,34.796999999999997,8372203]
[null,"Nepal","Asia + Pacific",1956,"Nepal|1956",5.9930000000000003,36.834000000000003,9091534]
[null,"Nepal","Asia + Pacific",1962,"Nepal|1962",5.9950000000000001,39.267000000000003,10102057]
[null,"Nepal","Asia + Pacific",1968,"Nepal|1968",5.9880000000000004,41.64,11403306]
[null,"Nepal","Asia + Pacific",1974,"Nepal|1974",5.9119999999999999,44.198,13064044]
[null,"Nepal","Asia + Pacific",1979,"Nepal|1979",5.7949999999999999,47.015000000000001,14693930]
[null,"Nepal","Asia + Pacific",1984,"Nepal|1984",5.569,50.420999999999999,16539682]
[null,"Nepal","Asia + Pacific",1987,"Nepal|1987",5.3780000000000001,52.686,17756510]
[null,"Nepal","Asia + Pacific",1991,"Nepal|1991",5.0880000000000001,55.843000000000004,19554170]
[null,"Nepal","Asia + Pacific",1996,"Nepal|1996",4.5960000000000001,59.515999999999998,22137784]
[null,"Nepal","Asia + Pacific",2002,"Nepal|2002",3.778,63.195999999999998,25562573]
[null,"Nepal","Asia + Pacific",2007,"Nepal|2007",3.0459999999999998,65.730999999999995,28373838]
[null,"Nepal","Asia + Pacific",2013,"Nepal|2013",2.2999999999999998,68.41,31535507]
[null,"Netherlands","Europe",1956,"Netherlands|1956",3.05,72.540000000000006,10822380]
[null,"Netherlands","Europe",1962,"Netherlands|1962",3.18,73.23,11734901]
[null,"Netherlands","Europe",1965,"Netherlands|1965",3.04,73.599999999999994,12213435]
[null,"Netherlands","Europe",1967,"Netherlands|1967",2.81,73.819999999999993,12521308]
[null,"Netherlands","Europe",1976,"Netherlands|1976",1.63,74.650000000000006,13710713]
[null,"Netherlands","Europe",1982,"Netherlands|1982",1.5,76.05,14238594]
[null,"Netherlands","Europe",1983,"Netherlands|1983",1.47,76.25,14308217]
[null,"Netherlands","Europe",1988,"Netherlands|1988",1.55,77.03,14701901]
[null,"Netherlands","Europe",1994,"Netherlands|1994",1.57,77.599999999999994,15320112]
[null,"Netherlands","Europe",1998,"Netherlands|1998",1.63,78.12,15690705]
[null,"Netherlands","Europe",2005,"Netherlands|2005",1.708,79.650000000000006,16305457]
[null,"Netherlands Antilles","Latin America + Caribbean",1950,"Netherlands Antilles|1950",5.8,58.408000000000001,111701]
[null,"Netherlands Antilles","Latin America + Caribbean",1953,"Netherlands Antilles|1953",5.62,60.997,118328]
[null,"Netherlands Antilles","Latin America + Caribbean",1958,"Netherlands Antilles|1958",5.0999999999999996,64.650999999999996,129942]
[null,"Netherlands Antilles","Latin America + Caribbean",1963,"Netherlands Antilles|1963",4.2699999999999996,66.673000000000002,141665]
[null,"Netherlands Antilles","Latin America + Caribbean",1969,"Netherlands Antilles|1969",3.05,68.805999999999997,156998]
[null,"Netherlands Antilles","Latin America + Caribbean",1974,"Netherlands Antilles|1974",2.5499999999999998,70.838999999999999,165010]
[null,"Netherlands Antilles","Latin America + Caribbean",1977,"Netherlands Antilles|1977",2.4500000000000002,71.938000000000002,168928]
[null,"Netherlands Antilles","Latin America + Caribbean",1986,"Netherlands Antilles|1986",2.3199999999999998,74.325999999999993,183619]
[null,"Netherlands Antilles","Latin America + Caribbean",1994,"Netherlands Antilles|1994",2.23,74.486000000000004,191325]
[null,"Netherlands Antilles","Latin America + Caribbean",1997,"Netherlands Antilles|1997",2.15,74.495999999999995,185762]
[null,"Netherlands Antilles","Latin America + Caribbean",1991,"Netherlands Antilles|1991",2.29,74.534000000000006,191402]
[null,"Netherlands Antilles","Latin America + Caribbean",2002,"Netherlands Antilles|2002",2.09,74.906999999999996,180170]
[null,"Netherlands Antilles","Latin America + Caribbean",2009,"Netherlands Antilles|2009",1.95,76.363,198037]
[null,"New Caledonia","Asia + Pacific",1950,"New Caledonia|1950",5.2240000000000002,49.087000000000003,64824]
[null,"New Caledonia","Asia + Pacific",1955,"New Caledonia|1955",5.2229999999999999,52.74,67745]
[null,"New Caledonia","Asia + Pacific",1961,"New Caledonia|1961",5.2240000000000002,57.058,80531]
[null,"New Caledonia","Asia + Pacific",1966,"New Caledonia|1966",5.234,60.19,93684]
[null,"New Caledonia","Asia + Pacific",1969,"New Caledonia|1969",5.3019999999999996,61.884999999999998,101567]
[null,"New Caledonia","Asia + Pacific",1978,"New Caledonia|1978",3.8809999999999998,66.251000000000005,137700]
[null,"New Caledonia","Asia + Pacific",1983,"New Caledonia|1983",3.274,68.275999999999996,149695]
[null,"New Caledonia","Asia + Pacific",1989,"New Caledonia|1989",3.0019999999999998,70.381,166211]
[null,"New Caledonia","Asia + Pacific",1994,"New Caledonia|1994",2.8370000000000002,71.885000000000005,186358]
[null,"New Caledonia","Asia + Pacific",1995,"New Caledonia|1995",2.7719999999999998,72.161000000000001,190756]
[null,"New Caledonia","Asia + Pacific",2002,"New Caledonia|2002",2.294,73.94,219741]
[null,"New Caledonia","Asia + Pacific",2006,"New Caledonia|2006",2.2309999999999999,74.837999999999994,234976]
[null,"New Caledonia","Asia + Pacific",2012,"New Caledonia|2012",2.149,76.091999999999999,258735]
[null,"New Zealand","Asia + Pacific",1953,"New Zealand|1953",3.3908700000000001,70.239999999999995,2040015]
[null,"New Zealand","Asia + Pacific",1959,"New Zealand|1959",3.5510000000000002,70.8,2322671]
[null,"New Zealand","Asia + Pacific",1962,"New Zealand|1962",3.50678,71.239999999999995,2477327]
[null,"New Zealand","Asia + Pacific",1969,"New Zealand|1969",3.00562,71.55,2775713]
[null,"New Zealand","Asia + Pacific",1975,"New Zealand|1975",2.4588999999999999,72.27,3083108]
[null,"New Zealand","Asia + Pacific",1981,"New Zealand|1981",2.1560600000000001,73.739999999999995,3165407]
[null,"New Zealand","Asia + Pacific",1987,"New Zealand|1987",2.2378,74.319999999999993,3310922]
[null,"New Zealand","Asia + Pacific",1992,"New Zealand|1992",2.30748,76.33,3503125]
[null,"New Zealand","Asia + Pacific",1994,"New Zealand|1994",2.1319400000000002,77.069999999999993,3623421]
[null,"New Zealand","Asia + Pacific",1998,"New Zealand|1998",1.95506,78.37,3783470]
[null,"New Zealand","Asia + Pacific",2004,"New Zealand|2004",2.0150000000000001,79.593000000000004,4079130]
[null,"New Zealand","Asia + Pacific",2009,"New Zealand|2009",2.125,80.501000000000005,4322628]
[null,"Nicaragua","Latin America + Caribbean",1951,"Nicaragua|1951",6.9820000000000002,41.357999999999997,1331280]
[null,"Nicaragua","Latin America + Caribbean",1957,"Nicaragua|1957",7.4950000000000001,45.106999999999999,1608844]
[null,"Nicaragua","Latin America + Caribbean",1962,"Nicaragua|1962",7.1790000000000003,48.328000000000003,1885094]
[null,"Nicaragua","Latin America + Caribbean",1968,"Nicaragua|1968",6.9409999999999998,52.335999999999999,2256800]
[null,"Nicaragua","Latin America + Caribbean",1973,"Nicaragua|1973",6.7480000000000002,55.512999999999998,2628337]
[null,"Nicaragua","Latin America + Caribbean",1979,"Nicaragua|1979",6.2320000000000002,58.139000000000003,3150596]
[null,"Nicaragua","Latin America + Caribbean",1984,"Nicaragua|1984",5.5890000000000004,60.137999999999998,3608911]
[null,"Nicaragua","Latin America + Caribbean",1990,"Nicaragua|1990",4.7539999999999996,64.138999999999996,4120797]
[null,"Nicaragua","Latin America + Caribbean",1996,"Nicaragua|1996",3.8780000000000001,67.846999999999994,4733164]
[null,"Nicaragua","Latin America + Caribbean",2001,"Nicaragua|2001",3.1389999999999998,70.156000000000006,5148635]
[null,"Nicaragua","Latin America + Caribbean",2006,"Nicaragua|2006",2.802,72.355000000000004,5493527]
[null,"Nicaragua","Latin America + Caribbean",2007,"Nicaragua|2007",2.7589999999999999,72.745999999999995,5563654]
[null,"Niger","Africa",1951,"Niger|1951",6.8650000000000002,34.899000000000001,2535752]
[null,"Niger","Africa",1955,"Niger|1955",6.9269999999999996,35.113999999999997,2834493]
[null,"Niger","Africa",1960,"Niger|1960",7.0519999999999996,35.527999999999999,3249965]
[null,"Niger","Africa",1965,"Niger|1965",7.2220000000000004,35.866,3765632]
[null,"Niger","Africa",1971,"Niger|1971",7.46,36.448999999999998,4505018]
[null,"Niger","Africa",1976,"Niger|1976",7.6029999999999998,37.636000000000003,5223853]
[null,"Niger","Africa",1982,"Niger|1982",7.7510000000000003,40.415999999999997,6208128]
[null,"Niger","Africa",1988,"Niger|1988",7.7670000000000003,42.970999999999997,7336924]
[null,"Niger","Africa",1993,"Niger|1993",7.7690000000000001,45.783000000000001,8578542]
[null,"Niger","Africa",1999,"Niger|1999",7.7430000000000003,49.987000000000002,10548219]
[null,"Niger","Africa",2004,"Niger|2004",7.6360000000000001,53.441000000000003,12546945]
[null,"Niger","Africa",2009,"Niger|2009",7.585,56.44,14972257]
[null,"Nigeria","Africa",1951,"Nigeria|1951",6.3559999999999999,33.487000000000002,38508635]
[null,"Nigeria","Africa",1952,"Nigeria|1952",6.3540000000000001,33.817999999999998,39203265]
[null,"Nigeria","Africa",1958,"Nigeria|1958",6.3550000000000004,36.262,44061400]
[null,"Nigeria","Africa",1963,"Nigeria|1963",6.3410000000000002,38.506,48992838]
[null,"Nigeria","Africa",1968,"Nigeria|1968",6.3869999999999996,40.4,54748444]
[null,"Nigeria","Africa",1976,"Nigeria|1976",6.7350000000000003,43.868000000000002,67067499]
[null,"Nigeria","Africa",1980,"Nigeria|1980",6.7830000000000004,45.555,75543388]
[null,"Nigeria","Africa",1991,"Nigeria|1991",6.4429999999999996,46.091000000000001,99986136]
[null,"Nigeria","Africa",1988,"Nigeria|1988",6.5819999999999999,46.207000000000001,92731304]
[null,"Nigeria","Africa",1986,"Nigeria|1986",6.6639999999999997,46.323,88057486]
[null,"Nigeria","Africa",2002,"Nigeria|2002",6.0579999999999998,47.223999999999997,129832447]
[null,"Nigeria","Africa",2003,"Nigeria|2003",6.0419999999999998,47.643000000000001,133067097]
[null,"Nigeria","Africa",2013,"Nigeria|2013",5.976,52.506,170901148]
[null,"Norway","Europe",1950,"Norway|1950",2.52,71.599999999999994,3265000]
[null,"Norway","Europe",1954,"Norway|1954",2.7,73.23,3395643]
[null,"Norway","Europe",1959,"Norway|1959",2.91,73.56,3551305]
[null,"Norway","Europe",1970,"Norway|1970",2.5,74.08,3877383]
[null,"Norway","Europe",1972,"Norway|1972",2.38,74.34,3934529]
[null,"Norway","Europe",1979,"Norway|1979",1.75,75.39,4072258]
[null,"Norway","Europe",1985,"Norway|1985",1.68,75.900000000000006,4152560]
[null,"Norway","Europe",1984,"Norway|1984",1.66,76.19,4138150]
[null,"Norway","Europe",1994,"Norway|1994",1.87,77.86,4333931]
[null,"Norway","Europe",1997,"Norway|1997",1.86,78.319999999999993,4412092]
[null,"Norway","Europe",2006,"Norway|2006",1.9,80.55,4668802]
[null,"Norway","Europe",2011,"Norway|2011",1.88,81.222999999999999,4924848]
[null,"Oman","West Asia",1952,"Oman|1952",7.2519999999999998,35.6,472021]
[null,"Oman","West Asia",1953,"Oman|1953",7.2530000000000001,36.524999999999999,481071]
[null,"Oman","West Asia",1958,"Oman|1958",7.2489999999999997,40.978000000000002,533334]
[null,"Oman","West Asia",1964,"Oman|1964",7.2629999999999999,45.895000000000003,614390]
[null,"Oman","West Asia",1970,"Oman|1970",7.3109999999999999,50.31,731703]
[null,"Oman","West Asia",1975,"Oman|1975",7.7469999999999999,54.756,898286]
[null,"Oman","West Asia",1981,"Oman|1981",8.3379999999999992,60.658999999999999,1249858]
[null,"Oman","West Asia",1986,"Oman|1986",8.1010000000000009,64.638999999999996,1605464]
[null,"Oman","West Asia",1991,"Oman|1991",6.8310000000000004,67.734999999999999,1947042]
[null,"Oman","West Asia",1998,"Oman|1998",4.298,71.191999999999993,2262969]
[null,"Oman","West Asia",2003,"Oman|2003",3.1440000000000001,73.433000000000007,2335967]
[null,"Oman","West Asia",2009,"Oman|2009",2.8940000000000001,75.424000000000007,2712141]
[null,"Pakistan","Asia + Pacific",1950,"Pakistan|1950",6.6,36.039000000000001,37542380]
[null,"Pakistan","Asia + Pacific",1955,"Pakistan|1955",6.6,41.267000000000003,41108839]
[null,"Pakistan","Asia + Pacific",1958,"Pakistan|1958",6.6,44.451999999999998,43847662]
[null,"Pakistan","Asia + Pacific",1962,"Pakistan|1962",6.6,48.207000000000001,48198347]
[null,"Pakistan","Asia + Pacific",1967,"Pakistan|1967",6.6,51.823,54780499]
[null,"Pakistan","Asia + Pacific",1973,"Pakistan|1973",6.6079999999999997,55.011000000000003,64551904]
[null,"Pakistan","Asia + Pacific",1978,"Pakistan|1978",6.5830000000000002,57.32,75303460]
[null,"Pakistan","Asia + Pacific",1983,"Pakistan|1983",6.46,58.944000000000003,89200001]
[null,"Pakistan","Asia + Pacific",1990,"Pakistan|1990",6.024,61.142000000000003,111844679]
[null,"Pakistan","Asia + Pacific",1995,"Pakistan|1995",5.359,62.515999999999998,127346713]
[null,"Pakistan","Asia + Pacific",2001,"Pakistan|2001",4.29,64.13,147557907]
[null,"Pakistan","Asia + Pacific",2006,"Pakistan|2006",3.7130000000000001,65.373000000000005,161513324]
[null,"Pakistan","Asia + Pacific",2012,"Pakistan|2012",3.2639999999999998,66.42,179951140]
[null,"Panama","Latin America + Caribbean",1952,"Panama|1952",5.7489999999999997,56.53,903447]
[null,"Panama","Latin America + Caribbean",1959,"Panama|1959",5.8819999999999997,60.326999999999998,1096027]
[null,"Panama","Latin America + Caribbean",1960,"Panama|1960",5.87,60.856000000000002,1128378]
[null,"Panama","Latin America + Caribbean",1965,"Panama|1965",5.6379999999999999,63.262999999999998,1305667]
[null,"Panama","Latin America + Caribbean",1970,"Panama|1970",5.173,65.518000000000001,1509822]
[null,"Panama","Latin America + Caribbean",1976,"Panama|1976",4.3979999999999997,68.507999999999996,1771458]
[null,"Panama","Latin America + Caribbean",1985,"Panama|1985",3.41,71.742999999999995,2179624]
[null,"Panama","Latin America + Caribbean",1988,"Panama|1988",3.1949999999999998,72.521000000000001,2319035]
[null,"Panama","Latin America + Caribbean",1993,"Panama|1993",2.948,73.673000000000002,2569672]
[null,"Panama","Latin America + Caribbean",1998,"Panama|1998",2.855,74.704999999999998,2843276]
[null,"Panama","Latin America + Caribbean",2004,"Panama|2004",2.7240000000000002,75.804000000000002,3181969]
[null,"Panama","Latin America + Caribbean",2010,"Panama|2010",2.5489999999999999,76.915999999999997,3516820]
[null,"Papua New Guinea","Asia + Pacific",1952,"Papua New Guinea|1952",6.2359999999999998,34.433999999999997,1750891]
[null,"Papua New Guinea","Asia + Pacific",1957,"Papua New Guinea|1957",6.26,36.869,1875038]
[null,"Papua New Guinea","Asia + Pacific",1962,"Papua New Guinea|1962",6.2779999999999996,39.68,2037162]
[null,"Papua New Guinea","Asia + Pacific",1963,"Papua New Guinea|1963",6.2750000000000004,40.402000000000001,2075625]
[null,"Papua New Guinea","Asia + Pacific",1968,"Papua New Guinea|1968",6.2080000000000002,44.499000000000002,2312978]
[null,"Papua New Guinea","Asia + Pacific",1973,"Papua New Guinea|1973",6.077,47.985999999999997,2652505]
[null,"Papua New Guinea","Asia + Pacific",1980,"Papua New Guinea|1980",5.694,52.765000000000001,3215339]
[null,"Papua New Guinea","Asia + Pacific",1985,"Papua New Guinea|1985",5.21,54.689,3677658]
[null,"Papua New Guinea","Asia + Pacific",1991,"Papua New Guinea|1991",4.7569999999999997,55.914000000000001,4261537]
[null,"Papua New Guinea","Asia + Pacific",1996,"Papua New Guinea|1996",4.6539999999999999,57.54,4840693]
[null,"Papua New Guinea","Asia + Pacific",2004,"Papua New Guinea|2004",4.2789999999999999,60.234999999999999,5948135]
[null,"Papua New Guinea","Asia + Pacific",2008,"Papua New Guinea|2008",4.0670000000000002,61.573999999999998,6549268]
[null,"Papua New Guinea","Asia + Pacific",2013,"Papua New Guinea|2013",3.7810000000000001,62.420999999999999,7327281]
[null,"Paraguay","Latin America + Caribbean",1954,"Paraguay|1954",6.5060000000000002,62.792999999999999,1632078]
[null,"Paraguay","Latin America + Caribbean",1960,"Paraguay|1960",6.5,63.878999999999998,1905829]
[null,"Paraguay","Latin America + Caribbean",1965,"Paraguay|1965",6.3559999999999999,64.778999999999996,2176195]
[null,"Paraguay","Latin America + Caribbean",1971,"Paraguay|1971",5.5890000000000004,65.656999999999996,2544362]
[null,"Paraguay","Latin America + Caribbean",1972,"Paraguay|1972",5.4560000000000004,65.822000000000003,2606357]
[null,"Paraguay","Latin America + Caribbean",1977,"Paraguay|1977",5.1950000000000003,66.471000000000004,2947064]
[null,"Paraguay","Latin America + Caribbean",1983,"Paraguay|1983",5.1509999999999998,67.100999999999999,3487626]
[null,"Paraguay","Latin America + Caribbean",1988,"Paraguay|1988",4.7359999999999998,67.688000000000002,4023628]
[null,"Paraguay","Latin America + Caribbean",1996,"Paraguay|1996",4.0049999999999999,69.108999999999995,4905150]
[null,"Paraguay","Latin America + Caribbean",2000,"Paraguay|2000",3.677,70.072999999999993,5343539]
[null,"Paraguay","Latin America + Caribbean",2005,"Paraguay|2005",3.266,71.322000000000003,5897816]
[null,"Paraguay","Latin America + Caribbean",2011,"Paraguay|2011",2.931,72.102000000000004,6568290]
[null,"Peru","Latin America + Caribbean",1952,"Peru|1952",6.8520000000000003,43.673999999999999,8020389]
[null,"Peru","Latin America + Caribbean",1957,"Peru|1957",6.8630000000000004,46.031999999999996,9142672]
[null,"Peru","Latin America + Caribbean",1959,"Peru|1959",6.875,47.137,9655274]
[null,"Peru","Latin America + Caribbean",1969,"Peru|1969",6.415,52.686999999999998,12825119]
[null,"Peru","Latin America + Caribbean",1970,"Peru|1970",6.3070000000000004,53.454999999999998,13187182]
[null,"Peru","Latin America + Caribbean",1975,"Peru|1975",5.702,57.097999999999999,15143887]
[null,"Peru","Latin America + Caribbean",1980,"Peru|1980",5.0090000000000003,60.063000000000002,17286832]
[null,"Peru","Latin America + Caribbean",1986,"Peru|1986",4.25,63.497,19903833]
[null,"Peru","Latin America + Caribbean",1992,"Peru|1992",3.617,66.522000000000006,22553275]
[null,"Peru","Latin America + Caribbean",1998,"Peru|1998",3.0640000000000001,69.537999999999997,25079136]
[null,"Peru","Latin America + Caribbean",2003,"Peru|2003",2.7730000000000001,71.748999999999995,26916342]
[null,"Peru","Latin America + Caribbean",2008,"Peru|2008",2.5790000000000002,73.311999999999998,28463338]
[null,"Philippines","Asia + Pacific",1950,"Philippines|1950",7.4480000000000004,54.738,18396520]
[null,"Philippines","Asia + Pacific",1953,"Philippines|1953",7.4160000000000004,55.606000000000002,20465543]
[null,"Philippines","Asia + Pacific",1961,"Philippines|1961",7.0869999999999997,58.173000000000002,26893021]
[null,"Philippines","Asia + Pacific",1967,"Philippines|1967",6.5890000000000004,59.97,32501839]
[null,"Philippines","Asia + Pacific",1972,"Philippines|1972",6.0410000000000004,61.244999999999997,37545635]
[null,"Philippines","Asia + Pacific",1973,"Philippines|1973",5.931,61.381,38633697]
[null,"Philippines","Asia + Pacific",1978,"Philippines|1978",5.399,61.792000000000002,44497521]
[null,"Philippines","Asia + Pacific",1986,"Philippines|1986",4.6319999999999997,64.156999999999996,55537110]
[null,"Philippines","Asia + Pacific",1990,"Philippines|1990",4.32,65.218999999999994,61628668]
[null,"Philippines","Asia + Pacific",1995,"Philippines|1995",4.0060000000000002,66.007999999999996,69255386]
[null,"Philippines","Asia + Pacific",2000,"Philippines|2000",3.8130000000000002,66.774000000000001,77309965]
[null,"Philippines","Asia + Pacific",2006,"Philippines|2006",3.403,67.597999999999999,87116275]
[null,"Philippines","Asia + Pacific",2011,"Philippines|2011",3.1110000000000002,68.372,94852030]
[null,"Poland","Europe",1954,"Poland|1954",3.57,62.924999999999997,26871945]
[null,"Poland","Europe",1958,"Poland|1958",3.22,65.92,28324111]
[null,"Poland","Europe",1964,"Poland|1964",2.5,68.8,30740557]
[null,"Poland","Europe",1966,"Poland|1966",2.3450000000000002,69.91,31453366]
[null,"Poland","Europe",1985,"Poland|1985",2.266,70.64,37201804]
[null,"Poland","Europe",1975,"Poland|1975",2.2480000000000002,70.77,33971911]
[null,"Poland","Europe",1984,"Poland|1984",2.294,70.900000000000006,36923674]
[null,"Poland","Europe",1989,"Poland|1989",2.0910000000000002,71.099999999999994,37935815]
[null,"Poland","Europe",1993,"Poland|1993",1.84,71.510000000000005,38316289]
[null,"Poland","Europe",1998,"Poland|1998",1.448,73.13,38366420]
[null,"Poland","Europe",2003,"Poland|2003",1.268,74.849999999999994,38198151]
[null,"Poland","Europe",2011,"Poland|2011",1.3879999999999999,76.069999999999993,38298949]
[null,"Portugal","Europe",1951,"Portugal|1951",3.101,58.72,8432070]
[null,"Portugal","Europe",1954,"Portugal|1954",3.0979999999999999,62.26,8600563]
[null,"Portugal","Europe",1962,"Portugal|1962",3.1850000000000001,64.39,8925989]
[null,"Portugal","Europe",1969,"Portugal|1969",3.0470000000000002,66.52,8682998]
[null,"Portugal","Europe",1973,"Portugal|1973",2.8250000000000002,68.66,8939024]
[null,"Portugal","Europe",1979,"Portugal|1979",2.3889999999999998,71.680000000000007,9695175]
[null,"Portugal","Europe",1984,"Portugal|1984",1.8680000000000001,72.98,9955005]
[null,"Portugal","Europe",1985,"Portugal|1985",1.782,73.260000000000005,9962255]
[null,"Portugal","Europe",1990,"Portugal|1990",1.5349999999999999,74.25,9925477]
[null,"Portugal","Europe",1994,"Portugal|1994",1.488,75.760000000000005,10077548]
[null,"Portugal","Europe",2004,"Portugal|2004",1.425,78.319999999999993,10506253]
[null,"Portugal","Europe",2006,"Portugal|2006",1.391,78.94,10577630]
[null,"Portugal","Europe",2013,"Portugal|2013",1.3149999999999999,79.944999999999993,10704534]
[null,"Puerto Rico","Latin America + Caribbean",1954,"Puerto Rico|1954",4.9589999999999996,65.326999999999998,2234847]
[null,"Puerto Rico","Latin America + Caribbean",1960,"Puerto Rico|1960",4.657,68.733999999999995,2358747]
[null,"Puerto Rico","Latin America + Caribbean",1966,"Puerto Rico|1966",3.7029999999999998,70.225999999999999,2614035]
[null,"Puerto Rico","Latin America + Caribbean",1971,"Puerto Rico|1971",3.0680000000000001,71.903999999999996,2751922]
[null,"Puerto Rico","Latin America + Caribbean",1977,"Puerto Rico|1977",2.7690000000000001,73.427000000000007,3044298]
[null,"Puerto Rico","Latin America + Caribbean",1993,"Puerto Rico|1993",2.1539999999999999,73.950999999999993,3633785]
[null,"Puerto Rico","Latin America + Caribbean",1983,"Puerto Rico|1983",2.4359999999999999,74.087999999999994,3313869]
[null,"Puerto Rico","Latin America + Caribbean",1995,"Puerto Rico|1995",2.0880000000000001,74.165000000000006,3701618]
[null,"Puerto Rico","Latin America + Caribbean",1988,"Puerto Rico|1988",2.2559999999999998,74.397000000000006,3467679]
[null,"Puerto Rico","Latin America + Caribbean",2000,"Puerto Rico|2000",1.897,75.828000000000003,3814353]
[null,"Puerto Rico","Latin America + Caribbean",2005,"Puerto Rico|2005",1.752,77.39,3781986]
[null,"Puerto Rico","Latin America + Caribbean",2010,"Puerto Rico|2010",1.6639999999999999,78.325999999999993,3749009]
[null,"Qatar","West Asia",1952,"Qatar|1952",6.97,54.844000000000001,29819]
[null,"Qatar","West Asia",1960,"Qatar|1960",6.9710000000000001,61.110999999999997,47085]
[null,"Qatar","West Asia",1964,"Qatar|1964",6.9850000000000003,64.138999999999996,67082]
[null,"Qatar","West Asia",1969,"Qatar|1969",6.952,67.707999999999998,99873]
[null,"Qatar","West Asia",1974,"Qatar|1974",6.5949999999999998,70.468999999999994,152210]
[null,"Qatar","West Asia",1980,"Qatar|1980",5.8109999999999999,72.72,221594]
[null,"Qatar","West Asia",1985,"Qatar|1985",4.9290000000000003,74.16,368006]
[null,"Qatar","West Asia",1987,"Qatar|1987",4.5209999999999999,74.623000000000005,420058]
[null,"Qatar","West Asia",1992,"Qatar|1992",3.7959999999999998,75.558000000000007,488204]
[null,"Qatar","West Asia",1997,"Qatar|1997",3.4769999999999999,76.290000000000006,528787]
[null,"Qatar","West Asia",2003,"Qatar|2003",2.8530000000000002,77.055999999999997,653500]
[null,"Qatar","West Asia",2008,"Qatar|2008",2.2029999999999998,77.694000000000003,1396060]
[null,"Qatar","West Asia",2013,"Qatar|2013",2.0190000000000001,78.369,1976840]
[null,"Romania","Europe",1954,"Romania|1954",3.1047261694058199,61.341000000000001,17284001]
[null,"Romania","Europe",1961,"Romania|1961",2.1592920353982299,66.5,18533445]
[null,"Romania","Europe",1966,"Romania|1966",1.8867256637168099,67.736999999999995,19237491]
[null,"Romania","Europe",1972,"Romania|1972",2.53097345132743,68.754999999999995,20674980]
[null,"Romania","Europe",1993,"Romania|1993",1.4336283185840699,69.509,22948987]
[null,"Romania","Europe",1992,"Romania|1992",1.48672566371681,69.52,23077600]
[null,"Romania","Europe",1985,"Romania|1985",2.2654867256637199,69.626000000000005,22724837]
[null,"Romania","Europe",1997,"Romania|1997",1.298,69.701999999999998,22465454]
[null,"Romania","Europe",1980,"Romania|1980",2.44247787610619,69.718000000000004,22201389]
[null,"Romania","Europe",2000,"Romania|2000",1.274,70.47,22191683]
[null,"Romania","Europe",2006,"Romania|2006",1.3109999999999999,72.653999999999996,21705175]
[null,"Romania","Europe",2012,"Romania|2012",1.4019999999999999,73.718000000000004,21387517]
[null,"Russia","Europe",1952,"Russia|1952",2.8479999999999999,64.242999999999995,105950299]
[null,"Russia","Europe",1993,"Russia|1993",1.5189999999999999,65.239999999999995,148945559]
[null,"Russia","Europe",1955,"Russia|1955",2.8690000000000002,65.656000000000006,111401500]
[null,"Russia","Europe",1957,"Russia|1957",2.843,66.685000000000002,114947600]
[null,"Russia","Europe",2009,"Russia|2009",1.468,67.415999999999997,143064078]
[null,"Russia","Europe",2012,"Russia|2012",1.522,67.873999999999995,142703181]
[null,"Russia","Europe",1978,"Russia|1978",1.9550000000000001,68.010000000000005,136801278]
[null,"Russia","Europe",1982,"Russia|1982",2.0409999999999999,68.38,140598335]
[null,"Russia","Europe",1961,"Russia|1961",2.6549999999999998,68.92,121468992]
[null,"Russia","Europe",1974,"Russia|1974",1.9870000000000001,68.989999999999995,133417243]
[null,"Russia","Europe",1990,"Russia|1990",1.861,69.36,148243501]
[null,"Russia","Europe",1989,"Russia|1989",1.964,69.73,147591465]
[null,"Rwanda","Africa",1995,"Rwanda|1995",6.3070000000000004,31.251999999999999,5570206]
[null,"Rwanda","Africa",1952,"Rwanda|1952",7.9829999999999997,39.848999999999997,2187504]
[null,"Rwanda","Africa",1958,"Rwanda|1958",8.1609999999999996,41.670999999999999,2609162]
[null,"Rwanda","Africa",1962,"Rwanda|1962",8.1969999999999992,42.866999999999997,2942908]
[null,"Rwanda","Africa",1970,"Rwanda|1970",8.2309999999999999,44.402000000000001,3748672]
[null,"Rwanda","Africa",1974,"Rwanda|1974",8.3390000000000004,44.670999999999999,4249861]
[null,"Rwanda","Africa",1979,"Rwanda|1979",8.4489999999999998,45.576000000000001,5011299]
[null,"Rwanda","Africa",1984,"Rwanda|1984",8.3550000000000004,47.149000000000001,5859270]
[null,"Rwanda","Africa",1988,"Rwanda|1988",7.7919999999999998,48.069000000000003,6959599]
[null,"Rwanda","Africa",1993,"Rwanda|1993",6.5679999999999996,48.988999999999997,5984449]
[null,"Rwanda","Africa",2002,"Rwanda|2002",5.6740000000000004,50.478000000000002,8696378]
[null,"Rwanda","Africa",2007,"Rwanda|2007",5.1669999999999998,58.701999999999998,9710531]
[null,"Rwanda","Africa",2012,"Rwanda|2012",4.6159999999999997,63.563000000000002,11271786]
[null,"Saint Lucia","Latin America + Caribbean",1954,"Saint Lucia|1954",6.4450000000000003,53.06,86266]
[null,"Saint Lucia","Latin America + Caribbean",1959,"Saint Lucia|1959",6.9790000000000001,56.503,89330]
[null,"Saint Lucia","Latin America + Caribbean",1967,"Saint Lucia|1967",6.508,61.494,99834]
[null,"Saint Lucia","Latin America + Caribbean",1971,"Saint Lucia|1971",5.9530000000000003,63.603999999999999,105169]
[null,"Saint Lucia","Latin America + Caribbean",1976,"Saint Lucia|1976",5.3470000000000004,66.614999999999995,110501]
[null,"Saint Lucia","Latin America + Caribbean",1982,"Saint Lucia|1982",4.3280000000000003,69.747,120897]
[null,"Saint Lucia","Latin America + Caribbean",1987,"Saint Lucia|1987",3.6829999999999998,70.789000000000001,130776]
[null,"Saint Lucia","Latin America + Caribbean",1996,"Saint Lucia|1996",2.76,71.186000000000007,149022]
[null,"Saint Lucia","Latin America + Caribbean",1999,"Saint Lucia|1999",2.4159999999999999,71.307000000000002,155204]
[null,"Saint Lucia","Latin America + Caribbean",2004,"Saint Lucia|2004",2.0619999999999998,72.66,163631]
[null,"Saint Lucia","Latin America + Caribbean",2005,"Saint Lucia|2005",2.04,73.037999999999997,165275]
[null,"Saint Lucia","Latin America + Caribbean",2010,"Saint Lucia|2010",1.982,74.424999999999997,174267]
[null,"Saint Vincent and the Grenadines","Latin America + Caribbean",1951,"Saint Vincent and the Grenadines|1951",7.2809999999999997,50.207000000000001,68065]
[null,"Saint Vincent and the Grenadines","Latin America + Caribbean",1961,"Saint Vincent and the Grenadines|1961",7.1550000000000002,59.136000000000003,82144]
[null,"Saint Vincent and the Grenadines","Latin America + Caribbean",1963,"Saint Vincent and the Grenadines|1963",6.9809999999999999,61.125999999999998,84167]
[null,"Saint Vincent and the Grenadines","Latin America + Caribbean",1969,"Saint Vincent and the Grenadines|1969",6.1849999999999996,64.718999999999994,89527]
[null,"Saint Vincent and the Grenadines","Latin America + Caribbean",1974,"Saint Vincent and the Grenadines|1974",5.1970000000000001,66.123000000000005,94556]
[null,"Saint Vincent and the Grenadines","Latin America + Caribbean",1979,"Saint Vincent and the Grenadines|1979",4.1539999999999999,67.218999999999994,99539]
[null,"Saint Vincent and the Grenadines","Latin America + Caribbean",1985,"Saint Vincent and the Grenadines|1985",3.3279999999999998,69.084000000000003,104402]
[null,"Saint Vincent and the Grenadines","Latin America + Caribbean",1988,"Saint Vincent and the Grenadines|1988",3.0720000000000001,69.760000000000005,106465]
[null,"Saint Vincent and the Grenadines","Latin America + Caribbean",2000,"Saint Vincent and the Grenadines|2000",2.379,70.599999999999994,107891]
[null,"Saint Vincent and the Grenadines","Latin America + Caribbean",2002,"Saint Vincent and the Grenadines|2002",2.2709999999999999,70.734999999999999,108150]
[null,"Saint Vincent and the Grenadines","Latin America + Caribbean",2007,"Saint Vincent and the Grenadines|2007",2.1309999999999998,71.680000000000007,109060]
[null,"Saint Vincent and the Grenadines","Latin America + Caribbean",2008,"Saint Vincent and the Grenadines|2008",2.1120000000000001,71.872,109178]
[null,"Saint Vincent and the Grenadines","Latin America + Caribbean",2013,"Saint Vincent and the Grenadines|2013",1.9970000000000001,72.488,109354]
[null,"Samoa","Asia + Pacific",1955,"Samoa|1955",7.6280000000000001,47.222999999999999,94141]
[null,"Samoa","Asia + Pacific",1961,"Samoa|1961",7.6449999999999996,50.247999999999998,113300]
[null,"Samoa","Asia + Pacific",1966,"Samoa|1966",7.4619999999999997,52.765999999999998,130320]
[null,"Samoa","Asia + Pacific",1972,"Samoa|1972",7.0389999999999997,55.777000000000001,146330]
[null,"Samoa","Asia + Pacific",1977,"Samoa|1977",6.5469999999999997,58.287999999999997,152593]
[null,"Samoa","Asia + Pacific",1982,"Samoa|1982",5.968,60.790999999999997,155831]
[null,"Samoa","Asia + Pacific",1989,"Samoa|1989",5.2080000000000002,64.319000000000003,160198]
[null,"Samoa","Asia + Pacific",1994,"Samoa|1994",4.8150000000000004,66.918999999999997,166662]
[null,"Samoa","Asia + Pacific",1999,"Samoa|1999",4.5410000000000004,69.003,175169]
[null,"Samoa","Asia + Pacific",2005,"Samoa|2005",4.46,70.84,180237]
[null,"Samoa","Asia + Pacific",2007,"Samoa|2007",4.45,71.415000000000006,181277]
[null,"Samoa","Asia + Pacific",2012,"Samoa|2012",4.2119999999999997,72.867000000000004,184772]
[null,"Sao Tome and Principe","Africa",1953,"Sao Tome and Principe|1953",6.1909999999999998,46.600999999999999,58114]
[null,"Sao Tome and Principe","Africa",1958,"Sao Tome and Principe|1958",6.2080000000000002,49.201999999999998,62310]
[null,"Sao Tome and Principe","Africa",1964,"Sao Tome and Principe|1964",6.327,52.597000000000001,64265]
[null,"Sao Tome and Principe","Africa",1969,"Sao Tome and Principe|1969",6.444,55.271999999999998,71709]
[null,"Sao Tome and Principe","Africa",1974,"Sao Tome and Principe|1974",6.5339999999999998,58.389000000000003,80137]
[null,"Sao Tome and Principe","Africa",1981,"Sao Tome and Principe|1981",6.3479999999999999,60.628999999999998,96721]
[null,"Sao Tome and Principe","Africa",1986,"Sao Tome and Principe|1986",5.8490000000000002,61.127000000000002,106067]
[null,"Sao Tome and Principe","Africa",1992,"Sao Tome and Principe|1992",5.2030000000000003,62.133000000000003,120835]
[null,"Sao Tome and Principe","Africa",1997,"Sao Tome and Principe|1997",4.8259999999999996,62.896000000000001,133152]
[null,"Sao Tome and Principe","Africa",2001,"Sao Tome and Principe|2001",4.6539999999999999,63.526000000000003,143430]
[null,"Sao Tome and Principe","Africa",2009,"Sao Tome and Principe|2009",4.3520000000000003,65.747,162515]
[null,"Saudi Arabia","West Asia",1950,"Saudi Arabia|1950",7.2,40.972999999999999,3121337]
[null,"Saudi Arabia","West Asia",1951,"Saudi Arabia|1951",7.1909999999999998,41.215000000000003,3194590]
[null,"Saudi Arabia","West Asia",1956,"Saudi Arabia|1956",7.165,43.652000000000001,3625448]
[null,"Saudi Arabia","West Asia",1961,"Saudi Arabia|1961",7.23,46.145000000000003,4170636]
[null,"Saudi Arabia","West Asia",1968,"Saudi Arabia|1968",7.2670000000000003,50.743000000000002,5329207]
[null,"Saudi Arabia","West Asia",1973,"Saudi Arabia|1973",7.3070000000000004,56,6622572]
[null,"Saudi Arabia","West Asia",1978,"Saudi Arabia|1978",7.2809999999999997,61.262,8684651]
[null,"Saudi Arabia","West Asia",1984,"Saudi Arabia|1984",6.806,65.945999999999998,12542098]
[null,"Saudi Arabia","West Asia",1989,"Saudi Arabia|1989",6.0039999999999996,68.552999999999997,15600314]
[null,"Saudi Arabia","West Asia",1995,"Saudi Arabia|1995",4.9889999999999999,70.757000000000005,18491845]
[null,"Saudi Arabia","West Asia",2001,"Saudi Arabia|2001",3.8039999999999998,72.700999999999993,20681576]
[null,"Saudi Arabia","West Asia",2006,"Saudi Arabia|2006",3.1360000000000001,73.968000000000004,24799436]
[null,"Saudi Arabia","West Asia",2012,"Saudi Arabia|2012",2.702,75.263999999999996,28705133]
[null,"Senegal","Africa",1953,"Senegal|1953",6.601,35.723999999999997,2566574]
[null,"Senegal","Africa",1954,"Senegal|1954",6.6559999999999997,36.173000000000002,2623159]
[null,"Senegal","Africa",1966,"Senegal|1966",7.1890000000000001,38.386000000000003,3612246]
[null,"Senegal","Africa",1964,"Senegal|1964",7.1139999999999999,38.448999999999998,3403161]
[null,"Senegal","Africa",1971,"Senegal|1971",7.3739999999999997,39.814,4231030]
[null,"Senegal","Africa",1976,"Senegal|1976",7.468,44.640999999999998,4912200]
[null,"Senegal","Africa",1981,"Senegal|1981",7.3369999999999997,49.94,5559400]
[null,"Senegal","Africa",1987,"Senegal|1987",6.9249999999999998,55.61,6615896]
[null,"Senegal","Africa",1991,"Senegal|1991",6.5190000000000001,57.43,7461567]
[null,"Senegal","Africa",1999,"Senegal|1999",5.6449999999999996,57.545999999999999,9265135]
[null,"Senegal","Africa",2004,"Senegal|2004",5.2850000000000001,59.966000000000001,10581316]
[null,"Senegal","Africa",2009,"Senegal|2009",5.0780000000000003,62.652999999999999,12106865]
[null,"Serbia","Europe",1951,"Serbia|1951",3.411,58.405999999999999,6839783]
[null,"Serbia","Europe",1956,"Serbia|1956",2.8530000000000002,60.832999999999998,7298269]
[null,"Serbia","Europe",1962,"Serbia|1962",2.57,63.999000000000002,7711142]
[null,"Serbia","Europe",1963,"Serbia|1963",2.5430000000000001,64.53,7772481]
[null,"Serbia","Europe",1968,"Serbia|1968",2.4180000000000001,66.945999999999998,8054147]
[null,"Serbia","Europe",1974,"Serbia|1974",2.3620000000000001,68.906999999999996,8457297]
[null,"Serbia","Europe",1979,"Serbia|1979",2.36,69.745000000000005,8868545]
[null,"Serbia","Europe",1983,"Serbia|1983",2.3220000000000001,70.325999999999993,9154306]
[null,"Serbia","Europe",1991,"Serbia|1991",2.0510000000000002,71.605999999999995,9689735]
[null,"Serbia","Europe",1996,"Serbia|1996",1.8029999999999999,71.867000000000004,10248363]
[null,"Serbia","Europe",2002,"Serbia|2002",1.5680000000000001,72.308999999999997,10013058]
[null,"Serbia","Europe",2007,"Serbia|2007",1.4239999999999999,73.198999999999998,9832994]
[null,"Serbia","Europe",2012,"Serbia|2012",1.3680000000000001,73.933999999999997,9846582]
[null,"Seychelles","Africa",1952,"Seychelles|1952",5.01,57.851999999999997,37451]
[null,"Seychelles","Africa",1960,"Seychelles|1960",5.27,61.118000000000002,41443]
[null,"Seychelles","Africa",1965,"Seychelles|1965",5.8419999999999996,63.683999999999997,46544]
[null,"Seychelles","Africa",1966,"Seychelles|1966",5.8940000000000001,64.022999999999996,47566]
[null,"Seychelles","Africa",1971,"Seychelles|1971",5.6319999999999997,66.186999999999998,52841]
[null,"Seychelles","Africa",1981,"Seychelles|1981",3.698,70.061000000000007,63677]
[null,"Seychelles","Africa",1983,"Seychelles|1983",3.43,70.519000000000005,65310]
[null,"Seychelles","Africa",1994,"Seychelles|1994",2.423,70.777000000000001,74016]
[null,"Seychelles","Africa",1988,"Seychelles|1988",2.8980000000000001,70.994,69411]
[null,"Seychelles","Africa",1999,"Seychelles|1999",2.157,71.608999999999995,77810]
[null,"Seychelles","Africa",2005,"Seychelles|2005",2.2589999999999999,72.260999999999996,83513]
[null,"Seychelles","Africa",2008,"Seychelles|2008",2.2839999999999998,72.491,85568]
[null,"Sierra Leone","Africa",1952,"Sierra Leone|1952",5.7439999999999998,28.712,1946495]
[null,"Sierra Leone","Africa",1958,"Sierra Leone|1958",5.93,29.951000000000001,2120880]
[null,"Sierra Leone","Africa",1963,"Sierra Leone|1963",6.2290000000000001,31.012,2295070]
[null,"Sierra Leone","Africa",1968,"Sierra Leone|1968",6.5830000000000002,33.097999999999999,2501620]
[null,"Sierra Leone","Africa",1969,"Sierra Leone|1969",6.6429999999999998,33.811999999999998,2546888]
[null,"Sierra Leone","Africa",1996,"Sierra Leone|1996",6.15,36.039000000000001,3898177]
[null,"Sierra Leone","Africa",1973,"Sierra Leone|1973",6.8470000000000004,37.073,2738398]
[null,"Sierra Leone","Africa",2000,"Sierra Leone|2000",5.92,38.122999999999998,4143115]
[null,"Sierra Leone","Africa",1987,"Sierra Leone|1987",6.7530000000000001,39.317999999999998,3746944]
[null,"Sierra Leone","Africa",1979,"Sierra Leone|1979",7.0540000000000003,40.365000000000002,3093342]
[null,"Sierra Leone","Africa",1981,"Sierra Leone|1981",7.048,40.808,3230990]
[null,"Sierra Leone","Africa",2008,"Sierra Leone|2008",5.1280000000000001,44.075000000000003,5612129]
[null,"Singapore","Asia + Pacific",1950,"Singapore|1950",6.4870000000000001,58.389000000000003,1022098]
[null,"Singapore","Asia + Pacific",1955,"Singapore|1955",6.62,62.351999999999997,1305726]
[null,"Singapore","Asia + Pacific",1961,"Singapore|1961",5.5570000000000004,65.891999999999996,1690329]
[null,"Singapore","Asia + Pacific",1966,"Singapore|1966",4.0739999999999998,67.055999999999997,1921095]
[null,"Singapore","Asia + Pacific",1971,"Singapore|1971",3.0139999999999998,68.462000000000003,2112908]
[null,"Singapore","Asia + Pacific",1973,"Singapore|1973",2.6520000000000001,69.262,2191970]
[null,"Singapore","Asia + Pacific",1978,"Singapore|1978",1.827,71.204999999999998,2344275]
[null,"Singapore","Asia + Pacific",1984,"Singapore|1984",1.62,73.497,2646959]
[null,"Singapore","Asia + Pacific",1989,"Singapore|1989",1.75,75.635999999999996,2943941]
[null,"Singapore","Asia + Pacific",1996,"Singapore|1996",1.66,77.506,3576537]
[null,"Singapore","Asia + Pacific",2001,"Singapore|2001",1.41,78.665999999999997,3980956]
[null,"Singapore","Asia + Pacific",2006,"Singapore|2006",1.28,80.626000000000005,4409955]
[null,"Singapore","Asia + Pacific",2011,"Singapore|2011",1.2669999999999999,81.980999999999995,5187933]
[null,"Slovakia","Europe",1953,"Slovakia|1953",3.4809999999999999,65.66,3625562]
[null,"Slovakia","Europe",1959,"Slovakia|1959",3.1520000000000001,69.03,4032799]
[null,"Slovakia","Europe",1973,"Slovakia|1973",2.5,70.05,4627506]
[null,"Slovakia","Europe",1966,"Slovakia|1966",2.637,70.44,4381278]
[null,"Slovakia","Europe",1968,"Slovakia|1968",2.5409999999999999,70.5,4444651]
[null,"Slovakia","Europe",1976,"Slovakia|1976",2.484,70.5,4766402]
[null,"Slovakia","Europe",1961,"Slovakia|1961",3.0129999999999999,70.790000000000006,4151408]
[null,"Slovakia","Europe",1964,"Slovakia|1964",2.7789999999999999,71.09,4302571]
[null,"Slovakia","Europe",1993,"Slovakia|1993",1.8109999999999999,71.900000000000006,5335519]
[null,"Slovakia","Europe",1996,"Slovakia|1996",1.5409999999999999,72.77,5380807]
[null,"Slovakia","Europe",2005,"Slovakia|2005",1.244,74.2,5415496]
[null,"Slovakia","Europe",2009,"Slovakia|2009",1.331,74.89,5451968]
[null,"Slovenia","Europe",1950,"Slovenia|1950",2.7389999999999999,64.450999999999993,1473094]
[null,"Slovenia","Europe",1957,"Slovenia|1957",2.3570000000000002,67.709000000000003,1552231]
[null,"Slovenia","Europe",1962,"Slovenia|1962",2.33,69.046000000000006,1600656]
[null,"Slovenia","Europe",1968,"Slovenia|1968",2.3119999999999998,69.260999999999996,1652157]
[null,"Slovenia","Europe",1973,"Slovenia|1973",2.2269999999999999,69.972999999999999,1709055]
[null,"Slovenia","Europe",1983,"Slovenia|1983",1.853,70.88,1865704]
[null,"Slovenia","Europe",1981,"Slovenia|1981",1.978,71.072000000000003,1845186]
[null,"Slovenia","Europe",1985,"Slovenia|1985",1.738,71.77,1883179]
[null,"Slovenia","Europe",1991,"Slovenia|1991",1.425,73.5,1935302]
[null,"Slovenia","Europe",1996,"Slovenia|1996",1.2649999999999999,75.11,1971488]
[null,"Slovenia","Europe",2001,"Slovenia|2001",1.2170000000000001,76.38,1988385]
[null,"Slovenia","Europe",2006,"Slovenia|2006",1.363,78.239999999999995,2006903]
[null,"Solomon Islands","Asia + Pacific",1951,"Solomon Islands|1951",6.4009999999999998,44.628,107978]
[null,"Solomon Islands","Asia + Pacific",1954,"Solomon Islands|1954",6.399,46.146999999999998,112677]
[null,"Solomon Islands","Asia + Pacific",1960,"Solomon Islands|1960",6.3879999999999999,49.173999999999999,126363]
[null,"Solomon Islands","Asia + Pacific",1965,"Solomon Islands|1965",6.4189999999999996,51.701000000000001,143000]
[null,"Solomon Islands","Asia + Pacific",1971,"Solomon Islands|1971",7.04,54.78,166067]
[null,"Solomon Islands","Asia + Pacific",1987,"Solomon Islands|1987",6.1390000000000002,56.347000000000001,284761]
[null,"Solomon Islands","Asia + Pacific",1990,"Solomon Islands|1990",5.851,56.661000000000001,309527]
[null,"Solomon Islands","Asia + Pacific",1976,"Solomon Islands|1976",7.1820000000000004,57.415999999999997,199775]
[null,"Solomon Islands","Asia + Pacific",1978,"Solomon Islands|1978",6.99,58.274999999999999,214224]
[null,"Solomon Islands","Asia + Pacific",1980,"Solomon Islands|1980",6.7480000000000002,58.777999999999999,229235]
[null,"Solomon Islands","Asia + Pacific",1999,"Solomon Islands|1999",4.7889999999999997,62.162999999999997,397627]
[null,"Solomon Islands","Asia + Pacific",2003,"Solomon Islands|2003",4.5780000000000003,64.58,444344]
[null,"Solomon Islands","Asia + Pacific",2011,"Solomon Islands|2011",4.1680000000000001,67.251000000000005,552267]
[null,"Somalia","Africa",1952,"Somalia|1952",7.25,33.786999999999999,2363736]
[null,"Somalia","Africa",1957,"Somalia|1957",7.25,35.79,2635172]
[null,"Somalia","Africa",1963,"Somalia|1963",7.258,38.176000000000002,3022091]
[null,"Somalia","Africa",1968,"Somalia|1968",7.2320000000000002,40.179000000000002,3442418]
[null,"Somalia","Africa",1972,"Somalia|1972",7.1180000000000003,41.726999999999997,3673532]
[null,"Somalia","Africa",1980,"Somalia|1980",7.0129999999999999,44.747,6435589]
[null,"Somalia","Africa",1982,"Somalia|1982",7.0529999999999999,45.427999999999997,6608106]
[null,"Somalia","Africa",1989,"Somalia|1989",7.3410000000000002,45.664000000000001,6570210]
[null,"Somalia","Africa",1987,"Somalia|1987",7.2370000000000001,46.15,6426592]
[null,"Somalia","Africa",1997,"Somalia|1997",7.6870000000000003,48.996000000000002,6786636]
[null,"Somalia","Africa",2002,"Somalia|2002",7.4950000000000001,51.527000000000001,7791254]
[null,"Somalia","Africa",2010,"Somalia|2010",6.8689999999999998,53,9330872]
[null,"South Africa","Africa",1950,"South Africa|1950",6.3529999999999998,43.546999999999997,13683162]
[null,"South Africa","Africa",1955,"South Africa|1955",6.2469999999999999,46.662999999999997,15384665]
[null,"South Africa","Africa",1960,"South Africa|1960",6.173,49.048000000000002,17396477]
[null,"South Africa","Africa",1964,"South Africa|1964",5.984,50.573999999999998,19308185]
[null,"South Africa","Africa",2007,"South Africa|2007",2.58,52.13,48842462]
[null,"South Africa","Africa",1971,"South Africa|1971",5.5389999999999997,53.167999999999999,23106584]
[null,"South Africa","Africa",1975,"South Africa|1975",5.2510000000000003,54.539000000000001,25698624]
[null,"South Africa","Africa",2011,"South Africa|2011",2.4380000000000002,55.460999999999999,50459978]
[null,"South Africa","Africa",1978,"South Africa|1978",4.9690000000000003,55.848999999999997,27674353]
[null,"South Africa","Africa",1982,"South Africa|1982",4.6020000000000003,58.124000000000002,30611185]
[null,"South Africa","Africa",1984,"South Africa|1984",4.4020000000000001,59.31,32204995]
[null,"South Africa","Africa",1995,"South Africa|1995",3.11,61.371000000000002,41402400]
[null,"South Africa","Africa",1993,"South Africa|1993",3.2959999999999998,62.186,39609488]
[null,"South Sudan","Africa",1953,"South Sudan|1953",6.6559999999999997,28.190999999999999,2006745]
[null,"South Sudan","Africa",1958,"South Sudan|1958",6.702,30.768000000000001,2256344]
[null,"South Sudan","Africa",1964,"South Sudan|1964",6.7809999999999997,33.360999999999997,2600994]
[null,"South Sudan","Africa",1970,"South Sudan|1970",6.8810000000000002,35.792999999999999,3020949]
[null,"South Sudan","Africa",1975,"South Sudan|1975",6.9240000000000004,37.768000000000001,3505168]
[null,"South Sudan","Africa",1980,"South Sudan|1980",6.85,39.03,4106390]
[null,"South Sudan","Africa",1986,"South Sudan|1986",6.8170000000000002,40.936,4942648]
[null,"South Sudan","Africa",1991,"South Sudan|1991",6.7290000000000001,44.235999999999997,5556767]
[null,"South Sudan","Africa",1993,"South Sudan|1993",6.6269999999999998,45.615000000000002,5852564]
[null,"South Sudan","Africa",1998,"South Sudan|1998",6.2889999999999997,48.393999999999998,6659415]
[null,"South Sudan","Africa",2003,"South Sudan|2003",5.8710000000000004,50.359000000000002,7497047]
[null,"South Sudan","Africa",2009,"South Sudan|2009",5.2880000000000003,52.936999999999998,8940854]
[null,"Spain","Europe",1952,"Spain|1952",2.512,64.94,28427994]
[null,"Spain","Europe",1956,"Spain|1956",2.657,66.819999999999993,29328890]
[null,"Spain","Europe",1962,"Spain|1962",2.802,69.69,31067664]
[null,"Spain","Europe",1969,"Spain|1969",2.8679999999999999,71.260000000000005,33436107]
[null,"Spain","Europe",1972,"Spain|1972",2.86,73.06,34553119]
[null,"Spain","Europe",1978,"Spain|1978",2.4780000000000002,74.58,36862658]
[null,"Spain","Europe",1984,"Spain|1984",1.728,76.459999999999994,38339878]
[null,"Spain","Europe",1990,"Spain|1990",1.343,76.989999999999995,38889158]
[null,"Spain","Europe",1995,"Spain|1995",1.2130000000000001,78.12,39426834]
[null,"Spain","Europe",1996,"Spain|1996",1.2,78.260000000000005,39519508]
[null,"Spain","Europe",2001,"Spain|2001",1.246,79.69,40767010]
[null,"Spain","Europe",2010,"Spain|2010",1.4570000000000001,81.656000000000006,46076989]
[null,"Spain","Europe",2013,"Spain|2013",1.5049999999999999,82.1,47042602]
[null,"Sri Lanka","Asia + Pacific",1954,"Sri Lanka|1954",5.8929999999999998,55.945,8803521]
[null,"Sri Lanka","Asia + Pacific",1959,"Sri Lanka|1959",5.6520000000000001,58.963999999999999,9796484]
[null,"Sri Lanka","Asia + Pacific",1965,"Sri Lanka|1965",4.9589999999999996,61.591000000000001,11215216]
[null,"Sri Lanka","Asia + Pacific",1970,"Sri Lanka|1970",4.3419999999999996,64.114000000000004,12554583]
[null,"Sri Lanka","Asia + Pacific",1977,"Sri Lanka|1977",3.633,66.893000000000001,14325640]
[null,"Sri Lanka","Asia + Pacific",1982,"Sri Lanka|1982",3.2229999999999999,68.828999999999994,15544043]
[null,"Sri Lanka","Asia + Pacific",1987,"Sri Lanka|1987",2.7029999999999998,69.147999999999996,16669911]
[null,"Sri Lanka","Asia + Pacific",1994,"Sri Lanka|1994",2.3199999999999998,69.472999999999999,18089720]
[null,"Sri Lanka","Asia + Pacific",1998,"Sri Lanka|1998",2.2400000000000002,69.804000000000002,18510095]
[null,"Sri Lanka","Asia + Pacific",2003,"Sri Lanka|2003",2.2629999999999999,73.040000000000006,19369853]
[null,"Sri Lanka","Asia + Pacific",2004,"Sri Lanka|2004",2.274,73.393000000000001,19610604]
[null,"Sri Lanka","Asia + Pacific",2010,"Sri Lanka|2010",2.343,73.790000000000006,20859949]
[null,"Sudan","Africa",1952,"Sudan|1952",6.6520000000000001,44.274000000000001,7627408]
[null,"Sudan","Africa",1957,"Sudan|1957",6.6449999999999996,46.847999999999999,8567322]
[null,"Sudan","Africa",1962,"Sudan|1962",6.7370000000000001,49.030999999999999,9642172]
[null,"Sudan","Africa",1971,"Sudan|1971",6.899,52.579000000000001,12079205]
[null,"Sudan","Africa",1974,"Sudan|1974",6.93,53.426000000000002,13212203]
[null,"Sudan","Africa",1980,"Sudan|1980",6.8019999999999996,54.249000000000002,15964476]
[null,"Sudan","Africa",1985,"Sudan|1985",6.4669999999999996,54.765000000000001,18726053]
[null,"Sudan","Africa",1990,"Sudan|1990",6.1529999999999996,55.521999999999998,21073606]
[null,"Sudan","Africa",1996,"Sudan|1996",5.7469999999999999,56.79,24601180]
[null,"Sudan","Africa",1998,"Sudan|1998",5.5960000000000001,57.345999999999997,25889911]
[null,"Sudan","Africa",2007,"Sudan|2007",4.8730000000000002,60.670999999999999,32113409]
[null,"Sudan","Africa",2008,"Sudan|2008",4.7919999999999998,60.985999999999997,32941836]
[null,"Sudan","Africa",2013,"Sudan|2013",4.42,62.055,35940905]
[null,"Suriname","Latin America + Caribbean",1955,"Suriname|1955",6.5549999999999997,57.473999999999997,250004]
[null,"Suriname","Latin America + Caribbean",1959,"Suriname|1959",6.6059999999999999,59.280999999999999,281654]
[null,"Suriname","Latin America + Caribbean",1966,"Suriname|1966",6.1820000000000004,61.866999999999997,341643]
[null,"Suriname","Latin America + Caribbean",1972,"Suriname|1972",5.3360000000000003,63.844000000000001,372648]
[null,"Suriname","Latin America + Caribbean",1977,"Suriname|1977",4.3440000000000003,65.052999999999997,363227]
[null,"Suriname","Latin America + Caribbean",1983,"Suriname|1983",3.5939999999999999,66.581000000000003,369782]
[null,"Suriname","Latin America + Caribbean",1988,"Suriname|1988",2.9359999999999999,67.213999999999999,393605]
[null,"Suriname","Latin America + Caribbean",1992,"Suriname|1992",2.6389999999999998,67.552999999999997,418828]
[null,"Suriname","Latin America + Caribbean",2000,"Suriname|2000",2.7389999999999999,67.850999999999999,466846]
[null,"Suriname","Latin America + Caribbean",2005,"Suriname|2005",2.5179999999999998,68.787999999999997,499294]
[null,"Suriname","Latin America + Caribbean",2010,"Suriname|2010",2.3450000000000002,70.308999999999997,524636]
[null,"Suriname","Latin America + Caribbean",2011,"Suriname|2011",2.3180000000000001,70.558999999999997,529419]
[null,"Swaziland","Africa",1952,"Swaziland|1952",6.7009999999999996,41.209000000000003,285333]
[null,"Swaziland","Africa",1959,"Swaziland|1959",6.7080000000000002,43.966000000000001,340755]
[null,"Swaziland","Africa",1964,"Swaziland|1964",6.782,45.451999999999998,382477]
[null,"Swaziland","Africa",1966,"Swaziland|1966",6.8220000000000001,46.122999999999998,401184]
[null,"Swaziland","Africa",2008,"Swaziland|2008",3.6989999999999998,47.389000000000003,1150344]
[null,"Swaziland","Africa",2010,"Swaziland|2010",3.5590000000000002,48.398000000000003,1186056]
[null,"Swaziland","Africa",1972,"Swaziland|1972",6.87,49.238,472236]
[null,"Swaziland","Africa",1998,"Swaziland|1998",4.4320000000000004,51.828000000000003,1028708]
[null,"Swaziland","Africa",1980,"Swaziland|1980",6.6580000000000004,54.323,603385]
[null,"Swaziland","Africa",1984,"Swaziland|1984",6.4589999999999996,56.914000000000001,680341]
[null,"Swaziland","Africa",1987,"Swaziland|1987",6.18,58.503999999999998,767579]
[null,"Swaziland","Africa",1990,"Swaziland|1990",5.7439999999999998,59.457999999999998,862947]
[null,"Sweden","Europe",1953,"Sweden|1953",2.2709999999999999,71.900000000000006,7176203]
[null,"Sweden","Europe",1955,"Sweden|1955",2.27,72.599999999999994,7261994]
[null,"Sweden","Europe",1961,"Sweden|1961",2.2290000000000001,73.5,7526139]
[null,"Sweden","Europe",1966,"Sweden|1966",2.3610000000000002,74.13,7796427]
[null,"Sweden","Europe",1972,"Sweden|1972",1.913,74.72,8117863]
[null,"Sweden","Europe",1978,"Sweden|1978",1.6,75.53,8272581]
[null,"Sweden","Europe",1985,"Sweden|1985",1.74,76.78,8350392]
[null,"Sweden","Europe",1990,"Sweden|1990",2.14,77.67,8558829]
[null,"Sweden","Europe",1995,"Sweden|1995",1.7310000000000001,78.94,8826949]
[null,"Sweden","Europe",2000,"Sweden|2000",1.5589999999999999,79.84,8860153]
[null,"Sweden","Europe",2006,"Sweden|2006",1.869,80.95,9090707]
[null,"Sweden","Europe",2011,"Sweden|2011",1.9,81.56,9440747]
[null,"Switzerland","Europe",1952,"Switzerland|1952",2.3029999999999999,69.62,4788955]
[null,"Switzerland","Europe",1954,"Switzerland|1954",2.3090000000000002,70,4912879]
[null,"Switzerland","Europe",1963,"Switzerland|1963",2.5790000000000002,71.31,5618068]
[null,"Switzerland","Europe",1965,"Switzerland|1965",2.528,72.33,5829839]
[null,"Switzerland","Europe",1970,"Switzerland|1970",2.121,73.14,6169124]
[null,"Switzerland","Europe",1974,"Switzerland|1974",1.7430000000000001,74.430000000000007,6340818]
[null,"Switzerland","Europe",1982,"Switzerland|1982",1.52,76.209999999999994,6341096]
[null,"Switzerland","Europe",1987,"Switzerland|1987",1.5449999999999999,77.41,6530777]
[null,"Switzerland","Europe",1992,"Switzerland|1992",1.5389999999999999,78.02,6814701]
[null,"Switzerland","Europe",1998,"Switzerland|1998",1.47,79.62,7112948]
[null,"Switzerland","Europe",2005,"Switzerland|2005",1.429,81.45,7415007]
[null,"Switzerland","Europe",2010,"Switzerland|2010",1.5,82.191999999999993,7664318]
[null,"Syria","West Asia",1951,"Syria|1951",7.1879999999999997,47.805,3496671]
[null,"Syria","West Asia",1956,"Syria|1956",7.33,50.619,4023540]
[null,"Syria","West Asia",1957,"Syria|1957",7.3650000000000002,51.161000000000001,4150185]
[null,"Syria","West Asia",1962,"Syria|1962",7.5220000000000002,53.869,4872506]
[null,"Syria","West Asia",1968,"Syria|1968",7.5739999999999998,57.686,5949690]
[null,"Syria","West Asia",1974,"Syria|1974",7.51,62.09,7297254]
[null,"Syria","West Asia",1979,"Syria|1979",7.1970000000000001,65.241,8609920]
[null,"Syria","West Asia",1985,"Syria|1985",6.359,68.278000000000006,10576592]
[null,"Syria","West Asia",1990,"Syria|1990",5.3129999999999997,70.253,12324116]
[null,"Syria","West Asia",2012,"Syria|2012",3.0030000000000001,71,21117690]
[null,"Syria","West Asia",1999,"Syria|1999",4.07,73.046000000000006,15572833]
[null,"Syria","West Asia",2004,"Syria|2004",3.5009999999999999,74.402000000000001,18004797]
[null,"Syria","West Asia",2008,"Syria|2008",3.173,74.861000000000004,19694259]
[null,"Taiwan","Asia + Pacific",1954,"Taiwan|1954",6.4669999999999996,62,9160000]
[null,"Taiwan","Asia + Pacific",1959,"Taiwan|1959",6.51,62.5,9825000]
[null,"Taiwan","Asia + Pacific",1960,"Taiwan|1960",6.51,62.5,9825000]
[null,"Taiwan","Asia + Pacific",1966,"Taiwan|1966",4.82,67.400000000000006,13321000]
[null,"Taiwan","Asia + Pacific",1971,"Taiwan|1971",3.71,69.06,14918000]
[null,"Taiwan","Asia + Pacific",1977,"Taiwan|1977",3.09,70.38,16450000]
[null,"Taiwan","Asia + Pacific",1983,"Taiwan|1983",2.17,72.09,18803000]
[null,"Taiwan","Asia + Pacific",1992,"Taiwan|1992",1.73,74.209999999999994,20687000]
[null,"Taiwan","Asia + Pacific",1993,"Taiwan|1993",1.76,74.510000000000005,20886000]
[null,"Taiwan","Asia + Pacific",1999,"Taiwan|1999",1.5549999999999999,75.459999999999994,22008000]
[null,"Taiwan","Asia + Pacific",2005,"Taiwan|2005",1.115,77.209999999999994,22701000]
[null,"Taiwan","Asia + Pacific",2010,"Taiwan|2010",0.89500000000000002,79.150000000000006,23025000]
[null,"Tajikistan","Asia + Pacific",1951,"Tajikistan|1951",5.907,52.414999999999999,1577037]
[null,"Tajikistan","Asia + Pacific",1954,"Tajikistan|1954",6.0780000000000003,53.667999999999999,1729928]
[null,"Tajikistan","Asia + Pacific",1963,"Tajikistan|1963",6.3650000000000002,57.417000000000002,2334221]
[null,"Tajikistan","Asia + Pacific",1964,"Tajikistan|1964",6.4329999999999998,57.84,2424189]
[null,"Tajikistan","Asia + Pacific",1969,"Tajikistan|1969",6.8410000000000002,59.795999999999999,2851284]
[null,"Tajikistan","Asia + Pacific",1974,"Tajikistan|1974",6.5720000000000001,61.201000000000001,3340561]
[null,"Tajikistan","Asia + Pacific",1994,"Tajikistan|1994",4.7089999999999996,62.244999999999997,5691845]
[null,"Tajikistan","Asia + Pacific",1991,"Tajikistan|1991",5.0670000000000002,62.661000000000001,5418785]
[null,"Tajikistan","Asia + Pacific",1983,"Tajikistan|1983",5.5330000000000004,63.03,4301334]
[null,"Tajikistan","Asia + Pacific",1985,"Tajikistan|1985",5.4859999999999998,63.417999999999999,4566786]
[null,"Tajikistan","Asia + Pacific",2002,"Tajikistan|2002",3.76,64.278999999999996,6285809]
[null,"Tajikistan","Asia + Pacific",2008,"Tajikistan|2008",3.7029999999999998,66.41,6691416]
[null,"Tajikistan","Asia + Pacific",2012,"Tajikistan|2012",3.819,67.117999999999995,7078755]
[null,"Tanzania","Africa",1955,"Tanzania|1955",6.7809999999999997,42.218000000000004,8740991]
[null,"Tanzania","Africa",1961,"Tanzania|1961",6.806,43.94,10373274]
[null,"Tanzania","Africa",1966,"Tanzania|1966",6.7949999999999999,45.33,12038154]
[null,"Tanzania","Africa",1967,"Tanzania|1967",6.7910000000000004,45.652999999999999,12405300]
[null,"Tanzania","Africa",1972,"Tanzania|1972",6.7610000000000001,47.542999999999999,14504837]
[null,"Tanzania","Africa",1998,"Tanzania|1998",5.7409999999999997,49.368000000000002,32388671]
[null,"Tanzania","Africa",1977,"Tanzania|1977",6.73,49.712000000000003,17016577]
[null,"Tanzania","Africa",1979,"Tanzania|1979",6.6849999999999996,50.313000000000002,18111097]
[null,"Tanzania","Africa",1982,"Tanzania|1982",6.58,50.866,19897071]
[null,"Tanzania","Africa",2002,"Tanzania|2002",5.6660000000000004,51.2,35832494]
[null,"Tanzania","Africa",2006,"Tanzania|2006",5.6159999999999997,54.929000000000002,39923609]
[null,"Tanzania","Africa",2012,"Tanzania|2012",5.2869999999999999,60.884999999999998,47656367]
[null,"Thailand","Asia + Pacific",1953,"Thailand|1953",6.14,51.744999999999997,22312977]
[null,"Thailand","Asia + Pacific",1958,"Thailand|1958",6.1429999999999998,54.15,25729780]
[null,"Thailand","Asia + Pacific",1964,"Thailand|1964",6.1509999999999998,57.133000000000003,30839333]
[null,"Thailand","Asia + Pacific",1969,"Thailand|1969",5.7640000000000002,59.073,35846930]
[null,"Thailand","Asia + Pacific",1973,"Thailand|1973",4.9530000000000003,60.923999999999999,40219377]
[null,"Thailand","Asia + Pacific",1976,"Thailand|1976",4.2569999999999997,62.298999999999999,43453204]
[null,"Thailand","Asia + Pacific",1981,"Thailand|1981",3.202,64.760999999999996,48460289]
[null,"Thailand","Asia + Pacific",1987,"Thailand|1987",2.3460000000000001,69.305000000000007,54368583]
[null,"Thailand","Asia + Pacific",1995,"Thailand|1995",1.867,70.525000000000006,59650157]
[null,"Thailand","Asia + Pacific",1997,"Thailand|1997",1.784,70.600999999999999,60933752]
[null,"Thailand","Asia + Pacific",2006,"Thailand|2006",1.5169999999999999,72.724999999999994,67276383]
[null,"Thailand","Asia + Pacific",2009,"Thailand|2009",1.4590000000000001,73.626999999999995,68706122]
[null,"Timor-Leste","Asia + Pacific",1951,"Timor-Leste|1951",6.4880000000000004,29.202000000000002,438379]
[null,"Timor-Leste","Asia + Pacific",1956,"Timor-Leste|1956",6.3689999999999998,31.719000000000001,468314]
[null,"Timor-Leste","Asia + Pacific",1979,"Timor-Leste|1979",4.6059999999999999,33.161999999999999,589744]
[null,"Timor-Leste","Asia + Pacific",1962,"Timor-Leste|1962",6.375,34.72,517698]
[null,"Timor-Leste","Asia + Pacific",1974,"Timor-Leste|1974",5.0369999999999999,36.648000000000003,662785]
[null,"Timor-Leste","Asia + Pacific",1966,"Timor-Leste|1966",6.2679999999999998,36.884999999999998,558110]
[null,"Timor-Leste","Asia + Pacific",1969,"Timor-Leste|1969",6.0389999999999997,39.030999999999999,591068]
[null,"Timor-Leste","Asia + Pacific",1984,"Timor-Leste|1984",5.3239999999999998,41.911999999999999,639513]
[null,"Timor-Leste","Asia + Pacific",1990,"Timor-Leste|1990",5.34,48.436999999999998,743145]
[null,"Timor-Leste","Asia + Pacific",1994,"Timor-Leste|1994",6.125,52.423999999999999,841687]
[null,"Timor-Leste","Asia + Pacific",2001,"Timor-Leste|2001",7.0919999999999996,60.334000000000003,852522]
[null,"Timor-Leste","Asia + Pacific",2007,"Timor-Leste|2007",6.5910000000000002,64.263000000000005,1060770]
[null,"Timor-Leste","Asia + Pacific",2012,"Timor-Leste|2012",5.9829999999999997,67.033000000000001,1187194]
[null,"Togo","Africa",1954,"Togo|1954",6.34,36.326999999999998,1462655]
[null,"Togo","Africa",1961,"Togo|1961",6.57,40.941000000000003,1593657]
[null,"Togo","Africa",1965,"Togo|1965",6.7919999999999998,43.472999999999999,1699541]
[null,"Togo","Africa",1971,"Togo|1971",7.1360000000000001,47.174999999999997,2165335]
[null,"Togo","Africa",1976,"Togo|1976",7.2859999999999996,50.112000000000002,2430120]
[null,"Togo","Africa",1981,"Togo|1981",7.1580000000000004,52.863,2751151]
[null,"Togo","Africa",1982,"Togo|1982",7.0990000000000002,53.365000000000002,2846305]
[null,"Togo","Africa",1983,"Togo|1983",7.032,53.838999999999999,2949279]
[null,"Togo","Africa",1996,"Togo|1996",5.62,54.378,4208738]
[null,"Togo","Africa",2008,"Togo|2008",4.8760000000000003,54.887,5776837]
[null,"Togo","Africa",1993,"Togo|1993",5.9569999999999999,55.484999999999999,3897510]
[null,"Togo","Africa",1991,"Togo|1991",6.2060000000000004,55.872,3747750]
[null,"Togo","Africa",2013,"Togo|2013",4.6390000000000002,56.536999999999999,6412560]
[null,"Tonga","Asia + Pacific",1958,"Tonga|1958",7.3449999999999998,60.662999999999997,58510]
[null,"Tonga","Asia + Pacific",1963,"Tonga|1963",7.226,62.487000000000002,69001]
[null,"Tonga","Asia + Pacific",1968,"Tonga|1968",6.3710000000000004,64.213999999999999,81096]
[null,"Tonga","Asia + Pacific",1974,"Tonga|1974",5.4489999999999998,66.03,87606]
[null,"Tonga","Asia + Pacific",1979,"Tonga|1979",5.5410000000000004,67.231999999999999,92292]
[null,"Tonga","Asia + Pacific",1982,"Tonga|1982",5.4749999999999996,67.977999999999994,93673]
[null,"Tonga","Asia + Pacific",1986,"Tonga|1986",4.9889999999999999,68.936000000000007,94139]
[null,"Tonga","Asia + Pacific",1991,"Tonga|1991",4.6120000000000001,69.721999999999994,95305]
[null,"Tonga","Asia + Pacific",1997,"Tonga|1997",4.34,70.411000000000001,96551]
[null,"Tonga","Asia + Pacific",2002,"Tonga|2002",4.2210000000000001,71.085999999999999,99053]
[null,"Tonga","Asia + Pacific",2007,"Tonga|2007",4.0590000000000002,71.774000000000001,102254]
[null,"Tonga","Asia + Pacific",2013,"Tonga|2013",3.7669999999999999,72.673000000000002,105265]
[null,"Trinidad and Tobago","Latin America + Caribbean",1955,"Trinidad and Tobago|1955",5.33,59.279000000000003,719735]
[null,"Trinidad and Tobago","Latin America + Caribbean",1961,"Trinidad and Tobago|1961",5.1769999999999996,63.216999999999999,856289]
[null,"Trinidad and Tobago","Latin America + Caribbean",1966,"Trinidad and Tobago|1966",4.2,64.742000000000004,907340]
[null,"Trinidad and Tobago","Latin America + Caribbean",1971,"Trinidad and Tobago|1971",3.484,65.227999999999994,977679]
[null,"Trinidad and Tobago","Latin America + Caribbean",1974,"Trinidad and Tobago|1974",3.3490000000000002,65.832999999999998,999650]
[null,"Trinidad and Tobago","Latin America + Caribbean",1983,"Trinidad and Tobago|1983",3.218,67.334999999999994,1138006]
[null,"Trinidad and Tobago","Latin America + Caribbean",1988,"Trinidad and Tobago|1988",2.7,67.816999999999993,1201224]
[null,"Trinidad and Tobago","Latin America + Caribbean",1989,"Trinidad and Tobago|1989",2.5739999999999998,67.914000000000001,1207942]
[null,"Trinidad and Tobago","Latin America + Caribbean",1994,"Trinidad and Tobago|1994",2.04,68.296000000000006,1253000]
[null,"Trinidad and Tobago","Latin America + Caribbean",2000,"Trinidad and Tobago|2000",1.7529999999999999,68.533000000000001,1292058]
[null,"Trinidad and Tobago","Latin America + Caribbean",2007,"Trinidad and Tobago|2007",1.788,69.2,1325672]
[null,"Trinidad and Tobago","Latin America + Caribbean",2011,"Trinidad and Tobago|2011",1.8009999999999999,69.656999999999996,1346350]
[null,"Tunisia","Africa",1953,"Tunisia|1953",6.7359999999999998,38.892000000000003,3727072]
[null,"Tunisia","Africa",1958,"Tunisia|1958",6.93,40.883000000000003,4071527]
[null,"Tunisia","Africa",1963,"Tunisia|1963",7.125,44.079000000000001,4456986]
[null,"Tunisia","Africa",1968,"Tunisia|1968",6.7370000000000001,48.866999999999997,4923201]
[null,"Tunisia","Africa",1975,"Tunisia|1975",5.867,56.786000000000001,5667516]
[null,"Tunisia","Africa",1981,"Tunisia|1981",5.1890000000000001,62.918999999999997,6628154]
[null,"Tunisia","Africa",1986,"Tunisia|1986",4.2649999999999997,66.42,7511099]
[null,"Tunisia","Africa",1991,"Tunisia|1991",3.363,69.387,8375587]
[null,"Tunisia","Africa",1992,"Tunisia|1992",3.1880000000000002,69.972999999999999,8528401]
[null,"Tunisia","Africa",2001,"Tunisia|2001",2.0680000000000001,73.400000000000006,9546453]
[null,"Tunisia","Africa",2004,"Tunisia|2004",2.0230000000000001,73.978999999999999,9814009]
[null,"Tunisia","Africa",2009,"Tunisia|2009",2.0459999999999998,74.918000000000006,10365089]
[null,"Turkey","Europe",1950,"Turkey|1950",6.6719999999999997,40.170999999999999,21238496]
[null,"Turkey","Europe",1956,"Turkey|1956",6.5019999999999998,42.76,25290730]
[null,"Turkey","Europe",1961,"Turkey|1961",6.2409999999999997,46.094999999999999,28894367]
[null,"Turkey","Europe",1964,"Turkey|1964",6.0289999999999999,48.313000000000002,31109820]
[null,"Turkey","Europe",1973,"Turkey|1973",5.2629999999999999,54.115000000000002,37884870]
[null,"Turkey","Europe",1978,"Turkey|1978",4.6079999999999997,57.372999999999998,42206204]
[null,"Turkey","Europe",1984,"Turkey|1984",3.8439999999999999,61.113,48360679]
[null,"Turkey","Europe",1989,"Turkey|1989",3.1829999999999998,63.765999999999998,53200802]
[null,"Turkey","Europe",1995,"Turkey|1995",2.7149999999999999,66.966999999999999,58864649]
[null,"Turkey","Europe",1996,"Turkey|1996",2.661,67.573999999999998,59821978]
[null,"Turkey","Europe",2001,"Turkey|2001",2.4039999999999999,70.569999999999993,64544914]
[null,"Turkey","Europe",2007,"Turkey|2007",2.173,73.227999999999994,69992754]
[null,"Turkey","Europe",2012,"Turkey|2012",2.06,74.938000000000002,74508771]
[null,"Turkmenistan","Asia + Pacific",1953,"Turkmenistan|1953",5.9139999999999997,51.502000000000002,1282584]
[null,"Turkmenistan","Asia + Pacific",1962,"Turkmenistan|1962",6.6260000000000003,55.320999999999998,1708711]
[null,"Turkmenistan","Asia + Pacific",1965,"Turkmenistan|1965",6.6159999999999997,56.603999999999999,1890000]
[null,"Turkmenistan","Asia + Pacific",1970,"Turkmenistan|1970",6.3019999999999996,58.468000000000004,2188499]
[null,"Turkmenistan","Asia + Pacific",1976,"Turkmenistan|1976",5.6120000000000001,59.920999999999999,2587417]
[null,"Turkmenistan","Asia + Pacific",1981,"Turkmenistan|1981",4.915,61.307000000000002,2931343]
[null,"Turkmenistan","Asia + Pacific",1987,"Turkmenistan|1987",4.5720000000000001,62.707999999999998,3392823]
[null,"Turkmenistan","Asia + Pacific",1993,"Turkmenistan|1993",3.8980000000000001,62.832000000000001,3991917]
[null,"Turkmenistan","Asia + Pacific",1998,"Turkmenistan|1998",3.0209999999999999,63.615000000000002,4395293]
[null,"Turkmenistan","Asia + Pacific",1999,"Turkmenistan|1999",2.9140000000000001,63.78,4449427]
[null,"Turkmenistan","Asia + Pacific",2004,"Turkmenistan|2004",2.66,64.340999999999994,4696771]
[null,"Turkmenistan","Asia + Pacific",2009,"Turkmenistan|2009",2.4449999999999998,64.861999999999995,4979672]
[null,"Uganda","Africa",1950,"Uganda|1950",6.8929999999999998,38.985999999999997,5158193]
[null,"Uganda","Africa",1957,"Uganda|1957",6.944,42.335000000000001,6221214]
[null,"Uganda","Africa",1963,"Uganda|1963",7.06,45.747999999999998,7488366]
[null,"Uganda","Africa",1964,"Uganda|1964",7.0780000000000003,46.332000000000001,7746988]
[null,"Uganda","Africa",1991,"Uganda|1991",7.0819999999999999,47.069000000000003,18314701]
[null,"Uganda","Africa",2000,"Uganda|2000",6.8650000000000002,48.125999999999998,24213120]
[null,"Uganda","Africa",1987,"Uganda|1987",7.1020000000000003,48.722999999999999,15891143]
[null,"Uganda","Africa",1974,"Uganda|1974",7.1,49.277000000000001,10589763]
[null,"Uganda","Africa",1978,"Uganda|1978",7.0990000000000002,49.411999999999999,11917048]
[null,"Uganda","Africa",1981,"Uganda|1981",7.101,49.468000000000004,13049012]
[null,"Uganda","Africa",2002,"Uganda|2002",6.7720000000000002,49.927999999999997,25794397]
[null,"Uganda","Africa",2008,"Uganda|2008",6.3380000000000001,55.646999999999998,31339392]
[null,"Uganda","Africa",2013,"Uganda|2013",5.867,59.209000000000003,36759274]
[null,"Ukraine","Europe",1996,"Ukraine|1996",1.33,67.11,50773323]
[null,"Ukraine","Europe",2004,"Ukraine|2004",1.214,67.73,47275250]
[null,"Ukraine","Europe",2006,"Ukraine|2006",1.304,67.959999999999994,46591797]
[null,"Ukraine","Europe",2011,"Ukraine|2011",1.45,68.301000000000002,45190180]
[null,"Ukraine","Europe",1998,"Ukraine|1998",1.204,68.569999999999993,49860125]
[null,"Ukraine","Europe",1991,"Ukraine|1991",1.788,69.64,51666114]
[null,"Ukraine","Europe",1985,"Ukraine|1985",2.0499999999999998,69.88,50949364]
[null,"Ukraine","Europe",1976,"Ukraine|1976",2.0139999999999998,70.34,49266997]
[null,"Ukraine","Europe",1988,"Ukraine|1988",1.994,70.930000000000007,51455595]
[null,"Ukraine","Europe",1987,"Ukraine|1987",2.0289999999999999,71.040000000000006,51301215]
[null,"Ukraine","Europe",1986,"Ukraine|1986",2.048,71.239999999999995,51128208]
[null,"Ukraine","Europe",1965,"Ukraine|1965",2.032,71.63,45340503]
[null,"United Arab Emirates","West Asia",1952,"United Arab Emirates|1952",6.968,43.247999999999998,69504]
[null,"United Arab Emirates","West Asia",1958,"United Arab Emirates|1958",6.9619999999999997,50.088000000000001,82405]
[null,"United Arab Emirates","West Asia",1963,"United Arab Emirates|1963",6.8769999999999998,55.319000000000003,121678]
[null,"United Arab Emirates","West Asia",1969,"United Arab Emirates|1969",6.6790000000000003,60.85,201308]
[null,"United Arab Emirates","West Asia",1975,"United Arab Emirates|1975",6.0090000000000003,64.917000000000002,533554]
[null,"United Arab Emirates","West Asia",1980,"United Arab Emirates|1980",5.423,67.614999999999995,1016228]
[null,"United Arab Emirates","West Asia",1986,"United Arab Emirates|1986",4.9729999999999999,70.156999999999996,1428788]
[null,"United Arab Emirates","West Asia",1991,"United Arab Emirates|1991",4.1929999999999996,71.781000000000006,1909812]
[null,"United Arab Emirates","West Asia",1996,"United Arab Emirates|1996",3.2149999999999999,73.155000000000001,2473983]
[null,"United Arab Emirates","West Asia",2003,"United Arab Emirates|2003",2.3290000000000002,74.876999999999995,3400959]
[null,"United Arab Emirates","West Asia",2008,"United Arab Emirates|2008",1.948,75.954999999999998,6206623]
[null,"United Arab Emirates","West Asia",2009,"United Arab Emirates|2009",1.903,76.144000000000005,6938815]
[null,"United Kingdom","Europe",1951,"United Kingdom|1951",2.0990000000000002,68.3,50631571]
[null,"United Kingdom","Europe",1954,"United Kingdom|1954",2.2639999999999998,70.239999999999995,50991454]
[null,"United Kingdom","Europe",1960,"United Kingdom|1960",2.694,71.099999999999994,52544356]
[null,"United Kingdom","Europe",1969,"United Kingdom|1969",2.407,71.75,55443064]
[null,"United Kingdom","Europe",1971,"United Kingdom|1971",2.1819999999999999,72.319999999999993,55819499]
[null,"United Kingdom","Europe",1977,"United Kingdom|1977",1.744,73.25,56290629]
[null,"United Kingdom","Europe",1983,"United Kingdom|1983",1.7769999999999999,74.44,56379327]
[null,"United Kingdom","Europe",1989,"United Kingdom|1989",1.8220000000000001,75.55,57058173]
[null,"United Kingdom","Europe",1996,"United Kingdom|1996",1.7430000000000001,77.05,58156871]
[null,"United Kingdom","Europe",2000,"United Kingdom|2000",1.675,78.040000000000006,58874117]
[null,"United Kingdom","Europe",2007,"United Kingdom|2007",1.841,79.343999999999994,60896101]
[null,"United Kingdom","Europe",2011,"United Kingdom|2011",1.9,80.244,62417431]
[null,"United Kingdom","Europe",2012,"United Kingdom|2012",1.8959999999999999,80.396000000000001,62798099]
[null,"United States","North America",1956,"United States|1956",3.6539999999999999,69.709999999999994,174211875]
[null,"United States","North America",1960,"United States|1960",3.6669999999999998,69.91,186326215]
[null,"United States","North America",1965,"United States|1965",2.9260000000000002,70.41,199452508]
[null,"United States","North America",1970,"United States|1970",2.4609999999999999,70.92,209463865]
[null,"United States","North America",1975,"United States|1975",1.7689999999999999,72.680000000000007,219108358]
[null,"United States","North America",1981,"United States|1981",1.8049999999999999,74.36,232035086]
[null,"United States","North America",1985,"United States|1985",1.835,74.790000000000006,241119752]
[null,"United States","North America",1994,"United States|1994",2.0030000000000001,75.7,263468980]
[null,"United States","North America",1998,"United States|1998",2.0030000000000001,76.7,275986072]
[null,"United States","North America",2003,"United States|2003",2.0529999999999999,77.099999999999994,291290823]
[null,"United States","North America",2009,"United States|2009",2.0019999999999998,78.352000000000004,307686729]
[null,"Uruguay","Latin America + Caribbean",1951,"Uruguay|1951",2.7010000000000001,65.867999999999995,2261141]
[null,"Uruguay","Latin America + Caribbean",1952,"Uruguay|1952",2.72,66.007000000000005,2285906]
[null,"Uruguay","Latin America + Caribbean",1957,"Uruguay|1957",2.8279999999999998,67.028000000000006,2436899]
[null,"Uruguay","Latin America + Caribbean",1962,"Uruguay|1962",2.8849999999999998,68.197999999999993,2603317]
[null,"Uruguay","Latin America + Caribbean",1968,"Uruguay|1968",2.8439999999999999,68.575999999999993,2774109]
[null,"Uruguay","Latin America + Caribbean",1973,"Uruguay|1973",2.988,68.823999999999998,2821367]
[null,"Uruguay","Latin America + Caribbean",1978,"Uruguay|1978",2.8490000000000002,69.721999999999994,2874998]
[null,"Uruguay","Latin America + Caribbean",1985,"Uruguay|1985",2.5299999999999998,71.582999999999998,3010766]
[null,"Uruguay","Latin America + Caribbean",1990,"Uruguay|1990",2.5179999999999998,72.569999999999993,3109122]
[null,"Uruguay","Latin America + Caribbean",1996,"Uruguay|1996",2.3620000000000001,73.852000000000004,3246484]
[null,"Uruguay","Latin America + Caribbean",2001,"Uruguay|2001",2.2229999999999999,74.997,3324810]
[null,"Uruguay","Latin America + Caribbean",2006,"Uruguay|2006",2.1379999999999999,76.078999999999994,3327451]
[null,"Uruguay","Latin America + Caribbean",2009,"Uruguay|2009",2.093,76.628,3357391]
[null,"Uzbekistan","Asia + Pacific",1954,"Uzbekistan|1954",6.1559999999999997,56.411000000000001,7034674]
[null,"Uzbekistan","Asia + Pacific",1955,"Uzbekistan|1955",6.2690000000000001,56.838999999999999,7255501]
[null,"Uzbekistan","Asia + Pacific",1960,"Uzbekistan|1960",6.7069999999999999,58.963999999999999,8558503]
[null,"Uzbekistan","Asia + Pacific",1965,"Uzbekistan|1965",6.7480000000000002,61.103999999999999,10233502]
[null,"Uzbekistan","Asia + Pacific",1970,"Uzbekistan|1970",6.492,62.963999999999999,11972994]
[null,"Uzbekistan","Asia + Pacific",1977,"Uzbekistan|1977",5.66,64.644999999999996,14762133]
[null,"Uzbekistan","Asia + Pacific",1982,"Uzbekistan|1982",4.8289999999999997,66.12,16812955]
[null,"Uzbekistan","Asia + Pacific",1996,"Uzbekistan|1996",3.298,66.516999999999996,23347452]
[null,"Uzbekistan","Asia + Pacific",1990,"Uzbekistan|1990",4.1760000000000002,66.825999999999993,20515248]
[null,"Uzbekistan","Asia + Pacific",1986,"Uzbekistan|1986",4.4740000000000002,67.126999999999995,18634041]
[null,"Uzbekistan","Asia + Pacific",2003,"Uzbekistan|2003",2.5419999999999998,67.221999999999994,25489492]
[null,"Uzbekistan","Asia + Pacific",2010,"Uzbekistan|2010",2.41,67.870999999999995,27444702]
[null,"Vanuatu","Asia + Pacific",1952,"Vanuatu|1952",7.6230000000000002,41.643000000000001,50295]
[null,"Vanuatu","Asia + Pacific",1957,"Vanuatu|1957",7.3860000000000001,44.637,58247]
[null,"Vanuatu","Asia + Pacific",1962,"Vanuatu|1962",7.0330000000000004,47.648000000000003,67806]
[null,"Vanuatu","Asia + Pacific",1964,"Vanuatu|1964",6.8360000000000003,48.853000000000002,72131]
[null,"Vanuatu","Asia + Pacific",1969,"Vanuatu|1969",6.3479999999999999,51.795000000000002,82945]
[null,"Vanuatu","Asia + Pacific",1975,"Vanuatu|1975",5.9290000000000003,55.283000000000001,99886]
[null,"Vanuatu","Asia + Pacific",1980,"Vanuatu|1980",5.5750000000000002,58.347999999999999,115641]
[null,"Vanuatu","Asia + Pacific",1985,"Vanuatu|1985",5.2089999999999996,60.915999999999997,130030]
[null,"Vanuatu","Asia + Pacific",1991,"Vanuatu|1991",4.8869999999999996,63.527000000000001,150791]
[null,"Vanuatu","Asia + Pacific",1997,"Vanuatu|1997",4.6139999999999999,66.213999999999999,174921]
[null,"Vanuatu","Asia + Pacific",2003,"Vanuatu|2003",4.056,68.539000000000001,199968]
[null,"Vanuatu","Asia + Pacific",2008,"Vanuatu|2008",3.6080000000000001,70.156999999999996,228041]
[null,"Vanuatu","Asia + Pacific",2013,"Vanuatu|2013",3.3820000000000001,71.626000000000005,257812]
[null,"Venezuela","Latin America + Caribbean",1955,"Venezuela|1955",6.4189999999999996,56.613999999999997,6220929]
[null,"Venezuela","Latin America + Caribbean",1958,"Venezuela|1958",6.5279999999999996,58.350999999999999,7004812]
[null,"Venezuela","Latin America + Caribbean",1962,"Venezuela|1962",6.6280000000000001,60.68,8150542]
[null,"Venezuela","Latin America + Caribbean",1963,"Venezuela|1963",6.5810000000000004,61.256999999999998,8453781]
[null,"Venezuela","Latin America + Caribbean",1964,"Venezuela|1964",6.4950000000000001,61.825000000000003,8759890]
[null,"Venezuela","Latin America + Caribbean",1965,"Venezuela|1965",6.3680000000000003,62.384,9067485]
[null,"Venezuela","Latin America + Caribbean",1966,"Venezuela|1966",6.2030000000000003,62.93,9375646]
[null,"Venezuela","Latin America + Caribbean",1967,"Venezuela|1967",6.0140000000000002,63.463000000000001,9686071]
[null,"Venezuela","Latin America + Caribbean",1968,"Venezuela|1968",5.8109999999999999,63.978999999999999,10003238]
[null,"Venezuela","Latin America + Caribbean",1969,"Venezuela|1969",5.6050000000000004,64.475999999999999,10333268]
[null,"Venezuela","Latin America + Caribbean",1970,"Venezuela|1970",5.4039999999999999,64.948999999999998,10680678]
[null,"Venezuela","Latin America + Caribbean",1971,"Venezuela|1971",5.2190000000000003,65.396000000000001,11045959]
[null,"Venezuela","Latin America + Caribbean",1972,"Venezuela|1972",5.0529999999999999,65.816000000000003,11428022]
[null,"Venezuela","Latin America + Caribbean",1973,"Venezuela|1973",4.9050000000000002,66.209000000000003,11827681]
[null,"Venezuela","Latin America + Caribbean",1974,"Venezuela|1974",4.7789999999999999,66.573999999999998,12245478]
[null,"Venezuela","Latin America + Caribbean",1975,"Venezuela|1975",4.67,66.908000000000001,12681017]
[null,"Venezuela","Latin America + Caribbean",1976,"Venezuela|1976",4.5739999999999998,67.207999999999998,13135849]
[null,"Venezuela","Latin America + Caribbean",1977,"Venezuela|1977",4.4829999999999997,67.475999999999999,13607958]
[null,"Venezuela","Latin America + Caribbean",1978,"Venezuela|1978",4.391,67.718000000000004,14088961]
[null,"Venezuela","Latin America + Caribbean",1979,"Venezuela|1979",4.2960000000000003,67.942999999999998,14567680]
[null,"Venezuela","Latin America + Caribbean",1980,"Venezuela|1980",4.1989999999999998,68.165999999999997,15036273]
[null,"Venezuela","Latin America + Caribbean",1981,"Venezuela|1981",4.1040000000000001,68.405000000000001,15490555]
[null,"Venezuela","Latin America + Caribbean",1982,"Venezuela|1982",4.0140000000000002,68.668999999999997,15932973]
[null,"Venezuela","Latin America + Caribbean",1983,"Venezuela|1983",3.9329999999999998,68.962999999999994,16370463]
[null,"Venezuela","Latin America + Caribbean",1984,"Venezuela|1984",3.8610000000000002,69.284999999999997,16813481]
[null,"Venezuela","Latin America + Caribbean",1985,"Venezuela|1985",3.794,69.623999999999995,17269324]
[null,"Venezuela","Latin America + Caribbean",1986,"Venezuela|1986",3.73,69.968000000000004,17740108]
[null,"Venezuela","Latin America + Caribbean",1987,"Venezuela|1987",3.665,70.296999999999997,18222505]
[null,"Venezuela","Latin America + Caribbean",1988,"Venezuela|1988",3.597,70.596000000000004,18711830]
[null,"Venezuela","Latin America + Caribbean",1989,"Venezuela|1989",3.524,70.86,19201096]
[null,"Venezuela","Latin America + Caribbean",1990,"Venezuela|1990",3.448,71.084999999999994,19685177]
[null,"Venezuela","Latin America + Caribbean",1991,"Venezuela|1991",3.37,71.275000000000006,20162745]
[null,"Venezuela","Latin America + Caribbean",1992,"Venezuela|1992",3.2919999999999998,71.438000000000002,20635233]
[null,"Venezuela","Latin America + Caribbean",1993,"Venezuela|1993",3.218,71.585999999999999,21103592]
[null,"Venezuela","Latin America + Caribbean",1994,"Venezuela|1994",3.1469999999999998,71.722999999999999,21569680]
[null,"Venezuela","Latin America + Caribbean",1995,"Venezuela|1995",3.0819999999999999,71.850999999999999,22034909]
[null,"Venezuela","Latin America + Caribbean",1996,"Venezuela|1996",3.0219999999999998,71.971999999999994,22499248]
[null,"Venezuela","Latin America + Caribbean",1997,"Venezuela|1997",2.9670000000000001,72.087999999999994,22962221]
[null,"Venezuela","Latin America + Caribbean",1998,"Venezuela|1998",2.915,72.198999999999998,23424338]
[null,"Venezuela","Latin America + Caribbean",1999,"Venezuela|1999",2.867,72.311999999999998,23886213]
[null,"Venezuela","Latin America + Caribbean",2000,"Venezuela|2000",2.8220000000000001,72.432000000000002,24348304]
[null,"Venezuela","Latin America + Caribbean",2001,"Venezuela|2001",2.7789999999999999,72.564999999999998,24810691]
[null,"Venezuela","Latin America + Caribbean",2002,"Venezuela|2002",2.7389999999999999,72.712999999999994,25273336]
[null,"Venezuela","Latin America + Caribbean",2003,"Venezuela|2003",2.7010000000000001,72.876999999999995,25736393]
[null,"Venezuela","Latin America + Caribbean",2004,"Venezuela|2004",2.6640000000000001,73.054000000000002,26199994]
[null,"Venezuela","Latin America + Caribbean",2005,"Venezuela|2005",2.629,73.242000000000004,26664122]
[null,"Venezuela","Latin America + Caribbean",2006,"Venezuela|2006",2.5950000000000002,73.436000000000007,27128721]
[null,"Venezuela","Latin America + Caribbean",2007,"Venezuela|2007",2.5619999999999998,73.628,27593427]
[null,"Venezuela","Latin America + Caribbean",2008,"Venezuela|2008",2.5310000000000001,73.813999999999993,28057485]
[null,"Venezuela","Latin America + Caribbean",2009,"Venezuela|2009",2.5009999999999999,73.991,28519913]
[null,"Venezuela","Latin America + Caribbean",2010,"Venezuela|2010",2.472,74.159000000000006,28979857]
[null,"Venezuela","Latin America + Caribbean",2011,"Venezuela|2011",2.444,74.319999999999993,29436891]
[null,"Venezuela","Latin America + Caribbean",2012,"Venezuela|2012",2.4169999999999998,74.477000000000004,29890694]
[null,"Venezuela","Latin America + Caribbean",2013,"Venezuela|2013",2.39,74.632999999999996,30340637]
[null,"Vietnam","Asia + Pacific",1950,"Vietnam|1950",4.9630000000000001,51.85,28264391]
[null,"Vietnam","Asia + Pacific",1951,"Vietnam|1951",5.0830000000000002,52.280999999999999,28818993]
[null,"Vietnam","Asia + Pacific",1952,"Vietnam|1952",5.3129999999999997,53.128999999999998,29403860]
[null,"Vietnam","Asia + Pacific",1953,"Vietnam|1953",5.5190000000000001,53.95,30017460]
[null,"Vietnam","Asia + Pacific",1954,"Vietnam|1954",5.7030000000000003,54.744,30659157]
[null,"Vietnam","Asia + Pacific",1955,"Vietnam|1955",5.8639999999999999,55.511000000000003,31329210]
[null,"Vietnam","Asia + Pacific",1956,"Vietnam|1956",6.0019999999999998,56.255000000000003,32028847]
[null,"Vietnam","Asia + Pacific",1957,"Vietnam|1957",6.1180000000000003,56.976999999999997,32760191]
[null,"Vietnam","Asia + Pacific",1958,"Vietnam|1958",6.2130000000000001,57.680999999999997,33526032]
[null,"Vietnam","Asia + Pacific",1959,"Vietnam|1959",6.2889999999999997,58.372999999999998,34329446]
[null,"Vietnam","Asia + Pacific",1972,"Vietnam|1972",6.35,58.857999999999997,46994771]
[null,"Vietnam","Asia + Pacific",1971,"Vietnam|1971",6.4210000000000003,59.012,45957991]
[null,"Vietnam","Asia + Pacific",1960,"Vietnam|1960",6.3479999999999999,59.058999999999997,35172657]
[null,"Vietnam","Asia + Pacific",1973,"Vietnam|1973",6.2510000000000003,59.235999999999997,48015047]
[null,"Vietnam","Asia + Pacific",1970,"Vietnam|1970",6.4649999999999999,59.594000000000001,44927973]
[null,"Vietnam","Asia + Pacific",1961,"Vietnam|1961",6.3920000000000003,59.74,36055820]
[null,"Vietnam","Asia + Pacific",1974,"Vietnam|1974",6.125,60.145000000000003,48987973]
[null,"Vietnam","Asia + Pacific",1962,"Vietnam|1962",6.4249999999999998,60.408999999999999,36975957]
[null,"Vietnam","Asia + Pacific",1969,"Vietnam|1969",6.4870000000000001,60.412999999999997,43908540]
[null,"Vietnam","Asia + Pacific",1963,"Vietnam|1963",6.4480000000000004,61.042000000000002,37926503]
[null,"Vietnam","Asia + Pacific",1968,"Vietnam|1968",6.4939999999999998,61.213999999999999,42893258]
[null,"Vietnam","Asia + Pacific",1975,"Vietnam|1975",5.9729999999999999,61.478999999999999,49895731]
[null,"Vietnam","Asia + Pacific",1964,"Vietnam|1964",6.4640000000000004,61.603999999999999,38898597]
[null,"Vietnam","Asia + Pacific",1967,"Vietnam|1967",6.4930000000000003,61.792999999999999,41883842]
[null,"Vietnam","Asia + Pacific",1965,"Vietnam|1965",6.4749999999999996,61.987000000000002,39884879]
[null,"Vietnam","Asia + Pacific",1966,"Vietnam|1966",6.4850000000000003,62.061999999999998,40880598]
[null,"Vietnam","Asia + Pacific",1976,"Vietnam|1976",5.8,63.040999999999997,50724015]
[null,"Vietnam","Asia + Pacific",1977,"Vietnam|1977",5.6139999999999999,64.578000000000003,51490844]
[null,"Vietnam","Asia + Pacific",1978,"Vietnam|1978",5.423,65.89,52250324]
[null,"Vietnam","Asia + Pacific",1979,"Vietnam|1979",5.2320000000000002,66.894000000000005,53076862]
[null,"Vietnam","Asia + Pacific",1980,"Vietnam|1980",5.0460000000000003,67.569999999999993,54023152]
[null,"Vietnam","Asia + Pacific",1981,"Vietnam|1981",4.8650000000000002,67.968000000000004,55109176]
[null,"Vietnam","Asia + Pacific",1982,"Vietnam|1982",4.6909999999999998,68.224999999999994,56317461]
[null,"Vietnam","Asia + Pacific",1983,"Vietnam|1983",4.5209999999999999,68.456000000000003,57616926]
[null,"Vietnam","Asia + Pacific",1984,"Vietnam|1984",4.359,68.700999999999993,58959045]
[null,"Vietnam","Asia + Pacific",1985,"Vietnam|1985",4.2050000000000001,68.983000000000004,60307305]
[null,"Vietnam","Asia + Pacific",1986,"Vietnam|1986",4.0629999999999997,69.307000000000002,61647642]
[null,"Vietnam","Asia + Pacific",1987,"Vietnam|1987",3.931,69.646000000000001,62986915]
[null,"Vietnam","Asia + Pacific",1988,"Vietnam|1988",3.806,69.983000000000004,64333357]
[null,"Vietnam","Asia + Pacific",1989,"Vietnam|1989",3.6840000000000002,70.316000000000003,65702500]
[null,"Vietnam","Asia + Pacific",1990,"Vietnam|1990",3.5579999999999998,70.649000000000001,67101583]
[null,"Vietnam","Asia + Pacific",1991,"Vietnam|1991",3.4159999999999999,70.980999999999995,68535628]
[null,"Vietnam","Asia + Pacific",1992,"Vietnam|1992",3.2549999999999999,71.311000000000007,69987617]
[null,"Vietnam","Asia + Pacific",1993,"Vietnam|1993",3.0739999999999998,71.638999999999996,71416812]
[null,"Vietnam","Asia + Pacific",1994,"Vietnam|1994",2.8780000000000001,71.963999999999999,72769366]
[null,"Vietnam","Asia + Pacific",1995,"Vietnam|1995",2.6760000000000002,72.284000000000006,74008073]
[null,"Vietnam","Asia + Pacific",1996,"Vietnam|1996",2.4820000000000002,72.599999999999994,75117209]
[null,"Vietnam","Asia + Pacific",1997,"Vietnam|1997",2.3090000000000002,72.911000000000001,76111109]
[null,"Vietnam","Asia + Pacific",1998,"Vietnam|1998",2.1659999999999999,73.212999999999994,77020331]
[null,"Vietnam","Asia + Pacific",1999,"Vietnam|1999",2.0569999999999999,73.504000000000005,77890899]
[null,"Vietnam","Asia + Pacific",2000,"Vietnam|2000",1.9830000000000001,73.777000000000001,78758010]
[null,"Vietnam","Asia + Pacific",2001,"Vietnam|2001",1.94,74.027000000000001,79629676]
[null,"Vietnam","Asia + Pacific",2002,"Vietnam|2002",1.9179999999999999,74.251999999999995,80500625]
[null,"Vietnam","Asia + Pacific",2003,"Vietnam|2003",1.907,74.451999999999998,81377056]
[null,"Vietnam","Asia + Pacific",2004,"Vietnam|2004",1.9019999999999999,74.629000000000005,82262996]
[null,"Vietnam","Asia + Pacific",2005,"Vietnam|2005",1.897,74.786000000000001,83161145]
[null,"Vietnam","Asia + Pacific",2006,"Vietnam|2006",1.889,74.929000000000002,84075580]
[null,"Vietnam","Asia + Pacific",2007,"Vietnam|2007",1.877,75.066999999999993,85007447]
[null,"Vietnam","Asia + Pacific",2008,"Vietnam|2008",1.8620000000000001,75.203999999999994,85951912]
[null,"Vietnam","Asia + Pacific",2009,"Vietnam|2009",1.843,75.343999999999994,86901173]
[null,"Vietnam","Asia + Pacific",2010,"Vietnam|2010",1.82,75.489999999999995,87848445]
[null,"Vietnam","Asia + Pacific",2011,"Vietnam|2011",1.794,75.641000000000005,88791996]
[null,"Vietnam","Asia + Pacific",2012,"Vietnam|2012",1.768,75.793000000000006,89730274]
[null,"Vietnam","Asia + Pacific",2013,"Vietnam|2013",1.7430000000000001,75.944999999999993,90656550]
[null,"Virgin Islands","North America",1950,"Virgin Islands|1950",5.1420000000000003,57.402999999999999,26795]
[null,"Virgin Islands","North America",1951,"Virgin Islands|1951",5.17,57.904000000000003,27295]
[null,"Virgin Islands","North America",1952,"Virgin Islands|1952",5.2249999999999996,58.865000000000002,27974]
[null,"Virgin Islands","North America",1953,"Virgin Islands|1953",5.2789999999999999,59.743000000000002,28613]
[null,"Virgin Islands","North America",1954,"Virgin Islands|1954",5.3310000000000004,60.537999999999997,29088]
[null,"Virgin Islands","North America",1955,"Virgin Islands|1955",5.383,61.250999999999998,29362]
[null,"Virgin Islands","North America",1956,"Virgin Islands|1956",5.4329999999999998,61.883000000000003,29498]
[null,"Virgin Islands","North America",1957,"Virgin Islands|1957",5.4820000000000002,62.44,29650]
[null,"Virgin Islands","North America",1958,"Virgin Islands|1958",5.5289999999999999,62.927,30045]
[null,"Virgin Islands","North America",1959,"Virgin Islands|1959",5.5739999999999998,63.357999999999997,30960]
[null,"Virgin Islands","North America",1960,"Virgin Islands|1960",5.6150000000000002,63.746000000000002,32632]
[null,"Virgin Islands","North America",1961,"Virgin Islands|1961",5.6509999999999998,64.106999999999999,35178]
[null,"Virgin Islands","North America",1962,"Virgin Islands|1962",5.6790000000000003,64.460999999999999,38513]
[null,"Virgin Islands","North America",1963,"Virgin Islands|1963",5.6959999999999997,64.820999999999998,42314]
[null,"Virgin Islands","North America",1964,"Virgin Islands|1964",5.6980000000000004,65.197999999999993,46122]
[null,"Virgin Islands","North America",1965,"Virgin Islands|1965",5.6790000000000003,65.596999999999994,49610]
[null,"Virgin Islands","North America",1966,"Virgin Islands|1966",5.6340000000000003,66.015000000000001,52624]
[null,"Virgin Islands","North America",1967,"Virgin Islands|1967",5.5609999999999999,66.441999999999993,55278]
[null,"Virgin Islands","North America",1968,"Virgin Islands|1968",5.4589999999999996,66.867000000000004,57831]
[null,"Virgin Islands","North America",1969,"Virgin Islands|1969",5.3280000000000003,67.290000000000006,60675]
[null,"Virgin Islands","North America",1970,"Virgin Islands|1970",5.1669999999999998,67.707999999999998,64070]
[null,"Virgin Islands","North America",1971,"Virgin Islands|1971",4.976,68.122,68102]
[null,"Virgin Islands","North America",1972,"Virgin Islands|1972",4.76,68.534000000000006,72610]
[null,"Virgin Islands","North America",1973,"Virgin Islands|1973",4.5270000000000001,68.941999999999993,77310]
[null,"Virgin Islands","North America",1974,"Virgin Islands|1974",4.2859999999999996,69.343999999999994,81802]
[null,"Virgin Islands","North America",1975,"Virgin Islands|1975",4.0469999999999997,69.733999999999995,85790]
[null,"Virgin Islands","North America",1976,"Virgin Islands|1976",3.8180000000000001,70.108999999999995,89169]
[null,"Virgin Islands","North America",1977,"Virgin Islands|1977",3.6070000000000002,70.463999999999999,92008]
[null,"Virgin Islands","North America",1978,"Virgin Islands|1978",3.42,70.801000000000002,94399]
[null,"Virgin Islands","North America",1979,"Virgin Islands|1979",3.2610000000000001,71.120999999999995,96498]
[null,"Virgin Islands","North America",1980,"Virgin Islands|1980",3.1379999999999999,71.432000000000002,98423]
[null,"Virgin Islands","North America",1981,"Virgin Islands|1981",3.0529999999999999,71.739999999999995,100216]
[null,"Virgin Islands","North America",1982,"Virgin Islands|1982",3,72.054000000000002,101827]
[null,"Virgin Islands","North America",1983,"Virgin Islands|1983",2.9729999999999999,72.378,103177]
[null,"Virgin Islands","North America",1984,"Virgin Islands|1984",2.9670000000000001,72.712999999999994,104146]
[null,"Virgin Islands","North America",1985,"Virgin Islands|1985",2.9729999999999999,73.058000000000007,104668]
[null,"Virgin Islands","North America",1986,"Virgin Islands|1986",2.9860000000000002,73.406999999999996,104698]
[null,"Virgin Islands","North America",1987,"Virgin Islands|1987",2.9969999999999999,73.751999999999995,104319]
[null,"Virgin Islands","North America",1988,"Virgin Islands|1988",2.9990000000000001,74.088999999999999,103761]
[null,"Virgin Islands","North America",1989,"Virgin Islands|1989",2.9870000000000001,74.415000000000006,103333]
[null,"Virgin Islands","North America",1990,"Virgin Islands|1990",2.9540000000000002,74.730999999999995,103253]
[null,"Virgin Islands","North America",1991,"Virgin Islands|1991",2.895,75.037999999999997,103618]
[null,"Virgin Islands","North America",1992,"Virgin Islands|1992",2.8130000000000002,75.34,104356]
[null,"Virgin Islands","North America",1993,"Virgin Islands|1993",2.7120000000000002,75.638999999999996,105315]
[null,"Virgin Islands","North America",1994,"Virgin Islands|1994",2.5990000000000002,75.936000000000007,106260]
[null,"Virgin Islands","North America",1995,"Virgin Islands|1995",2.4809999999999999,76.228999999999999,107018]
[null,"Virgin Islands","North America",1996,"Virgin Islands|1996",2.367,76.518000000000001,107546]
[null,"Virgin Islands","North America",1997,"Virgin Islands|1997",2.2650000000000001,76.799000000000007,107903]
[null,"Virgin Islands","North America",1998,"Virgin Islands|1998",2.1840000000000002,77.069999999999993,108132]
[null,"Virgin Islands","North America",1999,"Virgin Islands|1999",2.1280000000000001,77.33,108316]
[null,"Virgin Islands","North America",2000,"Virgin Islands|2000",2.1,77.573999999999998,108511]
[null,"Virgin Islands","North America",2001,"Virgin Islands|2001",2.101,77.796999999999997,108726]
[null,"Virgin Islands","North America",2002,"Virgin Islands|2002",2.125,78.001000000000005,108933]
[null,"Virgin Islands","North America",2003,"Virgin Islands|2003",2.1669999999999998,78.186000000000007,109122]
[null,"Virgin Islands","North America",2004,"Virgin Islands|2004",2.2189999999999999,78.358000000000004,109270]
[null,"Virgin Islands","North America",2005,"Virgin Islands|2005",2.278,78.522000000000006,109363]
[null,"Virgin Islands","North America",2006,"Virgin Islands|2006",2.3370000000000002,78.688000000000002,109401]
[null,"Virgin Islands","North America",2007,"Virgin Islands|2007",2.391,78.861000000000004,109389]
[null,"Virgin Islands","North America",2008,"Virgin Islands|2008",2.4380000000000002,79.046999999999997,109327]
[null,"Virgin Islands","North America",2009,"Virgin Islands|2009",2.472,79.247,109216]
[null,"Virgin Islands","North America",2010,"Virgin Islands|2010",2.4929999999999999,79.462999999999994,109056]
[null,"Virgin Islands","North America",2011,"Virgin Islands|2011",2.5009999999999999,79.69,108846]
[null,"Virgin Islands","North America",2012,"Virgin Islands|2012",2.4969999999999999,79.921999999999997,108590]
[null,"Virgin Islands","North America",2013,"Virgin Islands|2013",2.4870000000000001,80.152000000000001,108300]
[null,"West Bank and Gaza","West Asia",1950,"West Bank and Gaza|1950",7.5629999999999997,46.121000000000002,931926]
[null,"West Bank and Gaza","West Asia",1951,"West Bank and Gaza|1951",7.4989999999999997,46.213999999999999,923749]
[null,"West Bank and Gaza","West Asia",1952,"West Bank and Gaza|1952",7.39,46.417999999999999,931889]
[null,"West Bank and Gaza","West Asia",1953,"West Bank and Gaza|1953",7.3159999999999998,46.656999999999996,948727]
[null,"West Bank and Gaza","West Asia",1954,"West Bank and Gaza|1954",7.2789999999999999,46.930999999999997,968566]
[null,"West Bank and Gaza","West Asia",1955,"West Bank and Gaza|1955",7.2759999999999998,47.24,987629]
[null,"West Bank and Gaza","West Asia",1956,"West Bank and Gaza|1956",7.3079999999999998,47.585000000000001,1004154]
[null,"West Bank and Gaza","West Asia",1957,"West Bank and Gaza|1957",7.3710000000000004,47.966000000000001,1018301]
[null,"West Bank and Gaza","West Asia",1958,"West Bank and Gaza|1958",7.4610000000000003,48.383000000000003,1031870]
[null,"West Bank and Gaza","West Asia",1959,"West Bank and Gaza|1959",7.569,48.838000000000001,1047848]
[null,"West Bank and Gaza","West Asia",1960,"West Bank and Gaza|1960",7.6870000000000003,49.332000000000001,1069013]
[null,"West Bank and Gaza","West Asia",1961,"West Bank and Gaza|1961",7.8029999999999999,49.865000000000002,1096461]
[null,"West Bank and Gaza","West Asia",1962,"West Bank and Gaza|1962",7.907,50.436999999999998,1128310]
[null,"West Bank and Gaza","West Asia",1963,"West Bank and Gaza|1963",7.9880000000000004,51.042999999999999,1159145]
[null,"West Bank and Gaza","West Asia",1964,"West Bank and Gaza|1964",8.0410000000000004,51.679000000000002,1181587]
[null,"West Bank and Gaza","West Asia",1965,"West Bank and Gaza|1965",8.0630000000000006,52.337000000000003,1190923]
[null,"West Bank and Gaza","West Asia",1966,"West Bank and Gaza|1966",8.0540000000000003,53.01,1184258]
[null,"West Bank and Gaza","West Asia",1967,"West Bank and Gaza|1967",8.0229999999999997,53.691000000000003,1164684]
[null,"West Bank and Gaza","West Asia",1968,"West Bank and Gaza|1968",7.9770000000000003,54.374000000000002,1140772]
[null,"West Bank and Gaza","West Asia",1969,"West Bank and Gaza|1969",7.9210000000000003,55.055999999999997,1124574]
[null,"West Bank and Gaza","West Asia",1970,"West Bank and Gaza|1970",7.8620000000000001,55.735999999999997,1124591]
[null,"West Bank and Gaza","West Asia",1971,"West Bank and Gaza|1971",7.8040000000000003,56.417000000000002,1144161]
[null,"West Bank and Gaza","West Asia",1972,"West Bank and Gaza|1972",7.7489999999999997,57.103000000000002,1180264]
[null,"West Bank and Gaza","West Asia",1973,"West Bank and Gaza|1973",7.6989999999999998,57.796999999999997,1227284]
[null,"West Bank and Gaza","West Asia",1974,"West Bank and Gaza|1974",7.6539999999999999,58.497999999999998,1276627]
[null,"West Bank and Gaza","West Asia",1975,"West Bank and Gaza|1975",7.6120000000000001,59.206000000000003,1322064]
[null,"West Bank and Gaza","West Asia",1976,"West Bank and Gaza|1976",7.57,59.920999999999999,1362064]
[null,"West Bank and Gaza","West Asia",1977,"West Bank and Gaza|1977",7.5209999999999999,60.637999999999998,1398736]
[null,"West Bank and Gaza","West Asia",1978,"West Bank and Gaza|1978",7.4619999999999997,61.353000000000002,1433821]
[null,"West Bank and Gaza","West Asia",1979,"West Bank and Gaza|1979",7.3920000000000003,62.061,1470297]
[null,"West Bank and Gaza","West Asia",1980,"West Bank and Gaza|1980",7.3070000000000004,62.755000000000003,1510360]
[null,"West Bank and Gaza","West Asia",1981,"West Bank and Gaza|1981",7.202,63.432000000000002,1554600]
[null,"West Bank and Gaza","West Asia",1982,"West Bank and Gaza|1982",7.0819999999999999,64.088999999999999,1602309]
[null,"West Bank and Gaza","West Asia",1983,"West Bank and Gaza|1983",6.952,64.72,1652945]
[null,"West Bank and Gaza","West Asia",1984,"West Bank and Gaza|1984",6.8179999999999996,65.319999999999993,1705584]
[null,"West Bank and Gaza","West Asia",1985,"West Bank and Gaza|1985",6.6950000000000003,65.882999999999996,1759763]
[null,"West Bank and Gaza","West Asia",1986,"West Bank and Gaza|1986",6.5990000000000002,66.402000000000001,1815117]
[null,"West Bank and Gaza","West Asia",1987,"West Bank and Gaza|1987",6.5359999999999996,66.878,1872515]
[null,"West Bank and Gaza","West Asia",1988,"West Bank and Gaza|1988",6.5090000000000003,67.313000000000002,1934197]
[null,"West Bank and Gaza","West Asia",1989,"West Bank and Gaza|1989",6.5129999999999999,67.709999999999994,2003149]
[null,"West Bank and Gaza","West Asia",1990,"West Bank and Gaza|1990",6.532,68.076999999999998,2081424]
[null,"West Bank and Gaza","West Asia",1991,"West Bank and Gaza|1991",6.548,68.421000000000006,2169061]
[null,"West Bank and Gaza","West Asia",1992,"West Bank and Gaza|1992",6.5389999999999997,68.751000000000005,2265030]
[null,"West Bank and Gaza","West Asia",1993,"West Bank and Gaza|1993",6.4930000000000003,69.072999999999993,2368849]
[null,"West Bank and Gaza","West Asia",1994,"West Bank and Gaza|1994",6.4039999999999999,69.388000000000005,2479672]
[null,"West Bank and Gaza","West Asia",1995,"West Bank and Gaza|1995",6.274,69.694999999999993,2596289]
[null,"West Bank and Gaza","West Asia",1996,"West Bank and Gaza|1996",6.1109999999999998,69.988,2719644]
[null,"West Bank and Gaza","West Asia",1997,"West Bank and Gaza|1997",5.931,70.260000000000005,2848359]
[null,"West Bank and Gaza","West Asia",1998,"West Bank and Gaza|1998",5.7480000000000002,70.507000000000005,2976131]
[null,"West Bank and Gaza","West Asia",1999,"West Bank and Gaza|1999",5.5709999999999997,70.728999999999999,3094711]
[null,"West Bank and Gaza","West Asia",2000,"West Bank and Gaza|2000",5.4039999999999999,70.929000000000002,3198560]
[null,"West Bank and Gaza","West Asia",2001,"West Bank and Gaza|2001",5.2480000000000002,71.108999999999995,3284920]
[null,"West Bank and Gaza","West Asia",2002,"West Bank and Gaza|2002",5.0999999999999996,71.275999999999996,3356379]
[null,"West Bank and Gaza","West Asia",2003,"West Bank and Gaza|2003",4.9580000000000002,71.436999999999998,3419418]
[null,"West Bank and Gaza","West Asia",2004,"West Bank and Gaza|2004",4.8230000000000004,71.594999999999999,3483483]
[null,"West Bank and Gaza","West Asia",2005,"West Bank and Gaza|2005",4.6970000000000001,71.756,3555582]
[null,"West Bank and Gaza","West Asia",2006,"West Bank and Gaza|2006",4.5810000000000004,71.921999999999997,3637689]
[null,"West Bank and Gaza","West Asia",2007,"West Bank and Gaza|2007",4.476,72.093999999999994,3728259]
[null,"West Bank and Gaza","West Asia",2008,"West Bank and Gaza|2008",4.3810000000000002,72.271000000000001,3826546]
[null,"West Bank and Gaza","West Asia",2009,"West Bank and Gaza|2009",4.2949999999999999,72.453000000000003,3930672]
[null,"West Bank and Gaza","West Asia",2010,"West Bank and Gaza|2010",4.2160000000000002,72.64,4039192]
[null,"West Bank and Gaza","West Asia",2011,"West Bank and Gaza|2011",4.1440000000000001,72.828999999999994,4152369]
[null,"West Bank and Gaza","West Asia",2012,"West Bank and Gaza|2012",4.0759999999999996,73.018000000000001,4270791]
[null,"West Bank and Gaza","West Asia",2013,"West Bank and Gaza|2013",4.01,73.203000000000003,4393572]
[null,"Western Sahara","Africa",1950,"Western Sahara|1950",6.3170000000000002,34.753,13766]
[null,"Western Sahara","Africa",1951,"Western Sahara|1951",6.3230000000000004,34.945999999999998,16066]
[null,"Western Sahara","Africa",1952,"Western Sahara|1952",6.3339999999999996,35.331000000000003,17591]
[null,"Western Sahara","Africa",1953,"Western Sahara|1953",6.3470000000000004,35.715000000000003,18754]
[null,"Western Sahara","Africa",1954,"Western Sahara|1954",6.3620000000000001,36.097000000000001,19877]
[null,"Western Sahara","Africa",1955,"Western Sahara|1955",6.3789999999999996,36.478000000000002,21197]
[null,"Western Sahara","Africa",1956,"Western Sahara|1956",6.3970000000000002,36.857999999999997,22853]
[null,"Western Sahara","Africa",1957,"Western Sahara|1957",6.4160000000000004,37.237000000000002,24895]
[null,"Western Sahara","Africa",1958,"Western Sahara|1958",6.4370000000000003,37.615000000000002,27297]
[null,"Western Sahara","Africa",1959,"Western Sahara|1959",6.4580000000000002,37.991999999999997,29967]
[null,"Western Sahara","Africa",1960,"Western Sahara|1960",6.48,38.368000000000002,32806]
[null,"Western Sahara","Africa",1961,"Western Sahara|1961",6.5030000000000001,38.744999999999997,35763]
[null,"Western Sahara","Africa",1962,"Western Sahara|1962",6.524,39.122,38881]
[null,"Western Sahara","Africa",1963,"Western Sahara|1963",6.5439999999999996,39.5,42323]
[null,"Western Sahara","Africa",1964,"Western Sahara|1964",6.5620000000000003,39.880000000000003,46308]
[null,"Western Sahara","Africa",1965,"Western Sahara|1965",6.5780000000000003,40.256,50938]
[null,"Western Sahara","Africa",1966,"Western Sahara|1966",6.593,40.619,56561]
[null,"Western Sahara","Africa",1967,"Western Sahara|1967",6.6050000000000004,40.969000000000001,63023]
[null,"Western Sahara","Africa",1968,"Western Sahara|1968",6.6150000000000002,41.316000000000003,69339]
[null,"Western Sahara","Africa",1969,"Western Sahara|1969",6.62,41.673999999999999,74168]
[null,"Western Sahara","Africa",1970,"Western Sahara|1970",6.62,42.067,76691]
[null,"Western Sahara","Africa",1971,"Western Sahara|1971",6.6130000000000004,42.524000000000001,76196]
[null,"Western Sahara","Africa",1972,"Western Sahara|1972",6.5970000000000004,43.066000000000003,73333]
[null,"Western Sahara","Africa",1973,"Western Sahara|1973",6.5709999999999997,43.7,70287]
[null,"Western Sahara","Africa",1974,"Western Sahara|1974",6.53,44.426000000000002,70089]
[null,"Western Sahara","Africa",1975,"Western Sahara|1975",6.4710000000000001,45.234000000000002,74789]
[null,"Western Sahara","Africa",1976,"Western Sahara|1976",6.3869999999999996,46.104999999999997,85344]
[null,"Western Sahara","Africa",1977,"Western Sahara|1977",6.2779999999999996,47.009,100766]
[null,"Western Sahara","Africa",1978,"Western Sahara|1978",6.1449999999999996,47.918999999999997,118776]
[null,"Western Sahara","Africa",1979,"Western Sahara|1979",5.99,48.823,136080]
[null,"Western Sahara","Africa",1980,"Western Sahara|1980",5.8179999999999996,49.716999999999999,150303]
[null,"Western Sahara","Africa",1981,"Western Sahara|1981",5.6349999999999998,50.606999999999999,160677]
[null,"Western Sahara","Africa",1982,"Western Sahara|1982",5.4459999999999997,51.502000000000002,167963]
[null,"Western Sahara","Africa",1983,"Western Sahara|1983",5.2590000000000003,52.402000000000001,173189]
[null,"Western Sahara","Africa",1984,"Western Sahara|1984",5.08,53.296999999999997,178007]
[null,"Western Sahara","Africa",1985,"Western Sahara|1985",4.9119999999999999,54.165999999999997,183630]
[null,"Western Sahara","Africa",1986,"Western Sahara|1986",4.7590000000000003,54.985999999999997,190327]
[null,"Western Sahara","Africa",1987,"Western Sahara|1987",4.6180000000000003,55.741999999999997,197692]
[null,"Western Sahara","Africa",1988,"Western Sahara|1988",4.4880000000000004,56.426000000000002,205489]
[null,"Western Sahara","Africa",1989,"Western Sahara|1989",4.3650000000000002,57.037999999999997,213285]
[null,"Western Sahara","Africa",1990,"Western Sahara|1990",4.2460000000000004,57.587000000000003,220794]
[null,"Western Sahara","Africa",1991,"Western Sahara|1991",4.1230000000000002,58.085999999999999,228137]
[null,"Western Sahara","Africa",1992,"Western Sahara|1992",3.9929999999999999,58.561,235580]
[null,"Western Sahara","Africa",1993,"Western Sahara|1993",3.8530000000000002,59.030999999999999,243167]
[null,"Western Sahara","Africa",1994,"Western Sahara|1994",3.706,59.508000000000003,250946]
[null,"Western Sahara","Africa",1995,"Western Sahara|1995",3.5550000000000002,60,259049]
[null,"Western Sahara","Africa",1996,"Western Sahara|1996",3.4079999999999999,60.514000000000003,267217]
[null,"Western Sahara","Africa",1997,"Western Sahara|1997",3.27,61.04,275674]
[null,"Western Sahara","Africa",1998,"Western Sahara|1998",3.1480000000000001,61.572000000000003,285582]
[null,"Western Sahara","Africa",1999,"Western Sahara|1999",3.044,62.106000000000002,298482]
[null,"Western Sahara","Africa",2000,"Western Sahara|2000",2.9569999999999999,62.636000000000003,315340]
[null,"Western Sahara","Africa",2001,"Western Sahara|2001",2.887,63.154000000000003,336758]
[null,"Western Sahara","Africa",2002,"Western Sahara|2002",2.8279999999999998,63.654000000000003,362070]
[null,"Western Sahara","Africa",2003,"Western Sahara|2003",2.774,64.132000000000005,389412]
[null,"Western Sahara","Africa",2004,"Western Sahara|2004",2.7250000000000001,64.582999999999998,416172]
[null,"Western Sahara","Africa",2005,"Western Sahara|2005",2.6789999999999998,65.007999999999996,440469]
[null,"Western Sahara","Africa",2006,"Western Sahara|2006",2.633,65.409000000000006,461610]
[null,"Western Sahara","Africa",2007,"Western Sahara|2007",2.59,65.790000000000006,480140]
[null,"Western Sahara","Africa",2008,"Western Sahara|2008",2.5489999999999999,66.155000000000001,496923]
[null,"Western Sahara","Africa",2009,"Western Sahara|2009",2.5099999999999998,66.507000000000005,513367]
[null,"Western Sahara","Africa",2010,"Western Sahara|2010",2.4710000000000001,66.843999999999994,530500]
[null,"Western Sahara","Africa",2011,"Western Sahara|2011",2.4340000000000002,67.167000000000002,548377]
[null,"Western Sahara","Africa",2012,"Western Sahara|2012",2.3980000000000001,67.472999999999999,566613]
[null,"Western Sahara","Africa",2013,"Western Sahara|2013",2.363,67.763999999999996,585270]
[null,"Yemen Republic","West Asia",1950,"Yemen Republic|1950",7.274,23.387,4316001]
[null,"Yemen Republic","West Asia",1951,"Yemen Republic|1951",7.2729999999999997,23.86,4382878]
[null,"Yemen Republic","West Asia",1952,"Yemen Republic|1952",7.27,24.808,4454322]
[null,"Yemen Republic","West Asia",1953,"Yemen Republic|1953",7.2679999999999998,25.756,4529011]
[null,"Yemen Republic","West Asia",1954,"Yemen Republic|1954",7.2670000000000003,26.704000000000001,4606037]
[null,"Yemen Republic","West Asia",1955,"Yemen Republic|1955",7.2670000000000003,27.652999999999999,4684895]
[null,"Yemen Republic","West Asia",1956,"Yemen Republic|1956",7.2679999999999998,28.602,4765512]
[null,"Yemen Republic","West Asia",1957,"Yemen Republic|1957",7.27,29.550999999999998,4848224]
[null,"Yemen Republic","West Asia",1958,"Yemen Republic|1958",7.2750000000000004,30.498000000000001,4933703]
[null,"Yemen Republic","West Asia",1959,"Yemen Republic|1959",7.282,31.443999999999999,5022846]
[null,"Yemen Republic","West Asia",1960,"Yemen Republic|1960",7.2919999999999998,32.384999999999998,5116419]
[null,"Yemen Republic","West Asia",1961,"Yemen Republic|1961",7.3079999999999998,33.32,5214688]
[null,"Yemen Republic","West Asia",1962,"Yemen Republic|1962",7.3280000000000003,34.247,5317095]
[null,"Yemen Republic","West Asia",1963,"Yemen Republic|1963",7.3540000000000001,35.162999999999997,5422115]
[null,"Yemen Republic","West Asia",1964,"Yemen Republic|1964",7.3849999999999998,36.067999999999998,5527652]
[null,"Yemen Republic","West Asia",1965,"Yemen Republic|1965",7.4180000000000001,36.957000000000001,5632206]
[null,"Yemen Republic","West Asia",1966,"Yemen Republic|1966",7.4470000000000001,37.826999999999998,5737000]
[null,"Yemen Republic","West Asia",1967,"Yemen Republic|1967",7.4710000000000001,38.679000000000002,5842868]
[null,"Yemen Republic","West Asia",1968,"Yemen Republic|1968",7.4909999999999997,39.515999999999998,5947698]
[null,"Yemen Republic","West Asia",1969,"Yemen Republic|1969",7.5119999999999996,40.345999999999997,6048704]
[null,"Yemen Republic","West Asia",1970,"Yemen Republic|1970",7.5419999999999998,41.176000000000002,6144992]
[null,"Yemen Republic","West Asia",1971,"Yemen Republic|1971",7.593,42.017000000000003,6235264]
[null,"Yemen Republic","West Asia",1972,"Yemen Republic|1972",7.6719999999999997,42.878,6323380]
[null,"Yemen Republic","West Asia",1973,"Yemen Republic|1973",7.782,43.762999999999998,6419984]
[null,"Yemen Republic","West Asia",1974,"Yemen Republic|1974",7.9219999999999997,44.674999999999997,6539217]
[null,"Yemen Republic","West Asia",1975,"Yemen Republic|1975",8.0890000000000004,45.619,6691425]
[null,"Yemen Republic","West Asia",1976,"Yemen Republic|1976",8.2769999999999992,46.597000000000001,6880620]
[null,"Yemen Republic","West Asia",1977,"Yemen Republic|1977",8.4740000000000002,47.598999999999997,7104782]
[null,"Yemen Republic","West Asia",1978,"Yemen Republic|1978",8.6669999999999998,48.613,7360655]
[null,"Yemen Republic","West Asia",1979,"Yemen Republic|1979",8.843,49.628,7642329]
[null,"Yemen Republic","West Asia",1980,"Yemen Republic|1980",8.9930000000000003,50.633000000000003,7945180]
[null,"Yemen Republic","West Asia",1981,"Yemen Republic|1981",9.1080000000000005,51.619,8270681]
[null,"Yemen Republic","West Asia",1982,"Yemen Republic|1982",9.1850000000000005,52.573999999999998,8620116]
[null,"Yemen Republic","West Asia",1983,"Yemen Republic|1983",9.2230000000000008,53.485999999999997,8988432]
[null,"Yemen Republic","West Asia",1984,"Yemen Republic|1984",9.2230000000000008,54.343000000000004,9369068]
[null,"Yemen Republic","West Asia",1985,"Yemen Republic|1985",9.1859999999999999,55.128999999999998,9758220]
[null,"Yemen Republic","West Asia",1986,"Yemen Republic|1986",9.1189999999999998,55.834000000000003,10149222]
[null,"Yemen Republic","West Asia",1987,"Yemen Republic|1987",9.0299999999999994,56.457999999999998,10544972]
[null,"Yemen Republic","West Asia",1988,"Yemen Republic|1988",8.9250000000000007,57.003,10962489]
[null,"Yemen Republic","West Asia",1989,"Yemen Republic|1989",8.8049999999999997,57.473999999999997,11425336]
[null,"Yemen Republic","West Asia",1990,"Yemen Republic|1990",8.6669999999999998,57.875999999999998,11948209]
[null,"Yemen Republic","West Asia",1991,"Yemen Republic|1991",8.5039999999999996,58.218000000000004,12540234]
[null,"Yemen Republic","West Asia",1992,"Yemen Republic|1992",8.3109999999999999,58.514000000000003,13190192]
[null,"Yemen Republic","West Asia",1993,"Yemen Republic|1993",8.0879999999999992,58.779000000000003,13867656]
[null,"Yemen Republic","West Asia",1994,"Yemen Republic|1994",7.8410000000000002,59.023000000000003,14530275]
[null,"Yemen Republic","West Asia",1995,"Yemen Republic|1995",7.5780000000000003,59.258000000000003,15148172]
[null,"Yemen Republic","West Asia",1996,"Yemen Republic|1996",7.31,59.49,15710211]
[null,"Yemen Republic","West Asia",1997,"Yemen Republic|1997",7.0490000000000004,59.719000000000001,16226938]
[null,"Yemen Republic","West Asia",1998,"Yemen Republic|1998",6.8019999999999996,59.945999999999998,16716850]
[null,"Yemen Republic","West Asia",1999,"Yemen Republic|1999",6.5739999999999998,60.173999999999999,17208494]
[null,"Yemen Republic","West Asia",2000,"Yemen Republic|2000",6.3630000000000004,60.404000000000003,17723186]
[null,"Yemen Republic","West Asia",2001,"Yemen Republic|2001",6.1660000000000004,60.636000000000003,18266008]
[null,"Yemen Republic","West Asia",2002,"Yemen Republic|2002",5.9749999999999996,60.865000000000002,18831819]
[null,"Yemen Republic","West Asia",2003,"Yemen Republic|2003",5.782,61.088999999999999,19419710]
[null,"Yemen Republic","West Asia",2004,"Yemen Republic|2004",5.5880000000000001,61.307000000000002,20026117]
[null,"Yemen Republic","West Asia",2005,"Yemen Republic|2005",5.3929999999999998,61.52,20648643]
[null,"Yemen Republic","West Asia",2006,"Yemen Republic|2006",5.1989999999999998,61.728000000000002,21288070]
[null,"Yemen Republic","West Asia",2007,"Yemen Republic|2007",5.01,61.933,21946990]
[null,"Yemen Republic","West Asia",2008,"Yemen Republic|2008",4.8289999999999997,62.136000000000003,22626595]
[null,"Yemen Republic","West Asia",2009,"Yemen Republic|2009",4.6580000000000004,62.337000000000003,23328214]
[null,"Yemen Republic","West Asia",2010,"Yemen Republic|2010",4.4980000000000002,62.536000000000001,24052514]
[null,"Yemen Republic","West Asia",2011,"Yemen Republic|2011",4.3479999999999999,62.731000000000002,24799880]
[null,"Yemen Republic","West Asia",2012,"Yemen Republic|2012",4.2069999999999999,62.923000000000002,25569263]
[null,"Yemen Republic","West Asia",2013,"Yemen Republic|2013",4.0750000000000002,63.112000000000002,26358020]
[null,"Zambia","Africa",1997,"Zambia|1997",6.1520000000000001,40.793999999999997,9418120]
[null,"Zambia","Africa",1996,"Zambia|1996",6.1790000000000003,40.798999999999999,9161931]
[null,"Zambia","Africa",1998,"Zambia|1998",6.1260000000000003,40.951999999999998,9682058]
[null,"Zambia","Africa",1995,"Zambia|1995",6.2089999999999996,40.966999999999999,8919456]
[null,"Zambia","Africa",1950,"Zambia|1950",6.7140000000000004,41.235999999999997,2340352]
[null,"Zambia","Africa",1999,"Zambia|1999",6.0979999999999999,41.283000000000001,9945115]
[null,"Zambia","Africa",1994,"Zambia|1994",6.2450000000000001,41.293999999999997,8692599]
[null,"Zambia","Africa",1951,"Zambia|1951",6.7210000000000001,41.445,2396669]
[null,"Zambia","Africa",1993,"Zambia|1993",6.2880000000000003,41.768000000000001,8478471]
[null,"Zambia","Africa",2000,"Zambia|2000",6.0709999999999997,41.802,10201562]
[null,"Zambia","Africa",1952,"Zambia|1952",6.7370000000000001,41.863,2456377]
[null,"Zambia","Africa",1953,"Zambia|1953",6.7569999999999997,42.279000000000003,2519173]
[null,"Zambia","Africa",1992,"Zambia|1992",6.34,42.366,8272498]
[null,"Zambia","Africa",2001,"Zambia|2001",6.0439999999999996,42.527000000000001,10449825]
[null,"Zambia","Africa",1954,"Zambia|1954",6.7809999999999997,42.694000000000003,2584872]
[null,"Zambia","Africa",1991,"Zambia|1991",6.4009999999999998,43.061999999999998,8067972]
[null,"Zambia","Africa",1955,"Zambia|1955",6.81,43.107999999999997,2653413]
[null,"Zambia","Africa",2002,"Zambia|2002",6.0179999999999998,43.45,10693471]
[null,"Zambia","Africa",1956,"Zambia|1956",6.843,43.52,2724859]
[null,"Zambia","Africa",1990,"Zambia|1990",6.468,43.841000000000001,7860053]
[null,"Zambia","Africa",1957,"Zambia|1957",6.88,43.93,2799397]
[null,"Zambia","Africa",1958,"Zambia|1958",6.9219999999999997,44.335000000000001,2877314]
[null,"Zambia","Africa",2003,"Zambia|2003",5.9950000000000001,44.546999999999997,10938261]
[null,"Zambia","Africa",1989,"Zambia|1989",6.5369999999999999,44.689,7647450]
[null,"Zambia","Africa",1959,"Zambia|1959",6.968,44.734000000000002,2958976]
[null,"Zambia","Africa",1960,"Zambia|1960",7.0179999999999998,45.124000000000002,3044733]
[null,"Zambia","Africa",1961,"Zambia|1961",7.0709999999999997,45.503,3134831]
[null,"Zambia","Africa",1988,"Zambia|1988",6.6059999999999999,45.59,7431752]
[null,"Zambia","Africa",2004,"Zambia|2004",5.9740000000000002,45.790999999999997,11192422]
[null,"Zambia","Africa",1962,"Zambia|1962",7.1269999999999998,45.869,3229329]
[null,"Zambia","Africa",1963,"Zambia|1963",7.1840000000000002,46.225000000000001,3328063]
[null,"Zambia","Africa",1987,"Zambia|1987",6.673,46.514000000000003,7214499]
[null,"Zambia","Africa",1964,"Zambia|1964",7.24,46.573999999999998,3430747]
[null,"Zambia","Africa",1965,"Zambia|1965",7.2919999999999998,46.929000000000002,3537265]
[null,"Zambia","Africa",2005,"Zambia|2005",5.9539999999999997,47.155999999999999,11462365]
[null,"Zambia","Africa",1966,"Zambia|1966",7.3380000000000001,47.302999999999997,3647470]
[null,"Zambia","Africa",1986,"Zambia|1986",6.7370000000000001,47.427,6998307]
[null,"Zambia","Africa",1967,"Zambia|1967",7.3760000000000003,47.704000000000001,3761707]
[null,"Zambia","Africa",1968,"Zambia|1968",7.4050000000000002,48.131,3880914]
[null,"Zambia","Africa",1985,"Zambia|1985",6.7990000000000004,48.292999999999999,6785211]
[null,"Zambia","Africa",1969,"Zambia|1969",7.4249999999999998,48.58,4006340]
[null,"Zambia","Africa",2006,"Zambia|2006",5.9320000000000004,48.613,11750105]
[null,"Zambia","Africa",1970,"Zambia|1970",7.4370000000000003,49.043999999999997,4138837]
[null,"Zambia","Africa",1984,"Zambia|1984",6.8650000000000002,49.082999999999998,6575403]
[null,"Zambia","Africa",1971,"Zambia|1971",7.4429999999999996,49.512999999999998,4278863]
[null,"Zambia","Africa",1983,"Zambia|1983",6.9370000000000003,49.78,6368542]
[null,"Zambia","Africa",1972,"Zambia|1972",7.4459999999999997,49.97,4426079]
[null,"Zambia","Africa",2007,"Zambia|2007",5.9080000000000004,50.125999999999998,12055384]
[null,"Zambia","Africa",1982,"Zambia|1982",7.0149999999999997,50.372,6165560]
[null,"Zambia","Africa",1973,"Zambia|1973",7.4470000000000001,50.392000000000003,4579560]
[null,"Zambia","Africa",1974,"Zambia|1974",7.444,50.76,4737942]
[null,"Zambia","Africa",1981,"Zambia|1981",7.0979999999999999,50.84,5967511]
[null,"Zambia","Africa",1975,"Zambia|1975",7.4349999999999996,51.057000000000002,4900255]
[null,"Zambia","Africa",1980,"Zambia|1980",7.1820000000000004,51.171999999999997,5775165]
[null,"Zambia","Africa",1976,"Zambia|1976",7.4139999999999997,51.273000000000003,5066012]
[null,"Zambia","Africa",1979,"Zambia|1979",7.2590000000000003,51.366,5589172]
[null,"Zambia","Africa",1977,"Zambia|1977",7.3780000000000001,51.402000000000001,5235519]
[null,"Zambia","Africa",1978,"Zambia|1978",7.3259999999999996,51.436,5409528]
[null,"Zambia","Africa",2008,"Zambia|2008",5.8810000000000002,51.648000000000003,12379612]
[null,"Zambia","Africa",2009,"Zambia|2009",5.8490000000000002,53.137,12723746]
[null,"Zambia","Africa",2010,"Zambia|2010",5.8129999999999997,54.548999999999999,13088570]
[null,"Zambia","Africa",2011,"Zambia|2011",5.7729999999999997,55.850999999999999,13474959]
[null,"Zambia","Africa",2012,"Zambia|2012",5.7309999999999999,57.036999999999999,13883577]
[null,"Zambia","Africa",2013,"Zambia|2013",5.6870000000000003,58.104999999999997,14314515]
[null,"Zimbabwe","Africa",2003,"Zimbabwe|2003",4.0019999999999998,42.936,12612956]
[null,"Zimbabwe","Africa",2002,"Zimbabwe|2002",4.0179999999999998,42.965000000000003,12607791]
[null,"Zimbabwe","Africa",2004,"Zimbabwe|2004",3.9870000000000001,43.244,12597877]
[null,"Zimbabwe","Africa",2001,"Zimbabwe|2001",4.0389999999999997,43.31,12575015]
[null,"Zimbabwe","Africa",2005,"Zimbabwe|2005",3.9689999999999999,43.957999999999998,12570686]
[null,"Zimbabwe","Africa",2000,"Zimbabwe|2000",4.069,43.975999999999999,12509477]
[null,"Zimbabwe","Africa",1999,"Zimbabwe|1999",4.1120000000000001,44.976999999999997,12405236]
[null,"Zimbabwe","Africa",2006,"Zimbabwe|2006",3.9409999999999998,45.156999999999996,12529655]
[null,"Zimbabwe","Africa",1998,"Zimbabwe|1998",4.1689999999999996,46.283999999999999,12261742]
[null,"Zimbabwe","Africa",2007,"Zimbabwe|2007",3.903,46.826999999999998,12481245]
[null,"Zimbabwe","Africa",1950,"Zimbabwe|1950",6.7530000000000001,47.691000000000003,2746854]
[null,"Zimbabwe","Africa",1997,"Zimbabwe|1997",4.24,47.838999999999999,12086519]
[null,"Zimbabwe","Africa",1951,"Zimbabwe|1951",6.7610000000000001,47.905000000000001,2830448]
[null,"Zimbabwe","Africa",1952,"Zimbabwe|1952",6.7809999999999997,48.331000000000003,2918424]
[null,"Zimbabwe","Africa",1953,"Zimbabwe|1953",6.8079999999999998,48.753,3010186]
[null,"Zimbabwe","Africa",2008,"Zimbabwe|2008",3.8530000000000002,48.89,12451543]
[null,"Zimbabwe","Africa",1954,"Zimbabwe|1954",6.8419999999999996,49.170999999999999,3105348]
[null,"Zimbabwe","Africa",1996,"Zimbabwe|1996",4.3280000000000003,49.564999999999998,11891290]
[null,"Zimbabwe","Africa",1955,"Zimbabwe|1955",6.883,49.584000000000003,3203736]
[null,"Zimbabwe","Africa",1956,"Zimbabwe|1956",6.9290000000000003,49.991999999999997,3305402]
[null,"Zimbabwe","Africa",1957,"Zimbabwe|1957",6.9820000000000002,50.396000000000001,3410607]
[null,"Zimbabwe","Africa",1958,"Zimbabwe|1958",7.0389999999999997,50.792999999999999,3519798]
[null,"Zimbabwe","Africa",1959,"Zimbabwe|1959",7.0979999999999999,51.183,3633542]
[null,"Zimbabwe","Africa",2009,"Zimbabwe|2009",3.7919999999999998,51.234000000000002,12473992]
[null,"Zimbabwe","Africa",1995,"Zimbabwe|1995",4.4320000000000004,51.378,11684693]
[null,"Zimbabwe","Africa",1960,"Zimbabwe|1960",7.1580000000000004,51.564999999999998,3752373]
[null,"Zimbabwe","Africa",1961,"Zimbabwe|1961",7.2149999999999999,51.938000000000002,3876616]
[null,"Zimbabwe","Africa",1962,"Zimbabwe|1962",7.2670000000000003,52.3,4006236]
[null,"Zimbabwe","Africa",1963,"Zimbabwe|1963",7.3109999999999999,52.651000000000003,4140773]
[null,"Zimbabwe","Africa",1964,"Zimbabwe|1964",7.3470000000000004,52.993000000000002,4279524]
[null,"Zimbabwe","Africa",1994,"Zimbabwe|1994",4.5540000000000003,53.197000000000003,11469872]
[null,"Zimbabwe","Africa",1965,"Zimbabwe|1965",7.3730000000000002,53.325000000000003,4422087]
[null,"Zimbabwe","Africa",1966,"Zimbabwe|1966",7.391,53.648000000000003,4568266]
[null,"Zimbabwe","Africa",2010,"Zimbabwe|2010",3.7210000000000001,53.683999999999997,12571454]
[null,"Zimbabwe","Africa",1967,"Zimbabwe|1967",7.4029999999999996,53.965000000000003,4718550]
[null,"Zimbabwe","Africa",1968,"Zimbabwe|1968",7.4109999999999996,54.279000000000003,4874043]
[null,"Zimbabwe","Africa",1969,"Zimbabwe|1969",7.415,54.595999999999997,5036244]
[null,"Zimbabwe","Africa",1970,"Zimbabwe|1970",7.4169999999999998,54.917999999999999,5206229]
[null,"Zimbabwe","Africa",1993,"Zimbabwe|1993",4.6900000000000004,54.951999999999998,11244552]
[null,"Zimbabwe","Africa",1971,"Zimbabwe|1971",7.4189999999999996,55.247,5385233]
[null,"Zimbabwe","Africa",1972,"Zimbabwe|1972",7.42,55.585999999999999,5573154]
[null,"Zimbabwe","Africa",1973,"Zimbabwe|1973",7.4169999999999998,55.94,5768190]
[null,"Zimbabwe","Africa",2011,"Zimbabwe|2011",3.6429999999999998,56.04,12754378]
[null,"Zimbabwe","Africa",1974,"Zimbabwe|1974",7.41,56.311999999999998,5967705]
[null,"Zimbabwe","Africa",1992,"Zimbabwe|1992",4.84,56.570999999999998,11005690]
[null,"Zimbabwe","Africa",1975,"Zimbabwe|1975",7.3949999999999996,56.719000000000001,6170260]
[null,"Zimbabwe","Africa",1976,"Zimbabwe|1976",7.3689999999999998,57.179000000000002,6374197]
[null,"Zimbabwe","Africa",1977,"Zimbabwe|1977",7.33,57.691000000000003,6581329]
[null,"Zimbabwe","Africa",1991,"Zimbabwe|1991",5.0010000000000003,57.99,10748215]
[null,"Zimbabwe","Africa",2012,"Zimbabwe|2012",3.5640000000000001,58.142000000000003,13013678]
[null,"Zimbabwe","Africa",1978,"Zimbabwe|1978",7.2729999999999997,58.246000000000002,6797807]
[null,"Zimbabwe","Africa",1979,"Zimbabwe|1979",7.1959999999999997,58.823,7032001]
[null,"Zimbabwe","Africa",1990,"Zimbabwe|1990",5.1760000000000002,59.156999999999996,10469202]
[null,"Zimbabwe","Africa",1980,"Zimbabwe|1980",7.0949999999999998,59.405999999999999,7289463]
[null,"Zimbabwe","Africa",2013,"Zimbabwe|2013",3.4860000000000002,59.871000000000002,13327925]
[null,"Zimbabwe","Africa",1981,"Zimbabwe|1981",6.9669999999999996,59.975000000000001,7571447]
[null,"Zimbabwe","Africa",1989,"Zimbabwe|1989",5.3650000000000002,60.048999999999999,10169188]
[null,"Zimbabwe","Africa",1982,"Zimbabwe|1982",6.8109999999999999,60.497,7874642]
[null,"Zimbabwe","Africa",1988,"Zimbabwe|1988",5.569,60.697000000000003,9852244]
[null,"Zimbabwe","Africa",1983,"Zimbabwe|1983",6.633,60.933,8194203]
[null,"Zimbabwe","Africa",1987,"Zimbabwe|1987",5.7839999999999998,61.133000000000003,9523376]
[null,"Zimbabwe","Africa",1984,"Zimbabwe|1984",6.4349999999999996,61.246000000000002,8523090]
[null,"Zimbabwe","Africa",1986,"Zimbabwe|1986",6.0039999999999996,61.365000000000002,9189169]
[null,"Zimbabwe","Africa",1985,"Zimbabwe|1985",6.2229999999999999,61.4,8855279]

{"sheet":"Control","index":2,"n_rows":14,"n_cols":4,"rows_kept":14,"cut":false,"hidden":false,"merged":[]}
[]
[null,"Control"]
[]
[null,"Current Country Index",59,"Country index"]
[null,"Current Country Name",{"$f":"INDEX(tab_xy_scatter_data[Country],C4)","v":"Finland"},"Name of selected country"]
[null,"Current Region",{"$f":"INDEX(tab_xy_scatter_data[Region],C4)","v":"Europe"},"Name of region of selected country"]
[]
[null,"Selected Year Index",21,"Target cell of scroll bar to select a year"]
[null,"Selected Year",{"$f":"MIN(tab_data[Year])+C8-1","v":1970},"Selected year"]
[]
[null,"Selected Type of Average",1,"Target cell of radio buttons to switch between average and weighted average"]
[null,"Show all countries",true,"Target cell of check box to show all countries"]
[null,"Highlight the region",true,"Target cell of check box to show all countries of selected region"]
[null,"Trace the path",true,"Target cell of check box to show the trail (trace the path)"]

{"sheet":"Calculations","index":3,"n_rows":207,"n_cols":31,"rows_kept":207,"cut":false,"hidden":false,"merged":[]}
[]
[null,"Calculations (Chart Data Sources)"]
[]
[null,"Data Source XY Scatter Chart Dashboard",null,null,null,null,null,null,null,null,null,null,"Data Source Selected Country Charts"]
[]
[null,"Country","Region","Position","Fertility Rate All","Life Expectancy All","Fertility Rate All selected","Life Expectancy All selected","Fertility Rate Region","Life Expectancy Region","Population",null,"Year","Position","Fertility Rate All","Fertility Rate Curr Year","Average Fertility Rate","Weighted Average Fertility Rate","Displayed Average Fertility Rate","Min Fertility Rate","Max minus Min Fertility Rate","Life Expectancy","Life Expectancy Before","Life Expectancy After","Life Expectancy Curr Year","Average Life Expectancy","Weighted Average Life Expectancy","Displayed Average Life Expectancy","Weighted Average Life Expectancy22","Min Life Expectancy","Max minus Min Life Expectancy"]
[null,"Afghanistan","Asia + Pacific",{"$f":"MATCH(tab_xy_scatter_data[[#This Row],[Country]]&\"|\"&Control!$C$9,tab_data[ID (Country|Year)],0)","v":21},{"$f":"INDEX(tab_data[Fertility],tab_xy_scatter_data[[#This Row],[Position]])","v":7.6710000000000003},{"$f":"INDEX(tab_data[Life Expectancy],tab_xy_scatter_data[[#This Row],[Position]])","v":36.662999999999997},{"$f":"IF(Control!$C$12,tab_xy_scatter_data[[#This Row],[Fertility Rate All]],NV())","v":7.6710000000000003},{"$f":"IF(Control!$C$12,tab_xy_scatter_data[[#This Row],[Life Expectancy All]],NV())","v":36.662999999999997},{"$f":"IF(AND(Control!$C$6=tab_xy_scatter_data[[#This Row],[Region]],Control!$C$13),tab_xy_scatter_data[[#This Row],[Fertility Rate All]],NA())","v":{"$error":"#N/A"}},{"$f":"IF(AND(Control!$C$6=tab_xy_scatter_data[[#This Row],[Region]],Control!$C$13),tab_xy_scatter_data[[#This Row],[Life Expectancy All]],NA())","v":{"$error":"#N/A"}},{"$f":"INDEX(tab_data[Population],tab_xy_scatter_data[[#This Row],[Position]])","v":11964906},null,1950,{"$f":"MATCH(Control!$C$5&\"|\"&tab_selected_country_data[[#This Row],[Year]],tab_data[ID (Country|Year)],0)","v":3713},{"$f":"INDEX(tab_data[Fertility],tab_selected_country_data[[#This Row],[Position]])","v":3.16},{"$f":"IF(tab_selected_country_data[[#This Row],[Year]]=Control!$C$9,tab_selected_country_data[[#This Row],[Fertility Rate All]],NA())","v":{"$error":"#N/A"}},{"$f":"AVERAGEIF(tab_data[Year],tab_selected_country_data[[#This Row],[Year]],tab_data[Fertility])","v":5.4159549261694053},{"$f":"SUMPRODUCT(($M7=tab_data[Year])*tab_data[Fertility]*tab_data[Population])/SUMIF(tab_data[Year],$M7,tab_data[Population])","v":4.844100031071755},{"$f":"INDEX(tab_selected_country_data[[#This Row],[Average Fertility Rate]:[Weighted Average Fertility Rate]],1,Control!$C$11)","v":5.4159549261694053},{"$f":"MIN(IF((tab_selected_country_data[[#This Row],[Year]]=tab_data[Year]),tab_data[Fertility],999999999))","v":1.8660000000000001},{"$f":"MAX((tab_selected_country_data[[#This Row],[Year]]=tab_data[Year])*tab_data[Fertility])-tab_selected_country_data[[#This Row],[Min Fertility Rate]]","v":6.2439999999999998},{"$f":"INDEX(tab_data[Life Expectancy],tab_selected_country_data[[#This Row],[Position]])","v":64.239999999999995},{"$f":"IF(AND(Control!$C$14,tab_selected_country_data[[#This Row],[Year]]<Control!$C$9),tab_selected_country_data[[#This Row],[Life Expectancy]],NA())","v":64.239999999999995},{"$f":"IF(AND(Control!$C$14,tab_selected_country_data[[#This Row],[Year]]>Control!$C$9),tab_selected_country_data[[#This Row],[Life Expectancy]],NA())","v":{"$error":"#N/A"}},{"$f":"IF(tab_selected_country_data[[#This Row],[Year]]=Control!$C$9,tab_selected_country_data[[#This Row],[Life Expectancy]],NA())","v":{"$error":"#N/A"}},{"$f":"AVERAGEIF(tab_data[Year],tab_selected_country_data[[#This Row],[Year]],tab_data[Life Expectancy])","v":49.064440000000019},{"$f":"SUMPRODUCT(($M7=tab_data[Year])*tab_data[Life Expectancy]*tab_data[Population])/SUMIF(tab_data[Year],$M7,tab_data[Population])","v":47.644431280378605},{"$f":"INDEX(tab_selected_country_data[[#This Row],[Average Life Expectancy]:[Weighted Average Life Expectancy]],1,Control!$C$11)","v":49.064440000000019},{"$f":"SUMPRODUCT(($M7=tab_data[Year])*tab_data[Life Expectancy]*tab_data[Population])/SUMIF(tab_data[Year],$M7,tab_data[Population])","v":47.644431280378605},{"$f":"MIN(IF((tab_selected_country_data[[#This Row],[Year]]=tab_data[Year]),tab_data[Life Expectancy],999999999))","v":23.387},{"$f":"MAX((tab_selected_country_data[[#This Row],[Year]]=tab_data[Year])*tab_data[Life Expectancy])-tab_selected_country_data[[#This Row],[Min Life Expectancy]]","v":48.212999999999994}]
[null,"Albania","Europe",{"$f":"MATCH(tab_xy_scatter_data[[#This Row],[Country]]&\"|\"&Control!$C$9,tab_data[ID (Country|Year)],0)","v":85},{"$f":"INDEX(tab_data[Fertility],tab_xy_scatter_data[[#This Row],[Position]])","v":5.05},{"$f":"INDEX(tab_data[Life Expectancy],tab_xy_scatter_data[[#This Row],[Position]])","v":66.947999999999993},{"$f":"IF(Control!$C$12,tab_xy_scatter_data[[#This Row],[Fertility Rate All]],NV())","v":5.05},{"$f":"IF(Control!$C$12,tab_xy_scatter_data[[#This Row],[Life Expectancy All]],NV())","v":66.947999999999993},{"$f":"IF(AND(Control!$C$6=tab_xy_scatter_data[[#This Row],[Region]],Control!$C$13),tab_xy_scatter_data[[#This Row],[Fertility Rate All]],NA())","v":5.05},{"$f":"IF(AND(Control!$C$6=tab_xy_scatter_data[[#This Row],[Region]],Control!$C$13),tab_xy_scatter_data[[#This Row],[Life Expectancy All]],NA())","v":66.947999999999993},{"$f":"INDEX(tab_data[Population],tab_xy_scatter_data[[#This Row],[Position]])","v":2135599},null,1951,{"$f":"MATCH(Control!$C$5&\"|\"&tab_selected_country_data[[#This Row],[Year]],tab_data[ID (Country|Year)],0)","v":3714},{"$f":"INDEX(tab_data[Fertility],tab_selected_country_data[[#This Row],[Position]])","v":3.01},{"$f":"IF(tab_selected_country_data[[#This Row],[Year]]=Control!$C$9,tab_selected_country_data[[#This Row],[Fertility Rate All]],NA())","v":{"$error":"#N/A"}},{"$f":"AVERAGEIF(tab_data[Year],tab_selected_country_data[[#This Row],[Year]],tab_data[Fertility])","v":5.4208839523388122},{"$f":"SUMPRODUCT(($M8=tab_data[Year])*tab_data[Fertility]*tab_data[Population])/SUMIF(tab_data[Year],$M8,tab_data[Population])","v":4.8590331566131848},{"$f":"INDEX(tab_selected_country_data[[#This Row],[Average Fertility Rate]:[Weighted Average Fertility Rate]],1,Control!$C$11)","v":5.4208839523388122},{"$f":"MIN(IF((tab_selected_country_data[[#This Row],[Year]]=tab_data[Year]),tab_data[Fertility],999999999))","v":1.8959999999999999},{"$f":"MAX((tab_selected_country_data[[#This Row],[Year]]=tab_data[Year])*tab_data[Fertility])-tab_selected_country_data[[#This Row],[Min Fertility Rate]]","v":6.0430000000000001},{"$f":"INDEX(tab_data[Life Expectancy],tab_selected_country_data[[#This Row],[Position]])","v":65.67},{"$f":"IF(AND(Control!$C$14,tab_selected_country_data[[#This Row],[Year]]<Control!$C$9),tab_selected_country_data[[#This Row],[Life Expectancy]],NA())","v":65.67},{"$f":"IF(AND(Control!$C$14,tab_selected_country_data[[#This Row],[Year]]>Control!$C$9),tab_selected_country_data[[#This Row],[Life Expectancy]],NA())","v":{"$error":"#N/A"}},{"$f":"IF(tab_selected_country_data[[#This Row],[Year]]=Control!$C$9,tab_selected_country_data[[#This Row],[Life Expectancy]],NA())","v":{"$error":"#N/A"}},{"$f":"AVERAGEIF(tab_data[Year],tab_selected_country_data[[#This Row],[Year]],tab_data[Life Expectancy])","v":49.370485000000009},{"$f":"SUMPRODUCT(($M8=tab_data[Year])*tab_data[Life Expectancy]*tab_data[Population])/SUMIF(tab_data[Year],$M8,tab_data[Population])","v":48.170937015880703},{"$f":"INDEX(tab_selected_country_data[[#This Row],[Average Life Expectancy]:[Weighted Average Life Expectancy]],1,Control!$C$11)","v":49.370485000000009},{"$f":"SUMPRODUCT(($M8=tab_data[Year])*tab_data[Life Expectancy]*tab_data[Population])/SUMIF(tab_data[Year],$M8,tab_data[Population])","v":48.170937015880703},{"$f":"MIN(IF((tab_selected_country_data[[#This Row],[Year]]=tab_data[Year]),tab_data[Life Expectancy],999999999))","v":23.86},{"$f":"MAX((tab_selected_country_data[[#This Row],[Year]]=tab_data[Year])*tab_data[Life Expectancy])-tab_selected_country_data[[#This Row],[Min Life Expectancy]]","v":48.680000000000007}]
[null,"Algeria","Africa",{"$f":"MATCH(tab_xy_scatter_data[[#This Row],[Country]]&\"|\"&Control!$C$9,tab_data[ID (Country|Year)],0)","v":149},{"$f":"INDEX(tab_data[Fertility],tab_xy_scatter_data[[#This Row],[Position]])","v":7.641},{"$f":"INDEX(tab_data[Life Expectancy],tab_xy_scatter_data[[#This Row],[Position]])","v":50.366},{"$f":"IF(Control!$C$12,tab_xy_scatter_data[[#This Row],[Fertility Rate All]],NV())","v":7.641},{"$f":"IF(Control!$C$12,tab_xy_scatter_data[[#This Row],[Life Expectancy All]],NV())","v":50.366},{"$f":"IF(AND(Control!$C$6=tab_xy_scatter_data[[#This Row],[Region]],Control!$C$13),tab_xy_scatter_data[[#This Row],[Fertility Rate All]],NA())","v":{"$error":"#N/A"}},{"$f":"IF(AND(Control!$C$6=tab_xy_scatter_data[[#This Row],[Region]],Control!$C$13),tab_xy_scatter_data[[#This Row],[Life Expectancy All]],NA())","v":{"$error":"#N/A"}},{"$f":"INDEX(tab_data[Population],tab_xy_scatter_data[[#This Row],[Position]])","v":13746185},null,1952,{"$f":"MATCH(Control!$C$5&\"|\"&tab_selected_country_data[[#This Row],[Year]],tab_data[ID (Country|Year)],0)","v":3715},{"$f":"INDEX(tab_data[Fertility],tab_selected_country_data[[#This Row],[Position]])","v":3.06},{"$f":"IF(tab_selected_country_data[[#This Row],[Year]]=Control!$C$9,tab_selected_country_data[[#This Row],[Fertility Rate All]],NA())","v":{"$error":"#N/A"}},{"$f":"AVERAGEIF(tab_data[Year],tab_selected_country_data[[#This Row],[Year]],tab_data[Fertility])","v":5.4401148785082185},{"$f":"SUMPRODUCT(($M9=tab_data[Year])*tab_data[Fertility]*tab_data[Population])/SUMIF(tab_data[Year],$M9,tab_data[Population])","v":5.0347536269316899},{"$f":"INDEX(tab_selected_country_data[[#This Row],[Average Fertility Rate]:[Weighted Average Fertility Rate]],1,Control!$C$11)","v":5.4401148785082185},{"$f":"MIN(IF((tab_selected_country_data[[#This Row],[Year]]=tab_data[Year]),tab_data[Fertility],999999999))","v":1.9530000000000001},{"$f":"MAX((tab_selected_country_data[[#This Row],[Year]]=tab_data[Year])*tab_data[Fertility])-tab_selected_country_data[[#This Row],[Min Fertility Rate]]","v":6.0299999999999994},{"$f":"INDEX(tab_data[Life Expectancy],tab_selected_country_data[[#This Row],[Position]])","v":66.55},{"$f":"IF(AND(Control!$C$14,tab_selected_country_data[[#This Row],[Year]]<Control!$C$9),tab_selected_country_data[[#This Row],[Life Expectancy]],NA())","v":66.55},{"$f":"IF(AND(Control!$C$14,tab_selected_country_data[[#This Row],[Year]]>Control!$C$9),tab_selected_country_data[[#This Row],[Life Expectancy]],NA())","v":{"$error":"#N/A"}},{"$f":"IF(tab_selected_country_data[[#This Row],[Year]]=Control!$C$9,tab_selected_country_data[[#This Row],[Life Expectancy]],NA())","v":{"$error":"#N/A"}},{"$f":"AVERAGEIF(tab_data[Year],tab_selected_country_data[[#This Row],[Year]],tab_data[Life Expectancy])","v":50.001565000000028},{"$f":"SUMPRODUCT(($M9=tab_data[Year])*tab_data[Life Expectancy]*tab_data[Population])/SUMIF(tab_data[Year],$M9,tab_data[Population])","v":48.886915611393761},{"$f":"INDEX(tab_selected_country_data[[#This Row],[Average Life Expectancy]:[Weighted Average Life Expectancy]],1,Control!$C$11)","v":50.001565000000028},{"$f":"SUMPRODUCT(($M9=tab_data[Year])*tab_data[Life Expectancy]*tab_data[Population])/SUMIF(tab_data[Year],$M9,tab_data[Population])","v":48.886915611393761},{"$f":"MIN(IF((tab_selected_country_data[[#This Row],[Year]]=tab_data[Year]),tab_data[Life Expectancy],999999999))","v":24.808},{"$f":"MAX((tab_selected_country_data[[#This Row],[Year]]=tab_data[Year])*tab_data[Life Expectancy])-tab_selected_country_data[[#This Row],[Min Life Expectancy]]","v":47.862000000000002}]
[null,"Angola","Africa",{"$f":"MATCH(tab_xy_scatter_data[[#This Row],[Country]]&\"|\"&Control!$C$9,tab_data[ID (Country|Year)],0)","v":213},{"$f":"INDEX(tab_data[Fertility],tab_xy_scatter_data[[#This Row],[Position]])","v":7.3010000000000002},{"$f":"INDEX(tab_data[Life Expectancy],tab_xy_scatter_data[[#This Row],[Position]])","v":37.031999999999996},{"$f":"IF(Control!$C$12,tab_xy_scatter_data[[#This Row],[Fertility Rate All]],NV())","v":7.3010000000000002},{"$f":"IF(Control!$C$12,tab_xy_scatter_data[[#This Row],[Life Expectancy All]],NV())","v":37.031999999999996},{"$f":"IF(AND(Control!$C$6=tab_xy_scatter_data[[#This Row],[Region]],Control!$C$13),tab_xy_scatter_data[[#This Row],[Fertility Rate All]],NA())","v":{"$error":"#N/A"}},{"$f":"IF(AND(Control!$C$6=tab_xy_scatter_data[[#This Row],[Region]],Control!$C$13),tab_xy_scatter_data[[#This Row],[Life Expectancy All]],NA())","v":{"$error":"#N/A"}},{"$f":"INDEX(tab_data[Population],tab_xy_scatter_data[[#This Row],[Position]])","v":5926333},null,1953,{"$f":"MATCH(Control!$C$5&\"|\"&tab_selected_country_data[[#This Row],[Year]],tab_data[ID (Country|Year)],0)","v":3716},{"$f":"INDEX(tab_data[Fertility],tab_selected_country_data[[#This Row],[Position]])","v":2.96},{"$f":"IF(tab_selected_country_data[[#This Row],[Year]]=Control!$C$9,tab_selected_country_data[[#This Row],[Fertility Rate All]],NA())","v":{"$error":"#N/A"}},{"$f":"AVERAGEIF(tab_data[Year],tab_selected_country_data[[#This Row],[Year]],tab_data[Fertility])","v":5.4523366546776222},{"$f":"SUMPRODUCT(($M10=tab_data[Year])*tab_data[Fertility]*tab_data[Population])/SUMIF(tab_data[Year],$M10,tab_data[Population])","v":4.9831509144248782},{"$f":"INDEX(tab_selected_country_data[[#This Row],[Average Fertility Rate]:[Weighted Average Fertility Rate]],1,Control!$C$11)","v":5.4523366546776222},{"$f":"MIN(IF((tab_selected_country_data[[#This Row],[Year]]=tab_data[Year]),tab_data[Fertility],999999999))","v":2},{"$f":"MAX((tab_selected_country_data[[#This Row],[Year]]=tab_data[Year])*tab_data[Fertility])-tab_selected_country_data[[#This Row],[Min Fertility Rate]]","v":6.0229999999999997},{"$f":"INDEX(tab_data[Life Expectancy],tab_selected_country_data[[#This Row],[Position]])","v":66.61},{"$f":"IF(AND(Control!$C$14,tab_selected_country_data[[#This Row],[Year]]<Control!$C$9),tab_selected_country_data[[#This Row],[Life Expectancy]],NA())","v":66.61},{"$f":"IF(AND(Control!$C$14,tab_selected_country_data[[#This Row],[Year]]>Control!$C$9),tab_selected_country_data[[#This Row],[Life Expectancy]],NA())","v":{"$error":"#N/A"}},{"$f":"IF(tab_selected_country_data[[#This Row],[Year]]=Control!$C$9,tab_selected_country_data[[#This Row],[Life Expectancy]],NA())","v":{"$error":"#N/A"}},{"$f":"AVERAGEIF(tab_data[Year],tab_selected_country_data[[#This Row],[Year]],tab_data[Life Expectancy])","v":50.585237599999999},{"$f":"SUMPRODUCT(($M10=tab_data[Year])*tab_data[Life Expectancy]*tab_data[Population])/SUMIF(tab_data[Year],$M10,tab_data[Population])","v":50.224383466661557},{"$f":"INDEX(tab_selected_country_data[[#This Row],[Average Life Expectancy]:[Weighted Average Life Expectancy]],1,Control!$C$11)","v":50.585237599999999},{"$f":"SUMPRODUCT(($M10=tab_data[Year])*tab_data[Life Expectancy]*tab_data[Population])/SUMIF(tab_data[Year],$M10,tab_data[Population])","v":50.224383466661557},{"$f":"MIN(IF((tab_selected_country_data[[#This Row],[Year]]=tab_data[Year]),tab_data[Life Expectancy],999999999))","v":25.756},{"$f":"MAX((tab_selected_country_data[[#This Row],[Year]]=tab_data[Year])*tab_data[Life Expectancy])-tab_selected_country_data[[#This Row],[Min Life Expectancy]]","v":47.394000000000005}]
[null,"Antigua and Barbuda","North America",{"$f":"MATCH(tab_xy_scatter_data[[#This Row],[Country]]&\"|\"&Control!$C$9,tab_data[ID (Country|Year)],0)","v":277},{"$f":"INDEX(tab_data[Fertility],tab_xy_scatter_data[[#This Row],[Position]])","v":3.6840000000000002},{"$f":"INDEX(tab_data[Life Expectancy],tab_xy_scatter_data[[#This Row],[Position]])","v":65.897999999999996},{"$f":"IF(Control!$C$12,tab_xy_scatter_data[[#This Row],[Fertility Rate All]],NV())","v":3.6840000000000002},{"$f":"IF(Control!$C$12,tab_xy_scatter_data[[#This Row],[Life Expectancy All]],NV())","v":65.897999999999996},{"$f":"IF(AND(Control!$C$6=tab_xy_scatter_data[[#This Row],[Region]],Control!$C$13),tab_xy_scatter_data[[#This Row],[Fertility Rate All]],NA())","v":{"$error":"#N/A"}},{"$f":"IF(AND(Control!$C$6=tab_xy_scatter_data[[#This Row],[Region]],Control!$C$13),tab_xy_scatter_data[[#This Row],[Life Expectancy All]],NA())","v":{"$error":"#N/A"}},{"$f":"INDEX(tab_data[Population],tab_xy_scatter_data[[#This Row],[Position]])","v":65587},null,1954,{"$f":"MATCH(Control!$C$5&\"|\"&tab_selected_country_data[[#This Row],[Year]],tab_data[ID (Country|Year)],0)","v":3719},{"$f":"INDEX(tab_data[Fertility],tab_selected_country_data[[#This Row],[Position]])","v":2.93},{"$f":"IF(tab_selected_country_data[[#This Row],[Year]]=Control!$C$9,tab_selected_country_data[[#This Row],[Fertility Rate All]],NA())","v":{"$error":"#N/A"}},{"$f":"AVERAGEIF(tab_data[Year],tab_selected_country_data[[#This Row],[Year]],tab_data[Fertility])","v":5.4687214308470296},{"$f":"SUMPRODUCT(($M11=tab_data[Year])*tab_data[Fertility]*tab_data[Population])/SUMIF(tab_data[Year],$M11,tab_data[Population])","v":5.0650460149202665},{"$f":"INDEX(tab_selected_country_data[[#This Row],[Average Fertility Rate]:[Weighted Average Fertility Rate]],1,Control!$C$11)","v":5.4687214308470296},{"$f":"MIN(IF((tab_selected_country_data[[#This Row],[Year]]=tab_data[Year]),tab_data[Fertility],999999999))","v":1.992},{"$f":"MAX((tab_selected_country_data[[#This Row],[Year]]=tab_data[Year])*tab_data[Fertility])-tab_selected_country_data[[#This Row],[Min Fertility Rate]]","v":6.0669999999999993},{"$f":"INDEX(tab_data[Life Expectancy],tab_selected_country_data[[#This Row],[Position]])","v":67.569999999999993},{"$f":"IF(AND(Control!$C$14,tab_selected_country_data[[#This Row],[Year]]<Control!$C$9),tab_selected_country_data[[#This Row],[Life Expectancy]],NA())","v":67.569999999999993},{"$f":"IF(AND(Control!$C$14,tab_selected_country_data[[#This Row],[Year]]>Control!$C$9),tab_selected_country_data[[#This Row],[Life Expectancy]],NA())","v":{"$error":"#N/A"}},{"$f":"IF(tab_selected_country_data[[#This Row],[Year]]=Control!$C$9,tab_selected_country_data[[#This Row],[Life Expectancy]],NA())","v":{"$error":"#N/A"}},{"$f":"AVERAGEIF(tab_data[Year],tab_selected_country_data[[#This Row],[Year]],tab_data[Life Expectancy])","v":51.198917999999992},{"$f":"SUMPRODUCT(($M11=tab_data[Year])*tab_data[Life Expectancy]*tab_data[Population])/SUMIF(tab_data[Year],$M11,tab_data[Population])","v":51.175627653813812},{"$f":"INDEX(tab_selected_country_data[[#This Row],[Average Life Expectancy]:[Weighted Average Life Expectancy]],1,Control!$C$11)","v":51.198917999999992},{"$f":"SUMPRODUCT(($M11=tab_data[Year])*tab_data[Life Expectancy]*tab_data[Population])/SUMIF(tab_data[Year],$M11,tab_data[Population])","v":51.175627653813812},{"$f":"MIN(IF((tab_selected_country_data[[#This Row],[Year]]=tab_data[Year]),tab_data[Life Expectancy],999999999))","v":26.704000000000001},{"$f":"MAX((tab_selected_country_data[[#This Row],[Year]]=tab_data[Year])*tab_data[Life Expectancy])-tab_selected_country_data[[#This Row],[Min Life Expectancy]]","v":46.655999999999999}]
[null,"Argentina","Latin America + Caribbean",{"$f":"MATCH(tab_xy_scatter_data[[#This Row],[Country]]&\"|\"&Control!$C$9,tab_data[ID (Country|Year)],0)","v":341},{"$f":"INDEX(tab_data[Fertility],tab_xy_scatter_data[[#This Row],[Position]])","v":3.073},{"$f":"INDEX(tab_data[Life Expectancy],tab_xy_scatter_data[[#This Row],[Position]])","v":66.448999999999998},{"$f":"IF(Control!$C$12,tab_xy_scatter_data[[#This Row],[Fertility Rate All]],NV())","v":3.073},{"$f":"IF(Control!$C$12,tab_xy_scatter_data[[#This Row],[Life Expectancy All]],NV())","v":66.448999999999998},{"$f":"IF(AND(Control!$C$6=tab_xy_scatter_data[[#This Row],[Region]],Control!$C$13),tab_xy_scatter_data[[#This Row],[Fertility Rate All]],NA())","v":{"$error":"#N/A"}},{"$f":"IF(AND(Control!$C$6=tab_xy_scatter_data[[#This Row],[Region]],Control!$C$13),tab_xy_scatter_data[[#This Row],[Life Expectancy All]],NA())","v":{"$error":"#N/A"}},{"$f":"INDEX(tab_data[Population],tab_xy_scatter_data[[#This Row],[Position]])","v":23983358},null,1955,{"$f":"MATCH(Control!$C$5&\"|\"&tab_selected_country_data[[#This Row],[Year]],tab_data[ID (Country|Year)],0)","v":3717},{"$f":"INDEX(tab_data[Fertility],tab_selected_country_data[[#This Row],[Position]])","v":2.93},{"$f":"IF(tab_selected_country_data[[#This Row],[Year]]=Control!$C$9,tab_selected_country_data[[#This Row],[Fertility Rate All]],NA())","v":{"$error":"#N/A"}},{"$f":"AVERAGEIF(tab_data[Year],tab_selected_country_data[[#This Row],[Year]],tab_data[Fertility])","v":5.4839350570164358},{"$f":"SUMPRODUCT(($M12=tab_data[Year])*tab_data[Fertility]*tab_data[Population])/SUMIF(tab_data[Year],$M12,tab_data[Population])","v":5.0826893636039534},{"$f":"INDEX(tab_selected_country_data[[#This Row],[Average Fertility Rate]:[Weighted Average Fertility Rate]],1,Control!$C$11)","v":5.4839350570164358},{"$f":"MIN(IF((tab_selected_country_data[[#This Row],[Year]]=tab_data[Year]),tab_data[Fertility],999999999))","v":1.982},{"$f":"MAX((tab_selected_country_data[[#This Row],[Year]]=tab_data[Year])*tab_data[Fertility])-tab_selected_country_data[[#This Row],[Min Fertility Rate]]","v":6.1079999999999997},{"$f":"INDEX(tab_data[Life Expectancy],tab_selected_country_data[[#This Row],[Position]])","v":67.37},{"$f":"IF(AND(Control!$C$14,tab_selected_country_data[[#This Row],[Year]]<Control!$C$9),tab_selected_country_data[[#This Row],[Life Expectancy]],NA())","v":67.37},{"$f":"IF(AND(Control!$C$14,tab_selected_country_data[[#This Row],[Year]]>Control!$C$9),tab_selected_country_data[[#This Row],[Life Expectancy]],NA())","v":{"$error":"#N/A"}},{"$f":"IF(tab_selected_country_data[[#This Row],[Year]]=Control!$C$9,tab_selected_country_data[[#This Row],[Life Expectancy]],NA())","v":{"$error":"#N/A"}},{"$f":"AVERAGEIF(tab_data[Year],tab_selected_country_data[[#This Row],[Year]],tab_data[Life Expectancy])","v":51.721240799999997},{"$f":"SUMPRODUCT(($M12=tab_data[Year])*tab_data[Life Expectancy]*tab_data[Population])/SUMIF(tab_data[Year],$M12,tab_data[Population])","v":51.904320672810947},{"$f":"INDEX(tab_selected_country_data[[#This Row],[Average Life Expectancy]:[Weighted Average Life Expectancy]],1,Control!$C$11)","v":51.721240799999997},{"$f":"SUMPRODUCT(($M12=tab_data[Year])*tab_data[Life Expectancy]*tab_data[Population])/SUMIF(tab_data[Year],$M12,tab_data[Population])","v":51.904320672810947},{"$f":"MIN(IF((tab_selected_country_data[[#This Row],[Year]]=tab_data[Year]),tab_data[Life Expectancy],999999999))","v":27.54},{"$f":"MAX((tab_selected_country_data[[#This Row],[Year]]=tab_data[Year])*tab_data[Life Expectancy])-tab_selected_country_data[[#This Row],[Min Life Expectancy]]","v":45.9}]
[null,"Armenia","Europe",{"$f":"MATCH(tab_xy_scatter_data[[#This Row],[Country]]&\"|\"&Control!$C$9,tab_data[ID (Country|Year)],0)","v":418},{"$f":"INDEX(tab_data[Fertility],tab_xy_scatter_data[[#This Row],[Position]])","v":3.2080000000000002},{"$f":"INDEX(tab_data[Life Expectancy],tab_xy_scatter_data[[#This Row],[Position]])","v":70.143000000000001},{"$f":"IF(Control!$C$12,tab_xy_scatter_data[[#This Row],[Fertility Rate All]],NV())","v":3.2080000000000002},{"$f":"IF(Control!$C$12,tab_xy_scatter_data[[#This Row],[Life Expectancy All]],NV())","v":70.143000000000001},{"$f":"IF(AND(Control!$C$6=tab_xy_scatter_data[[#This Row],[Region]],Control!$C$13),tab_xy_scatter_data[[#This Row],[Fertility Rate All]],NA())","v":3.2080000000000002},{"$f":"IF(AND(Control!$C$6=tab_xy_scatter_data[[#This Row],[Region]],Control!$C$13),tab_xy_scatter_data[[#This Row],[Life Expectancy All]],NA())","v":70.143000000000001},{"$f":"INDEX(tab_data[Population],tab_xy_scatter_data[[#This Row],[Position]])","v":2518408},null,1956,{"$f":"MATCH(Control!$C$5&\"|\"&tab_selected_country_data[[#This Row],[Year]],tab_data[ID (Country|Year)],0)","v":3720},{"$f":"INDEX(tab_data[Fertility],tab_selected_country_data[[#This Row],[Position]])","v":2.91},{"$f":"IF(tab_selected_country_data[[#This Row],[Year]]=Control!$C$9,tab_selected_country_data[[#This Row],[Fertility Rate All]],NA())","v":{"$error":"#N/A"}},{"$f":"AVERAGEIF(tab_data[Year],tab_selected_country_data[[#This Row],[Year]],tab_data[Fertility])","v":5.4967793831858414},{"$f":"SUMPRODUCT(($M13=tab_data[Year])*tab_data[Fertility]*tab_data[Population])/SUMIF(tab_data[Year],$M13,tab_data[Population])","v":5.0181718254234129},{"$f":"INDEX(tab_selected_country_data[[#This Row],[Average Fertility Rate]:[Weighted Average Fertility Rate]],1,Control!$C$11)","v":5.4967793831858414},{"$f":"MIN(IF((tab_selected_country_data[[#This Row],[Year]]=tab_data[Year]),tab_data[Fertility],999999999))","v":1.97},{"$f":"MAX((tab_selected_country_data[[#This Row],[Year]]=tab_data[Year])*tab_data[Fertility])-tab_selected_country_data[[#This Row],[Min Fertility Rate]]","v":6.1480000000000006},{"$f":"INDEX(tab_data[Life Expectancy],tab_selected_country_data[[#This Row],[Position]])","v":67.989999999999995},{"$f":"IF(AND(Control!$C$14,tab_selected_country_data[[#This Row],[Year]]<Control!$C$9),tab_selected_country_data[[#This Row],[Life Expectancy]],NA())","v":67.989999999999995},{"$f":"IF(AND(Control!$C$14,tab_selected_country_data[[#This Row],[Year]]>Control!$C$9),tab_selected_country_data[[#This Row],[Life Expectancy]],NA())","v":{"$error":"#N/A"}},{"$f":"IF(tab_selected_country_data[[#This Row],[Year]]=Control!$C$9,tab_selected_country_data[[#This Row],[Life Expectancy]],NA())","v":{"$error":"#N/A"}},{"$f":"AVERAGEIF(tab_data[Year],tab_selected_country_data[[#This Row],[Year]],tab_data[Life Expectancy])","v":52.223711399999978},{"$f":"SUMPRODUCT(($M13=tab_data[Year])*tab_data[Life Expectancy]*tab_data[Population])/SUMIF(tab_data[Year],$M13,tab_data[Population])","v":52.759152075626645},{"$f":"INDEX(tab_selected_country_data[[#This Row],[Average Life Expectancy]:[Weighted Average Life Expectancy]],1,Control!$C$11)","v":52.223711399999978},{"$f":"SUMPRODUCT(($M13=tab_data[Year])*tab_data[Life Expectancy]*tab_data[Population])/SUMIF(tab_data[Year],$M13,tab_data[Population])","v":52.759152075626645},{"$f":"MIN(IF((tab_selected_country_data[[#This Row],[Year]]=tab_data[Year]),tab_data[Life Expectancy],999999999))","v":27.704999999999998},{"$f":"MAX((tab_selected_country_data[[#This Row],[Year]]=tab_data[Year])*tab_data[Life Expectancy])-tab_selected_country_data[[#This Row],[Min Life Expectancy]]","v":45.784999999999997}]
[null,"Aruba","Latin America + Caribbean",{"$f":"MATCH(tab_xy_scatter_data[[#This Row],[Country]]&\"|\"&Control!$C$9,tab_data[ID (Country|Year)],0)","v":469},{"$f":"INDEX(tab_data[Fertility],tab_xy_scatter_data[[#This Row],[Position]])","v":2.9079999999999999},{"$f":"INDEX(tab_data[Life Expectancy],tab_xy_scatter_data[[#This Row],[Position]])","v":69.14},{"$f":"IF(Control!$C$12,tab_xy_scatter_data[[#This Row],[Fertility Rate All]],NV())","v":2.9079999999999999},{"$f":"IF(Control!$C$12,tab_xy_scatter_data[[#This Row],[Life Expectancy All]],NV())","v":69.14},{"$f":"IF(AND(Control!$C$6=tab_xy_scatter_data[[#This Row],[Region]],Control!$C$13),tab_xy_scatter_data[[#This Row],[Fertility Rate All]],NA())","v":{"$error":"#N/A"}},{"$f":"IF(AND(Control!$C$6=tab_xy_scatter_data[[#This Row],[Region]],Control!$C$13),tab_xy_scatter_data[[#This Row],[Life Expectancy All]],NA())","v":{"$error":"#N/A"}},{"$f":"INDEX(tab_data[Population],tab_xy_scatter_data[[#This Row],[Position]])","v":59066},null,1957,{"$f":"MATCH(Control!$C$5&\"|\"&tab_selected_country_data[[#This Row],[Year]],tab_data[ID (Country|Year)],0)","v":3718},{"$f":"INDEX(tab_data[Fertility],tab_selected_country_data[[#This Row],[Position]])","v":2.86},{"$f":"IF(tab_selected_country_data[[#This Row],[Year]]=Control!$C$9,tab_selected_country_data[[#This Row],[Fertility Rate All]],NA())","v":{"$error":"#N/A"}},{"$f":"AVERAGEIF(tab_data[Year],tab_selected_country_data[[#This Row],[Year]],tab_data[Fertility])","v":5.5124373185840732},{"$f":"SUMPRODUCT(($M14=tab_data[Year])*tab_data[Fertility]*tab_data[Population])/SUMIF(tab_data[Year],$M14,tab_data[Population])","v":5.1632516861309661},{"$f":"INDEX(tab_selected_country_data[[#This Row],[Average Fertility Rate]:[Weighted Average Fertility Rate]],1,Control!$C$11)","v":5.5124373185840732},{"$f":"MIN(IF((tab_selected_country_data[[#This Row],[Year]]=tab_data[Year]),tab_data[Fertility],999999999))","v":1.9550000000000001},{"$f":"MAX((tab_selected_country_data[[#This Row],[Year]]=tab_data[Year])*tab_data[Fertility])-tab_selected_country_data[[#This Row],[Min Fertility Rate]]","v":6.1859999999999999},{"$f":"INDEX(tab_data[Life Expectancy],tab_selected_country_data[[#This Row],[Position]])","v":67.489999999999995},{"$f":"IF(AND(Control!$C$14,tab_selected_country_data[[#This Row],[Year]]<Control!$C$9),tab_selected_country_data[[#This Row],[Life Expectancy]],NA())","v":67.489999999999995},{"$f":"IF(AND(Control!$C$14,tab_selected_country_data[[#This Row],[Year]]>Control!$C$9),tab_selected_country_data[[#This Row],[Life Expectancy]],NA())","v":{"$error":"#N/A"}},{"$f":"IF(tab_selected_country_data[[#This Row],[Year]]=Control!$C$9,tab_selected_country_data[[#This Row],[Life Expectancy]],NA())","v":{"$error":"#N/A"}},{"$f":"AVERAGEIF(tab_data[Year],tab_selected_country_data[[#This Row],[Year]],tab_data[Life Expectancy])","v":52.701399800000026},{"$f":"SUMPRODUCT(($M14=tab_data[Year])*tab_data[Life Expectancy]*tab_data[Population])/SUMIF(tab_data[Year],$M14,tab_data[Population])","v":53.094014960717665},{"$f":"INDEX(tab_selected_country_data[[#This Row],[Average Life Expectancy]:[Weighted Average Life Expectancy]],1,Control!$C$11)","v":52.701399800000026},{"$f":"SUMPRODUCT(($M14=tab_data[Year])*tab_data[Life Expectancy]*tab_data[Population])/SUMIF(tab_data[Year],$M14,tab_data[Population])","v":53.094014960717665},{"$f":"MIN(IF((tab_selected_country_data[[#This Row],[Year]]=tab_data[Year]),tab_data[Life Expectancy],999999999))","v":27.844000000000001},{"$f":"MAX((tab_selected_country_data[[#This Row],[Year]]=tab_data[Year])*tab_data[Life Expectancy])-tab_selected_country_data[[#This Row],[Min Life Expectancy]]","v":45.625999999999998}]
[null,"Australia","Asia + Pacific",{"$f":"MATCH(tab_xy_scatter_data[[#This Row],[Country]]&\"|\"&Control!$C$9,tab_data[ID (Country|Year)],0)","v":524},{"$f":"INDEX(tab_data[Fertility],tab_xy_scatter_data[[#This Row],[Position]])","v":2.859},{"$f":"INDEX(tab_data[Life Expectancy],tab_xy_scatter_data[[#This Row],[Position]])","v":70.81},{"$f":"IF(Control!$C$12,tab_xy_scatter_data[[#This Row],[Fertility Rate All]],NV())","v":2.859},{"$f":"IF(Control!$C$12,tab_xy_scatter_data[[#This Row],[Life Expectancy All]],NV())","v":70.81},{"$f":"IF(AND(Control!$C$6=tab_xy_scatter_data[[#This Row],[Region]],Control!$C$13),tab_xy_scatter_data[[#This Row],[Fertility Rate All]],NA())","v":{"$error":"#N/A"}},{"$f":"IF(AND(Control!$C$6=tab_xy_scatter_data[[#This Row],[Region]],Control!$C$13),tab_xy_scatter_data[[#This Row],[Life Expectancy All]],NA())","v":{"$error":"#N/A"}},{"$f":"INDEX(tab_data[Population],tab_xy_scatter_data[[#This Row],[Position]])","v":12728362},null,1958,{"$f":"MATCH(Control!$C$5&\"|\"&tab_selected_country_data[[#This Row],[Year]],tab_data[ID (Country|Year)],0)","v":3721},{"$f":"INDEX(tab_data[Fertility],tab_selected_country_data[[#This Row],[Position]])","v":2.68},{"$f":"IF(tab_selected_country_data[[#This Row],[Year]]=Control!$C$9,tab_selected_country_data[[#This Row],[Fertility Rate All]],NA())","v":{"$error":"#N/A"}},{"$f":"AVERAGEIF(tab_data[Year],tab_selected_country_data[[#This Row],[Year]],tab_data[Fertility])","v":5.5171454539823026},{"$f":"SUMPRODUCT(($M15=tab_data[Year])*tab_data[Fertility]*tab_data[Population])/SUMIF(tab_data[Year],$M15,tab_data[Population])","v":5.0113762960265245},{"$f":"INDEX(tab_selected_country_data[[#This Row],[Average Fertility Rate]:[Weighted Average Fertility Rate]],1,Control!$C$11)","v":5.5171454539823026},{"$f":"MIN(IF((tab_selected_country_data[[#This Row],[Year]]=tab_data[Year]),tab_data[Fertility],999999999))","v":1.9379999999999999},{"$f":"MAX((tab_selected_country_data[[#This Row],[Year]]=tab_data[Year])*tab_data[Fertility])-tab_selected_country_data[[#This Row],[Min Fertility Rate]]","v":6.2229999999999999},{"$f":"INDEX(tab_data[Life Expectancy],tab_selected_country_data[[#This Row],[Position]])","v":68.63},{"$f":"IF(AND(Control!$C$14,tab_selected_country_data[[#This Row],[Year]]<Control!$C$9),tab_selected_country_data[[#This Row],[Life Expectancy]],NA())","v":68.63},{"$f":"IF(AND(Control!$C$14,tab_selected_country_data[[#This Row],[Year]]>Control!$C$9),tab_selected_country_data[[#This Row],[Life Expectancy]],NA())","v":{"$error":"#N/A"}},{"$f":"IF(tab_selected_country_data[[#This Row],[Year]]=Control!$C$9,tab_selected_country_data[[#This Row],[Life Expectancy]],NA())","v":{"$error":"#N/A"}},{"$f":"AVERAGEIF(tab_data[Year],tab_selected_country_data[[#This Row],[Year]],tab_data[Life Expectancy])","v":53.271336999999974},{"$f":"SUMPRODUCT(($M15=tab_data[Year])*tab_data[Life Expectancy]*tab_data[Population])/SUMIF(tab_data[Year],$M15,tab_data[Population])","v":53.484054130507367},{"$f":"INDEX(tab_selected_country_data[[#This Row],[Average Life Expectancy]:[Weighted Average Life Expectancy]],1,Control!$C$11)","v":53.271336999999974},{"$f":"SUMPRODUCT(($M15=tab_data[Year])*tab_data[Life Expectancy]*tab_data[Population])/SUMIF(tab_data[Year],$M15,tab_data[Population])","v":53.484054130507367},{"$f":"MIN(IF((tab_selected_country_data[[#This Row],[Year]]=tab_data[Year]),tab_data[Life Expectancy],999999999))","v":27.963999999999999},{"$f":"MAX((tab_selected_country_data[[#This Row],[Year]]=tab_data[Year])*tab_data[Life Expectancy])-tab_selected_country_data[[#This Row],[Min Life Expectancy]]","v":45.466000000000008}]
[null,"Austria","Europe",{"$f":"MATCH(tab_xy_scatter_data[[#This Row],[Country]]&\"|\"&Control!$C$9,tab_data[ID (Country|Year)],0)","v":593},{"$f":"INDEX(tab_data[Fertility],tab_xy_scatter_data[[#This Row],[Position]])","v":2.2919999999999998},{"$f":"INDEX(tab_data[Life Expectancy],tab_xy_scatter_data[[#This Row],[Position]])","v":70.11},{"$f":"IF(Control!$C$12,tab_xy_scatter_data[[#This Row],[Fertility Rate All]],NV())","v":2.2919999999999998},{"$f":"IF(Control!$C$12,tab_xy_scatter_data[[#This Row],[Life Expectancy All]],NV())","v":70.11},{"$f":"IF(AND(Control!$C$6=tab_xy_scatter_data[[#This Row],[Region]],Control!$C$13),tab_xy_scatter_data[[#This Row],[Fertility Rate All]],NA())","v":2.2919999999999998},{"$f":"IF(AND(Control!$C$6=tab_xy_scatter_data[[#This Row],[Region]],Control!$C$13),tab_xy_scatter_data[[#This Row],[Life Expectancy All]],NA())","v":70.11},{"$f":"INDEX(tab_data[Population],tab_xy_scatter_data[[#This Row],[Position]])","v":7465908},null,1959,{"$f":"MATCH(Control!$C$5&\"|\"&tab_selected_country_data[[#This Row],[Year]],tab_data[ID (Country|Year)],0)","v":3723},{"$f":"INDEX(tab_data[Fertility],tab_selected_country_data[[#This Row],[Position]])","v":2.75},{"$f":"IF(tab_selected_country_data[[#This Row],[Year]]=Control!$C$9,tab_selected_country_data[[#This Row],[Fertility Rate All]],NA())","v":{"$error":"#N/A"}},{"$f":"AVERAGEIF(tab_data[Year],tab_selected_country_data[[#This Row],[Year]],tab_data[Fertility])","v":5.5181753982300892},{"$f":"SUMPRODUCT(($M16=tab_data[Year])*tab_data[Fertility]*tab_data[Population])/SUMIF(tab_data[Year],$M16,tab_data[Population])","v":4.7492325081470801},{"$f":"INDEX(tab_selected_country_data[[#This Row],[Average Fertility Rate]:[Weighted Average Fertility Rate]],1,Control!$C$11)","v":5.5181753982300892},{"$f":"MIN(IF((tab_selected_country_data[[#This Row],[Year]]=tab_data[Year]),tab_data[Fertility],999999999))","v":1.919},{"$f":"MAX((tab_selected_country_data[[#This Row],[Year]]=tab_data[Year])*tab_data[Fertility])-tab_selected_country_data[[#This Row],[Min Fertility Rate]]","v":6.2569999999999997},{"$f":"INDEX(tab_data[Life Expectancy],tab_selected_country_data[[#This Row],[Position]])","v":68.81},{"$f":"IF(AND(Control!$C$14,tab_selected_country_data[[#This Row],[Year]]<Control!$C$9),tab_selected_country_data[[#This Row],[Life Expectancy]],NA())","v":68.81},{"$f":"IF(AND(Control!$C$14,tab_selected_country_data[[#This Row],[Year]]>Control!$C$9),tab_selected_country_data[[#This Row],[Life Expectancy]],NA())","v":{"$error":"#N/A"}},{"$f":"IF(tab_selected_country_data[[#This Row],[Year]]=Control!$C$9,tab_selected_country_data[[#This Row],[Life Expectancy]],NA())","v":{"$error":"#N/A"}},{"$f":"AVERAGEIF(tab_data[Year],tab_selected_country_data[[#This Row],[Year]],tab_data[Life Expectancy])","v":53.652207399999995},{"$f":"SUMPRODUCT(($M16=tab_data[Year])*tab_data[Life Expectancy]*tab_data[Population])/SUMIF(tab_data[Year],$M16,tab_data[Population])","v":51.238619360863204},{"$f":"INDEX(tab_selected_country_data[[#This Row],[Average Life Expectancy]:[Weighted Average Life Expectancy]],1,Control!$C$11)","v":53.652207399999995},{"$f":"SUMPRODUCT(($M16=tab_data[Year])*tab_data[Life Expectancy]*tab_data[Population])/SUMIF(tab_data[Year],$M16,tab_data[Population])","v":51.238619360863204},{"$f":"MIN(IF((tab_selected_country_data[[#This Row],[Year]]=tab_data[Year]),tab_data[Life Expectancy],999999999))","v":28.077000000000002},{"$f":"MAX((tab_selected_country_data[[#This Row],[Year]]=tab_data[Year])*tab_data[Life Expectancy])-tab_selected_country_data[[#This Row],[Min Life Expectancy]]","v":45.483000000000004}]
[null,"Azerbaijan","Europe",{"$f":"MATCH(tab_xy_scatter_data[[#This Row],[Country]]&\"|\"&Control!$C$9,tab_data[ID (Country|Year)],0)","v":671},{"$f":"INDEX(tab_data[Fertility],tab_xy_scatter_data[[#This Row],[Position]])","v":4.6120000000000001},{"$f":"INDEX(tab_data[Life Expectancy],tab_xy_scatter_data[[#This Row],[Position]])","v":65.034999999999997},{"$f":"IF(Control!$C$12,tab_xy_scatter_data[[#This Row],[Fertility Rate All]],NV())","v":4.6120000000000001},{"$f":"IF(Control!$C$12,tab_xy_scatter_data[[#This Row],[Life Expectancy All]],NV())","v":65.034999999999997},{"$f":"IF(AND(Control!$C$6=tab_xy_scatter_data[[#This Row],[Region]],Control!$C$13),tab_xy_scatter_data[[#This Row],[Fertility Rate All]],NA())","v":4.6120000000000001},{"$f":"IF(AND(Control!$C$6=tab_xy_scatter_data[[#This Row],[Region]],Control!$C$13),tab_xy_scatter_data[[#This Row],[Life Expectancy All]],NA())","v":65.034999999999997},{"$f":"INDEX(tab_data[Population],tab_xy_scatter_data[[#This Row],[Position]])","v":5172002},null,1960,{"$f":"MATCH(Control!$C$5&\"|\"&tab_selected_country_data[[#This Row],[Year]],tab_data[ID (Country|Year)],0)","v":3724},{"$f":"INDEX(tab_data[Fertility],tab_selected_country_data[[#This Row],[Position]])","v":2.71},{"$f":"IF(tab_selected_country_data[[#This Row],[Year]]=Control!$C$9,tab_selected_country_data[[#This Row],[Fertility Rate All]],NA())","v":{"$error":"#N/A"}},{"$f":"AVERAGEIF(tab_data[Year],tab_selected_country_data[[#This Row],[Year]],tab_data[Fertility])","v":5.5190425078149072},{"$f":"SUMPRODUCT(($M17=tab_data[Year])*tab_data[Fertility]*tab_data[Population])/SUMIF(tab_data[Year],$M17,tab_data[Population])","v":4.6907968691437629},{"$f":"INDEX(tab_selected_country_data[[#This Row],[Average Fertility Rate]:[Weighted Average Fertility Rate]],1,Control!$C$11)","v":5.5190425078149072},{"$f":"MIN(IF((tab_selected_country_data[[#This Row],[Year]]=tab_data[Year]),tab_data[Fertility],999999999))","v":1.899},{"$f":"MAX((tab_selected_country_data[[#This Row],[Year]]=tab_data[Year])*tab_data[Fertility])-tab_selected_country_data[[#This Row],[Min Fertility Rate]]","v":6.2879999999999994},{"$f":"INDEX(tab_data[Life Expectancy],tab_selected_country_data[[#This Row],[Position]])","v":69.010000000000005},{"$f":"IF(AND(Control!$C$14,tab_selected_country_data[[#This Row],[Year]]<Control!$C$9),tab_selected_country_data[[#This Row],[Life Expectancy]],NA())","v":69.010000000000005},{"$f":"IF(AND(Control!$C$14,tab_selected_country_data[[#This Row],[Year]]>Control!$C$9),tab_selected_country_data[[#This Row],[Life Expectancy]],NA())","v":{"$error":"#N/A"}},{"$f":"IF(tab_selected_country_data[[#This Row],[Year]]=Control!$C$9,tab_selected_country_data[[#This Row],[Life Expectancy]],NA())","v":{"$error":"#N/A"}},{"$f":"AVERAGEIF(tab_data[Year],tab_selected_country_data[[#This Row],[Year]],tab_data[Life Expectancy])","v":54.108491343283589},{"$f":"SUMPRODUCT(($M17=tab_data[Year])*tab_data[Life Expectancy]*tab_data[Population])/SUMIF(tab_data[Year],$M17,tab_data[Population])","v":50.179276591722719},{"$f":"INDEX(tab_selected_country_data[[#This Row],[Average Life Expectancy]:[Weighted Average Life Expectancy]],1,Control!$C$11)","v":54.108491343283589},{"$f":"SUMPRODUCT(($M17=tab_data[Year])*tab_data[Life Expectancy]*tab_data[Population])/SUMIF(tab_data[Year],$M17,tab_data[Population])","v":50.179276591722719},{"$f":"MIN(IF((tab_selected_country_data[[#This Row],[Year]]=tab_data[Year]),tab_data[Life Expectancy],999999999))","v":28.199000000000002},{"$f":"MAX((tab_selected_country_data[[#This Row],[Year]]=tab_data[Year])*tab_data[Life Expectancy])-tab_selected_country_data[[#This Row],[Min Life Expectancy]]","v":45.891000000000005}]
[null,"Bahamas","Latin America + Caribbean",{"$f":"MATCH(tab_xy_scatter_data[[#This Row],[Country]]&\"|\"&Control!$C$9,tab_data[ID (Country|Year)],0)","v":725},{"$f":"INDEX(tab_data[Fertility],tab_xy_scatter_data[[#This Row],[Position]])","v":3.5310000000000001},{"$f":"INDEX(tab_data[Life Expectancy],tab_xy_scatter_data[[#This Row],[Position]])","v":65.942999999999998},{"$f":"IF(Control!$C$12,tab_xy_scatter_data[[#This Row],[Fertility Rate All]],NV())","v":3.5310000000000001},{"$f":"IF(Control!$C$12,tab_xy_scatter_data[[#This Row],[Life Expectancy All]],NV())","v":65.942999999999998},{"$f":"IF(AND(Control!$C$6=tab_xy_scatter_data[[#This Row],[Region]],Control!$C$13),tab_xy_scatter_data[[#This Row],[Fertility Rate All]],NA())","v":{"$error":"#N/A"}},{"$f":"IF(AND(Control!$C$6=tab_xy_scatter_data[[#This Row],[Region]],Control!$C$13),tab_xy_scatter_data[[#This Row],[Life Expectancy All]],NA())","v":{"$error":"#N/A"}},{"$f":"INDEX(tab_data[Population],tab_xy_scatter_data[[#This Row],[Position]])","v":169367},null,1961,{"$f":"MATCH(Control!$C$5&\"|\"&tab_selected_country_data[[#This Row],[Year]],tab_data[ID (Country|Year)],0)","v":3725},{"$f":"INDEX(tab_data[Fertility],tab_selected_country_data[[#This Row],[Position]])","v":2.65},{"$f":"IF(tab_selected_country_data[[#This Row],[Year]]=Control!$C$9,tab_selected_country_data[[#This Row],[Fertility Rate All]],NA())","v":{"$error":"#N/A"}},{"$f":"AVERAGEIF(tab_data[Year],tab_selected_country_data[[#This Row],[Year]],tab_data[Fertility])","v":5.5069267265442701},{"$f":"SUMPRODUCT(($M18=tab_data[Year])*tab_data[Fertility]*tab_data[Population])/SUMIF(tab_data[Year],$M18,tab_data[Population])","v":4.5353223926510298},{"$f":"INDEX(tab_selected_country_data[[#This Row],[Average Fertility Rate]:[Weighted Average Fertility Rate]],1,Control!$C$11)","v":5.5069267265442701},{"$f":"MIN(IF((tab_selected_country_data[[#This Row],[Year]]=tab_data[Year]),tab_data[Fertility],999999999))","v":1.877},{"$f":"MAX((tab_selected_country_data[[#This Row],[Year]]=tab_data[Year])*tab_data[Fertility])-tab_selected_country_data[[#This Row],[Min Fertility Rate]]","v":6.3170000000000011},{"$f":"INDEX(tab_data[Life Expectancy],tab_selected_country_data[[#This Row],[Position]])","v":69.040000000000006},{"$f":"IF(AND(Control!$C$14,tab_selected_country_data[[#This Row],[Year]]<Control!$C$9),tab_selected_country_data[[#This Row],[Life Expectancy]],NA())","v":69.040000000000006},{"$f":"IF(AND(Control!$C$14,tab_selected_country_data[[#This Row],[Year]]>Control!$C$9),tab_selected_country_data[[#This Row],[Life Expectancy]],NA())","v":{"$error":"#N/A"}},{"$f":"IF(tab_selected_country_data[[#This Row],[Year]]=Control!$C$9,tab_selected_country_data[[#This Row],[Life Expectancy]],NA())","v":{"$error":"#N/A"}},{"$f":"AVERAGEIF(tab_data[Year],tab_selected_country_data[[#This Row],[Year]],tab_data[Life Expectancy])","v":54.597047164179102},{"$f":"SUMPRODUCT(($M18=tab_data[Year])*tab_data[Life Expectancy]*tab_data[Population])/SUMIF(tab_data[Year],$M18,tab_data[Population])","v":51.108792685915262},{"$f":"INDEX(tab_selected_country_data[[#This Row],[Average Life Expectancy]:[Weighted Average Life Expectancy]],1,Control!$C$11)","v":54.597047164179102},{"$f":"SUMPRODUCT(($M18=tab_data[Year])*tab_data[Life Expectancy]*tab_data[Population])/SUMIF(tab_data[Year],$M18,tab_data[Population])","v":51.108792685915262},{"$f":"MIN(IF((tab_selected_country_data[[#This Row],[Year]]=tab_data[Year]),tab_data[Life Expectancy],999999999))","v":28.344999999999999},{"$f":"MAX((tab_selected_country_data[[#This Row],[Year]]=tab_data[Year])*tab_data[Life Expectancy])-tab_selected_country_data[[#This Row],[Min Life Expectancy]]","v":45.245000000000005}]
[null,"Bahrain","West Asia",{"$f":"MATCH(tab_xy_scatter_data[[#This Row],[Country]]&\"|\"&Control!$C$9,tab_data[ID (Country|Year)],0)","v":789},{"$f":"INDEX(tab_data[Fertility],tab_xy_scatter_data[[#This Row],[Position]])","v":6.4980000000000002},{"$f":"INDEX(tab_data[Life Expectancy],tab_xy_scatter_data[[#This Row],[Position]])","v":63.45},{"$f":"IF(Control!$C$12,tab_xy_scatter_data[[#This Row],[Fertility Rate All]],NV())","v":6.4980000000000002},{"$f":"IF(Control!$C$12,tab_xy_scatter_data[[#This Row],[Life Expectancy All]],NV())","v":63.45},{"$f":"IF(AND(Control!$C$6=tab_xy_scatter_data[[#This Row],[Region]],Control!$C$13),tab_xy_scatter_data[[#This Row],[Fertility Rate All]],NA())","v":{"$error":"#N/A"}},{"$f":"IF(AND(Control!$C$6=tab_xy_scatter_data[[#This Row],[Region]],Control!$C$13),tab_xy_scatter_data[[#This Row],[Life Expectancy All]],NA())","v":{"$error":"#N/A"}},{"$f":"INDEX(tab_data[Population],tab_xy_scatter_data[[#This Row],[Position]])","v":211878},null,1962,{"$f":"MATCH(Control!$C$5&\"|\"&tab_selected_country_data[[#This Row],[Year]],tab_data[ID (Country|Year)],0)","v":3722},{"$f":"INDEX(tab_data[Fertility],tab_selected_country_data[[#This Row],[Position]])","v":2.66},{"$f":"IF(tab_selected_country_data[[#This Row],[Year]]=Control!$C$9,tab_selected_country_data[[#This Row],[Fertility Rate All]],NA())","v":{"$error":"#N/A"}},{"$f":"AVERAGEIF(tab_data[Year],tab_selected_country_data[[#This Row],[Year]],tab_data[Fertility])","v":5.5046491498260854},{"$f":"SUMPRODUCT(($M19=tab_data[Year])*tab_data[Fertility]*tab_data[Population])/SUMIF(tab_data[Year],$M19,tab_data[Population])","v":5.1012099635239716},{"$f":"INDEX(tab_selected_country_data[[#This Row],[Average Fertility Rate]:[Weighted Average Fertility Rate]],1,Control!$C$11)","v":5.5046491498260854},{"$f":"MIN(IF((tab_selected_country_data[[#This Row],[Year]]=tab_data[Year]),tab_data[Fertility],999999999))","v":1.8560000000000001},{"$f":"MAX((tab_selected_country_data[[#This Row],[Year]]=tab_data[Year])*tab_data[Fertility])-tab_selected_country_data[[#This Row],[Min Fertility Rate]]","v":6.3409999999999993},{"$f":"INDEX(tab_data[Life Expectancy],tab_selected_country_data[[#This Row],[Position]])","v":68.75},{"$f":"IF(AND(Control!$C$14,tab_selected_country_data[[#This Row],[Year]]<Control!$C$9),tab_selected_country_data[[#This Row],[Life Expectancy]],NA())","v":68.75},{"$f":"IF(AND(Control!$C$14,tab_selected_country_data[[#This Row],[Year]]>Control!$C$9),tab_selected_country_data[[#This Row],[Life Expectancy]],NA())","v":{"$error":"#N/A"}},{"$f":"IF(tab_selected_country_data[[#This Row],[Year]]=Control!$C$9,tab_selected_country_data[[#This Row],[Life Expectancy]],NA())","v":{"$error":"#N/A"}},{"$f":"AVERAGEIF(tab_data[Year],tab_selected_country_data[[#This Row],[Year]],tab_data[Life Expectancy])","v":55.020519203980086},{"$f":"SUMPRODUCT(($M19=tab_data[Year])*tab_data[Life Expectancy]*tab_data[Population])/SUMIF(tab_data[Year],$M19,tab_data[Population])","v":53.573296365456805},{"$f":"INDEX(tab_selected_country_data[[#This Row],[Average Life Expectancy]:[Weighted Average Life Expectancy]],1,Control!$C$11)","v":55.020519203980086},{"$f":"SUMPRODUCT(($M19=tab_data[Year])*tab_data[Life Expectancy]*tab_data[Population])/SUMIF(tab_data[Year],$M19,tab_data[Population])","v":53.573296365456805},{"$f":"MIN(IF((tab_selected_country_data[[#This Row],[Year]]=tab_data[Year]),tab_data[Life Expectancy],999999999))","v":28.533999999999999},{"$f":"MAX((tab_selected_country_data[[#This Row],[Year]]=tab_data[Year])*tab_data[Life Expectancy])-tab_selected_country_data[[#This Row],[Min Life Expectancy]]","v":45.146000000000008}]
[null,"Bangladesh","Asia + Pacific",{"$f":"MATCH(tab_xy_scatter_data[[#This Row],[Country]]&\"|\"&Control!$C$9,tab_data[ID (Country|Year)],0)","v":847},{"$f":"INDEX(tab_data[Fertility],tab_xy_scatter_data[[#This Row],[Position]])","v":6.9470000000000001},{"$f":"INDEX(tab_data[Life Expectancy],tab_xy_scatter_data[[#This Row],[Position]])","v":47.58},{"$f":"IF(Control!$C$12,tab_xy_scatter_data[[#This Row],[Fertility Rate All]],NV())","v":6.9470000000000001},{"$f":"IF(Control!$C$12,tab_xy_scatter_data[[#This Row],[Life Expectancy All]],NV())","v":47.58},{"$f":"IF(AND(Control!$C$6=tab_xy_scatter_data[[#This Row],[Region]],Control!$C$13),tab_xy_scatter_data[[#This Row],[Fertility Rate All]],NA())","v":{"$error":"#N/A"}},{"$f":"IF(AND(Control!$C$6=tab_xy_scatter_data[[#This Row],[Region]],Control!$C$13),tab_xy_scatter_data[[#This Row],[Life Expectancy All]],NA())","v":{"$error":"#N/A"}},{"$f":"INDEX(tab_data[Population],tab_xy_scatter_data[[#This Row],[Position]])","v":66881158},null,1963,{"$f":"MATCH(Control!$C$5&\"|\"&tab_selected_country_data[[#This Row],[Year]],tab_data[ID (Country|Year)],0)","v":3727},{"$f":"INDEX(tab_data[Fertility],tab_selected_country_data[[#This Row],[Position]])","v":2.66},{"$f":"IF(tab_selected_country_data[[#This Row],[Year]]=Control!$C$9,tab_selected_country_data[[#This Row],[Fertility Rate All]],NA())","v":{"$error":"#N/A"}},{"$f":"AVERAGEIF(tab_data[Year],tab_selected_country_data[[#This Row],[Year]],tab_data[Fertility])","v":5.4893188068507044},{"$f":"SUMPRODUCT(($M20=tab_data[Year])*tab_data[Fertility]*tab_data[Population])/SUMIF(tab_data[Year],$M20,tab_data[Population])","v":5.3948012254462263},{"$f":"INDEX(tab_selected_country_data[[#This Row],[Average Fertility Rate]:[Weighted Average Fertility Rate]],1,Control!$C$11)","v":5.4893188068507044},{"$f":"MIN(IF((tab_selected_country_data[[#This Row],[Year]]=tab_data[Year]),tab_data[Fertility],999999999))","v":1.8360000000000001},{"$f":"MAX((tab_selected_country_data[[#This Row],[Year]]=tab_data[Year])*tab_data[Fertility])-tab_selected_country_data[[#This Row],[Min Fertility Rate]]","v":6.3620000000000001},{"$f":"INDEX(tab_data[Life Expectancy],tab_selected_country_data[[#This Row],[Position]])","v":69.16},{"$f":"IF(AND(Control!$C$14,tab_selected_country_data[[#This Row],[Year]]<Control!$C$9),tab_selected_country_data[[#This Row],[Life Expectancy]],NA())","v":69.16},{"$f":"IF(AND(Control!$C$14,tab_selected_country_data[[#This Row],[Year]]>Control!$C$9),tab_selected_country_data[[#This Row],[Life Expectancy]],NA())","v":{"$error":"#N/A"}},{"$f":"IF(tab_selected_country_data[[#This Row],[Year]]=Control!$C$9,tab_selected_country_data[[#This Row],[Life Expectancy]],NA())","v":{"$error":"#N/A"}},{"$f":"AVERAGEIF(tab_data[Year],tab_selected_country_data[[#This Row],[Year]],tab_data[Life Expectancy])","v":55.50750308457711},{"$f":"SUMPRODUCT(($M20=tab_data[Year])*tab_data[Life Expectancy]*tab_data[Population])/SUMIF(tab_data[Year],$M20,tab_data[Population])","v":55.493497843339988},{"$f":"INDEX(tab_selected_country_data[[#This Row],[Average Life Expectancy]:[Weighted Average Life Expectancy]],1,Control!$C$11)","v":55.50750308457711},{"$f":"SUMPRODUCT(($M20=tab_data[Year])*tab_data[Life Expectancy]*tab_data[Population])/SUMIF(tab_data[Year],$M20,tab_data[Population])","v":55.493497843339988},{"$f":"MIN(IF((tab_selected_country_data[[#This Row],[Year]]=tab_data[Year]),tab_data[Life Expectancy],999999999))","v":28.780999999999999},{"$f":"MAX((tab_selected_country_data[[#This Row],[Year]]=tab_data[Year])*tab_data[Life Expectancy])-tab_selected_country_data[[#This Row],[Min Life Expectancy]]","v":44.779000000000003}]
[null,"Barbados","Latin America + Caribbean",{"$f":"MATCH(tab_xy_scatter_data[[#This Row],[Country]]&\"|\"&Control!$C$9,tab_data[ID (Country|Year)],0)","v":917},{"$f":"INDEX(tab_data[Fertility],tab_xy_scatter_data[[#This Row],[Position]])","v":3.113},{"$f":"INDEX(tab_data[Life Expectancy],tab_xy_scatter_data[[#This Row],[Position]])","v":65.164000000000001},{"$f":"IF(Control!$C$12,tab_xy_scatter_data[[#This Row],[Fertility Rate All]],NV())","v":3.113},{"$f":"IF(Control!$C$12,tab_xy_scatter_data[[#This Row],[Life Expectancy All]],NV())","v":65.164000000000001},{"$f":"IF(AND(Control!$C$6=tab_xy_scatter_data[[#This Row],[Region]],Control!$C$13),tab_xy_scatter_data[[#This Row],[Fertility Rate All]],NA())","v":{"$error":"#N/A"}},{"$f":"IF(AND(Control!$C$6=tab_xy_scatter_data[[#This Row],[Region]],Control!$C$13),tab_xy_scatter_data[[#This Row],[Life Expectancy All]],NA())","v":{"$error":"#N/A"}},{"$f":"INDEX(tab_data[Population],tab_xy_scatter_data[[#This Row],[Position]])","v":238593},null,1964,{"$f":"MATCH(Control!$C$5&\"|\"&tab_selected_country_data[[#This Row],[Year]],tab_data[ID (Country|Year)],0)","v":3728},{"$f":"INDEX(tab_data[Fertility],tab_selected_country_data[[#This Row],[Position]])","v":2.58},{"$f":"IF(tab_selected_country_data[[#This Row],[Year]]=Control!$C$9,tab_selected_country_data[[#This Row],[Fertility Rate All]],NA())","v":{"$error":"#N/A"}},{"$f":"AVERAGEIF(tab_data[Year],tab_selected_country_data[[#This Row],[Year]],tab_data[Fertility])","v":5.4492285704222256},{"$f":"SUMPRODUCT(($M21=tab_data[Year])*tab_data[Fertility]*tab_data[Population])/SUMIF(tab_data[Year],$M21,tab_data[Population])","v":5.0993027788386911},{"$f":"INDEX(tab_selected_country_data[[#This Row],[Average Fertility Rate]:[Weighted Average Fertility Rate]],1,Control!$C$11)","v":5.4492285704222256},{"$f":"MIN(IF((tab_selected_country_data[[#This Row],[Year]]=tab_data[Year]),tab_data[Fertility],999999999))","v":1.819},{"$f":"MAX((tab_selected_country_data[[#This Row],[Year]]=tab_data[Year])*tab_data[Fertility])-tab_selected_country_data[[#This Row],[Min Fertility Rate]]","v":6.3790000000000004},{"$f":"INDEX(tab_data[Life Expectancy],tab_selected_country_data[[#This Row],[Position]])","v":69.37},{"$f":"IF(AND(Control!$C$14,tab_selected_country_data[[#This Row],[Year]]<Control!$C$9),tab_selected_country_data[[#This Row],[Life Expectancy]],NA())","v":69.37},{"$f":"IF(AND(Control!$C$14,tab_selected_country_data[[#This Row],[Year]]>Control!$C$9),tab_selected_country_data[[#This Row],[Life Expectancy]],NA())","v":{"$error":"#N/A"}},{"$f":"IF(tab_selected_country_data[[#This Row],[Year]]=Control!$C$9,tab_selected_country_data[[#This Row],[Life Expectancy]],NA())","v":{"$error":"#N/A"}},{"$f":"AVERAGEIF(tab_data[Year],tab_selected_country_data[[#This Row],[Year]],tab_data[Life Expectancy])","v":55.999222487562193},{"$f":"SUMPRODUCT(($M21=tab_data[Year])*tab_data[Life Expectancy]*tab_data[Population])/SUMIF(tab_data[Year],$M21,tab_data[Population])","v":56.197436201786324},{"$f":"INDEX(tab_selected_country_data[[#This Row],[Average Life Expectancy]:[Weighted Average Life Expectancy]],1,Control!$C$11)","v":55.999222487562193},{"$f":"SUMPRODUCT(($M21=tab_data[Year])*tab_data[Life Expectancy]*tab_data[Population])/SUMIF(tab_data[Year],$M21,tab_data[Population])","v":56.197436201786324},{"$f":"MIN(IF((tab_selected_country_data[[#This Row],[Year]]=tab_data[Year]),tab_data[Life Expectancy],999999999))","v":29.097000000000001},{"$f":"MAX((tab_selected_country_data[[#This Row],[Year]]=tab_data[Year])*tab_data[Life Expectancy])-tab_selected_country_data[[#This Row],[Min Life Expectancy]]","v":44.633000000000003}]
[null,"Belarus","Europe",{"$f":"MATCH(tab_xy_scatter_data[[#This Row],[Country]]&\"|\"&Control!$C$9,tab_data[ID (Country|Year)],0)","v":1013},{"$f":"INDEX(tab_data[Fertility],tab_xy_scatter_data[[#This Row],[Position]])","v":2.3039999999999998},{"$f":"INDEX(tab_data[Life Expectancy],tab_xy_scatter_data[[#This Row],[Position]])","v":72.319999999999993},{"$f":"IF(Control!$C$12,tab_xy_scatter_data[[#This Row],[Fertility Rate All]],NV())","v":2.3039999999999998},{"$f":"IF(Control!$C$12,tab_xy_scatter_data[[#This Row],[Life Expectancy All]],NV())","v":72.319999999999993},{"$f":"IF(AND(Control!$C$6=tab_xy_scatter_data[[#This Row],[Region]],Control!$C$13),tab_xy_scatter_data[[#This Row],[Fertility Rate All]],NA())","v":2.3039999999999998},{"$f":"IF(AND(Control!$C$6=tab_xy_scatter_data[[#This Row],[Region]],Control!$C$13),tab_xy_scatter_data[[#This Row],[Life Expectancy All]],NA())","v":72.319999999999993},{"$f":"INDEX(tab_data[Population],tab_xy_scatter_data[[#This Row],[Position]])","v":9039503},null,1965,{"$f":"MATCH(Control!$C$5&\"|\"&tab_selected_country_data[[#This Row],[Year]],tab_data[ID (Country|Year)],0)","v":3726},{"$f":"INDEX(tab_data[Fertility],tab_selected_country_data[[#This Row],[Position]])","v":2.46},{"$f":"IF(tab_selected_country_data[[#This Row],[Year]]=Control!$C$9,tab_selected_country_data[[#This Row],[Fertility Rate All]],NA())","v":{"$error":"#N/A"}},{"$f":"AVERAGEIF(tab_data[Year],tab_selected_country_data[[#This Row],[Year]],tab_data[Fertility])","v":5.4035402271826678},{"$f":"SUMPRODUCT(($M22=tab_data[Year])*tab_data[Fertility]*tab_data[Population])/SUMIF(tab_data[Year],$M22,tab_data[Population])","v":5.0443253147976845},{"$f":"INDEX(tab_selected_country_data[[#This Row],[Average Fertility Rate]:[Weighted Average Fertility Rate]],1,Control!$C$11)","v":5.4035402271826678},{"$f":"MIN(IF((tab_selected_country_data[[#This Row],[Year]]=tab_data[Year]),tab_data[Fertility],999999999))","v":1.8089999999999999},{"$f":"MAX((tab_selected_country_data[[#This Row],[Year]]=tab_data[Year])*tab_data[Fertility])-tab_selected_country_data[[#This Row],[Min Fertility Rate]]","v":6.3890000000000002},{"$f":"INDEX(tab_data[Life Expectancy],tab_selected_country_data[[#This Row],[Position]])","v":69.13},{"$f":"IF(AND(Control!$C$14,tab_selected_country_data[[#This Row],[Year]]<Control!$C$9),tab_selected_country_data[[#This Row],[Life Expectancy]],NA())","v":69.13},{"$f":"IF(AND(Control!$C$14,tab_selected_country_data[[#This Row],[Year]]>Control!$C$9),tab_selected_country_data[[#This Row],[Life Expectancy]],NA())","v":{"$error":"#N/A"}},{"$f":"IF(tab_selected_country_data[[#This Row],[Year]]=Control!$C$9,tab_selected_country_data[[#This Row],[Life Expectancy]],NA())","v":{"$error":"#N/A"}},{"$f":"AVERAGEIF(tab_data[Year],tab_selected_country_data[[#This Row],[Year]],tab_data[Life Expectancy])","v":56.397347263681567},{"$f":"SUMPRODUCT(($M22=tab_data[Year])*tab_data[Life Expectancy]*tab_data[Population])/SUMIF(tab_data[Year],$M22,tab_data[Population])","v":56.922779320595517},{"$f":"INDEX(tab_selected_country_data[[#This Row],[Average Life Expectancy]:[Weighted Average Life Expectancy]],1,Control!$C$11)","v":56.397347263681567},{"$f":"SUMPRODUCT(($M22=tab_data[Year])*tab_data[Life Expectancy]*tab_data[Population])/SUMIF(tab_data[Year],$M22,tab_data[Population])","v":56.922779320595517},{"$f":"MIN(IF((tab_selected_country_data[[#This Row],[Year]]=tab_data[Year]),tab_data[Life Expectancy],999999999))","v":29.488},{"$f":"MAX((tab_selected_country_data[[#This Row],[Year]]=tab_data[Year])*tab_data[Life Expectancy])-tab_selected_country_data[[#This Row],[Min Life Expectancy]]","v":44.391999999999996}]
[null,"Belgium","Europe",{"$f":"MATCH(tab_xy_scatter_data[[#This Row],[Country]]&\"|\"&Control!$C$9,tab_data[ID (Country|Year)],0)","v":1045},{"$f":"INDEX(tab_data[Fertility],tab_xy_scatter_data[[#This Row],[Position]])","v":2.206},{"$f":"INDEX(tab_data[Life Expectancy],tab_xy_scatter_data[[#This Row],[Position]])","v":70.97},{"$f":"IF(Control!$C$12,tab_xy_scatter_data[[#This Row],[Fertility Rate All]],NV())","v":2.206},{"$f":"IF(Control!$C$12,tab_xy_scatter_data[[#This Row],[Life Expectancy All]],NV())","v":70.97},{"$f":"IF(AND(Control!$C$6=tab_xy_scatter_data[[#This Row],[Region]],Control!$C$13),tab_xy_scatter_data[[#This Row],[Fertility Rate All]],NA())","v":2.206},{"$f":"IF(AND(Control!$C$6=tab_xy_scatter_data[[#This Row],[Region]],Control!$C$13),tab_xy_scatter_data[[#This Row],[Life Expectancy All]],NA())","v":70.97},{"$f":"INDEX(tab_data[Population],tab_xy_scatter_data[[#This Row],[Position]])","v":9624908},null,1966,{"$f":"MATCH(Control!$C$5&\"|\"&tab_selected_country_data[[#This Row],[Year]],tab_data[ID (Country|Year)],0)","v":3729},{"$f":"INDEX(tab_data[Fertility],tab_selected_country_data[[#This Row],[Position]])","v":2.41},{"$f":"IF(tab_selected_country_data[[#This Row],[Year]]=Control!$C$9,tab_selected_country_data[[#This Row],[Fertility Rate All]],NA())","v":{"$error":"#N/A"}},{"$f":"AVERAGEIF(tab_data[Year],tab_selected_country_data[[#This Row],[Year]],tab_data[Fertility])","v":5.3532353515607776},{"$f":"SUMPRODUCT(($M23=tab_data[Year])*tab_data[Fertility]*tab_data[Population])/SUMIF(tab_data[Year],$M23,tab_data[Population])","v":5.0524719702522463},{"$f":"INDEX(tab_selected_country_data[[#This Row],[Average Fertility Rate]:[Weighted Average Fertility Rate]],1,Control!$C$11)","v":5.3532353515607776},{"$f":"MIN(IF((tab_selected_country_data[[#This Row],[Year]]=tab_data[Year]),tab_data[Fertility],999999999))","v":1.81},{"$f":"MAX((tab_selected_country_data[[#This Row],[Year]]=tab_data[Year])*tab_data[Fertility])-tab_selected_country_data[[#This Row],[Min Fertility Rate]]","v":6.3879999999999999},{"$f":"INDEX(tab_data[Life Expectancy],tab_selected_country_data[[#This Row],[Position]])","v":69.650000000000006},{"$f":"IF(AND(Control!$C$14,tab_selected_country_data[[#This Row],[Year]]<Control!$C$9),tab_selected_country_data[[#This Row],[Life Expectancy]],NA())","v":69.650000000000006},{"$f":"IF(AND(Control!$C$14,tab_selected_country_data[[#This Row],[Year]]>Control!$C$9),tab_selected_country_data[[#This Row],[Life Expectancy]],NA())","v":{"$error":"#N/A"}},{"$f":"IF(tab_selected_country_data[[#This Row],[Year]]=Control!$C$9,tab_selected_country_data[[#This Row],[Life Expectancy]],NA())","v":{"$error":"#N/A"}},{"$f":"AVERAGEIF(tab_data[Year],tab_selected_country_data[[#This Row],[Year]],tab_data[Life Expectancy])","v":56.819060696517404},{"$f":"SUMPRODUCT(($M23=tab_data[Year])*tab_data[Life Expectancy]*tab_data[Population])/SUMIF(tab_data[Year],$M23,tab_data[Population])","v":57.468893107953129},{"$f":"INDEX(tab_selected_country_data[[#This Row],[Average Life Expectancy]:[Weighted Average Life Expectancy]],1,Control!$C$11)","v":56.819060696517404},{"$f":"SUMPRODUCT(($M23=tab_data[Year])*tab_data[Life Expectancy]*tab_data[Population])/SUMIF(tab_data[Year],$M23,tab_data[Population])","v":57.468893107953129},{"$f":"MIN(IF((tab_selected_country_data[[#This Row],[Year]]=tab_data[Year]),tab_data[Life Expectancy],999999999))","v":29.959},{"$f":"MAX((tab_selected_country_data[[#This Row],[Year]]=tab_data[Year])*tab_data[Life Expectancy])-tab_selected_country_data[[#This Row],[Min Life Expectancy]]","v":44.170999999999992}]
[null,"Belize","Latin America + Caribbean",{"$f":"MATCH(tab_xy_scatter_data[[#This Row],[Country]]&\"|\"&Control!$C$9,tab_data[ID (Country|Year)],0)","v":1109},{"$f":"INDEX(tab_data[Fertility],tab_xy_scatter_data[[#This Row],[Position]])","v":6.2990000000000004},{"$f":"INDEX(tab_data[Life Expectancy],tab_xy_scatter_data[[#This Row],[Position]])","v":65.566000000000003},{"$f":"IF(Control!$C$12,tab_xy_scatter_data[[#This Row],[Fertility Rate All]],NV())","v":6.2990000000000004},{"$f":"IF(Control!$C$12,tab_xy_scatter_data[[#This Row],[Life Expectancy All]],NV())","v":65.566000000000003},{"$f":"IF(AND(Control!$C$6=tab_xy_scatter_data[[#This Row],[Region]],Control!$C$13),tab_xy_scatter_data[[#This Row],[Fertility Rate All]],NA())","v":{"$error":"#N/A"}},{"$f":"IF(AND(Control!$C$6=tab_xy_scatter_data[[#This Row],[Region]],Control!$C$13),tab_xy_scatter_data[[#This Row],[Life Expectancy All]],NA())","v":{"$error":"#N/A"}},{"$f":"INDEX(tab_data[Population],tab_xy_scatter_data[[#This Row],[Position]])","v":122336},null,1967,{"$f":"MATCH(Control!$C$5&\"|\"&tab_selected_country_data[[#This Row],[Year]],tab_data[ID (Country|Year)],0)","v":3732},{"$f":"INDEX(tab_data[Fertility],tab_selected_country_data[[#This Row],[Position]])","v":2.3199999999999998},{"$f":"IF(tab_selected_country_data[[#This Row],[Year]]=Control!$C$9,tab_selected_country_data[[#This Row],[Fertility Rate All]],NA())","v":{"$error":"#N/A"}},{"$f":"AVERAGEIF(tab_data[Year],tab_selected_country_data[[#This Row],[Year]],tab_data[Fertility])","v":5.3053213815876372},{"$f":"SUMPRODUCT(($M24=tab_data[Year])*tab_data[Fertility]*tab_data[Population])/SUMIF(tab_data[Year],$M24,tab_data[Population])","v":4.8287804161028083},{"$f":"INDEX(tab_selected_country_data[[#This Row],[Average Fertility Rate]:[Weighted Average Fertility Rate]],1,Control!$C$11)","v":5.3053213815876372},{"$f":"MIN(IF((tab_selected_country_data[[#This Row],[Year]]=tab_data[Year]),tab_data[Fertility],999999999))","v":1.8220000000000001},{"$f":"MAX((tab_selected_country_data[[#This Row],[Year]]=tab_data[Year])*tab_data[Fertility])-tab_selected_country_data[[#This Row],[Min Fertility Rate]]","v":6.3790000000000004},{"$f":"INDEX(tab_data[Life Expectancy],tab_selected_country_data[[#This Row],[Position]])","v":69.83},{"$f":"IF(AND(Control!$C$14,tab_selected_country_data[[#This Row],[Year]]<Control!$C$9),tab_selected_country_data[[#This Row],[Life Expectancy]],NA())","v":69.83},{"$f":"IF(AND(Control!$C$14,tab_selected_country_data[[#This Row],[Year]]>Control!$C$9),tab_selected_country_data[[#This Row],[Life Expectancy]],NA())","v":{"$error":"#N/A"}},{"$f":"IF(tab_selected_country_data[[#This Row],[Year]]=Control!$C$9,tab_selected_country_data[[#This Row],[Life Expectancy]],NA())","v":{"$error":"#N/A"}},{"$f":"AVERAGEIF(tab_data[Year],tab_selected_country_data[[#This Row],[Year]],tab_data[Life Expectancy])","v":57.227503084577123},{"$f":"SUMPRODUCT(($M24=tab_data[Year])*tab_data[Life Expectancy]*tab_data[Population])/SUMIF(tab_data[Year],$M24,tab_data[Population])","v":58.049135797656724},{"$f":"INDEX(tab_selected_country_data[[#This Row],[Average Life Expectancy]:[Weighted Average Life Expectancy]],1,Control!$C$11)","v":57.227503084577123},{"$f":"SUMPRODUCT(($M24=tab_data[Year])*tab_data[Life Expectancy]*tab_data[Population])/SUMIF(tab_data[Year],$M24,tab_data[Population])","v":58.049135797656724},{"$f":"MIN(IF((tab_selected_country_data[[#This Row],[Year]]=tab_data[Year]),tab_data[Life Expectancy],999999999))","v":30.495999999999999},{"$f":"MAX((tab_selected_country_data[[#This Row],[Year]]=tab_data[Year])*tab_data[Life Expectancy])-tab_selected_country_data[[#This Row],[Min Life Expectancy]]","v":43.664000000000001}]
[null,"Benin","Africa",{"$f":"MATCH(tab_xy_scatter_data[[#This Row],[Country]]&\"|\"&Control!$C$9,tab_data[ID (Country|Year)],0)","v":1173},{"$f":"INDEX(tab_data[Fertility],tab_xy_scatter_data[[#This Row],[Position]])","v":6.7480000000000002},{"$f":"INDEX(tab_data[Life Expectancy],tab_xy_scatter_data[[#This Row],[Position]])","v":42.38},{"$f":"IF(Control!$C$12,tab_xy_scatter_data[[#This Row],[Fertility Rate All]],NV())","v":6.7480000000000002},{"$f":"IF(Control!$C$12,tab_xy_scatter_data[[#This Row],[Life Expectancy All]],NV())","v":42.38},{"$f":"IF(AND(Control!$C$6=tab_xy_scatter_data[[#This Row],[Region]],Control!$C$13),tab_xy_scatter_data[[#This Row],[Fertility Rate All]],NA())","v":{"$error":"#N/A"}},{"$f":"IF(AND(Control!$C$6=tab_xy_scatter_data[[#This Row],[Region]],Control!$C$13),tab_xy_scatter_data[[#This Row],[Life Expectancy All]],NA())","v":{"$error":"#N/A"}},{"$f":"INDEX(tab_data[Population],tab_xy_scatter_data[[#This Row],[Position]])","v":2849508},null,1968,{"$f":"MATCH(Control!$C$5&\"|\"&tab_selected_country_data[[#This Row],[Year]],tab_data[ID (Country|Year)],0)","v":3731},{"$f":"INDEX(tab_data[Fertility],tab_selected_country_data[[#This Row],[Position]])","v":2.15},{"$f":"IF(tab_selected_country_data[[#This Row],[Year]]=Control!$C$9,tab_selected_country_data[[#This Row],[Fertility Rate All]],NA())","v":{"$error":"#N/A"}},{"$f":"AVERAGEIF(tab_data[Year],tab_selected_country_data[[#This Row],[Year]],tab_data[Fertility])","v":5.2592172112886875},{"$f":"SUMPRODUCT(($M25=tab_data[Year])*tab_data[Fertility]*tab_data[Population])/SUMIF(tab_data[Year],$M25,tab_data[Population])","v":5.0444077830672596},{"$f":"INDEX(tab_selected_country_data[[#This Row],[Average Fertility Rate]:[Weighted Average Fertility Rate]],1,Control!$C$11)","v":5.2592172112886875},{"$f":"MIN(IF((tab_selected_country_data[[#This Row],[Year]]=tab_data[Year]),tab_data[Fertility],999999999))","v":1.845},{"$f":"MAX((tab_selected_country_data[[#This Row],[Year]]=tab_data[Year])*tab_data[Fertility])-tab_selected_country_data[[#This Row],[Min Fertility Rate]]","v":6.362000000000001},{"$f":"INDEX(tab_data[Life Expectancy],tab_selected_country_data[[#This Row],[Position]])","v":69.790000000000006},{"$f":"IF(AND(Control!$C$14,tab_selected_country_data[[#This Row],[Year]]<Control!$C$9),tab_selected_country_data[[#This Row],[Life Expectancy]],NA())","v":69.790000000000006},{"$f":"IF(AND(Control!$C$14,tab_selected_country_data[[#This Row],[Year]]>Control!$C$9),tab_selected_country_data[[#This Row],[Life Expectancy]],NA())","v":{"$error":"#N/A"}},{"$f":"IF(tab_selected_country_data[[#This Row],[Year]]=Control!$C$9,tab_selected_country_data[[#This Row],[Life Expectancy]],NA())","v":{"$error":"#N/A"}},{"$f":"AVERAGEIF(tab_data[Year],tab_selected_country_data[[#This Row],[Year]],tab_data[Life Expectancy])","v":57.599797014925379},{"$f":"SUMPRODUCT(($M25=tab_data[Year])*tab_data[Life Expectancy]*tab_data[Population])/SUMIF(tab_data[Year],$M25,tab_data[Population])","v":58.458036544807811},{"$f":"INDEX(tab_selected_country_data[[#This Row],[Average Life Expectancy]:[Weighted Average Life Expectancy]],1,Control!$C$11)","v":57.599797014925379},{"$f":"SUMPRODUCT(($M25=tab_data[Year])*tab_data[Life Expectancy]*tab_data[Population])/SUMIF(tab_data[Year],$M25,tab_data[Population])","v":58.458036544807811},{"$f":"MIN(IF((tab_selected_country_data[[#This Row],[Year]]=tab_data[Year]),tab_data[Life Expectancy],999999999))","v":31.085999999999999},{"$f":"MAX((tab_selected_country_data[[#This Row],[Year]]=tab_data[Year])*tab_data[Life Expectancy])-tab_selected_country_data[[#This Row],[Min Life Expectancy]]","v":42.944000000000003}]
[null,"Bhutan","Asia + Pacific",{"$f":"MATCH(tab_xy_scatter_data[[#This Row],[Country]]&\"|\"&Control!$C$9,tab_data[ID (Country|Year)],0)","v":1237},{"$f":"INDEX(tab_data[Fertility],tab_xy_scatter_data[[#This Row],[Position]])","v":6.6710000000000003},{"$f":"INDEX(tab_data[Life Expectancy],tab_xy_scatter_data[[#This Row],[Position]])","v":36.947000000000003},{"$f":"IF(Control!$C$12,tab_xy_scatter_data[[#This Row],[Fertility Rate All]],NV())","v":6.6710000000000003},{"$f":"IF(Control!$C$12,tab_xy_scatter_data[[#This Row],[Life Expectancy All]],NV())","v":36.947000000000003},{"$f":"IF(AND(Control!$C$6=tab_xy_scatter_data[[#This Row],[Region]],Control!$C$13),tab_xy_scatter_data[[#This Row],[Fertility Rate All]],NA())","v":{"$error":"#N/A"}},{"$f":"IF(AND(Control!$C$6=tab_xy_scatter_data[[#This Row],[Region]],Control!$C$13),tab_xy_scatter_data[[#This Row],[Life Expectancy All]],NA())","v":{"$error":"#N/A"}},{"$f":"INDEX(tab_data[Population],tab_xy_scatter_data[[#This Row],[Position]])","v":301879},null,1969,{"$f":"MATCH(Control!$C$5&\"|\"&tab_selected_country_data[[#This Row],[Year]],tab_data[ID (Country|Year)],0)","v":3730},{"$f":"INDEX(tab_data[Fertility],tab_selected_country_data[[#This Row],[Position]])","v":1.94},{"$f":"IF(tab_selected_country_data[[#This Row],[Year]]=Control!$C$9,tab_selected_country_data[[#This Row],[Fertility Rate All]],NA())","v":{"$error":"#N/A"}},{"$f":"AVERAGEIF(tab_data[Year],tab_selected_country_data[[#This Row],[Year]],tab_data[Fertility])","v":5.2034052771540535},{"$f":"SUMPRODUCT(($M26=tab_data[Year])*tab_data[Fertility]*tab_data[Population])/SUMIF(tab_data[Year],$M26,tab_data[Population])","v":4.8676831943897687},{"$f":"INDEX(tab_selected_country_data[[#This Row],[Average Fertility Rate]:[Weighted Average Fertility Rate]],1,Control!$C$11)","v":5.2034052771540535},{"$f":"MIN(IF((tab_selected_country_data[[#This Row],[Year]]=tab_data[Year]),tab_data[Fertility],999999999))","v":1.877},{"$f":"MAX((tab_selected_country_data[[#This Row],[Year]]=tab_data[Year])*tab_data[Fertility])-tab_selected_country_data[[#This Row],[Min Fertility Rate]]","v":6.3400000000000007},{"$f":"INDEX(tab_data[Life Expectancy],tab_selected_country_data[[#This Row],[Position]])","v":69.67},{"$f":"IF(AND(Control!$C$14,tab_selected_country_data[[#This Row],[Year]]<Control!$C$9),tab_selected_country_data[[#This Row],[Life Expectancy]],NA())","v":69.67},{"$f":"IF(AND(Control!$C$14,tab_selected_country_data[[#This Row],[Year]]>Control!$C$9),tab_selected_country_data[[#This Row],[Life Expectancy]],NA())","v":{"$error":"#N/A"}},{"$f":"IF(tab_selected_country_data[[#This Row],[Year]]=Control!$C$9,tab_selected_country_data[[#This Row],[Life Expectancy]],NA())","v":{"$error":"#N/A"}},{"$f":"AVERAGEIF(tab_data[Year],tab_selected_country_data[[#This Row],[Year]],tab_data[Life Expectancy])","v":57.946399004975127},{"$f":"SUMPRODUCT(($M26=tab_data[Year])*tab_data[Life Expectancy]*tab_data[Population])/SUMIF(tab_data[Year],$M26,tab_data[Population])","v":58.967987148894665},{"$f":"INDEX(tab_selected_country_data[[#This Row],[Average Life Expectancy]:[Weighted Average Life Expectancy]],1,Control!$C$11)","v":57.946399004975127},{"$f":"SUMPRODUCT(($M26=tab_data[Year])*tab_data[Life Expectancy]*tab_data[Population])/SUMIF(tab_data[Year],$M26,tab_data[Population])","v":58.967987148894665},{"$f":"MIN(IF((tab_selected_country_data[[#This Row],[Year]]=tab_data[Year]),tab_data[Life Expectancy],999999999))","v":31.72},{"$f":"MAX((tab_selected_country_data[[#This Row],[Year]]=tab_data[Year])*tab_data[Life Expectancy])-tab_selected_country_data[[#This Row],[Min Life Expectancy]]","v":42.430000000000007}]
[null,"Bolivia","Latin America + Caribbean",{"$f":"MATCH(tab_xy_scatter_data[[#This Row],[Country]]&\"|\"&Control!$C$9,tab_data[ID (Country|Year)],0)","v":1301},{"$f":"INDEX(tab_data[Fertility],tab_xy_scatter_data[[#This Row],[Position]])","v":6.5780000000000003},{"$f":"INDEX(tab_data[Life Expectancy],tab_xy_scatter_data[[#This Row],[Position]])","v":45.765000000000001},{"$f":"IF(Control!$C$12,tab_xy_scatter_data[[#This Row],[Fertility Rate All]],NV())","v":6.5780000000000003},{"$f":"IF(Control!$C$12,tab_xy_scatter_data[[#This Row],[Life Expectancy All]],NV())","v":45.765000000000001},{"$f":"IF(AND(Control!$C$6=tab_xy_scatter_data[[#This Row],[Region]],Control!$C$13),tab_xy_scatter_data[[#This Row],[Fertility Rate All]],NA())","v":{"$error":"#N/A"}},{"$f":"IF(AND(Control!$C$6=tab_xy_scatter_data[[#This Row],[Region]],Control!$C$13),tab_xy_scatter_data[[#This Row],[Life Expectancy All]],NA())","v":{"$error":"#N/A"}},{"$f":"INDEX(tab_data[Population],tab_xy_scatter_data[[#This Row],[Position]])","v":4216572},null,1970,{"$f":"MATCH(Control!$C$5&\"|\"&tab_selected_country_data[[#This Row],[Year]],tab_data[ID (Country|Year)],0)","v":3734},{"$f":"INDEX(tab_data[Fertility],tab_selected_country_data[[#This Row],[Position]])","v":1.83},{"$f":"IF(tab_selected_country_data[[#This Row],[Year]]=Control!$C$9,tab_selected_country_data[[#This Row],[Fertility Rate All]],NA())","v":1.83},{"$f":"AVERAGEIF(tab_data[Year],tab_selected_country_data[[#This Row],[Year]],tab_data[Fertility])","v":5.1506099335182505},{"$f":"SUMPRODUCT(($M27=tab_data[Year])*tab_data[Fertility]*tab_data[Population])/SUMIF(tab_data[Year],$M27,tab_data[Population])","v":4.8572671766250783},{"$f":"INDEX(tab_selected_country_data[[#This Row],[Average Fertility Rate]:[Weighted Average Fertility Rate]],1,Control!$C$11)","v":5.1506099335182505},{"$f":"MIN(IF((tab_selected_country_data[[#This Row],[Year]]=tab_data[Year]),tab_data[Fertility],999999999))","v":1.83},{"$f":"MAX((tab_selected_country_data[[#This Row],[Year]]=tab_data[Year])*tab_data[Fertility])-tab_selected_country_data[[#This Row],[Min Fertility Rate]]","v":6.4009999999999998},{"$f":"INDEX(tab_data[Life Expectancy],tab_selected_country_data[[#This Row],[Position]])","v":70.36},{"$f":"IF(AND(Control!$C$14,tab_selected_country_data[[#This Row],[Year]]<Control!$C$9),tab_selected_country_data[[#This Row],[Life Expectancy]],NA())","v":{"$error":"#N/A"}},{"$f":"IF(AND(Control!$C$14,tab_selected_country_data[[#This Row],[Year]]>Control!$C$9),tab_selected_country_data[[#This Row],[Life Expectancy]],NA())","v":{"$error":"#N/A"}},{"$f":"IF(tab_selected_country_data[[#This Row],[Year]]=Control!$C$9,tab_selected_country_data[[#This Row],[Life Expectancy]],NA())","v":70.36},{"$f":"AVERAGEIF(tab_data[Year],tab_selected_country_data[[#This Row],[Year]],tab_data[Life Expectancy])","v":58.348819900497553},{"$f":"SUMPRODUCT(($M27=tab_data[Year])*tab_data[Life Expectancy]*tab_data[Population])/SUMIF(tab_data[Year],$M27,tab_data[Population])","v":59.596653358017697},{"$f":"INDEX(tab_selected_country_data[[#This Row],[Average Life Expectancy]:[Weighted Average Life Expectancy]],1,Control!$C$11)","v":58.348819900497553},{"$f":"SUMPRODUCT(($M27=tab_data[Year])*tab_data[Life Expectancy]*tab_data[Population])/SUMIF(tab_data[Year],$M27,tab_data[Population])","v":59.596653358017697},{"$f":"MIN(IF((tab_selected_country_data[[#This Row],[Year]]=tab_data[Year]),tab_data[Life Expectancy],999999999))","v":32.387999999999998},{"$f":"MAX((tab_selected_country_data[[#This Row],[Year]]=tab_data[Year])*tab_data[Life Expectancy])-tab_selected_country_data[[#This Row],[Min Life Expectancy]]","v":42.312000000000005}]
[null,"Bosnia and Herzegovina","Europe",{"$f":"MATCH(tab_xy_scatter_data[[#This Row],[Country]]&\"|\"&Control!$C$9,tab_data[ID (Country|Year)],0)","v":1368},{"$f":"INDEX(tab_data[Fertility],tab_xy_scatter_data[[#This Row],[Position]])","v":2.8809999999999998},{"$f":"INDEX(tab_data[Life Expectancy],tab_xy_scatter_data[[#This Row],[Position]])","v":66.180999999999997},{"$f":"IF(Control!$C$12,tab_xy_scatter_data[[#This Row],[Fertility Rate All]],NV())","v":2.8809999999999998},{"$f":"IF(Control!$C$12,tab_xy_scatter_data[[#This Row],[Life Expectancy All]],NV())","v":66.180999999999997},{"$f":"IF(AND(Control!$C$6=tab_xy_scatter_data[[#This Row],[Region]],Control!$C$13),tab_xy_scatter_data[[#This Row],[Fertility Rate All]],NA())","v":2.8809999999999998},{"$f":"IF(AND(Control!$C$6=tab_xy_scatter_data[[#This Row],[Region]],Control!$C$13),tab_xy_scatter_data[[#This Row],[Life Expectancy All]],NA())","v":66.180999999999997},{"$f":"INDEX(tab_data[Population],tab_xy_scatter_data[[#This Row],[Position]])","v":3564389},null,1971,{"$f":"MATCH(Control!$C$5&\"|\"&tab_selected_country_data[[#This Row],[Year]],tab_data[ID (Country|Year)],0)","v":3733},{"$f":"INDEX(tab_data[Fertility],tab_selected_country_data[[#This Row],[Position]])","v":1.7},{"$f":"IF(tab_selected_country_data[[#This Row],[Year]]=Control!$C$9,tab_selected_country_data[[#This Row],[Fertility Rate All]],NA())","v":{"$error":"#N/A"}},{"$f":"AVERAGEIF(tab_data[Year],tab_selected_country_data[[#This Row],[Year]],tab_data[Fertility])","v":5.0909545634658562},{"$f":"SUMPRODUCT(($M28=tab_data[Year])*tab_data[Fertility]*tab_data[Population])/SUMIF(tab_data[Year],$M28,tab_data[Population])","v":4.7352653372356359},{"$f":"INDEX(tab_selected_country_data[[#This Row],[Average Fertility Rate]:[Weighted Average Fertility Rate]],1,Control!$C$11)","v":5.0909545634658562},{"$f":"MIN(IF((tab_selected_country_data[[#This Row],[Year]]=tab_data[Year]),tab_data[Fertility],999999999))","v":1.7},{"$f":"MAX((tab_selected_country_data[[#This Row],[Year]]=tab_data[Year])*tab_data[Fertility])-tab_selected_country_data[[#This Row],[Min Fertility Rate]]","v":6.5520000000000005},{"$f":"INDEX(tab_data[Life Expectancy],tab_selected_country_data[[#This Row],[Position]])","v":70.180000000000007},{"$f":"IF(AND(Control!$C$14,tab_selected_country_data[[#This Row],[Year]]<Control!$C$9),tab_selected_country_data[[#This Row],[Life Expectancy]],NA())","v":{"$error":"#N/A"}},{"$f":"IF(AND(Control!$C$14,tab_selected_country_data[[#This Row],[Year]]>Control!$C$9),tab_selected_country_data[[#This Row],[Life Expectancy]],NA())","v":70.180000000000007},{"$f":"IF(tab_selected_country_data[[#This Row],[Year]]=Control!$C$9,tab_selected_country_data[[#This Row],[Life Expectancy]],NA())","v":{"$error":"#N/A"}},{"$f":"AVERAGEIF(tab_data[Year],tab_selected_country_data[[#This Row],[Year]],tab_data[Life Expectancy])","v":58.747001791044781},{"$f":"SUMPRODUCT(($M28=tab_data[Year])*tab_data[Life Expectancy]*tab_data[Population])/SUMIF(tab_data[Year],$M28,tab_data[Population])","v":60.113319405291058},{"$f":"INDEX(tab_selected_country_data[[#This Row],[Average Life Expectancy]:[Weighted Average Life Expectancy]],1,Control!$C$11)","v":58.747001791044781},{"$f":"SUMPRODUCT(($M28=tab_data[Year])*tab_data[Life Expectancy]*tab_data[Population])/SUMIF(tab_data[Year],$M28,tab_data[Population])","v":60.113319405291058},{"$f":"MIN(IF((tab_selected_country_data[[#This Row],[Year]]=tab_data[Year]),tab_data[Life Expectancy],999999999))","v":33.078000000000003},{"$f":"MAX((tab_selected_country_data[[#This Row],[Year]]=tab_data[Year])*tab_data[Life Expectancy])-tab_selected_country_data[[#This Row],[Min Life Expectancy]]","v":41.542000000000002}]
[null,"Botswana","Africa",{"$f":"MATCH(tab_xy_scatter_data[[#This Row],[Country]]&\"|\"&Control!$C$9,tab_data[ID (Country|Year)],0)","v":1446},{"$f":"INDEX(tab_data[Fertility],tab_xy_scatter_data[[#This Row],[Position]])","v":6.641},{"$f":"INDEX(tab_data[Life Expectancy],tab_xy_scatter_data[[#This Row],[Position]])","v":54.759},{"$f":"IF(Control!$C$12,tab_xy_scatter_data[[#This Row],[Fertility Rate All]],NV())","v":6.641},{"$f":"IF(Control!$C$12,tab_xy_scatter_data[[#This Row],[Life Expectancy All]],NV())","v":54.759},{"$f":"IF(AND(Control!$C$6=tab_xy_scatter_data[[#This Row],[Region]],Control!$C$13),tab_xy_scatter_data[[#This Row],[Fertility Rate All]],NA())","v":{"$error":"#N/A"}},{"$f":"IF(AND(Control!$C$6=tab_xy_scatter_data[[#This Row],[Region]],Control!$C$13),tab_xy_scatter_data[[#This Row],[Life Expectancy All]],NA())","v":{"$error":"#N/A"}},{"$f":"INDEX(tab_data[Population],tab_xy_scatter_data[[#This Row],[Position]])","v":692959},null,1972,{"$f":"MATCH(Control!$C$5&\"|\"&tab_selected_country_data[[#This Row],[Year]],tab_data[ID (Country|Year)],0)","v":3735},{"$f":"INDEX(tab_data[Fertility],tab_selected_country_data[[#This Row],[Position]])","v":1.59},{"$f":"IF(tab_selected_country_data[[#This Row],[Year]]=Control!$C$9,tab_selected_country_data[[#This Row],[Fertility Rate All]],NA())","v":{"$error":"#N/A"}},{"$f":"AVERAGEIF(tab_data[Year],tab_selected_country_data[[#This Row],[Year]],tab_data[Fertility])","v":5.029361957469292},{"$f":"SUMPRODUCT(($M29=tab_data[Year])*tab_data[Fertility]*tab_data[Population])/SUMIF(tab_data[Year],$M29,tab_data[Population])","v":4.5809358333200745},{"$f":"INDEX(tab_selected_country_data[[#This Row],[Average Fertility Rate]:[Weighted Average Fertility Rate]],1,Control!$C$11)","v":5.029361957469292},{"$f":"MIN(IF((tab_selected_country_data[[#This Row],[Year]]=tab_data[Year]),tab_data[Fertility],999999999))","v":1.59},{"$f":"MAX((tab_selected_country_data[[#This Row],[Year]]=tab_data[Year])*tab_data[Fertility])-tab_selected_country_data[[#This Row],[Min Fertility Rate]]","v":6.6880000000000006},{"$f":"INDEX(tab_data[Life Expectancy],tab_selected_country_data[[#This Row],[Position]])","v":70.87},{"$f":"IF(AND(Control!$C$14,tab_selected_country_data[[#This Row],[Year]]<Control!$C$9),tab_selected_country_data[[#This Row],[Life Expectancy]],NA())","v":{"$error":"#N/A"}},{"$f":"IF(AND(Control!$C$14,tab_selected_country_data[[#This Row],[Year]]>Control!$C$9),tab_selected_country_data[[#This Row],[Life Expectancy]],NA())","v":70.87},{"$f":"IF(tab_selected_country_data[[#This Row],[Year]]=Control!$C$9,tab_selected_country_data[[#This Row],[Life Expectancy]],NA())","v":{"$error":"#N/A"}},{"$f":"AVERAGEIF(tab_data[Year],tab_selected_country_data[[#This Row],[Year]],tab_data[Life Expectancy])","v":59.139447164179103},{"$f":"SUMPRODUCT(($M29=tab_data[Year])*tab_data[Life Expectancy]*tab_data[Population])/SUMIF(tab_data[Year],$M29,tab_data[Population])","v":60.241970624947186},{"$f":"INDEX(tab_selected_country_data[[#This Row],[Average Life Expectancy]:[Weighted Average Life Expectancy]],1,Control!$C$11)","v":59.139447164179103},{"$f":"SUMPRODUCT(($M29=tab_data[Year])*tab_data[Life Expectancy]*tab_data[Population])/SUMIF(tab_data[Year],$M29,tab_data[Population])","v":60.241970624947186},{"$f":"MIN(IF((tab_selected_country_data[[#This Row],[Year]]=tab_data[Year]),tab_data[Life Expectancy],999999999))","v":33.781999999999996},{"$f":"MAX((tab_selected_country_data[[#This Row],[Year]]=tab_data[Year])*tab_data[Life Expectancy])-tab_selected_country_data[[#This Row],[Min Life Expectancy]]","v":40.938000000000002}]
[null,"Brazil","Latin America + Caribbean",{"$f":"MATCH(tab_xy_scatter_data[[#This Row],[Country]]&\"|\"&Control!$C$9,tab_data[ID (Country|Year)],0)","v":1493},{"$f":"INDEX(tab_data[Fertility],tab_xy_scatter_data[[#This Row],[Position]])","v":5.024},{"$f":"INDEX(tab_data[Life Expectancy],tab_xy_scatter_data[[#This Row],[Position]])","v":58.865000000000002},{"$f":"IF(Control!$C$12,tab_xy_scatter_data[[#This Row],[Fertility Rate All]],NV())","v":5.024},{"$f":"IF(Control!$C$12,tab_xy_scatter_data[[#This Row],[Life Expectancy All]],NV())","v":58.865000000000002},{"$f":"IF(AND(Control!$C$6=tab_xy_scatter_data[[#This Row],[Region]],Control!$C$13),tab_xy_scatter_data[[#This Row],[Fertility Rate All]],NA())","v":{"$error":"#N/A"}},{"$f":"IF(AND(Control!$C$6=tab_xy_scatter_data[[#This Row],[Region]],Control!$C$13),tab_xy_scatter_data[[#This Row],[Life Expectancy All]],NA())","v":{"$error":"#N/A"}},{"$f":"INDEX(tab_data[Population],tab_xy_scatter_data[[#This Row],[Position]])","v":96078304},null,1973,{"$f":"MATCH(Control!$C$5&\"|\"&tab_selected_country_data[[#This Row],[Year]],tab_data[ID (Country|Year)],0)","v":3737},{"$f":"INDEX(tab_data[Fertility],tab_selected_country_data[[#This Row],[Position]])","v":1.5},{"$f":"IF(tab_selected_country_data[[#This Row],[Year]]=Control!$C$9,tab_selected_country_data[[#This Row],[Fertility Rate All]],NA())","v":{"$error":"#N/A"}},{"$f":"AVERAGEIF(tab_data[Year],tab_selected_country_data[[#This Row],[Year]],tab_data[Fertility])","v":4.9639504415973255},{"$f":"SUMPRODUCT(($M30=tab_data[Year])*tab_data[Fertility]*tab_data[Population])/SUMIF(tab_data[Year],$M30,tab_data[Population])","v":4.4441804708036639},{"$f":"INDEX(tab_selected_country_data[[#This Row],[Average Fertility Rate]:[Weighted Average Fertility Rate]],1,Control!$C$11)","v":4.9639504415973255},{"$f":"MIN(IF((tab_selected_country_data[[#This Row],[Year]]=tab_data[Year]),tab_data[Fertility],999999999))","v":1.5},{"$f":"MAX((tab_selected_country_data[[#This Row],[Year]]=tab_data[Year])*tab_data[Fertility])-tab_selected_country_data[[#This Row],[Min Fertility Rate]]","v":6.8070000000000004},{"$f":"INDEX(tab_data[Life Expectancy],tab_selected_country_data[[#This Row],[Position]])","v":71.38},{"$f":"IF(AND(Control!$C$14,tab_selected_country_data[[#This Row],[Year]]<Control!$C$9),tab_selected_country_data[[#This Row],[Life Expectancy]],NA())","v":{"$error":"#N/A"}},{"$f":"IF(AND(Control!$C$14,tab_selected_country_data[[#This Row],[Year]]>Control!$C$9),tab_selected_country_data[[#This Row],[Life Expectancy]],NA())","v":71.38},{"$f":"IF(tab_selected_country_data[[#This Row],[Year]]=Control!$C$9,tab_selected_country_data[[#This Row],[Life Expectancy]],NA())","v":{"$error":"#N/A"}},{"$f":"AVERAGEIF(tab_data[Year],tab_selected_country_data[[#This Row],[Year]],tab_data[Life Expectancy])","v":59.494605970149266},{"$f":"SUMPRODUCT(($M30=tab_data[Year])*tab_data[Life Expectancy]*tab_data[Population])/SUMIF(tab_data[Year],$M30,tab_data[Population])","v":60.418587828216687},{"$f":"INDEX(tab_selected_country_data[[#This Row],[Average Life Expectancy]:[Weighted Average Life Expectancy]],1,Control!$C$11)","v":59.494605970149266},{"$f":"SUMPRODUCT(($M30=tab_data[Year])*tab_data[Life Expectancy]*tab_data[Population])/SUMIF(tab_data[Year],$M30,tab_data[Population])","v":60.418587828216687},{"$f":"MIN(IF((tab_selected_country_data[[#This Row],[Year]]=tab_data[Year]),tab_data[Life Expectancy],999999999))","v":32.591000000000001},{"$f":"MAX((tab_selected_country_data[[#This Row],[Year]]=tab_data[Year])*tab_data[Life Expectancy])-tab_selected_country_data[[#This Row],[Min Life Expectancy]]","v":42.288999999999994}]
[null,"Brunei","Asia + Pacific",{"$f":"MATCH(tab_xy_scatter_data[[#This Row],[Country]]&\"|\"&Control!$C$9,tab_data[ID (Country|Year)],0)","v":1557},{"$f":"INDEX(tab_data[Fertility],tab_xy_scatter_data[[#This Row],[Position]])","v":5.7510000000000003},{"$f":"INDEX(tab_data[Life Expectancy],tab_xy_scatter_data[[#This Row],[Position]])","v":67.230999999999995},{"$f":"IF(Control!$C$12,tab_xy_scatter_data[[#This Row],[Fertility Rate All]],NV())","v":5.7510000000000003},{"$f":"IF(Control!$C$12,tab_xy_scatter_data[[#This Row],[Life Expectancy All]],NV())","v":67.230999999999995},{"$f":"IF(AND(Control!$C$6=tab_xy_scatter_data[[#This Row],[Region]],Control!$C$13),tab_xy_scatter_data[[#This Row],[Fertility Rate All]],NA())","v":{"$error":"#N/A"}},{"$f":"IF(AND(Control!$C$6=tab_xy_scatter_data[[#This Row],[Region]],Control!$C$13),tab_xy_scatter_data[[#This Row],[Life Expectancy All]],NA())","v":{"$error":"#N/A"}},{"$f":"INDEX(tab_data[Population],tab_xy_scatter_data[[#This Row],[Position]])","v":125088},null,1974,{"$f":"MATCH(Control!$C$5&\"|\"&tab_selected_country_data[[#This Row],[Year]],tab_data[ID (Country|Year)],0)","v":3736},{"$f":"INDEX(tab_data[Fertility],tab_selected_country_data[[#This Row],[Position]])","v":1.62},{"$f":"IF(tab_selected_country_data[[#This Row],[Year]]=Control!$C$9,tab_selected_country_data[[#This Row],[Fertility Rate All]],NA())","v":{"$error":"#N/A"}},{"$f":"AVERAGEIF(tab_data[Year],tab_selected_country_data[[#This Row],[Year]],tab_data[Fertility])","v":4.902047883590896},{"$f":"SUMPRODUCT(($M31=tab_data[Year])*tab_data[Fertility]*tab_data[Population])/SUMIF(tab_data[Year],$M31,tab_data[Population])","v":4.3270567061467835},{"$f":"INDEX(tab_selected_country_data[[#This Row],[Average Fertility Rate]:[Weighted Average Fertility Rate]],1,Control!$C$11)","v":4.902047883590896},{"$f":"MIN(IF((tab_selected_country_data[[#This Row],[Year]]=tab_data[Year]),tab_data[Fertility],999999999))","v":1.5680000000000001},{"$f":"MAX((tab_selected_country_data[[#This Row],[Year]]=tab_data[Year])*tab_data[Fertility])-tab_selected_country_data[[#This Row],[Min Fertility Rate]]","v":6.7710000000000008},{"$f":"INDEX(tab_data[Life Expectancy],tab_selected_country_data[[#This Row],[Position]])","v":71.3},{"$f":"IF(AND(Control!$C$14,tab_selected_country_data[[#This Row],[Year]]<Control!$C$9),tab_selected_country_data[[#This Row],[Life Expectancy]],NA())","v":{"$error":"#N/A"}},{"$f":"IF(AND(Control!$C$14,tab_selected_country_data[[#This Row],[Year]]>Control!$C$9),tab_selected_country_data[[#This Row],[Life Expectancy]],NA())","v":71.3},{"$f":"IF(tab_selected_country_data[[#This Row],[Year]]=Control!$C$9,tab_selected_country_data[[#This Row],[Life Expectancy]],NA())","v":{"$error":"#N/A"}},{"$f":"AVERAGEIF(tab_data[Year],tab_selected_country_data[[#This Row],[Year]],tab_data[Life Expectancy])","v":59.855430845771103},{"$f":"SUMPRODUCT(($M31=tab_data[Year])*tab_data[Life Expectancy]*tab_data[Population])/SUMIF(tab_data[Year],$M31,tab_data[Population])","v":60.66609250418346},{"$f":"INDEX(tab_selected_country_data[[#This Row],[Average Life Expectancy]:[Weighted Average Life Expectancy]],1,Control!$C$11)","v":59.855430845771103},{"$f":"SUMPRODUCT(($M31=tab_data[Year])*tab_data[Life Expectancy]*tab_data[Population])/SUMIF(tab_data[Year],$M31,tab_data[Population])","v":60.66609250418346},{"$f":"MIN(IF((tab_selected_country_data[[#This Row],[Year]]=tab_data[Year]),tab_data[Life Expectancy],999999999))","v":27.882999999999999},{"$f":"MAX((tab_selected_country_data[[#This Row],[Year]]=tab_data[Year])*tab_data[Life Expectancy])-tab_selected_country_data[[#This Row],[Min Life Expectancy]]","v":47.106999999999999}]
[null,"Bulgaria","Europe",{"$f":"MATCH(tab_xy_scatter_data[[#This Row],[Country]]&\"|\"&Control!$C$9,tab_data[ID (Country|Year)],0)","v":1638},{"$f":"INDEX(tab_data[Fertility],tab_xy_scatter_data[[#This Row],[Position]])","v":2.1349999999999998},{"$f":"INDEX(tab_data[Life Expectancy],tab_xy_scatter_data[[#This Row],[Position]])","v":71.27},{"$f":"IF(Control!$C$12,tab_xy_scatter_data[[#This Row],[Fertility Rate All]],NV())","v":2.1349999999999998},{"$f":"IF(Control!$C$12,tab_xy_scatter_data[[#This Row],[Life Expectancy All]],NV())","v":71.27},{"$f":"IF(AND(Control!$C$6=tab_xy_scatter_data[[#This Row],[Region]],Control!$C$13),tab_xy_scatter_data[[#This Row],[Fertility Rate All]],NA())","v":2.1349999999999998},{"$f":"IF(AND(Control!$C$6=tab_xy_scatter_data[[#This Row],[Region]],Control!$C$13),tab_xy_scatter_data[[#This Row],[Life Expectancy All]],NA())","v":71.27},{"$f":"INDEX(tab_data[Population],tab_xy_scatter_data[[#This Row],[Position]])","v":8489572},null,1975,{"$f":"MATCH(Control!$C$5&\"|\"&tab_selected_country_data[[#This Row],[Year]],tab_data[ID (Country|Year)],0)","v":3738},{"$f":"INDEX(tab_data[Fertility],tab_selected_country_data[[#This Row],[Position]])","v":1.69},{"$f":"IF(tab_selected_country_data[[#This Row],[Year]]=Control!$C$9,tab_selected_country_data[[#This Row],[Fertility Rate All]],NA())","v":{"$error":"#N/A"}},{"$f":"AVERAGEIF(tab_data[Year],tab_selected_country_data[[#This Row],[Year]],tab_data[Fertility])","v":4.8342754677937743},{"$f":"SUMPRODUCT(($M32=tab_data[Year])*tab_data[Fertility]*tab_data[Population])/SUMIF(tab_data[Year],$M32,tab_data[Population])","v":4.1571513596388137},{"$f":"INDEX(tab_selected_country_data[[#This Row],[Average Fertility Rate]:[Weighted Average Fertility Rate]],1,Control!$C$11)","v":4.8342754677937743},{"$f":"MIN(IF((tab_selected_country_data[[#This Row],[Year]]=tab_data[Year]),tab_data[Fertility],999999999))","v":1.484},{"$f":"MAX((tab_selected_country_data[[#This Row],[Year]]=tab_data[Year])*tab_data[Fertility])-tab_selected_country_data[[#This Row],[Min Fertility Rate]]","v":6.8859999999999992},{"$f":"INDEX(tab_data[Life Expectancy],tab_selected_country_data[[#This Row],[Position]])","v":71.849999999999994},{"$f":"IF(AND(Control!$C$14,tab_selected_country_data[[#This Row],[Year]]<Control!$C$9),tab_selected_country_data[[#This Row],[Life Expectancy]],NA())","v":{"$error":"#N/A"}},{"$f":"IF(AND(Control!$C$14,tab_selected_country_data[[#This Row],[Year]]>Control!$C$9),tab_selected_country_data[[#This Row],[Life Expectancy]],NA())","v":71.849999999999994},{"$f":"IF(tab_selected_country_data[[#This Row],[Year]]=Control!$C$9,tab_selected_country_data[[#This Row],[Life Expectancy]],NA())","v":{"$error":"#N/A"}},{"$f":"AVERAGEIF(tab_data[Year],tab_selected_country_data[[#This Row],[Year]],tab_data[Life Expectancy])","v":60.196685970149304},{"$f":"SUMPRODUCT(($M32=tab_data[Year])*tab_data[Life Expectancy]*tab_data[Population])/SUMIF(tab_data[Year],$M32,tab_data[Population])","v":60.98212784653699},{"$f":"INDEX(tab_selected_country_data[[#This Row],[Average Life Expectancy]:[Weighted Average Life Expectancy]],1,Control!$C$11)","v":60.196685970149304},{"$f":"SUMPRODUCT(($M32=tab_data[Year])*tab_data[Life Expectancy]*tab_data[Population])/SUMIF(tab_data[Year],$M32,tab_data[Population])","v":60.98212784653699},{"$f":"MIN(IF((tab_selected_country_data[[#This Row],[Year]]=tab_data[Year]),tab_data[Life Expectancy],999999999))","v":23.419},{"$f":"MAX((tab_selected_country_data[[#This Row],[Year]]=tab_data[Year])*tab_data[Life Expectancy])-tab_selected_country_data[[#This Row],[Min Life Expectancy]]","v":51.930999999999997}]
[null,"Burkina Faso","Africa",{"$f":"MATCH(tab_xy_scatter_data[[#This Row],[Country]]&\"|\"&Control!$C$9,tab_data[ID (Country|Year)],0)","v":1685},{"$f":"INDEX(tab_data[Fertility],tab_xy_scatter_data[[#This Row],[Position]])","v":6.6230000000000002},{"$f":"INDEX(tab_data[Life Expectancy],tab_xy_scatter_data[[#This Row],[Position]])","v":39.094999999999999},{"$f":"IF(Control!$C$12,tab_xy_scatter_data[[#This Row],[Fertility Rate All]],NV())","v":6.6230000000000002},{"$f":"IF(Control!$C$12,tab_xy_scatter_data[[#This Row],[Life Expectancy All]],NV())","v":39.094999999999999},{"$f":"IF(AND(Control!$C$6=tab_xy_scatter_data[[#This Row],[Region]],Control!$C$13),tab_xy_scatter_data[[#This Row],[Fertility Rate All]],NA())","v":{"$error":"#N/A"}},{"$f":"IF(AND(Control!$C$6=tab_xy_scatter_data[[#This Row],[Region]],Control!$C$13),tab_xy_scatter_data[[#This Row],[Life Expectancy All]],NA())","v":{"$error":"#N/A"}},{"$f":"INDEX(tab_data[Population],tab_xy_scatter_data[[#This Row],[Position]])","v":5807492},null,1976,{"$f":"MATCH(Control!$C$5&\"|\"&tab_selected_country_data[[#This Row],[Year]],tab_data[ID (Country|Year)],0)","v":3739},{"$f":"INDEX(tab_data[Fertility],tab_selected_country_data[[#This Row],[Position]])","v":1.72},{"$f":"IF(tab_selected_country_data[[#This Row],[Year]]=Control!$C$9,tab_selected_country_data[[#This Row],[Fertility Rate All]],NA())","v":{"$error":"#N/A"}},{"$f":"AVERAGEIF(tab_data[Year],tab_selected_country_data[[#This Row],[Year]],tab_data[Fertility])","v":4.7645298093602779},{"$f":"SUMPRODUCT(($M33=tab_data[Year])*tab_data[Fertility]*tab_data[Population])/SUMIF(tab_data[Year],$M33,tab_data[Population])","v":4.0432695493517574},{"$f":"INDEX(tab_selected_country_data[[#This Row],[Average Fertility Rate]:[Weighted Average Fertility Rate]],1,Control!$C$11)","v":4.7645298093602779},{"$f":"MIN(IF((tab_selected_country_data[[#This Row],[Year]]=tab_data[Year]),tab_data[Fertility],999999999))","v":1.44},{"$f":"MAX((tab_selected_country_data[[#This Row],[Year]]=tab_data[Year])*tab_data[Fertility])-tab_selected_country_data[[#This Row],[Min Fertility Rate]]","v":6.9589999999999996},{"$f":"INDEX(tab_data[Life Expectancy],tab_selected_country_data[[#This Row],[Position]])","v":72},{"$f":"IF(AND(Control!$C$14,tab_selected_country_data[[#This Row],[Year]]<Control!$C$9),tab_selected_country_data[[#This Row],[Life Expectancy]],NA())","v":{"$error":"#N/A"}},{"$f":"IF(AND(Control!$C$14,tab_selected_country_data[[#This Row],[Year]]>Control!$C$9),tab_selected_country_data[[#This Row],[Life Expectancy]],NA())","v":72},{"$f":"IF(tab_selected_country_data[[#This Row],[Year]]=Control!$C$9,tab_selected_country_data[[#This Row],[Life Expectancy]],NA())","v":{"$error":"#N/A"}},{"$f":"AVERAGEIF(tab_data[Year],tab_selected_country_data[[#This Row],[Year]],tab_data[Life Expectancy])","v":60.56380278606963},{"$f":"SUMPRODUCT(($M33=tab_data[Year])*tab_data[Life Expectancy]*tab_data[Population])/SUMIF(tab_data[Year],$M33,tab_data[Population])","v":61.217258793730849},{"$f":"INDEX(tab_selected_country_data[[#This Row],[Average Life Expectancy]:[Weighted Average Life Expectancy]],1,Control!$C$11)","v":60.56380278606963},{"$f":"SUMPRODUCT(($M33=tab_data[Year])*tab_data[Life Expectancy]*tab_data[Population])/SUMIF(tab_data[Year],$M33,tab_data[Population])","v":61.217258793730849},{"$f":"MIN(IF((tab_selected_country_data[[#This Row],[Year]]=tab_data[Year]),tab_data[Life Expectancy],999999999))","v":20.260000000000002},{"$f":"MAX((tab_selected_country_data[[#This Row],[Year]]=tab_data[Year])*tab_data[Life Expectancy])-tab_selected_country_data[[#This Row],[Min Life Expectancy]]","v":56.449999999999989}]
[null,"Burundi","Africa",{"$f":"MATCH(tab_xy_scatter_data[[#This Row],[Country]]&\"|\"&Control!$C$9,tab_data[ID (Country|Year)],0)","v":1749},{"$f":"INDEX(tab_data[Fertility],tab_xy_scatter_data[[#This Row],[Position]])","v":7.3109999999999999},{"$f":"INDEX(tab_data[Life Expectancy],tab_xy_scatter_data[[#This Row],[Position]])","v":43.832999999999998},{"$f":"IF(Control!$C$12,tab_xy_scatter_data[[#This Row],[Fertility Rate All]],NV())","v":7.3109999999999999},{"$f":"IF(Control!$C$12,tab_xy_scatter_data[[#This Row],[Life Expectancy All]],NV())","v":43.832999999999998},{"$f":"IF(AND(Control!$C$6=tab_xy_scatter_data[[#This Row],[Region]],Control!$C$13),tab_xy_scatter_data[[#This Row],[Fertility Rate All]],NA())","v":{"$error":"#N/A"}},{"$f":"IF(AND(Control!$C$6=tab_xy_scatter_data[[#This Row],[Region]],Control!$C$13),tab_xy_scatter_data[[#This Row],[Life Expectancy All]],NA())","v":{"$error":"#N/A"}},{"$f":"INDEX(tab_data[Population],tab_xy_scatter_data[[#This Row],[Position]])","v":3513499},null,1977,{"$f":"MATCH(Control!$C$5&\"|\"&tab_selected_country_data[[#This Row],[Year]],tab_data[ID (Country|Year)],0)","v":3740},{"$f":"INDEX(tab_data[Fertility],tab_selected_country_data[[#This Row],[Position]])","v":1.69},{"$f":"IF(tab_selected_country_data[[#This Row],[Year]]=Control!$C$9,tab_selected_country_data[[#This Row],[Fertility Rate All]],NA())","v":{"$error":"#N/A"}},{"$f":"AVERAGEIF(tab_data[Year],tab_selected_country_data[[#This Row],[Year]],tab_data[Fertility])","v":4.7011042328182144},{"$f":"SUMPRODUCT(($M34=tab_data[Year])*tab_data[Fertility]*tab_data[Population])/SUMIF(tab_data[Year],$M34,tab_data[Population])","v":3.9229994625320299},{"$f":"INDEX(tab_selected_country_data[[#This Row],[Average Fertility Rate]:[Weighted Average Fertility Rate]],1,Control!$C$11)","v":4.7011042328182144},{"$f":"MIN(IF((tab_selected_country_data[[#This Row],[Year]]=tab_data[Year]),tab_data[Fertility],999999999))","v":1.4410000000000001},{"$f":"MAX((tab_selected_country_data[[#This Row],[Year]]=tab_data[Year])*tab_data[Fertility])-tab_selected_country_data[[#This Row],[Min Fertility Rate]]","v":7.0330000000000004},{"$f":"INDEX(tab_data[Life Expectancy],tab_selected_country_data[[#This Row],[Position]])","v":72.52},{"$f":"IF(AND(Control!$C$14,tab_selected_country_data[[#This Row],[Year]]<Control!$C$9),tab_selected_country_data[[#This Row],[Life Expectancy]],NA())","v":{"$error":"#N/A"}},{"$f":"IF(AND(Control!$C$14,tab_selected_country_data[[#This Row],[Year]]>Control!$C$9),tab_selected_country_data[[#This Row],[Life Expectancy]],NA())","v":72.52},{"$f":"IF(tab_selected_country_data[[#This Row],[Year]]=Control!$C$9,tab_selected_country_data[[#This Row],[Life Expectancy]],NA())","v":{"$error":"#N/A"}},{"$f":"AVERAGEIF(tab_data[Year],tab_selected_country_data[[#This Row],[Year]],tab_data[Life Expectancy])","v":60.9562007960199},{"$f":"SUMPRODUCT(($M34=tab_data[Year])*tab_data[Life Expectancy]*tab_data[Population])/SUMIF(tab_data[Year],$M34,tab_data[Population])","v":61.863405479506689},{"$f":"INDEX(tab_selected_country_data[[#This Row],[Average Life Expectancy]:[Weighted Average Life Expectancy]],1,Control!$C$11)","v":60.9562007960199},{"$f":"SUMPRODUCT(($M34=tab_data[Year])*tab_data[Life Expectancy]*tab_data[Population])/SUMIF(tab_data[Year],$M34,tab_data[Population])","v":61.863405479506689},{"$f":"MIN(IF((tab_selected_country_data[[#This Row],[Year]]=tab_data[Year]),tab_data[Life Expectancy],999999999))","v":19.138000000000002},{"$f":"MAX((tab_selected_country_data[[#This Row],[Year]]=tab_data[Year])*tab_data[Life Expectancy])-tab_selected_country_data[[#This Row],[Min Life Expectancy]]","v":56.971999999999994}]
[null,"Cambodia","Asia + Pacific",{"$f":"MATCH(tab_xy_scatter_data[[#This Row],[Country]]&\"|\"&Control!$C$9,tab_data[ID (Country|Year)],0)","v":1817},{"$f":"INDEX(tab_data[Fertility],tab_xy_scatter_data[[#This Row],[Position]])","v":6.4749999999999996},{"$f":"INDEX(tab_data[Life Expectancy],tab_xy_scatter_data[[#This Row],[Position]])","v":41.661999999999999},{"$f":"IF(Control!$C$12,tab_xy_scatter_data[[#This Row],[Fertility Rate All]],NV())","v":6.4749999999999996},{"$f":"IF(Control!$C$12,tab_xy_scatter_data[[#This Row],[Life Expectancy All]],NV())","v":41.661999999999999},{"$f":"IF(AND(Control!$C$6=tab_xy_scatter_data[[#This Row],[Region]],Control!$C$13),tab_xy_scatter_data[[#This Row],[Fertility Rate All]],NA())","v":{"$error":"#N/A"}},{"$f":"IF(AND(Control!$C$6=tab_xy_scatter_data[[#This Row],[Region]],Control!$C$13),tab_xy_scatter_data[[#This Row],[Life Expectancy All]],NA())","v":{"$error":"#N/A"}},{"$f":"INDEX(tab_data[Population],tab_xy_scatter_data[[#This Row],[Position]])","v":6937996},null,1978,{"$f":"MATCH(Control!$C$5&\"|\"&tab_selected_country_data[[#This Row],[Year]],tab_data[ID (Country|Year)],0)","v":3741},{"$f":"INDEX(tab_data[Fertility],tab_selected_country_data[[#This Row],[Position]])","v":1.65},{"$f":"IF(tab_selected_country_data[[#This Row],[Year]]=Control!$C$9,tab_selected_country_data[[#This Row],[Fertility Rate All]],NA())","v":{"$error":"#N/A"}},{"$f":"AVERAGEIF(tab_data[Year],tab_selected_country_data[[#This Row],[Year]],tab_data[Fertility])","v":4.6397055439616084},{"$f":"SUMPRODUCT(($M35=tab_data[Year])*tab_data[Fertility]*tab_data[Population])/SUMIF(tab_data[Year],$M35,tab_data[Population])","v":3.8572198289242676},{"$f":"INDEX(tab_selected_country_data[[#This Row],[Average Fertility Rate]:[Weighted Average Fertility Rate]],1,Control!$C$11)","v":4.6397055439616084},{"$f":"MIN(IF((tab_selected_country_data[[#This Row],[Year]]=tab_data[Year]),tab_data[Fertility],999999999))","v":1.476},{"$f":"MAX((tab_selected_country_data[[#This Row],[Year]]=tab_data[Year])*tab_data[Fertility])-tab_selected_country_data[[#This Row],[Min Fertility Rate]]","v":7.1909999999999998},{"$f":"INDEX(tab_data[Life Expectancy],tab_selected_country_data[[#This Row],[Position]])","v":73.08},{"$f":"IF(AND(Control!$C$14,tab_selected_country_data[[#This Row],[Year]]<Control!$C$9),tab_selected_country_data[[#This Row],[Life Expectancy]],NA())","v":{"$error":"#N/A"}},{"$f":"IF(AND(Control!$C$14,tab_selected_country_data[[#This Row],[Year]]>Control!$C$9),tab_selected_country_data[[#This Row],[Life Expectancy]],NA())","v":73.08},{"$f":"IF(tab_selected_country_data[[#This Row],[Year]]=Control!$C$9,tab_selected_country_data[[#This Row],[Life Expectancy]],NA())","v":{"$error":"#N/A"}},{"$f":"AVERAGEIF(tab_data[Year],tab_selected_country_data[[#This Row],[Year]],tab_data[Life Expectancy])","v":61.322071243781039},{"$f":"SUMPRODUCT(($M35=tab_data[Year])*tab_data[Life Expectancy]*tab_data[Population])/SUMIF(tab_data[Year],$M35,tab_data[Population])","v":62.18297333523207},{"$f":"INDEX(tab_selected_country_data[[#This Row],[Average Life Expectancy]:[Weighted Average Life Expectancy]],1,Control!$C$11)","v":61.322071243781039},{"$f":"SUMPRODUCT(($M35=tab_data[Year])*tab_data[Life Expectancy]*tab_data[Population])/SUMIF(tab_data[Year],$M35,tab_data[Population])","v":62.18297333523207},{"$f":"MIN(IF((tab_selected_country_data[[#This Row],[Year]]=tab_data[Year]),tab_data[Life Expectancy],999999999))","v":20.411999999999999},{"$f":"MAX((tab_selected_country_data[[#This Row],[Year]]=tab_data[Year])*tab_data[Life Expectancy])-tab_selected_country_data[[#This Row],[Min Life Expectancy]]","v":56.008000000000003}]
[null,"Cameroon","Africa",{"$f":"MATCH(tab_xy_scatter_data[[#This Row],[Country]]&\"|\"&Control!$C$9,tab_data[ID (Country|Year)],0)","v":1877},{"$f":"INDEX(tab_data[Fertility],tab_xy_scatter_data[[#This Row],[Position]])","v":6.2050000000000001},{"$f":"INDEX(tab_data[Life Expectancy],tab_xy_scatter_data[[#This Row],[Position]])","v":46.103000000000002},{"$f":"IF(Control!$C$12,tab_xy_scatter_data[[#This Row],[Fertility Rate All]],NV())","v":6.2050000000000001},{"$f":"IF(Control!$C$12,tab_xy_scatter_data[[#This Row],[Life Expectancy All]],NV())","v":46.103000000000002},{"$f":"IF(AND(Control!$C$6=tab_xy_scatter_data[[#This Row],[Region]],Control!$C$13),tab_xy_scatter_data[[#This Row],[Fertility Rate All]],NA())","v":{"$error":"#N/A"}},{"$f":"IF(AND(Control!$C$6=tab_xy_scatter_data[[#This Row],[Region]],Control!$C$13),tab_xy_scatter_data[[#This Row],[Life Expectancy All]],NA())","v":{"$error":"#N/A"}},{"$f":"INDEX(tab_data[Population],tab_xy_scatter_data[[#This Row],[Position]])","v":6841763},null,1979,{"$f":"MATCH(Control!$C$5&\"|\"&tab_selected_country_data[[#This Row],[Year]],tab_data[ID (Country|Year)],0)","v":3742},{"$f":"INDEX(tab_data[Fertility],tab_selected_country_data[[#This Row],[Position]])","v":1.64},{"$f":"IF(tab_selected_country_data[[#This Row],[Year]]=Control!$C$9,tab_selected_country_data[[#This Row],[Fertility Rate All]],NA())","v":{"$error":"#N/A"}},{"$f":"AVERAGEIF(tab_data[Year],tab_selected_country_data[[#This Row],[Year]],tab_data[Fertility])","v":4.5857631603046718},{"$f":"SUMPRODUCT(($M36=tab_data[Year])*tab_data[Fertility]*tab_data[Population])/SUMIF(tab_data[Year],$M36,tab_data[Population])","v":3.8384831892964306},{"$f":"INDEX(tab_selected_country_data[[#This Row],[Average Fertility Rate]:[Weighted Average Fertility Rate]],1,Control!$C$11)","v":4.5857631603046718},{"$f":"MIN(IF((tab_selected_country_data[[#This Row],[Year]]=tab_data[Year]),tab_data[Fertility],999999999))","v":1.4630000000000001},{"$f":"MAX((tab_selected_country_data[[#This Row],[Year]]=tab_data[Year])*tab_data[Fertility])-tab_selected_country_data[[#This Row],[Min Fertility Rate]]","v":7.38},{"$f":"INDEX(tab_data[Life Expectancy],tab_selected_country_data[[#This Row],[Position]])","v":73.37},{"$f":"IF(AND(Control!$C$14,tab_selected_country_data[[#This Row],[Year]]<Control!$C$9),tab_selected_country_data[[#This Row],[Life Expectancy]],NA())","v":{"$error":"#N/A"}},{"$f":"IF(AND(Control!$C$14,tab_selected_country_data[[#This Row],[Year]]>Control!$C$9),tab_selected_country_data[[#This Row],[Life Expectancy]],NA())","v":73.37},{"$f":"IF(tab_selected_country_data[[#This Row],[Year]]=Control!$C$9,tab_selected_country_data[[#This Row],[Life Expectancy]],NA())","v":{"$error":"#N/A"}},{"$f":"AVERAGEIF(tab_data[Year],tab_selected_country_data[[#This Row],[Year]],tab_data[Life Expectancy])","v":61.707534129353228},{"$f":"SUMPRODUCT(($M36=tab_data[Year])*tab_data[Life Expectancy]*tab_data[Population])/SUMIF(tab_data[Year],$M36,tab_data[Population])","v":62.627629265815152},{"$f":"INDEX(tab_selected_country_data[[#This Row],[Average Life Expectancy]:[Weighted Average Life Expectancy]],1,Control!$C$11)","v":61.707534129353228},{"$f":"SUMPRODUCT(($M36=tab_data[Year])*tab_data[Life Expectancy]*tab_data[Population])/SUMIF(tab_data[Year],$M36,tab_data[Population])","v":62.627629265815152},{"$f":"MIN(IF((tab_selected_country_data[[#This Row],[Year]]=tab_data[Year]),tab_data[Life Expectancy],999999999))","v":24.018999999999998},{"$f":"MAX((tab_selected_country_data[[#This Row],[Year]]=tab_data[Year])*tab_data[Life Expectancy])-tab_selected_country_data[[#This Row],[Min Life Expectancy]]","v":52.610999999999997}]
[null,"Canada","North America",{"$f":"MATCH(tab_xy_scatter_data[[#This Row],[Country]]&\"|\"&Control!$C$9,tab_data[ID (Country|Year)],0)","v":1941},{"$f":"INDEX(tab_data[Fertility],tab_xy_scatter_data[[#This Row],[Position]])","v":2.3109999999999999},{"$f":"INDEX(tab_data[Life Expectancy],tab_xy_scatter_data[[#This Row],[Position]])","v":72.650000000000006},{"$f":"IF(Control!$C$12,tab_xy_scatter_data[[#This Row],[Fertility Rate All]],NV())","v":2.3109999999999999},{"$f":"IF(Control!$C$12,tab_xy_scatter_data[[#This Row],[Life Expectancy All]],NV())","v":72.650000000000006},{"$f":"IF(AND(Control!$C$6=tab_xy_scatter_data[[#This Row],[Region]],Control!$C$13),tab_xy_scatter_data[[#This Row],[Fertility Rate All]],NA())","v":{"$error":"#N/A"}},{"$f":"IF(AND(Control!$C$6=tab_xy_scatter_data[[#This Row],[Region]],Control!$C$13),tab_xy_scatter_data[[#This Row],[Life Expectancy All]],NA())","v":{"$error":"#N/A"}},{"$f":"INDEX(tab_data[Population],tab_xy_scatter_data[[#This Row],[Position]])","v":21716855},null,1980,{"$f":"MATCH(Control!$C$5&\"|\"&tab_selected_country_data[[#This Row],[Year]],tab_data[ID (Country|Year)],0)","v":3743},{"$f":"INDEX(tab_data[Fertility],tab_selected_country_data[[#This Row],[Position]])","v":1.63},{"$f":"IF(tab_selected_country_data[[#This Row],[Year]]=Control!$C$9,tab_selected_country_data[[#This Row],[Fertility Rate All]],NA())","v":{"$error":"#N/A"}},{"$f":"AVERAGEIF(tab_data[Year],tab_selected_country_data[[#This Row],[Year]],tab_data[Fertility])","v":4.5312248650552558},{"$f":"SUMPRODUCT(($M37=tab_data[Year])*tab_data[Fertility]*tab_data[Population])/SUMIF(tab_data[Year],$M37,tab_data[Population])","v":3.6996512690785552},{"$f":"INDEX(tab_selected_country_data[[#This Row],[Average Fertility Rate]:[Weighted Average Fertility Rate]],1,Control!$C$11)","v":4.5312248650552558},{"$f":"MIN(IF((tab_selected_country_data[[#This Row],[Year]]=tab_data[Year]),tab_data[Fertility],999999999))","v":1.454},{"$f":"MAX((tab_selected_country_data[[#This Row],[Year]]=tab_data[Year])*tab_data[Fertility])-tab_selected_country_data[[#This Row],[Min Fertility Rate]]","v":7.5390000000000006},{"$f":"INDEX(tab_data[Life Expectancy],tab_selected_country_data[[#This Row],[Position]])","v":73.66},{"$f":"IF(AND(Control!$C$14,tab_selected_country_data[[#This Row],[Year]]<Control!$C$9),tab_selected_country_data[[#This Row],[Life Expectancy]],NA())","v":{"$error":"#N/A"}},{"$f":"IF(AND(Control!$C$14,tab_selected_country_data[[#This Row],[Year]]>Control!$C$9),tab_selected_country_data[[#This Row],[Life Expectancy]],NA())","v":73.66},{"$f":"IF(tab_selected_country_data[[#This Row],[Year]]=Control!$C$9,tab_selected_country_data[[#This Row],[Life Expectancy]],NA())","v":{"$error":"#N/A"}},{"$f":"AVERAGEIF(tab_data[Year],tab_selected_country_data[[#This Row],[Year]],tab_data[Life Expectancy])","v":62.068811741293551},{"$f":"SUMPRODUCT(($M37=tab_data[Year])*tab_data[Life Expectancy]*tab_data[Population])/SUMIF(tab_data[Year],$M37,tab_data[Population])","v":63.044783742756451},{"$f":"INDEX(tab_selected_country_data[[#This Row],[Average Life Expectancy]:[Weighted Average Life Expectancy]],1,Control!$C$11)","v":62.068811741293551},{"$f":"SUMPRODUCT(($M37=tab_data[Year])*tab_data[Life Expectancy]*tab_data[Population])/SUMIF(tab_data[Year],$M37,tab_data[Population])","v":63.044783742756451},{"$f":"MIN(IF((tab_selected_country_data[[#This Row],[Year]]=tab_data[Year]),tab_data[Life Expectancy],999999999))","v":29.437999999999999},{"$f":"MAX((tab_selected_country_data[[#This Row],[Year]]=tab_data[Year])*tab_data[Life Expectancy])-tab_selected_country_data[[#This Row],[Min Life Expectancy]]","v":47.221999999999994}]
[null,"Cape Verde","Africa",{"$f":"MATCH(tab_xy_scatter_data[[#This Row],[Country]]&\"|\"&Control!$C$9,tab_data[ID (Country|Year)],0)","v":2005},{"$f":"INDEX(tab_data[Fertility],tab_xy_scatter_data[[#This Row],[Position]])","v":6.9349999999999996},{"$f":"INDEX(tab_data[Life Expectancy],tab_xy_scatter_data[[#This Row],[Position]])","v":52.213000000000001},{"$f":"IF(Control!$C$12,tab_xy_scatter_data[[#This Row],[Fertility Rate All]],NV())","v":6.9349999999999996},{"$f":"IF(Control!$C$12,tab_xy_scatter_data[[#This Row],[Life Expectancy All]],NV())","v":52.213000000000001},{"$f":"IF(AND(Control!$C$6=tab_xy_scatter_data[[#This Row],[Region]],Control!$C$13),tab_xy_scatter_data[[#This Row],[Fertility Rate All]],NA())","v":{"$error":"#N/A"}},{"$f":"IF(AND(Control!$C$6=tab_xy_scatter_data[[#This Row],[Region]],Control!$C$13),tab_xy_scatter_data[[#This Row],[Life Expectancy All]],NA())","v":{"$error":"#N/A"}},{"$f":"INDEX(tab_data[Population],tab_xy_scatter_data[[#This Row],[Position]])","v":274282},null,1981,{"$f":"MATCH(Control!$C$5&\"|\"&tab_selected_country_data[[#This Row],[Year]],tab_data[ID (Country|Year)],0)","v":3744},{"$f":"INDEX(tab_data[Fertility],tab_selected_country_data[[#This Row],[Position]])","v":1.65},{"$f":"IF(tab_selected_country_data[[#This Row],[Year]]=Control!$C$9,tab_selected_country_data[[#This Row],[Fertility Rate All]],NA())","v":{"$error":"#N/A"}},{"$f":"AVERAGEIF(tab_data[Year],tab_selected_country_data[[#This Row],[Year]],tab_data[Fertility])","v":4.4818360313476848},{"$f":"SUMPRODUCT(($M38=tab_data[Year])*tab_data[Fertility]*tab_data[Population])/SUMIF(tab_data[Year],$M38,tab_data[Population])","v":3.7530264739112607},{"$f":"INDEX(tab_selected_country_data[[#This Row],[Average Fertility Rate]:[Weighted Average Fertility Rate]],1,Control!$C$11)","v":4.4818360313476848},{"$f":"MIN(IF((tab_selected_country_data[[#This Row],[Year]]=tab_data[Year]),tab_data[Fertility],999999999))","v":1.4370000000000001},{"$f":"MAX((tab_selected_country_data[[#This Row],[Year]]=tab_data[Year])*tab_data[Fertility])-tab_selected_country_data[[#This Row],[Min Fertility Rate]]","v":7.6710000000000003},{"$f":"INDEX(tab_data[Life Expectancy],tab_selected_country_data[[#This Row],[Position]])","v":73.98},{"$f":"IF(AND(Control!$C$14,tab_selected_country_data[[#This Row],[Year]]<Control!$C$9),tab_selected_country_data[[#This Row],[Life Expectancy]],NA())","v":{"$error":"#N/A"}},{"$f":"IF(AND(Control!$C$14,tab_selected_country_data[[#This Row],[Year]]>Control!$C$9),tab_selected_country_data[[#This Row],[Life Expectancy]],NA())","v":73.98},{"$f":"IF(tab_selected_country_data[[#This Row],[Year]]=Control!$C$9,tab_selected_country_data[[#This Row],[Life Expectancy]],NA())","v":{"$error":"#N/A"}},{"$f":"AVERAGEIF(tab_data[Year],tab_selected_country_data[[#This Row],[Year]],tab_data[Life Expectancy])","v":62.463083383084623},{"$f":"SUMPRODUCT(($M38=tab_data[Year])*tab_data[Life Expectancy]*tab_data[Population])/SUMIF(tab_data[Year],$M38,tab_data[Population])","v":63.363423195947227},{"$f":"INDEX(tab_selected_country_data[[#This Row],[Average Life Expectancy]:[Weighted Average Life Expectancy]],1,Control!$C$11)","v":62.463083383084623},{"$f":"SUMPRODUCT(($M38=tab_data[Year])*tab_data[Life Expectancy]*tab_data[Population])/SUMIF(tab_data[Year],$M38,tab_data[Population])","v":63.363423195947227},{"$f":"MIN(IF((tab_selected_country_data[[#This Row],[Year]]=tab_data[Year]),tab_data[Life Expectancy],999999999))","v":35.787999999999997},{"$f":"MAX((tab_selected_country_data[[#This Row],[Year]]=tab_data[Year])*tab_data[Life Expectancy])-tab_selected_country_data[[#This Row],[Min Life Expectancy]]","v":40.811999999999998}]
[null,"Central African Republic","Africa",{"$f":"MATCH(tab_xy_scatter_data[[#This Row],[Country]]&\"|\"&Control!$C$9,tab_data[ID (Country|Year)],0)","v":2069},{"$f":"INDEX(tab_data[Fertility],tab_xy_scatter_data[[#This Row],[Position]])","v":5.9539999999999997},{"$f":"INDEX(tab_data[Life Expectancy],tab_xy_scatter_data[[#This Row],[Position]])","v":41.948},{"$f":"IF(Control!$C$12,tab_xy_scatter_data[[#This Row],[Fertility Rate All]],NV())","v":5.9539999999999997},{"$f":"IF(Control!$C$12,tab_xy_scatter_data[[#This Row],[Life Expectancy All]],NV())","v":41.948},{"$f":"IF(AND(Control!$C$6=tab_xy_scatter_data[[#This Row],[Region]],Control!$C$13),tab_xy_scatter_data[[#This Row],[Fertility Rate All]],NA())","v":{"$error":"#N/A"}},{"$f":"IF(AND(Control!$C$6=tab_xy_scatter_data[[#This Row],[Region]],Control!$C$13),tab_xy_scatter_data[[#This Row],[Life Expectancy All]],NA())","v":{"$error":"#N/A"}},{"$f":"INDEX(tab_data[Population],tab_xy_scatter_data[[#This Row],[Position]])","v":1828709},null,1982,{"$f":"MATCH(Control!$C$5&\"|\"&tab_selected_country_data[[#This Row],[Year]],tab_data[ID (Country|Year)],0)","v":3747},{"$f":"INDEX(tab_data[Fertility],tab_selected_country_data[[#This Row],[Position]])","v":1.72},{"$f":"IF(tab_selected_country_data[[#This Row],[Year]]=Control!$C$9,tab_selected_country_data[[#This Row],[Fertility Rate All]],NA())","v":{"$error":"#N/A"}},{"$f":"AVERAGEIF(tab_data[Year],tab_selected_country_data[[#This Row],[Year]],tab_data[Fertility])","v":4.4291977713203865},{"$f":"SUMPRODUCT(($M39=tab_data[Year])*tab_data[Fertility]*tab_data[Population])/SUMIF(tab_data[Year],$M39,tab_data[Population])","v":3.6975970869539183},{"$f":"INDEX(tab_selected_country_data[[#This Row],[Average Fertility Rate]:[Weighted Average Fertility Rate]],1,Control!$C$11)","v":4.4291977713203865},{"$f":"MIN(IF((tab_selected_country_data[[#This Row],[Year]]=tab_data[Year]),tab_data[Fertility],999999999))","v":1.427},{"$f":"MAX((tab_selected_country_data[[#This Row],[Year]]=tab_data[Year])*tab_data[Fertility])-tab_selected_country_data[[#This Row],[Min Fertility Rate]]","v":7.7580000000000009},{"$f":"INDEX(tab_data[Life Expectancy],tab_selected_country_data[[#This Row],[Position]])","v":74.55},{"$f":"IF(AND(Control!$C$14,tab_selected_country_data[[#This Row],[Year]]<Control!$C$9),tab_selected_country_data[[#This Row],[Life Expectancy]],NA())","v":{"$error":"#N/A"}},{"$f":"IF(AND(Control!$C$14,tab_selected_country_data[[#This Row],[Year]]>Control!$C$9),tab_selected_country_data[[#This Row],[Life Expectancy]],NA())","v":74.55},{"$f":"IF(tab_selected_country_data[[#This Row],[Year]]=Control!$C$9,tab_selected_country_data[[#This Row],[Life Expectancy]],NA())","v":{"$error":"#N/A"}},{"$f":"AVERAGEIF(tab_data[Year],tab_selected_country_data[[#This Row],[Year]],tab_data[Life Expectancy])","v":62.860766169154196},{"$f":"SUMPRODUCT(($M39=tab_data[Year])*tab_data[Life Expectancy]*tab_data[Population])/SUMIF(tab_data[Year],$M39,tab_data[Population])","v":63.851220848806371},{"$f":"INDEX(tab_selected_country_data[[#This Row],[Average Life Expectancy]:[Weighted Average Life Expectancy]],1,Control!$C$11)","v":62.860766169154196},{"$f":"SUMPRODUCT(($M39=tab_data[Year])*tab_data[Life Expectancy]*tab_data[Population])/SUMIF(tab_data[Year],$M39,tab_data[Population])","v":63.851220848806371},{"$f":"MIN(IF((tab_selected_country_data[[#This Row],[Year]]=tab_data[Year]),tab_data[Life Expectancy],999999999))","v":38.155000000000001},{"$f":"MAX((tab_selected_country_data[[#This Row],[Year]]=tab_data[Year])*tab_data[Life Expectancy])-tab_selected_country_data[[#This Row],[Min Life Expectancy]]","v":38.954999999999998}]
[null,"Chad","Africa",{"$f":"MATCH(tab_xy_scatter_data[[#This Row],[Country]]&\"|\"&Control!$C$9,tab_data[ID (Country|Year)],0)","v":2133},{"$f":"INDEX(tab_data[Fertility],tab_xy_scatter_data[[#This Row],[Position]])","v":6.5279999999999996},{"$f":"INDEX(tab_data[Life Expectancy],tab_xy_scatter_data[[#This Row],[Position]])","v":41.331000000000003},{"$f":"IF(Control!$C$12,tab_xy_scatter_data[[#This Row],[Fertility Rate All]],NV())","v":6.5279999999999996},{"$f":"IF(Control!$C$12,tab_xy_scatter_data[[#This Row],[Life Expectancy All]],NV())","v":41.331000000000003},{"$f":"IF(AND(Control!$C$6=tab_xy_scatter_data[[#This Row],[Region]],Control!$C$13),tab_xy_scatter_data[[#This Row],[Fertility Rate All]],NA())","v":{"$error":"#N/A"}},{"$f":"IF(AND(Control!$C$6=tab_xy_scatter_data[[#This Row],[Region]],Control!$C$13),tab_xy_scatter_data[[#This Row],[Life Expectancy All]],NA())","v":{"$error":"#N/A"}},{"$f":"INDEX(tab_data[Population],tab_xy_scatter_data[[#This Row],[Position]])","v":3655905},null,1983,{"$f":"MATCH(Control!$C$5&\"|\"&tab_selected_country_data[[#This Row],[Year]],tab_data[ID (Country|Year)],0)","v":3746},{"$f":"INDEX(tab_data[Fertility],tab_selected_country_data[[#This Row],[Position]])","v":1.74},{"$f":"IF(tab_selected_country_data[[#This Row],[Year]]=Control!$C$9,tab_selected_country_data[[#This Row],[Fertility Rate All]],NA())","v":{"$error":"#N/A"}},{"$f":"AVERAGEIF(tab_data[Year],tab_selected_country_data[[#This Row],[Year]],tab_data[Fertility])","v":4.374574926253687},{"$f":"SUMPRODUCT(($M40=tab_data[Year])*tab_data[Fertility]*tab_data[Population])/SUMIF(tab_data[Year],$M40,tab_data[Population])","v":3.6820869244049819},{"$f":"INDEX(tab_selected_country_data[[#This Row],[Average Fertility Rate]:[Weighted Average Fertility Rate]],1,Control!$C$11)","v":4.374574926253687},{"$f":"MIN(IF((tab_selected_country_data[[#This Row],[Year]]=tab_data[Year]),tab_data[Fertility],999999999))","v":1.377},{"$f":"MAX((tab_selected_country_data[[#This Row],[Year]]=tab_data[Year])*tab_data[Fertility])-tab_selected_country_data[[#This Row],[Min Fertility Rate]]","v":7.846000000000001},{"$f":"INDEX(tab_data[Life Expectancy],tab_selected_country_data[[#This Row],[Position]])","v":74.459999999999994},{"$f":"IF(AND(Control!$C$14,tab_selected_country_data[[#This Row],[Year]]<Control!$C$9),tab_selected_country_data[[#This Row],[Life Expectancy]],NA())","v":{"$error":"#N/A"}},{"$f":"IF(AND(Control!$C$14,tab_selected_country_data[[#This Row],[Year]]>Control!$C$9),tab_selected_country_data[[#This Row],[Life Expectancy]],NA())","v":74.459999999999994},{"$f":"IF(tab_selected_country_data[[#This Row],[Year]]=Control!$C$9,tab_selected_country_data[[#This Row],[Life Expectancy]],NA())","v":{"$error":"#N/A"}},{"$f":"AVERAGEIF(tab_data[Year],tab_selected_country_data[[#This Row],[Year]],tab_data[Life Expectancy])","v":63.197527363184086},{"$f":"SUMPRODUCT(($M40=tab_data[Year])*tab_data[Life Expectancy]*tab_data[Population])/SUMIF(tab_data[Year],$M40,tab_data[Population])","v":64.0732840937102},{"$f":"INDEX(tab_selected_country_data[[#This Row],[Average Life Expectancy]:[Weighted Average Life Expectancy]],1,Control!$C$11)","v":63.197527363184086},{"$f":"SUMPRODUCT(($M40=tab_data[Year])*tab_data[Life Expectancy]*tab_data[Population])/SUMIF(tab_data[Year],$M40,tab_data[Population])","v":64.0732840937102},{"$f":"MIN(IF((tab_selected_country_data[[#This Row],[Year]]=tab_data[Year]),tab_data[Life Expectancy],999999999))","v":39.673999999999999},{"$f":"MAX((tab_selected_country_data[[#This Row],[Year]]=tab_data[Year])*tab_data[Life Expectancy])-tab_selected_country_data[[#This Row],[Min Life Expectancy]]","v":37.466000000000001}]
[null,"Channel Islands","Europe",{"$f":"MATCH(tab_xy_scatter_data[[#This Row],[Country]]&\"|\"&Control!$C$9,tab_data[ID (Country|Year)],0)","v":2197},{"$f":"INDEX(tab_data[Fertility],tab_xy_scatter_data[[#This Row],[Position]])","v":2.121},{"$f":"INDEX(tab_data[Life Expectancy],tab_xy_scatter_data[[#This Row],[Position]])","v":71.822999999999993},{"$f":"IF(Control!$C$12,tab_xy_scatter_data[[#This Row],[Fertility Rate All]],NV())","v":2.121},{"$f":"IF(Control!$C$12,tab_xy_scatter_data[[#This Row],[Life Expectancy All]],NV())","v":71.822999999999993},{"$f":"IF(AND(Control!$C$6=tab_xy_scatter_data[[#This Row],[Region]],Control!$C$13),tab_xy_scatter_data[[#This Row],[Fertility Rate All]],NA())","v":2.121},{"$f":"IF(AND(Control!$C$6=tab_xy_scatter_data[[#This Row],[Region]],Control!$C$13),tab_xy_scatter_data[[#This Row],[Life Expectancy All]],NA())","v":71.822999999999993},{"$f":"INDEX(tab_data[Population],tab_xy_scatter_data[[#This Row],[Position]])","v":121126},null,1984,{"$f":"MATCH(Control!$C$5&\"|\"&tab_selected_country_data[[#This Row],[Year]],tab_data[ID (Country|Year)],0)","v":3748},{"$f":"INDEX(tab_data[Fertility],tab_selected_country_data[[#This Row],[Position]])","v":1.7},{"$f":"IF(tab_selected_country_data[[#This Row],[Year]]=Control!$C$9,tab_selected_country_data[[#This Row],[Fertility Rate All]],NA())","v":{"$error":"#N/A"}},{"$f":"AVERAGEIF(tab_data[Year],tab_selected_country_data[[#This Row],[Year]],tab_data[Fertility])","v":4.3210989609474755},{"$f":"SUMPRODUCT(($M41=tab_data[Year])*tab_data[Fertility]*tab_data[Population])/SUMIF(tab_data[Year],$M41,tab_data[Population])","v":3.6573304998304095},{"$f":"INDEX(tab_selected_country_data[[#This Row],[Average Fertility Rate]:[Weighted Average Fertility Rate]],1,Control!$C$11)","v":4.3210989609474755},{"$f":"MIN(IF((tab_selected_country_data[[#This Row],[Year]]=tab_data[Year]),tab_data[Fertility],999999999))","v":1.4},{"$f":"MAX((tab_selected_country_data[[#This Row],[Year]]=tab_data[Year])*tab_data[Fertility])-tab_selected_country_data[[#This Row],[Min Fertility Rate]]","v":7.8230000000000004},{"$f":"INDEX(tab_data[Life Expectancy],tab_selected_country_data[[#This Row],[Position]])","v":74.77},{"$f":"IF(AND(Control!$C$14,tab_selected_country_data[[#This Row],[Year]]<Control!$C$9),tab_selected_country_data[[#This Row],[Life Expectancy]],NA())","v":{"$error":"#N/A"}},{"$f":"IF(AND(Control!$C$14,tab_selected_country_data[[#This Row],[Year]]>Control!$C$9),tab_selected_country_data[[#This Row],[Life Expectancy]],NA())","v":74.77},{"$f":"IF(tab_selected_country_data[[#This Row],[Year]]=Control!$C$9,tab_selected_country_data[[#This Row],[Life Expectancy]],NA())","v":{"$error":"#N/A"}},{"$f":"AVERAGEIF(tab_data[Year],tab_selected_country_data[[#This Row],[Year]],tab_data[Life Expectancy])","v":63.553746268656695},{"$f":"SUMPRODUCT(($M41=tab_data[Year])*tab_data[Life Expectancy]*tab_data[Population])/SUMIF(tab_data[Year],$M41,tab_data[Population])","v":64.325719365514203},{"$f":"INDEX(tab_selected_country_data[[#This Row],[Average Life Expectancy]:[Weighted Average Life Expectancy]],1,Control!$C$11)","v":63.553746268656695},{"$f":"SUMPRODUCT(($M41=tab_data[Year])*tab_data[Life Expectancy]*tab_data[Population])/SUMIF(tab_data[Year],$M41,tab_data[Population])","v":64.325719365514203},{"$f":"MIN(IF((tab_selected_country_data[[#This Row],[Year]]=tab_data[Year]),tab_data[Life Expectancy],999999999))","v":40.008000000000003},{"$f":"MAX((tab_selected_country_data[[#This Row],[Year]]=tab_data[Year])*tab_data[Life Expectancy])-tab_selected_country_data[[#This Row],[Min Life Expectancy]]","v":37.532000000000004}]
[null,"Chile","Latin America + Caribbean",{"$f":"MATCH(tab_xy_scatter_data[[#This Row],[Country]]&\"|\"&Control!$C$9,tab_data[ID (Country|Year)],0)","v":2261},{"$f":"INDEX(tab_data[Fertility],tab_xy_scatter_data[[#This Row],[Position]])","v":4.0229999999999997},{"$f":"INDEX(tab_data[Life Expectancy],tab_xy_scatter_data[[#This Row],[Position]])","v":62.024000000000001},{"$f":"IF(Control!$C$12,tab_xy_scatter_data[[#This Row],[Fertility Rate All]],NV())","v":4.0229999999999997},{"$f":"IF(Control!$C$12,tab_xy_scatter_data[[#This Row],[Life Expectancy All]],NV())","v":62.024000000000001},{"$f":"IF(AND(Control!$C$6=tab_xy_scatter_data[[#This Row],[Region]],Control!$C$13),tab_xy_scatter_data[[#This Row],[Fertility Rate All]],NA())","v":{"$error":"#N/A"}},{"$f":"IF(AND(Control!$C$6=tab_xy_scatter_data[[#This Row],[Region]],Control!$C$13),tab_xy_scatter_data[[#This Row],[Life Expectancy All]],NA())","v":{"$error":"#N/A"}},{"$f":"INDEX(tab_data[Population],tab_xy_scatter_data[[#This Row],[Position]])","v":9577572},null,1985,{"$f":"MATCH(Control!$C$5&\"|\"&tab_selected_country_data[[#This Row],[Year]],tab_data[ID (Country|Year)],0)","v":3745},{"$f":"INDEX(tab_data[Fertility],tab_selected_country_data[[#This Row],[Position]])","v":1.64},{"$f":"IF(tab_selected_country_data[[#This Row],[Year]]=Control!$C$9,tab_selected_country_data[[#This Row],[Fertility Rate All]],NA())","v":{"$error":"#N/A"}},{"$f":"AVERAGEIF(tab_data[Year],tab_selected_country_data[[#This Row],[Year]],tab_data[Fertility])","v":4.264531376744598},{"$f":"SUMPRODUCT(($M42=tab_data[Year])*tab_data[Fertility]*tab_data[Population])/SUMIF(tab_data[Year],$M42,tab_data[Population])","v":3.6301493333797734},{"$f":"INDEX(tab_selected_country_data[[#This Row],[Average Fertility Rate]:[Weighted Average Fertility Rate]],1,Control!$C$11)","v":4.264531376744598},{"$f":"MIN(IF((tab_selected_country_data[[#This Row],[Year]]=tab_data[Year]),tab_data[Fertility],999999999))","v":1.413},{"$f":"MAX((tab_selected_country_data[[#This Row],[Year]]=tab_data[Year])*tab_data[Fertility])-tab_selected_country_data[[#This Row],[Min Fertility Rate]]","v":7.7729999999999997},{"$f":"INDEX(tab_data[Life Expectancy],tab_selected_country_data[[#This Row],[Position]])","v":74.44},{"$f":"IF(AND(Control!$C$14,tab_selected_country_data[[#This Row],[Year]]<Control!$C$9),tab_selected_country_data[[#This Row],[Life Expectancy]],NA())","v":{"$error":"#N/A"}},{"$f":"IF(AND(Control!$C$14,tab_selected_country_data[[#This Row],[Year]]>Control!$C$9),tab_selected_country_data[[#This Row],[Life Expectancy]],NA())","v":74.44},{"$f":"IF(tab_selected_country_data[[#This Row],[Year]]=Control!$C$9,tab_selected_country_data[[#This Row],[Life Expectancy]],NA())","v":{"$error":"#N/A"}},{"$f":"AVERAGEIF(tab_data[Year],tab_selected_country_data[[#This Row],[Year]],tab_data[Life Expectancy])","v":63.862955223880611},{"$f":"SUMPRODUCT(($M42=tab_data[Year])*tab_data[Life Expectancy]*tab_data[Population])/SUMIF(tab_data[Year],$M42,tab_data[Population])","v":64.575548480223503},{"$f":"INDEX(tab_selected_country_data[[#This Row],[Average Life Expectancy]:[Weighted Average Life Expectancy]],1,Control!$C$11)","v":63.862955223880611},{"$f":"SUMPRODUCT(($M42=tab_data[Year])*tab_data[Life Expectancy]*tab_data[Population])/SUMIF(tab_data[Year],$M42,tab_data[Population])","v":64.575548480223503},{"$f":"MIN(IF((tab_selected_country_data[[#This Row],[Year]]=tab_data[Year]),tab_data[Life Expectancy],999999999))","v":40.311999999999998},{"$f":"MAX((tab_selected_country_data[[#This Row],[Year]]=tab_data[Year])*tab_data[Life Expectancy])-tab_selected_country_data[[#This Row],[Min Life Expectancy]]","v":37.528000000000006}]
[null,"China","Asia + Pacific",{"$f":"MATCH(tab_xy_scatter_data[[#This Row],[Country]]&\"|\"&Control!$C$9,tab_data[ID (Country|Year)],0)","v":2327},{"$f":"INDEX(tab_data[Fertility],tab_xy_scatter_data[[#This Row],[Position]])","v":5.7460000000000004},{"$f":"INDEX(tab_data[Life Expectancy],tab_xy_scatter_data[[#This Row],[Position]])","v":62.650799999999997},{"$f":"IF(Control!$C$12,tab_xy_scatter_data[[#This Row],[Fertility Rate All]],NV())","v":5.7460000000000004},{"$f":"IF(Control!$C$12,tab_xy_scatter_data[[#This Row],[Life Expectancy All]],NV())","v":62.650799999999997},{"$f":"IF(AND(Control!$C$6=tab_xy_scatter_data[[#This Row],[Region]],Control!$C$13),tab_xy_scatter_data[[#This Row],[Fertility Rate All]],NA())","v":{"$error":"#N/A"}},{"$f":"IF(AND(Control!$C$6=tab_xy_scatter_data[[#This Row],[Region]],Control!$C$13),tab_xy_scatter_data[[#This Row],[Life Expectancy All]],NA())","v":{"$error":"#N/A"}},{"$f":"INDEX(tab_data[Population],tab_xy_scatter_data[[#This Row],[Position]])","v":814622841},null,1986,{"$f":"MATCH(Control!$C$5&\"|\"&tab_selected_country_data[[#This Row],[Year]],tab_data[ID (Country|Year)],0)","v":3750},{"$f":"INDEX(tab_data[Fertility],tab_selected_country_data[[#This Row],[Position]])","v":1.6},{"$f":"IF(tab_selected_country_data[[#This Row],[Year]]=Control!$C$9,tab_selected_country_data[[#This Row],[Fertility Rate All]],NA())","v":{"$error":"#N/A"}},{"$f":"AVERAGEIF(tab_data[Year],tab_selected_country_data[[#This Row],[Year]],tab_data[Fertility])","v":4.2024996090344731},{"$f":"SUMPRODUCT(($M43=tab_data[Year])*tab_data[Fertility]*tab_data[Population])/SUMIF(tab_data[Year],$M43,tab_data[Population])","v":3.5911964651018971},{"$f":"INDEX(tab_selected_country_data[[#This Row],[Average Fertility Rate]:[Weighted Average Fertility Rate]],1,Control!$C$11)","v":4.2024996090344731},{"$f":"MIN(IF((tab_selected_country_data[[#This Row],[Year]]=tab_data[Year]),tab_data[Fertility],999999999))","v":1.3779999999999999},{"$f":"MAX((tab_selected_country_data[[#This Row],[Year]]=tab_data[Year])*tab_data[Fertility])-tab_selected_country_data[[#This Row],[Min Fertility Rate]]","v":7.7409999999999997},{"$f":"INDEX(tab_data[Life Expectancy],tab_selected_country_data[[#This Row],[Position]])","v":74.8},{"$f":"IF(AND(Control!$C$14,tab_selected_country_data[[#This Row],[Year]]<Control!$C$9),tab_selected_country_data[[#This Row],[Life Expectancy]],NA())","v":{"$error":"#N/A"}},{"$f":"IF(AND(Control!$C$14,tab_selected_country_data[[#This Row],[Year]]>Control!$C$9),tab_selected_country_data[[#This Row],[Life Expectancy]],NA())","v":74.8},{"$f":"IF(tab_selected_country_data[[#This Row],[Year]]=Control!$C$9,tab_selected_country_data[[#This Row],[Life Expectancy]],NA())","v":{"$error":"#N/A"}},{"$f":"AVERAGEIF(tab_data[Year],tab_selected_country_data[[#This Row],[Year]],tab_data[Life Expectancy])","v":64.221547263681586},{"$f":"SUMPRODUCT(($M43=tab_data[Year])*tab_data[Life Expectancy]*tab_data[Population])/SUMIF(tab_data[Year],$M43,tab_data[Population])","v":64.897177570335245},{"$f":"INDEX(tab_selected_country_data[[#This Row],[Average Life Expectancy]:[Weighted Average Life Expectancy]],1,Control!$C$11)","v":64.221547263681586},{"$f":"SUMPRODUCT(($M43=tab_data[Year])*tab_data[Life Expectancy]*tab_data[Population])/SUMIF(tab_data[Year],$M43,tab_data[Population])","v":64.897177570335245},{"$f":"MIN(IF((tab_selected_country_data[[#This Row],[Year]]=tab_data[Year]),tab_data[Life Expectancy],999999999))","v":39.872999999999998},{"$f":"MAX((tab_selected_country_data[[#This Row],[Year]]=tab_data[Year])*tab_data[Life Expectancy])-tab_selected_country_data[[#This Row],[Min Life Expectancy]]","v":38.387000000000008}]
[null,"Colombia","Latin America + Caribbean",{"$f":"MATCH(tab_xy_scatter_data[[#This Row],[Country]]&\"|\"&Control!$C$9,tab_data[ID (Country|Year)],0)","v":2389},{"$f":"INDEX(tab_data[Fertility],tab_xy_scatter_data[[#This Row],[Position]])","v":5.5990000000000002},{"$f":"INDEX(tab_data[Life Expectancy],tab_xy_scatter_data[[#This Row],[Position]])","v":60.902999999999999},{"$f":"IF(Control!$C$12,tab_xy_scatter_data[[#This Row],[Fertility Rate All]],NV())","v":5.5990000000000002},{"$f":"IF(Control!$C$12,tab_xy_scatter_data[[#This Row],[Life Expectancy All]],NV())","v":60.902999999999999},{"$f":"IF(AND(Control!$C$6=tab_xy_scatter_data[[#This Row],[Region]],Control!$C$13),tab_xy_scatter_data[[#This Row],[Fertility Rate All]],NA())","v":{"$error":"#N/A"}},{"$f":"IF(AND(Control!$C$6=tab_xy_scatter_data[[#This Row],[Region]],Control!$C$13),tab_xy_scatter_data[[#This Row],[Life Expectancy All]],NA())","v":{"$error":"#N/A"}},{"$f":"INDEX(tab_data[Population],tab_xy_scatter_data[[#This Row],[Position]])","v":21329811},null,1987,{"$f":"MATCH(Control!$C$5&\"|\"&tab_selected_country_data[[#This Row],[Year]],tab_data[ID (Country|Year)],0)","v":3751},{"$f":"INDEX(tab_data[Fertility],tab_selected_country_data[[#This Row],[Position]])","v":1.59},{"$f":"IF(tab_selected_country_data[[#This Row],[Year]]=Control!$C$9,tab_selected_country_data[[#This Row],[Fertility Rate All]],NA())","v":{"$error":"#N/A"}},{"$f":"AVERAGEIF(tab_data[Year],tab_selected_country_data[[#This Row],[Year]],tab_data[Fertility])","v":4.1400292519702351},{"$f":"SUMPRODUCT(($M44=tab_data[Year])*tab_data[Fertility]*tab_data[Population])/SUMIF(tab_data[Year],$M44,tab_data[Population])","v":3.5442700871292665},{"$f":"INDEX(tab_selected_country_data[[#This Row],[Average Fertility Rate]:[Weighted Average Fertility Rate]],1,Control!$C$11)","v":4.1400292519702351},{"$f":"MIN(IF((tab_selected_country_data[[#This Row],[Year]]=tab_data[Year]),tab_data[Fertility],999999999))","v":1.351},{"$f":"MAX((tab_selected_country_data[[#This Row],[Year]]=tab_data[Year])*tab_data[Fertility])-tab_selected_country_data[[#This Row],[Min Fertility Rate]]","v":7.6789999999999994},{"$f":"INDEX(tab_data[Life Expectancy],tab_selected_country_data[[#This Row],[Position]])","v":74.83},{"$f":"IF(AND(Control!$C$14,tab_selected_country_data[[#This Row],[Year]]<Control!$C$9),tab_selected_country_data[[#This Row],[Life Expectancy]],NA())","v":{"$error":"#N/A"}},{"$f":"IF(AND(Control!$C$14,tab_selected_country_data[[#This Row],[Year]]>Control!$C$9),tab_selected_country_data[[#This Row],[Life Expectancy]],NA())","v":74.83},{"$f":"IF(tab_selected_country_data[[#This Row],[Year]]=Control!$C$9,tab_selected_country_data[[#This Row],[Life Expectancy]],NA())","v":{"$error":"#N/A"}},{"$f":"AVERAGEIF(tab_data[Year],tab_selected_country_data[[#This Row],[Year]],tab_data[Life Expectancy])","v":64.502950248756235},{"$f":"SUMPRODUCT(($M44=tab_data[Year])*tab_data[Life Expectancy]*tab_data[Population])/SUMIF(tab_data[Year],$M44,tab_data[Population])","v":65.149438885957807},{"$f":"INDEX(tab_selected_country_data[[#This Row],[Average Life Expectancy]:[Weighted Average Life Expectancy]],1,Control!$C$11)","v":64.502950248756235},{"$f":"SUMPRODUCT(($M44=tab_data[Year])*tab_data[Life Expectancy]*tab_data[Population])/SUMIF(tab_data[Year],$M44,tab_data[Population])","v":65.149438885957807},{"$f":"MIN(IF((tab_selected_country_data[[#This Row],[Year]]=tab_data[Year]),tab_data[Life Expectancy],999999999))","v":39.317999999999998},{"$f":"MAX((tab_selected_country_data[[#This Row],[Year]]=tab_data[Year])*tab_data[Life Expectancy])-tab_selected_country_data[[#This Row],[Min Life Expectancy]]","v":39.352000000000004}]
[null,"Comoros","Africa",{"$f":"MATCH(tab_xy_scatter_data[[#This Row],[Country]]&\"|\"&Control!$C$9,tab_data[ID (Country|Year)],0)","v":2453},{"$f":"INDEX(tab_data[Fertility],tab_xy_scatter_data[[#This Row],[Position]])","v":7.0609999999999999},{"$f":"INDEX(tab_data[Life Expectancy],tab_xy_scatter_data[[#This Row],[Position]])","v":47.716999999999999},{"$f":"IF(Control!$C$12,tab_xy_scatter_data[[#This Row],[Fertility Rate All]],NV())","v":7.0609999999999999},{"$f":"IF(Control!$C$12,tab_xy_scatter_data[[#This Row],[Life Expectancy All]],NV())","v":47.716999999999999},{"$f":"IF(AND(Control!$C$6=tab_xy_scatter_data[[#This Row],[Region]],Control!$C$13),tab_xy_scatter_data[[#This Row],[Fertility Rate All]],NA())","v":{"$error":"#N/A"}},{"$f":"IF(AND(Control!$C$6=tab_xy_scatter_data[[#This Row],[Region]],Control!$C$13),tab_xy_scatter_data[[#This Row],[Life Expectancy All]],NA())","v":{"$error":"#N/A"}},{"$f":"INDEX(tab_data[Population],tab_xy_scatter_data[[#This Row],[Position]])","v":238032},null,1988,{"$f":"MATCH(Control!$C$5&\"|\"&tab_selected_country_data[[#This Row],[Year]],tab_data[ID (Country|Year)],0)","v":3749},{"$f":"INDEX(tab_data[Fertility],tab_selected_country_data[[#This Row],[Position]])","v":1.7},{"$f":"IF(tab_selected_country_data[[#This Row],[Year]]=Control!$C$9,tab_selected_country_data[[#This Row],[Fertility Rate All]],NA())","v":{"$error":"#N/A"}},{"$f":"AVERAGEIF(tab_data[Year],tab_selected_country_data[[#This Row],[Year]],tab_data[Fertility])","v":4.077269079381856},{"$f":"SUMPRODUCT(($M45=tab_data[Year])*tab_data[Fertility]*tab_data[Population])/SUMIF(tab_data[Year],$M45,tab_data[Population])","v":3.4876683941007398},{"$f":"INDEX(tab_selected_country_data[[#This Row],[Average Fertility Rate]:[Weighted Average Fertility Rate]],1,Control!$C$11)","v":4.077269079381856},{"$f":"MIN(IF((tab_selected_country_data[[#This Row],[Year]]=tab_data[Year]),tab_data[Fertility],999999999))","v":1.33},{"$f":"MAX((tab_selected_country_data[[#This Row],[Year]]=tab_data[Year])*tab_data[Fertility])-tab_selected_country_data[[#This Row],[Min Fertility Rate]]","v":7.5950000000000006},{"$f":"INDEX(tab_data[Life Expectancy],tab_selected_country_data[[#This Row],[Position]])","v":74.790000000000006},{"$f":"IF(AND(Control!$C$14,tab_selected_country_data[[#This Row],[Year]]<Control!$C$9),tab_selected_country_data[[#This Row],[Life Expectancy]],NA())","v":{"$error":"#N/A"}},{"$f":"IF(AND(Control!$C$14,tab_selected_country_data[[#This Row],[Year]]>Control!$C$9),tab_selected_country_data[[#This Row],[Life Expectancy]],NA())","v":74.790000000000006},{"$f":"IF(tab_selected_country_data[[#This Row],[Year]]=Control!$C$9,tab_selected_country_data[[#This Row],[Life Expectancy]],NA())","v":{"$error":"#N/A"}},{"$f":"AVERAGEIF(tab_data[Year],tab_selected_country_data[[#This Row],[Year]],tab_data[Life Expectancy])","v":64.752263681592027},{"$f":"SUMPRODUCT(($M45=tab_data[Year])*tab_data[Life Expectancy]*tab_data[Population])/SUMIF(tab_data[Year],$M45,tab_data[Population])","v":65.352669757979314},{"$f":"INDEX(tab_selected_country_data[[#This Row],[Average Life Expectancy]:[Weighted Average Life Expectancy]],1,Control!$C$11)","v":64.752263681592027},{"$f":"SUMPRODUCT(($M45=tab_data[Year])*tab_data[Life Expectancy]*tab_data[Population])/SUMIF(tab_data[Year],$M45,tab_data[Population])","v":65.352669757979314},{"$f":"MIN(IF((tab_selected_country_data[[#This Row],[Year]]=tab_data[Year]),tab_data[Life Expectancy],999999999))","v":38.683},{"$f":"MAX((tab_selected_country_data[[#This Row],[Year]]=tab_data[Year])*tab_data[Life Expectancy])-tab_selected_country_data[[#This Row],[Min Life Expectancy]]","v":39.896999999999998}]
[null,"Congo Democratic Republic","Africa",{"$f":"MATCH(tab_xy_scatter_data[[#This Row],[Country]]&\"|\"&Control!$C$9,tab_data[ID (Country|Year)],0)","v":2517},{"$f":"INDEX(tab_data[Fertility],tab_xy_scatter_data[[#This Row],[Position]])","v":6.2140000000000004},{"$f":"INDEX(tab_data[Life Expectancy],tab_xy_scatter_data[[#This Row],[Position]])","v":43.917000000000002},{"$f":"IF(Control!$C$12,tab_xy_scatter_data[[#This Row],[Fertility Rate All]],NV())","v":6.2140000000000004},{"$f":"IF(Control!$C$12,tab_xy_scatter_data[[#This Row],[Life Expectancy All]],NV())","v":43.917000000000002},{"$f":"IF(AND(Control!$C$6=tab_xy_scatter_data[[#This Row],[Region]],Control!$C$13),tab_xy_scatter_data[[#This Row],[Fertility Rate All]],NA())","v":{"$error":"#N/A"}},{"$f":"IF(AND(Control!$C$6=tab_xy_scatter_data[[#This Row],[Region]],Control!$C$13),tab_xy_scatter_data[[#This Row],[Life Expectancy All]],NA())","v":{"$error":"#N/A"}},{"$f":"INDEX(tab_data[Population],tab_xy_scatter_data[[#This Row],[Position]])","v":20267009},null,1989,{"$f":"MATCH(Control!$C$5&\"|\"&tab_selected_country_data[[#This Row],[Year]],tab_data[ID (Country|Year)],0)","v":3752},{"$f":"INDEX(tab_data[Fertility],tab_selected_country_data[[#This Row],[Position]])","v":1.71},{"$f":"IF(tab_selected_country_data[[#This Row],[Year]]=Control!$C$9,tab_selected_country_data[[#This Row],[Fertility Rate All]],NA())","v":{"$error":"#N/A"}},{"$f":"AVERAGEIF(tab_data[Year],tab_selected_country_data[[#This Row],[Year]],tab_data[Fertility])","v":4.0063279161713563},{"$f":"SUMPRODUCT(($M46=tab_data[Year])*tab_data[Fertility]*tab_data[Population])/SUMIF(tab_data[Year],$M46,tab_data[Population])","v":3.419733621789002},{"$f":"INDEX(tab_selected_country_data[[#This Row],[Average Fertility Rate]:[Weighted Average Fertility Rate]],1,Control!$C$11)","v":4.0063279161713563},{"$f":"MIN(IF((tab_selected_country_data[[#This Row],[Year]]=tab_data[Year]),tab_data[Fertility],999999999))","v":1.3140000000000001},{"$f":"MAX((tab_selected_country_data[[#This Row],[Year]]=tab_data[Year])*tab_data[Fertility])-tab_selected_country_data[[#This Row],[Min Fertility Rate]]","v":7.4909999999999997},{"$f":"INDEX(tab_data[Life Expectancy],tab_selected_country_data[[#This Row],[Position]])","v":75.010000000000005},{"$f":"IF(AND(Control!$C$14,tab_selected_country_data[[#This Row],[Year]]<Control!$C$9),tab_selected_country_data[[#This Row],[Life Expectancy]],NA())","v":{"$error":"#N/A"}},{"$f":"IF(AND(Control!$C$14,tab_selected_country_data[[#This Row],[Year]]>Control!$C$9),tab_selected_country_data[[#This Row],[Life Expectancy]],NA())","v":75.010000000000005},{"$f":"IF(tab_selected_country_data[[#This Row],[Year]]=Control!$C$9,tab_selected_country_data[[#This Row],[Life Expectancy]],NA())","v":{"$error":"#N/A"}},{"$f":"AVERAGEIF(tab_data[Year],tab_selected_country_data[[#This Row],[Year]],tab_data[Life Expectancy])","v":64.982308457711454},{"$f":"SUMPRODUCT(($M46=tab_data[Year])*tab_data[Life Expectancy]*tab_data[Population])/SUMIF(tab_data[Year],$M46,tab_data[Population])","v":65.561151443446704},{"$f":"INDEX(tab_selected_country_data[[#This Row],[Average Life Expectancy]:[Weighted Average Life Expectancy]],1,Control!$C$11)","v":64.982308457711454},{"$f":"SUMPRODUCT(($M46=tab_data[Year])*tab_data[Life Expectancy]*tab_data[Population])/SUMIF(tab_data[Year],$M46,tab_data[Population])","v":65.561151443446704},{"$f":"MIN(IF((tab_selected_country_data[[#This Row],[Year]]=tab_data[Year]),tab_data[Life Expectancy],999999999))","v":38.01},{"$f":"MAX((tab_selected_country_data[[#This Row],[Year]]=tab_data[Year])*tab_data[Life Expectancy])-tab_selected_country_data[[#This Row],[Min Life Expectancy]]","v":41.000000000000007}]
[null,"Congo Republic","Africa",{"$f":"MATCH(tab_xy_scatter_data[[#This Row],[Country]]&\"|\"&Control!$C$9,tab_data[ID (Country|Year)],0)","v":2591},{"$f":"INDEX(tab_data[Fertility],tab_xy_scatter_data[[#This Row],[Position]])","v":6.2590000000000003},{"$f":"INDEX(tab_data[Life Expectancy],tab_xy_scatter_data[[#This Row],[Position]])","v":53.39},{"$f":"IF(Control!$C$12,tab_xy_scatter_data[[#This Row],[Fertility Rate All]],NV())","v":6.2590000000000003},{"$f":"IF(Control!$C$12,tab_xy_scatter_data[[#This Row],[Life Expectancy All]],NV())","v":53.39},{"$f":"IF(AND(Control!$C$6=tab_xy_scatter_data[[#This Row],[Region]],Control!$C$13),tab_xy_scatter_data[[#This Row],[Fertility Rate All]],NA())","v":{"$error":"#N/A"}},{"$f":"IF(AND(Control!$C$6=tab_xy_scatter_data[[#This Row],[Region]],Control!$C$13),tab_xy_scatter_data[[#This Row],[Life Expectancy All]],NA())","v":{"$error":"#N/A"}},{"$f":"INDEX(tab_data[Population],tab_xy_scatter_data[[#This Row],[Position]])","v":1335088},null,1990,{"$f":"MATCH(Control!$C$5&\"|\"&tab_selected_country_data[[#This Row],[Year]],tab_data[ID (Country|Year)],0)","v":3753},{"$f":"INDEX(tab_data[Fertility],tab_selected_country_data[[#This Row],[Position]])","v":1.79},{"$f":"IF(tab_selected_country_data[[#This Row],[Year]]=Control!$C$9,tab_selected_country_data[[#This Row],[Fertility Rate All]],NA())","v":{"$error":"#N/A"}},{"$f":"AVERAGEIF(tab_data[Year],tab_selected_country_data[[#This Row],[Year]],tab_data[Fertility])","v":3.9368291013956775},{"$f":"SUMPRODUCT(($M47=tab_data[Year])*tab_data[Fertility]*tab_data[Population])/SUMIF(tab_data[Year],$M47,tab_data[Population])","v":3.3437159874251106},{"$f":"INDEX(tab_selected_country_data[[#This Row],[Average Fertility Rate]:[Weighted Average Fertility Rate]],1,Control!$C$11)","v":3.9368291013956775},{"$f":"MIN(IF((tab_selected_country_data[[#This Row],[Year]]=tab_data[Year]),tab_data[Fertility],999999999))","v":1.296},{"$f":"MAX((tab_selected_country_data[[#This Row],[Year]]=tab_data[Year])*tab_data[Fertility])-tab_selected_country_data[[#This Row],[Min Fertility Rate]]","v":7.3709999999999996},{"$f":"INDEX(tab_data[Life Expectancy],tab_selected_country_data[[#This Row],[Position]])","v":75.040000000000006},{"$f":"IF(AND(Control!$C$14,tab_selected_country_data[[#This Row],[Year]]<Control!$C$9),tab_selected_country_data[[#This Row],[Life Expectancy]],NA())","v":{"$error":"#N/A"}},{"$f":"IF(AND(Control!$C$14,tab_selected_country_data[[#This Row],[Year]]>Control!$C$9),tab_selected_country_data[[#This Row],[Life Expectancy]],NA())","v":75.040000000000006},{"$f":"IF(tab_selected_country_data[[#This Row],[Year]]=Control!$C$9,tab_selected_country_data[[#This Row],[Life Expectancy]],NA())","v":{"$error":"#N/A"}},{"$f":"AVERAGEIF(tab_data[Year],tab_selected_country_data[[#This Row],[Year]],tab_data[Life Expectancy])","v":65.177169154228807},{"$f":"SUMPRODUCT(($M47=tab_data[Year])*tab_data[Life Expectancy]*tab_data[Population])/SUMIF(tab_data[Year],$M47,tab_data[Population])","v":65.742154937537265},{"$f":"INDEX(tab_selected_country_data[[#This Row],[Average Life Expectancy]:[Weighted Average Life Expectancy]],1,Control!$C$11)","v":65.177169154228807},{"$f":"SUMPRODUCT(($M47=tab_data[Year])*tab_data[Life Expectancy]*tab_data[Population])/SUMIF(tab_data[Year],$M47,tab_data[Population])","v":65.742154937537265},{"$f":"MIN(IF((tab_selected_country_data[[#This Row],[Year]]=tab_data[Year]),tab_data[Life Expectancy],999999999))","v":37.351999999999997},{"$f":"MAX((tab_selected_country_data[[#This Row],[Year]]=tab_data[Year])*tab_data[Life Expectancy])-tab_selected_country_data[[#This Row],[Min Life Expectancy]]","v":41.688000000000009}]
[null,"Costa Rica","Latin America + Caribbean",{"$f":"MATCH(tab_xy_scatter_data[[#This Row],[Country]]&\"|\"&Control!$C$9,tab_data[ID (Country|Year)],0)","v":2645},{"$f":"INDEX(tab_data[Fertility],tab_xy_scatter_data[[#This Row],[Position]])","v":5.0119999999999996},{"$f":"INDEX(tab_data[Life Expectancy],tab_xy_scatter_data[[#This Row],[Position]])","v":66.792000000000002},{"$f":"IF(Control!$C$12,tab_xy_scatter_data[[#This Row],[Fertility Rate All]],NV())","v":5.0119999999999996},{"$f":"IF(Control!$C$12,tab_xy_scatter_data[[#This Row],[Life Expectancy All]],NV())","v":66.792000000000002},{"$f":"IF(AND(Control!$C$6=tab_xy_scatter_data[[#This Row],[Region]],Control!$C$13),tab_xy_scatter_data[[#This Row],[Fertility Rate All]],NA())","v":{"$error":"#N/A"}},{"$f":"IF(AND(Control!$C$6=tab_xy_scatter_data[[#This Row],[Region]],Control!$C$13),tab_xy_scatter_data[[#This Row],[Life Expectancy All]],NA())","v":{"$error":"#N/A"}},{"$f":"INDEX(tab_data[Population],tab_xy_scatter_data[[#This Row],[Position]])","v":1820379},null,1991,{"$f":"MATCH(Control!$C$5&\"|\"&tab_selected_country_data[[#This Row],[Year]],tab_data[ID (Country|Year)],0)","v":3754},{"$f":"INDEX(tab_data[Fertility],tab_selected_country_data[[#This Row],[Position]])","v":1.8},{"$f":"IF(tab_selected_country_data[[#This Row],[Year]]=Control!$C$9,tab_selected_country_data[[#This Row],[Fertility Rate All]],NA())","v":{"$error":"#N/A"}},{"$f":"AVERAGEIF(tab_data[Year],tab_selected_country_data[[#This Row],[Year]],tab_data[Fertility])","v":3.8610527468850453},{"$f":"SUMPRODUCT(($M48=tab_data[Year])*tab_data[Fertility]*tab_data[Population])/SUMIF(tab_data[Year],$M48,tab_data[Population])","v":3.2562754435674006},{"$f":"INDEX(tab_selected_country_data[[#This Row],[Average Fertility Rate]:[Weighted Average Fertility Rate]],1,Control!$C$11)","v":3.8610527468850453},{"$f":"MIN(IF((tab_selected_country_data[[#This Row],[Year]]=tab_data[Year]),tab_data[Fertility],999999999))","v":1.264},{"$f":"MAX((tab_selected_country_data[[#This Row],[Year]]=tab_data[Year])*tab_data[Fertility])-tab_selected_country_data[[#This Row],[Min Fertility Rate]]","v":7.2399999999999993},{"$f":"INDEX(tab_data[Life Expectancy],tab_selected_country_data[[#This Row],[Position]])","v":75.45},{"$f":"IF(AND(Control!$C$14,tab_selected_country_data[[#This Row],[Year]]<Control!$C$9),tab_selected_country_data[[#This Row],[Life Expectancy]],NA())","v":{"$error":"#N/A"}},{"$f":"IF(AND(Control!$C$14,tab_selected_country_data[[#This Row],[Year]]>Control!$C$9),tab_selected_country_data[[#This Row],[Life Expectancy]],NA())","v":75.45},{"$f":"IF(tab_selected_country_data[[#This Row],[Year]]=Control!$C$9,tab_selected_country_data[[#This Row],[Life Expectancy]],NA())","v":{"$error":"#N/A"}},{"$f":"AVERAGEIF(tab_data[Year],tab_selected_country_data[[#This Row],[Year]],tab_data[Life Expectancy])","v":65.359512437810963},{"$f":"SUMPRODUCT(($M48=tab_data[Year])*tab_data[Life Expectancy]*tab_data[Population])/SUMIF(tab_data[Year],$M48,tab_data[Population])","v":65.906919983340586},{"$f":"INDEX(tab_selected_country_data[[#This Row],[Average Life Expectancy]:[Weighted Average Life Expectancy]],1,Control!$C$11)","v":65.359512437810963},{"$f":"SUMPRODUCT(($M48=tab_data[Year])*tab_data[Life Expectancy]*tab_data[Population])/SUMIF(tab_data[Year],$M48,tab_data[Population])","v":65.906919983340586},{"$f":"MIN(IF((tab_selected_country_data[[#This Row],[Year]]=tab_data[Year]),tab_data[Life Expectancy],999999999))","v":36.764000000000003},{"$f":"MAX((tab_selected_country_data[[#This Row],[Year]]=tab_data[Year])*tab_data[Life Expectancy])-tab_selected_country_data[[#This Row],[Min Life Expectancy]]","v":42.545999999999999}]
[null,"Cote d'Ivoire","Africa",{"$f":"MATCH(tab_xy_scatter_data[[#This Row],[Country]]&\"|\"&Control!$C$9,tab_data[ID (Country|Year)],0)","v":2709},{"$f":"INDEX(tab_data[Fertility],tab_xy_scatter_data[[#This Row],[Position]])","v":7.9080000000000004},{"$f":"INDEX(tab_data[Life Expectancy],tab_xy_scatter_data[[#This Row],[Position]])","v":43.692},{"$f":"IF(Control!$C$12,tab_xy_scatter_data[[#This Row],[Fertility Rate All]],NV())","v":7.9080000000000004},{"$f":"IF(Control!$C$12,tab_xy_scatter_data[[#This Row],[Life Expectancy All]],NV())","v":43.692},{"$f":"IF(AND(Control!$C$6=tab_xy_scatter_data[[#This Row],[Region]],Control!$C$13),tab_xy_scatter_data[[#This Row],[Fertility Rate All]],NA())","v":{"$error":"#N/A"}},{"$f":"IF(AND(Control!$C$6=tab_xy_scatter_data[[#This Row],[Region]],Control!$C$13),tab_xy_scatter_data[[#This Row],[Life Expectancy All]],NA())","v":{"$error":"#N/A"}},{"$f":"INDEX(tab_data[Population],tab_xy_scatter_data[[#This Row],[Position]])","v":5416416},null,1992,{"$f":"MATCH(Control!$C$5&\"|\"&tab_selected_country_data[[#This Row],[Year]],tab_data[ID (Country|Year)],0)","v":3755},{"$f":"INDEX(tab_data[Fertility],tab_selected_country_data[[#This Row],[Position]])","v":1.85},{"$f":"IF(tab_selected_country_data[[#This Row],[Year]]=Control!$C$9,tab_selected_country_data[[#This Row],[Fertility Rate All]],NA())","v":{"$error":"#N/A"}},{"$f":"AVERAGEIF(tab_data[Year],tab_selected_country_data[[#This Row],[Year]],tab_data[Fertility])","v":3.7871950530533183},{"$f":"SUMPRODUCT(($M49=tab_data[Year])*tab_data[Fertility]*tab_data[Population])/SUMIF(tab_data[Year],$M49,tab_data[Population])","v":3.1697714996842241},{"$f":"INDEX(tab_selected_country_data[[#This Row],[Average Fertility Rate]:[Weighted Average Fertility Rate]],1,Control!$C$11)","v":3.7871950530533183},{"$f":"MIN(IF((tab_selected_country_data[[#This Row],[Year]]=tab_data[Year]),tab_data[Fertility],999999999))","v":1.222},{"$f":"MAX((tab_selected_country_data[[#This Row],[Year]]=tab_data[Year])*tab_data[Fertility])-tab_selected_country_data[[#This Row],[Min Fertility Rate]]","v":7.0890000000000004},{"$f":"INDEX(tab_data[Life Expectancy],tab_selected_country_data[[#This Row],[Position]])","v":75.7},{"$f":"IF(AND(Control!$C$14,tab_selected_country_data[[#This Row],[Year]]<Control!$C$9),tab_selected_country_data[[#This Row],[Life Expectancy]],NA())","v":{"$error":"#N/A"}},{"$f":"IF(AND(Control!$C$14,tab_selected_country_data[[#This Row],[Year]]>Control!$C$9),tab_selected_country_data[[#This Row],[Life Expectancy]],NA())","v":75.7},{"$f":"IF(tab_selected_country_data[[#This Row],[Year]]=Control!$C$9,tab_selected_country_data[[#This Row],[Life Expectancy]],NA())","v":{"$error":"#N/A"}},{"$f":"AVERAGEIF(tab_data[Year],tab_selected_country_data[[#This Row],[Year]],tab_data[Life Expectancy])","v":65.538527363184073},{"$f":"SUMPRODUCT(($M49=tab_data[Year])*tab_data[Life Expectancy]*tab_data[Population])/SUMIF(tab_data[Year],$M49,tab_data[Population])","v":66.061821724973299},{"$f":"INDEX(tab_selected_country_data[[#This Row],[Average Life Expectancy]:[Weighted Average Life Expectancy]],1,Control!$C$11)","v":65.538527363184073},{"$f":"SUMPRODUCT(($M49=tab_data[Year])*tab_data[Life Expectancy]*tab_data[Population])/SUMIF(tab_data[Year],$M49,tab_data[Population])","v":66.061821724973299},{"$f":"MIN(IF((tab_selected_country_data[[#This Row],[Year]]=tab_data[Year]),tab_data[Life Expectancy],999999999))","v":36.286999999999999},{"$f":"MAX((tab_selected_country_data[[#This Row],[Year]]=tab_data[Year])*tab_data[Life Expectancy])-tab_selected_country_data[[#This Row],[Min Life Expectancy]]","v":43.073}]
[null,"Croatia","Europe",{"$f":"MATCH(tab_xy_scatter_data[[#This Row],[Country]]&\"|\"&Control!$C$9,tab_data[ID (Country|Year)],0)","v":2773},{"$f":"INDEX(tab_data[Fertility],tab_xy_scatter_data[[#This Row],[Position]])","v":2.0070000000000001},{"$f":"INDEX(tab_data[Life Expectancy],tab_xy_scatter_data[[#This Row],[Position]])","v":68.381},{"$f":"IF(Control!$C$12,tab_xy_scatter_data[[#This Row],[Fertility Rate All]],NV())","v":2.0070000000000001},{"$f":"IF(Control!$C$12,tab_xy_scatter_data[[#This Row],[Life Expectancy All]],NV())","v":68.381},{"$f":"IF(AND(Control!$C$6=tab_xy_scatter_data[[#This Row],[Region]],Control!$C$13),tab_xy_scatter_data[[#This Row],[Fertility Rate All]],NA())","v":2.0070000000000001},{"$f":"IF(AND(Control!$C$6=tab_xy_scatter_data[[#This Row],[Region]],Control!$C$13),tab_xy_scatter_data[[#This Row],[Life Expectancy All]],NA())","v":68.381},{"$f":"INDEX(tab_data[Population],tab_xy_scatter_data[[#This Row],[Position]])","v":4169217},null,1993,{"$f":"MATCH(Control!$C$5&\"|\"&tab_selected_country_data[[#This Row],[Year]],tab_data[ID (Country|Year)],0)","v":3756},{"$f":"INDEX(tab_data[Fertility],tab_selected_country_data[[#This Row],[Position]])","v":1.81},{"$f":"IF(tab_selected_country_data[[#This Row],[Year]]=Control!$C$9,tab_selected_country_data[[#This Row],[Fertility Rate All]],NA())","v":{"$error":"#N/A"}},{"$f":"AVERAGEIF(tab_data[Year],tab_selected_country_data[[#This Row],[Year]],tab_data[Fertility])","v":3.712490787654648},{"$f":"SUMPRODUCT(($M50=tab_data[Year])*tab_data[Fertility]*tab_data[Population])/SUMIF(tab_data[Year],$M50,tab_data[Population])","v":3.0862933931452385},{"$f":"INDEX(tab_selected_country_data[[#This Row],[Average Fertility Rate]:[Weighted Average Fertility Rate]],1,Control!$C$11)","v":3.712490787654648},{"$f":"MIN(IF((tab_selected_country_data[[#This Row],[Year]]=tab_data[Year]),tab_data[Fertility],999999999))","v":1.169},{"$f":"MAX((tab_selected_country_data[[#This Row],[Year]]=tab_data[Year])*tab_data[Fertility])-tab_selected_country_data[[#This Row],[Min Fertility Rate]]","v":6.9189999999999987},{"$f":"INDEX(tab_data[Life Expectancy],tab_selected_country_data[[#This Row],[Position]])","v":75.94},{"$f":"IF(AND(Control!$C$14,tab_selected_country_data[[#This Row],[Year]]<Control!$C$9),tab_selected_country_data[[#This Row],[Life Expectancy]],NA())","v":{"$error":"#N/A"}},{"$f":"IF(AND(Control!$C$14,tab_selected_country_data[[#This Row],[Year]]>Control!$C$9),tab_selected_country_data[[#This Row],[Life Expectancy]],NA())","v":75.94},{"$f":"IF(tab_selected_country_data[[#This Row],[Year]]=Control!$C$9,tab_selected_country_data[[#This Row],[Life Expectancy]],NA())","v":{"$error":"#N/A"}},{"$f":"AVERAGEIF(tab_data[Year],tab_selected_country_data[[#This Row],[Year]],tab_data[Life Expectancy])","v":65.665223880597026},{"$f":"SUMPRODUCT(($M50=tab_data[Year])*tab_data[Life Expectancy]*tab_data[Population])/SUMIF(tab_data[Year],$M50,tab_data[Population])","v":66.118674493051927},{"$f":"INDEX(tab_selected_country_data[[#This Row],[Average Life Expectancy]:[Weighted Average Life Expectancy]],1,Control!$C$11)","v":65.665223880597026},{"$f":"SUMPRODUCT(($M50=tab_data[Year])*tab_data[Life Expectancy]*tab_data[Population])/SUMIF(tab_data[Year],$M50,tab_data[Population])","v":66.118674493051927},{"$f":"MIN(IF((tab_selected_country_data[[#This Row],[Year]]=tab_data[Year]),tab_data[Life Expectancy],999999999))","v":35.956000000000003},{"$f":"MAX((tab_selected_country_data[[#This Row],[Year]]=tab_data[Year])*tab_data[Life Expectancy])-tab_selected_country_data[[#This Row],[Min Life Expectancy]]","v":43.543999999999997}]
[null,"Cuba","Latin America + Caribbean",{"$f":"MATCH(tab_xy_scatter_data[[#This Row],[Country]]&\"|\"&Control!$C$9,tab_data[ID (Country|Year)],0)","v":2837},{"$f":"INDEX(tab_data[Fertility],tab_xy_scatter_data[[#This Row],[Position]])","v":4.0330000000000004},{"$f":"INDEX(tab_data[Life Expectancy],tab_xy_scatter_data[[#This Row],[Position]])","v":69.811000000000007},{"$f":"IF(Control!$C$12,tab_xy_scatter_data[[#This Row],[Fertility Rate All]],NV())","v":4.0330000000000004},{"$f":"IF(Control!$C$12,tab_xy_scatter_data[[#This Row],[Life Expectancy All]],NV())","v":69.811000000000007},{"$f":"IF(AND(Control!$C$6=tab_xy_scatter_data[[#This Row],[Region]],Control!$C$13),tab_xy_scatter_data[[#This Row],[Fertility Rate All]],NA())","v":{"$error":"#N/A"}},{"$f":"IF(AND(Control!$C$6=tab_xy_scatter_data[[#This Row],[Region]],Control!$C$13),tab_xy_scatter_data[[#This Row],[Life Expectancy All]],NA())","v":{"$error":"#N/A"}},{"$f":"INDEX(tab_data[Population],tab_xy_scatter_data[[#This Row],[Position]])","v":8701886},null,1994,{"$f":"MATCH(Control!$C$5&\"|\"&tab_selected_country_data[[#This Row],[Year]],tab_data[ID (Country|Year)],0)","v":3757},{"$f":"INDEX(tab_data[Fertility],tab_selected_country_data[[#This Row],[Position]])","v":1.85},{"$f":"IF(tab_selected_country_data[[#This Row],[Year]]=Control!$C$9,tab_selected_country_data[[#This Row],[Fertility Rate All]],NA())","v":{"$error":"#N/A"}},{"$f":"AVERAGEIF(tab_data[Year],tab_selected_country_data[[#This Row],[Year]],tab_data[Fertility])","v":3.6401436278783095},{"$f":"SUMPRODUCT(($M51=tab_data[Year])*tab_data[Fertility]*tab_data[Population])/SUMIF(tab_data[Year],$M51,tab_data[Population])","v":3.0096021824031403},{"$f":"INDEX(tab_selected_country_data[[#This Row],[Average Fertility Rate]:[Weighted Average Fertility Rate]],1,Control!$C$11)","v":3.6401436278783095},{"$f":"MIN(IF((tab_selected_country_data[[#This Row],[Year]]=tab_data[Year]),tab_data[Fertility],999999999))","v":1.1060000000000001},{"$f":"MAX((tab_selected_country_data[[#This Row],[Year]]=tab_data[Year])*tab_data[Fertility])-tab_selected_country_data[[#This Row],[Min Fertility Rate]]","v":6.7350000000000003},{"$f":"INDEX(tab_data[Life Expectancy],tab_selected_country_data[[#This Row],[Position]])","v":76.64},{"$f":"IF(AND(Control!$C$14,tab_selected_country_data[[#This Row],[Year]]<Control!$C$9),tab_selected_country_data[[#This Row],[Life Expectancy]],NA())","v":{"$error":"#N/A"}},{"$f":"IF(AND(Control!$C$14,tab_selected_country_data[[#This Row],[Year]]>Control!$C$9),tab_selected_country_data[[#This Row],[Life Expectancy]],NA())","v":76.64},{"$f":"IF(tab_selected_country_data[[#This Row],[Year]]=Control!$C$9,tab_selected_country_data[[#This Row],[Life Expectancy]],NA())","v":{"$error":"#N/A"}},{"$f":"AVERAGEIF(tab_data[Year],tab_selected_country_data[[#This Row],[Year]],tab_data[Life Expectancy])","v":65.736427860696523},{"$f":"SUMPRODUCT(($M51=tab_data[Year])*tab_data[Life Expectancy]*tab_data[Population])/SUMIF(tab_data[Year],$M51,tab_data[Population])","v":66.248838735205069},{"$f":"INDEX(tab_selected_country_data[[#This Row],[Average Life Expectancy]:[Weighted Average Life Expectancy]],1,Control!$C$11)","v":65.736427860696523},{"$f":"SUMPRODUCT(($M51=tab_data[Year])*tab_data[Life Expectancy]*tab_data[Population])/SUMIF(tab_data[Year],$M51,tab_data[Population])","v":66.248838735205069},{"$f":"MIN(IF((tab_selected_country_data[[#This Row],[Year]]=tab_data[Year]),tab_data[Life Expectancy],999999999))","v":28.260999999999999},{"$f":"MAX((tab_selected_country_data[[#This Row],[Year]]=tab_data[Year])*tab_data[Life Expectancy])-tab_selected_country_data[[#This Row],[Min Life Expectancy]]","v":51.649000000000001}]
[null,"Cyprus","Europe",{"$f":"MATCH(tab_xy_scatter_data[[#This Row],[Country]]&\"|\"&Control!$C$9,tab_data[ID (Country|Year)],0)","v":2901},{"$f":"INDEX(tab_data[Fertility],tab_xy_scatter_data[[#This Row],[Position]])","v":2.61},{"$f":"INDEX(tab_data[Life Expectancy],tab_xy_scatter_data[[#This Row],[Position]])","v":72.575999999999993},{"$f":"IF(Control!$C$12,tab_xy_scatter_data[[#This Row],[Fertility Rate All]],NV())","v":2.61},{"$f":"IF(Control!$C$12,tab_xy_scatter_data[[#This Row],[Life Expectancy All]],NV())","v":72.575999999999993},{"$f":"IF(AND(Control!$C$6=tab_xy_scatter_data[[#This Row],[Region]],Control!$C$13),tab_xy_scatter_data[[#This Row],[Fertility Rate All]],NA())","v":2.61},{"$f":"IF(AND(Control!$C$6=tab_xy_scatter_data[[#This Row],[Region]],Control!$C$13),tab_xy_scatter_data[[#This Row],[Life Expectancy All]],NA())","v":72.575999999999993},{"$f":"INDEX(tab_data[Population],tab_xy_scatter_data[[#This Row],[Position]])","v":613735},null,1995,{"$f":"MATCH(Control!$C$5&\"|\"&tab_selected_country_data[[#This Row],[Year]],tab_data[ID (Country|Year)],0)","v":3758},{"$f":"INDEX(tab_data[Fertility],tab_selected_country_data[[#This Row],[Position]])","v":1.81},{"$f":"IF(tab_selected_country_data[[#This Row],[Year]]=Control!$C$9,tab_selected_country_data[[#This Row],[Fertility Rate All]],NA())","v":{"$error":"#N/A"}},{"$f":"AVERAGEIF(tab_data[Year],tab_selected_country_data[[#This Row],[Year]],tab_data[Fertility])","v":3.567582985074627},{"$f":"SUMPRODUCT(($M52=tab_data[Year])*tab_data[Fertility]*tab_data[Population])/SUMIF(tab_data[Year],$M52,tab_data[Population])","v":2.9397690550599394},{"$f":"INDEX(tab_selected_country_data[[#This Row],[Average Fertility Rate]:[Weighted Average Fertility Rate]],1,Control!$C$11)","v":3.567582985074627},{"$f":"MIN(IF((tab_selected_country_data[[#This Row],[Year]]=tab_data[Year]),tab_data[Fertility],999999999))","v":1.0389999999999999},{"$f":"MAX((tab_selected_country_data[[#This Row],[Year]]=tab_data[Year])*tab_data[Fertility])-tab_selected_country_data[[#This Row],[Min Fertility Rate]]","v":6.7930000000000001},{"$f":"INDEX(tab_data[Life Expectancy],tab_selected_country_data[[#This Row],[Position]])","v":76.66},{"$f":"IF(AND(Control!$C$14,tab_selected_country_data[[#This Row],[Year]]<Control!$C$9),tab_selected_country_data[[#This Row],[Life Expectancy]],NA())","v":{"$error":"#N/A"}},{"$f":"IF(AND(Control!$C$14,tab_selected_country_data[[#This Row],[Year]]>Control!$C$9),tab_selected_country_data[[#This Row],[Life Expectancy]],NA())","v":76.66},{"$f":"IF(tab_selected_country_data[[#This Row],[Year]]=Control!$C$9,tab_selected_country_data[[#This Row],[Life Expectancy]],NA())","v":{"$error":"#N/A"}},{"$f":"AVERAGEIF(tab_data[Year],tab_selected_country_data[[#This Row],[Year]],tab_data[Life Expectancy])","v":65.909487562189057},{"$f":"SUMPRODUCT(($M52=tab_data[Year])*tab_data[Life Expectancy]*tab_data[Population])/SUMIF(tab_data[Year],$M52,tab_data[Population])","v":66.422946873118391},{"$f":"INDEX(tab_selected_country_data[[#This Row],[Average Life Expectancy]:[Weighted Average Life Expectancy]],1,Control!$C$11)","v":65.909487562189057},{"$f":"SUMPRODUCT(($M52=tab_data[Year])*tab_data[Life Expectancy]*tab_data[Population])/SUMIF(tab_data[Year],$M52,tab_data[Population])","v":66.422946873118391},{"$f":"MIN(IF((tab_selected_country_data[[#This Row],[Year]]=tab_data[Year]),tab_data[Life Expectancy],999999999))","v":31.251999999999999},{"$f":"MAX((tab_selected_country_data[[#This Row],[Year]]=tab_data[Year])*tab_data[Life Expectancy])-tab_selected_country_data[[#This Row],[Min Life Expectancy]]","v":48.50800000000001}]
[null,"Czech Republic","Europe",{"$f":"MATCH(tab_xy_scatter_data[[#This Row],[Country]]&\"|\"&Control!$C$9,tab_data[ID (Country|Year)],0)","v":2954},{"$f":"INDEX(tab_data[Fertility],tab_xy_scatter_data[[#This Row],[Position]])","v":2.0449999999999999},{"$f":"INDEX(tab_data[Life Expectancy],tab_xy_scatter_data[[#This Row],[Position]])","v":69.53},{"$f":"IF(Control!$C$12,tab_xy_scatter_data[[#This Row],[Fertility Rate All]],NV())","v":2.0449999999999999},{"$f":"IF(Control!$C$12,tab_xy_scatter_data[[#This Row],[Life Expectancy All]],NV())","v":69.53},{"$f":"IF(AND(Control!$C$6=tab_xy_scatter_data[[#This Row],[Region]],Control!$C$13),tab_xy_scatter_data[[#This Row],[Fertility Rate All]],NA())","v":2.0449999999999999},{"$f":"IF(AND(Control!$C$6=tab_xy_scatter_data[[#This Row],[Region]],Control!$C$13),tab_xy_scatter_data[[#This Row],[Life Expectancy All]],NA())","v":69.53},{"$f":"INDEX(tab_data[Population],tab_xy_scatter_data[[#This Row],[Position]])","v":9788863},null,1996,{"$f":"MATCH(Control!$C$5&\"|\"&tab_selected_country_data[[#This Row],[Year]],tab_data[ID (Country|Year)],0)","v":3759},{"$f":"INDEX(tab_data[Fertility],tab_selected_country_data[[#This Row],[Position]])","v":1.76},{"$f":"IF(tab_selected_country_data[[#This Row],[Year]]=Control!$C$9,tab_selected_country_data[[#This Row],[Fertility Rate All]],NA())","v":{"$error":"#N/A"}},{"$f":"AVERAGEIF(tab_data[Year],tab_selected_country_data[[#This Row],[Year]],tab_data[Fertility])","v":3.4995138308457685},{"$f":"SUMPRODUCT(($M53=tab_data[Year])*tab_data[Fertility]*tab_data[Population])/SUMIF(tab_data[Year],$M53,tab_data[Population])","v":2.8799550543202348},{"$f":"INDEX(tab_selected_country_data[[#This Row],[Average Fertility Rate]:[Weighted Average Fertility Rate]],1,Control!$C$11)","v":3.4995138308457685},{"$f":"MIN(IF((tab_selected_country_data[[#This Row],[Year]]=tab_data[Year]),tab_data[Fertility],999999999))","v":0.97499999999999998},{"$f":"MAX((tab_selected_country_data[[#This Row],[Year]]=tab_data[Year])*tab_data[Fertility])-tab_selected_country_data[[#This Row],[Min Fertility Rate]]","v":6.8840000000000003},{"$f":"INDEX(tab_data[Life Expectancy],tab_selected_country_data[[#This Row],[Position]])","v":76.94},{"$f":"IF(AND(Control!$C$14,tab_selected_country_data[[#This Row],[Year]]<Control!$C$9),tab_selected_country_data[[#This Row],[Life Expectancy]],NA())","v":{"$error":"#N/A"}},{"$f":"IF(AND(Control!$C$14,tab_selected_country_data[[#This Row],[Year]]>Control!$C$9),tab_selected_country_data[[#This Row],[Life Expectancy]],NA())","v":76.94},{"$f":"IF(tab_selected_country_data[[#This Row],[Year]]=Control!$C$9,tab_selected_country_data[[#This Row],[Life Expectancy]],NA())","v":{"$error":"#N/A"}},{"$f":"AVERAGEIF(tab_data[Year],tab_selected_country_data[[#This Row],[Year]],tab_data[Life Expectancy])","v":66.162273631840804},{"$f":"SUMPRODUCT(($M53=tab_data[Year])*tab_data[Life Expectancy]*tab_data[Population])/SUMIF(tab_data[Year],$M53,tab_data[Population])","v":66.682484979086496},{"$f":"INDEX(tab_selected_country_data[[#This Row],[Average Life Expectancy]:[Weighted Average Life Expectancy]],1,Control!$C$11)","v":66.162273631840804},{"$f":"SUMPRODUCT(($M53=tab_data[Year])*tab_data[Life Expectancy]*tab_data[Population])/SUMIF(tab_data[Year],$M53,tab_data[Population])","v":66.682484979086496},{"$f":"MIN(IF((tab_selected_country_data[[#This Row],[Year]]=tab_data[Year]),tab_data[Life Expectancy],999999999))","v":35.158999999999999},{"$f":"MAX((tab_selected_country_data[[#This Row],[Year]]=tab_data[Year])*tab_data[Life Expectancy])-tab_selected_country_data[[#This Row],[Min Life Expectancy]]","v":45.300999999999995}]
[null,"Denmark","Europe",{"$f":"MATCH(tab_xy_scatter_data[[#This Row],[Country]]&\"|\"&Control!$C$9,tab_data[ID (Country|Year)],0)","v":3029},{"$f":"INDEX(tab_data[Fertility],tab_xy_scatter_data[[#This Row],[Position]])","v":1.95},{"$f":"INDEX(tab_data[Life Expectancy],tab_xy_scatter_data[[#This Row],[Position]])","v":73.38},{"$f":"IF(Control!$C$12,tab_xy_scatter_data[[#This Row],[Fertility Rate All]],NV())","v":1.95},{"$f":"IF(Control!$C$12,tab_xy_scatter_data[[#This Row],[Life Expectancy All]],NV())","v":73.38},{"$f":"IF(AND(Control!$C$6=tab_xy_scatter_data[[#This Row],[Region]],Control!$C$13),tab_xy_scatter_data[[#This Row],[Fertility Rate All]],NA())","v":1.95},{"$f":"IF(AND(Control!$C$6=tab_xy_scatter_data[[#This Row],[Region]],Control!$C$13),tab_xy_scatter_data[[#This Row],[Life Expectancy All]],NA())","v":73.38},{"$f":"INDEX(tab_data[Population],tab_xy_scatter_data[[#This Row],[Position]])","v":4928704},null,1997,{"$f":"MATCH(Control!$C$5&\"|\"&tab_selected_country_data[[#This Row],[Year]],tab_data[ID (Country|Year)],0)","v":3760},{"$f":"INDEX(tab_data[Fertility],tab_selected_country_data[[#This Row],[Position]])","v":1.75},{"$f":"IF(tab_selected_country_data[[#This Row],[Year]]=Control!$C$9,tab_selected_country_data[[#This Row],[Fertility Rate All]],NA())","v":{"$error":"#N/A"}},{"$f":"AVERAGEIF(tab_data[Year],tab_selected_country_data[[#This Row],[Year]],tab_data[Fertility])","v":3.4337987064676616},{"$f":"SUMPRODUCT(($M54=tab_data[Year])*tab_data[Fertility]*tab_data[Population])/SUMIF(tab_data[Year],$M54,tab_data[Population])","v":2.8277510713135072},{"$f":"INDEX(tab_selected_country_data[[#This Row],[Average Fertility Rate]:[Weighted Average Fertility Rate]],1,Control!$C$11)","v":3.4337987064676616},{"$f":"MIN(IF((tab_selected_country_data[[#This Row],[Year]]=tab_data[Year]),tab_data[Fertility],999999999))","v":0.92400000000000004},{"$f":"MAX((tab_selected_country_data[[#This Row],[Year]]=tab_data[Year])*tab_data[Fertility])-tab_selected_country_data[[#This Row],[Min Fertility Rate]]","v":6.9449999999999994},{"$f":"INDEX(tab_data[Life Expectancy],tab_selected_country_data[[#This Row],[Position]])","v":77.13},{"$f":"IF(AND(Control!$C$14,tab_selected_country_data[[#This Row],[Year]]<Control!$C$9),tab_selected_country_data[[#This Row],[Life Expectancy]],NA())","v":{"$error":"#N/A"}},{"$f":"IF(AND(Control!$C$14,tab_selected_country_data[[#This Row],[Year]]>Control!$C$9),tab_selected_country_data[[#This Row],[Life Expectancy]],NA())","v":77.13},{"$f":"IF(tab_selected_country_data[[#This Row],[Year]]=Control!$C$9,tab_selected_country_data[[#This Row],[Life Expectancy]],NA())","v":{"$error":"#N/A"}},{"$f":"AVERAGEIF(tab_data[Year],tab_selected_country_data[[#This Row],[Year]],tab_data[Life Expectancy])","v":66.387398009950189},{"$f":"SUMPRODUCT(($M54=tab_data[Year])*tab_data[Life Expectancy]*tab_data[Population])/SUMIF(tab_data[Year],$M54,tab_data[Population])","v":66.951789287754181},{"$f":"INDEX(tab_selected_country_data[[#This Row],[Average Life Expectancy]:[Weighted Average Life Expectancy]],1,Control!$C$11)","v":66.387398009950189},{"$f":"SUMPRODUCT(($M54=tab_data[Year])*tab_data[Life Expectancy]*tab_data[Population])/SUMIF(tab_data[Year],$M54,tab_data[Population])","v":66.951789287754181},{"$f":"MIN(IF((tab_selected_country_data[[#This Row],[Year]]=tab_data[Year]),tab_data[Life Expectancy],999999999))","v":36.405000000000001},{"$f":"MAX((tab_selected_country_data[[#This Row],[Year]]=tab_data[Year])*tab_data[Life Expectancy])-tab_selected_country_data[[#This Row],[Min Life Expectancy]]","v":44.284999999999997}]
[null,"Djibouti","Africa",{"$f":"MATCH(tab_xy_scatter_data[[#This Row],[Country]]&\"|\"&Control!$C$9,tab_data[ID (Country|Year)],0)","v":3093},{"$f":"INDEX(tab_data[Fertility],tab_xy_scatter_data[[#This Row],[Position]])","v":6.8040000000000003},{"$f":"INDEX(tab_data[Life Expectancy],tab_xy_scatter_data[[#This Row],[Position]])","v":49.16},{"$f":"IF(Control!$C$12,tab_xy_scatter_data[[#This Row],[Fertility Rate All]],NV())","v":6.8040000000000003},{"$f":"IF(Control!$C$12,tab_xy_scatter_data[[#This Row],[Life Expectancy All]],NV())","v":49.16},{"$f":"IF(AND(Control!$C$6=tab_xy_scatter_data[[#This Row],[Region]],Control!$C$13),tab_xy_scatter_data[[#This Row],[Fertility Rate All]],NA())","v":{"$error":"#N/A"}},{"$f":"IF(AND(Control!$C$6=tab_xy_scatter_data[[#This Row],[Region]],Control!$C$13),tab_xy_scatter_data[[#This Row],[Life Expectancy All]],NA())","v":{"$error":"#N/A"}},{"$f":"INDEX(tab_data[Population],tab_xy_scatter_data[[#This Row],[Position]])","v":161622},null,1998,{"$f":"MATCH(Control!$C$5&\"|\"&tab_selected_country_data[[#This Row],[Year]],tab_data[ID (Country|Year)],0)","v":3761},{"$f":"INDEX(tab_data[Fertility],tab_selected_country_data[[#This Row],[Position]])","v":1.71},{"$f":"IF(tab_selected_country_data[[#This Row],[Year]]=Control!$C$9,tab_selected_country_data[[#This Row],[Fertility Rate All]],NA())","v":{"$error":"#N/A"}},{"$f":"AVERAGEIF(tab_data[Year],tab_selected_country_data[[#This Row],[Year]],tab_data[Fertility])","v":3.3683087562189065},{"$f":"SUMPRODUCT(($M55=tab_data[Year])*tab_data[Fertility]*tab_data[Population])/SUMIF(tab_data[Year],$M55,tab_data[Population])","v":2.7827503036934873},{"$f":"INDEX(tab_selected_country_data[[#This Row],[Average Fertility Rate]:[Weighted Average Fertility Rate]],1,Control!$C$11)","v":3.3683087562189065},{"$f":"MIN(IF((tab_selected_country_data[[#This Row],[Year]]=tab_data[Year]),tab_data[Fertility],999999999))","v":0.89100000000000001},{"$f":"MAX((tab_selected_country_data[[#This Row],[Year]]=tab_data[Year])*tab_data[Fertility])-tab_selected_country_data[[#This Row],[Min Fertility Rate]]","v":6.9630000000000001},{"$f":"INDEX(tab_data[Life Expectancy],tab_selected_country_data[[#This Row],[Position]])","v":77.34},{"$f":"IF(AND(Control!$C$14,tab_selected_country_data[[#This Row],[Year]]<Control!$C$9),tab_selected_country_data[[#This Row],[Life Expectancy]],NA())","v":{"$error":"#N/A"}},{"$f":"IF(AND(Control!$C$14,tab_selected_country_data[[#This Row],[Year]]>Control!$C$9),tab_selected_country_data[[#This Row],[Life Expectancy]],NA())","v":77.34},{"$f":"IF(tab_selected_country_data[[#This Row],[Year]]=Control!$C$9,tab_selected_country_data[[#This Row],[Life Expectancy]],NA())","v":{"$error":"#N/A"}},{"$f":"AVERAGEIF(tab_data[Year],tab_selected_country_data[[#This Row],[Year]],tab_data[Life Expectancy])","v":66.605313432835842},{"$f":"SUMPRODUCT(($M55=tab_data[Year])*tab_data[Life Expectancy]*tab_data[Population])/SUMIF(tab_data[Year],$M55,tab_data[Population])","v":67.206040970112753},{"$f":"INDEX(tab_selected_country_data[[#This Row],[Average Life Expectancy]:[Weighted Average Life Expectancy]],1,Control!$C$11)","v":66.605313432835842},{"$f":"SUMPRODUCT(($M55=tab_data[Year])*tab_data[Life Expectancy]*tab_data[Population])/SUMIF(tab_data[Year],$M55,tab_data[Population])","v":67.206040970112753},{"$f":"MIN(IF((tab_selected_country_data[[#This Row],[Year]]=tab_data[Year]),tab_data[Life Expectancy],999999999))","v":36.887},{"$f":"MAX((tab_selected_country_data[[#This Row],[Year]]=tab_data[Year])*tab_data[Life Expectancy])-tab_selected_country_data[[#This Row],[Min Life Expectancy]]","v":43.882999999999996}]
[null,"Dominican Republic","Latin America + Caribbean",{"$f":"MATCH(tab_xy_scatter_data[[#This Row],[Country]]&\"|\"&Control!$C$9,tab_data[ID (Country|Year)],0)","v":3157},{"$f":"INDEX(tab_data[Fertility],tab_xy_scatter_data[[#This Row],[Position]])","v":6.1820000000000004},{"$f":"INDEX(tab_data[Life Expectancy],tab_xy_scatter_data[[#This Row],[Position]])","v":58.465000000000003},{"$f":"IF(Control!$C$12,tab_xy_scatter_data[[#This Row],[Fertility Rate All]],NV())","v":6.1820000000000004},{"$f":"IF(Control!$C$12,tab_xy_scatter_data[[#This Row],[Life Expectancy All]],NV())","v":58.465000000000003},{"$f":"IF(AND(Control!$C$6=tab_xy_scatter_data[[#This Row],[Region]],Control!$C$13),tab_xy_scatter_data[[#This Row],[Fertility Rate All]],NA())","v":{"$error":"#N/A"}},{"$f":"IF(AND(Control!$C$6=tab_xy_scatter_data[[#This Row],[Region]],Control!$C$13),tab_xy_scatter_data[[#This Row],[Life Expectancy All]],NA())","v":{"$error":"#N/A"}},{"$f":"INDEX(tab_data[Population],tab_xy_scatter_data[[#This Row],[Position]])","v":4511577},null,1999,{"$f":"MATCH(Control!$C$5&\"|\"&tab_selected_country_data[[#This Row],[Year]],tab_data[ID (Country|Year)],0)","v":3762},{"$f":"INDEX(tab_data[Fertility],tab_selected_country_data[[#This Row],[Position]])","v":1.73},{"$f":"IF(tab_selected_country_data[[#This Row],[Year]]=Control!$C$9,tab_selected_country_data[[#This Row],[Fertility Rate All]],NA())","v":{"$error":"#N/A"}},{"$f":"AVERAGEIF(tab_data[Year],tab_selected_country_data[[#This Row],[Year]],tab_data[Fertility])","v":3.3101922388059695},{"$f":"SUMPRODUCT(($M56=tab_data[Year])*tab_data[Fertility]*tab_data[Population])/SUMIF(tab_data[Year],$M56,tab_data[Population])","v":2.7449563264545058},{"$f":"INDEX(tab_selected_country_data[[#This Row],[Average Fertility Rate]:[Weighted Average Fertility Rate]],1,Control!$C$11)","v":3.3101922388059695},{"$f":"MIN(IF((tab_selected_country_data[[#This Row],[Year]]=tab_data[Year]),tab_data[Fertility],999999999))","v":0.877},{"$f":"MAX((tab_selected_country_data[[#This Row],[Year]]=tab_data[Year])*tab_data[Fertility])-tab_selected_country_data[[#This Row],[Min Fertility Rate]]","v":6.9320000000000004},{"$f":"INDEX(tab_data[Life Expectancy],tab_selected_country_data[[#This Row],[Position]])","v":77.53},{"$f":"IF(AND(Control!$C$14,tab_selected_country_data[[#This Row],[Year]]<Control!$C$9),tab_selected_country_data[[#This Row],[Life Expectancy]],NA())","v":{"$error":"#N/A"}},{"$f":"IF(AND(Control!$C$14,tab_selected_country_data[[#This Row],[Year]]>Control!$C$9),tab_selected_country_data[[#This Row],[Life Expectancy]],NA())","v":77.53},{"$f":"IF(tab_selected_country_data[[#This Row],[Year]]=Control!$C$9,tab_selected_country_data[[#This Row],[Life Expectancy]],NA())","v":{"$error":"#N/A"}},{"$f":"AVERAGEIF(tab_data[Year],tab_selected_country_data[[#This Row],[Year]],tab_data[Life Expectancy])","v":66.811527363184069},{"$f":"SUMPRODUCT(($M56=tab_data[Year])*tab_data[Life Expectancy]*tab_data[Population])/SUMIF(tab_data[Year],$M56,tab_data[Population])","v":67.41534880858309},{"$f":"INDEX(tab_selected_country_data[[#This Row],[Average Life Expectancy]:[Weighted Average Life Expectancy]],1,Control!$C$11)","v":66.811527363184069},{"$f":"SUMPRODUCT(($M56=tab_data[Year])*tab_data[Life Expectancy]*tab_data[Population])/SUMIF(tab_data[Year],$M56,tab_data[Population])","v":67.41534880858309},{"$f":"MIN(IF((tab_selected_country_data[[#This Row],[Year]]=tab_data[Year]),tab_data[Life Expectancy],999999999))","v":37.463000000000001},{"$f":"MAX((tab_selected_country_data[[#This Row],[Year]]=tab_data[Year])*tab_data[Life Expectancy])-tab_selected_country_data[[#This Row],[Min Life Expectancy]]","v":43.286999999999999}]
[null,"Ecuador","Latin America + Caribbean",{"$f":"MATCH(tab_xy_scatter_data[[#This Row],[Country]]&\"|\"&Control!$C$9,tab_data[ID (Country|Year)],0)","v":3221},{"$f":"INDEX(tab_data[Fertility],tab_xy_scatter_data[[#This Row],[Position]])","v":6.1280000000000001},{"$f":"INDEX(tab_data[Life Expectancy],tab_xy_scatter_data[[#This Row],[Position]])","v":57.790999999999997},{"$f":"IF(Control!$C$12,tab_xy_scatter_data[[#This Row],[Fertility Rate All]],NV())","v":6.1280000000000001},{"$f":"IF(Control!$C$12,tab_xy_scatter_data[[#This Row],[Life Expectancy All]],NV())","v":57.790999999999997},{"$f":"IF(AND(Control!$C$6=tab_xy_scatter_data[[#This Row],[Region]],Control!$C$13),tab_xy_scatter_data[[#This Row],[Fertility Rate All]],NA())","v":{"$error":"#N/A"}},{"$f":"IF(AND(Control!$C$6=tab_xy_scatter_data[[#This Row],[Region]],Control!$C$13),tab_xy_scatter_data[[#This Row],[Life Expectancy All]],NA())","v":{"$error":"#N/A"}},{"$f":"INDEX(tab_data[Population],tab_xy_scatter_data[[#This Row],[Position]])","v":5972464},null,2000,{"$f":"MATCH(Control!$C$5&\"|\"&tab_selected_country_data[[#This Row],[Year]],tab_data[ID (Country|Year)],0)","v":3763},{"$f":"INDEX(tab_data[Fertility],tab_selected_country_data[[#This Row],[Position]])","v":1.73},{"$f":"IF(tab_selected_country_data[[#This Row],[Year]]=Control!$C$9,tab_selected_country_data[[#This Row],[Fertility Rate All]],NA())","v":{"$error":"#N/A"}},{"$f":"AVERAGEIF(tab_data[Year],tab_selected_country_data[[#This Row],[Year]],tab_data[Fertility])","v":3.2570058706467657},{"$f":"SUMPRODUCT(($M57=tab_data[Year])*tab_data[Fertility]*tab_data[Population])/SUMIF(tab_data[Year],$M57,tab_data[Population])","v":2.7150345144292962},{"$f":"INDEX(tab_selected_country_data[[#This Row],[Average Fertility Rate]:[Weighted Average Fertility Rate]],1,Control!$C$11)","v":3.2570058706467657},{"$f":"MIN(IF((tab_selected_country_data[[#This Row],[Year]]=tab_data[Year]),tab_data[Fertility],999999999))","v":0.88100000000000001},{"$f":"MAX((tab_selected_country_data[[#This Row],[Year]]=tab_data[Year])*tab_data[Fertility])-tab_selected_country_data[[#This Row],[Min Fertility Rate]]","v":6.8519999999999994},{"$f":"INDEX(tab_data[Life Expectancy],tab_selected_country_data[[#This Row],[Position]])","v":77.760000000000005},{"$f":"IF(AND(Control!$C$14,tab_selected_country_data[[#This Row],[Year]]<Control!$C$9),tab_selected_country_data[[#This Row],[Life Expectancy]],NA())","v":{"$error":"#N/A"}},{"$f":"IF(AND(Control!$C$14,tab_selected_country_data[[#This Row],[Year]]>Control!$C$9),tab_selected_country_data[[#This Row],[Life Expectancy]],NA())","v":77.760000000000005},{"$f":"IF(tab_selected_country_data[[#This Row],[Year]]=Control!$C$9,tab_selected_country_data[[#This Row],[Life Expectancy]],NA())","v":{"$error":"#N/A"}},{"$f":"AVERAGEIF(tab_data[Year],tab_selected_country_data[[#This Row],[Year]],tab_data[Life Expectancy])","v":67.064900497512426},{"$f":"SUMPRODUCT(($M57=tab_data[Year])*tab_data[Life Expectancy]*tab_data[Population])/SUMIF(tab_data[Year],$M57,tab_data[Population])","v":67.692718167832808},{"$f":"INDEX(tab_selected_country_data[[#This Row],[Average Life Expectancy]:[Weighted Average Life Expectancy]],1,Control!$C$11)","v":67.064900497512426},{"$f":"SUMPRODUCT(($M57=tab_data[Year])*tab_data[Life Expectancy]*tab_data[Population])/SUMIF(tab_data[Year],$M57,tab_data[Population])","v":67.692718167832808},{"$f":"MIN(IF((tab_selected_country_data[[#This Row],[Year]]=tab_data[Year]),tab_data[Life Expectancy],999999999))","v":38.122999999999998},{"$f":"MAX((tab_selected_country_data[[#This Row],[Year]]=tab_data[Year])*tab_data[Life Expectancy])-tab_selected_country_data[[#This Row],[Min Life Expectancy]]","v":43.226999999999997}]
[null,"Egypt","Africa",{"$f":"MATCH(tab_xy_scatter_data[[#This Row],[Country]]&\"|\"&Control!$C$9,tab_data[ID (Country|Year)],0)","v":3285},{"$f":"INDEX(tab_data[Fertility],tab_xy_scatter_data[[#This Row],[Position]])","v":5.94},{"$f":"INDEX(tab_data[Life Expectancy],tab_xy_scatter_data[[#This Row],[Position]])","v":52.179000000000002},{"$f":"IF(Control!$C$12,tab_xy_scatter_data[[#This Row],[Fertility Rate All]],NV())","v":5.94},{"$f":"IF(Control!$C$12,tab_xy_scatter_data[[#This Row],[Life Expectancy All]],NV())","v":52.179000000000002},{"$f":"IF(AND(Control!$C$6=tab_xy_scatter_data[[#This Row],[Region]],Control!$C$13),tab_xy_scatter_data[[#This Row],[Fertility Rate All]],NA())","v":{"$error":"#N/A"}},{"$f":"IF(AND(Control!$C$6=tab_xy_scatter_data[[#This Row],[Region]],Control!$C$13),tab_xy_scatter_data[[#This Row],[Life Expectancy All]],NA())","v":{"$error":"#N/A"}},{"$f":"INDEX(tab_data[Population],tab_xy_scatter_data[[#This Row],[Position]])","v":35923283},null,2001,{"$f":"MATCH(Control!$C$5&\"|\"&tab_selected_country_data[[#This Row],[Year]],tab_data[ID (Country|Year)],0)","v":3764},{"$f":"INDEX(tab_data[Fertility],tab_selected_country_data[[#This Row],[Position]])","v":1.73},{"$f":"IF(tab_selected_country_data[[#This Row],[Year]]=Control!$C$9,tab_selected_country_data[[#This Row],[Fertility Rate All]],NA())","v":{"$error":"#N/A"}},{"$f":"AVERAGEIF(tab_data[Year],tab_selected_country_data[[#This Row],[Year]],tab_data[Fertility])","v":3.2030585074626861},{"$f":"SUMPRODUCT(($M58=tab_data[Year])*tab_data[Fertility]*tab_data[Population])/SUMIF(tab_data[Year],$M58,tab_data[Population])","v":2.6856268128869392},{"$f":"INDEX(tab_selected_country_data[[#This Row],[Average Fertility Rate]:[Weighted Average Fertility Rate]],1,Control!$C$11)","v":3.2030585074626861},{"$f":"MIN(IF((tab_selected_country_data[[#This Row],[Year]]=tab_data[Year]),tab_data[Fertility],999999999))","v":0.89100000000000001},{"$f":"MAX((tab_selected_country_data[[#This Row],[Year]]=tab_data[Year])*tab_data[Fertility])-tab_selected_country_data[[#This Row],[Min Fertility Rate]]","v":6.8129999999999997},{"$f":"INDEX(tab_data[Life Expectancy],tab_selected_country_data[[#This Row],[Position]])","v":78.23},{"$f":"IF(AND(Control!$C$14,tab_selected_country_data[[#This Row],[Year]]<Control!$C$9),tab_selected_country_data[[#This Row],[Life Expectancy]],NA())","v":{"$error":"#N/A"}},{"$f":"IF(AND(Control!$C$14,tab_selected_country_data[[#This Row],[Year]]>Control!$C$9),tab_selected_country_data[[#This Row],[Life Expectancy]],NA())","v":78.23},{"$f":"IF(tab_selected_country_data[[#This Row],[Year]]=Control!$C$9,tab_selected_country_data[[#This Row],[Life Expectancy]],NA())","v":{"$error":"#N/A"}},{"$f":"AVERAGEIF(tab_data[Year],tab_selected_country_data[[#This Row],[Year]],tab_data[Life Expectancy])","v":67.314711442786034},{"$f":"SUMPRODUCT(($M58=tab_data[Year])*tab_data[Life Expectancy]*tab_data[Population])/SUMIF(tab_data[Year],$M58,tab_data[Population])","v":67.978133098565991},{"$f":"INDEX(tab_selected_country_data[[#This Row],[Average Life Expectancy]:[Weighted Average Life Expectancy]],1,Control!$C$11)","v":67.314711442786034},{"$f":"SUMPRODUCT(($M58=tab_data[Year])*tab_data[Life Expectancy]*tab_data[Population])/SUMIF(tab_data[Year],$M58,tab_data[Population])","v":67.978133098565991},{"$f":"MIN(IF((tab_selected_country_data[[#This Row],[Year]]=tab_data[Year]),tab_data[Life Expectancy],999999999))","v":38.86},{"$f":"MAX((tab_selected_country_data[[#This Row],[Year]]=tab_data[Year])*tab_data[Life Expectancy])-tab_selected_country_data[[#This Row],[Min Life Expectancy]]","v":42.84}]
[null,"El Salvador","Latin America + Caribbean",{"$f":"MATCH(tab_xy_scatter_data[[#This Row],[Country]]&\"|\"&Control!$C$9,tab_data[ID (Country|Year)],0)","v":3349},{"$f":"INDEX(tab_data[Fertility],tab_xy_scatter_data[[#This Row],[Position]])","v":6.2030000000000003},{"$f":"INDEX(tab_data[Life Expectancy],tab_xy_scatter_data[[#This Row],[Position]])","v":56.497999999999998},{"$f":"IF(Control!$C$12,tab_xy_scatter_data[[#This Row],[Fertility Rate All]],NV())","v":6.2030000000000003},{"$f":"IF(Control!$C$12,tab_xy_scatter_data[[#This Row],[Life Expectancy All]],NV())","v":56.497999999999998},{"$f":"IF(AND(Control!$C$6=tab_xy_scatter_data[[#This Row],[Region]],Control!$C$13),tab_xy_scatter_data[[#This Row],[Fertility Rate All]],NA())","v":{"$error":"#N/A"}},{"$f":"IF(AND(Control!$C$6=tab_xy_scatter_data[[#This Row],[Region]],Control!$C$13),tab_xy_scatter_data[[#This Row],[Life Expectancy All]],NA())","v":{"$error":"#N/A"}},{"$f":"INDEX(tab_data[Population],tab_xy_scatter_data[[#This Row],[Position]])","v":3736311},null,2002,{"$f":"MATCH(Control!$C$5&\"|\"&tab_selected_country_data[[#This Row],[Year]],tab_data[ID (Country|Year)],0)","v":3765},{"$f":"INDEX(tab_data[Fertility],tab_selected_country_data[[#This Row],[Position]])","v":1.72},{"$f":"IF(tab_selected_country_data[[#This Row],[Year]]=Control!$C$9,tab_selected_country_data[[#This Row],[Fertility Rate All]],NA())","v":{"$error":"#N/A"}},{"$f":"AVERAGEIF(tab_data[Year],tab_selected_country_data[[#This Row],[Year]],tab_data[Fertility])","v":3.1572487562189071},{"$f":"SUMPRODUCT(($M59=tab_data[Year])*tab_data[Fertility]*tab_data[Population])/SUMIF(tab_data[Year],$M59,tab_data[Population])","v":2.6620801472859221},{"$f":"INDEX(tab_selected_country_data[[#This Row],[Average Fertility Rate]:[Weighted Average Fertility Rate]],1,Control!$C$11)","v":3.1572487562189071},{"$f":"MIN(IF((tab_selected_country_data[[#This Row],[Year]]=tab_data[Year]),tab_data[Fertility],999999999))","v":0.85599999999999998},{"$f":"MAX((tab_selected_country_data[[#This Row],[Year]]=tab_data[Year])*tab_data[Fertility])-tab_selected_country_data[[#This Row],[Min Fertility Rate]]","v":6.8250000000000002},{"$f":"INDEX(tab_data[Life Expectancy],tab_selected_country_data[[#This Row],[Position]])","v":78.37},{"$f":"IF(AND(Control!$C$14,tab_selected_country_data[[#This Row],[Year]]<Control!$C$9),tab_selected_country_data[[#This Row],[Life Expectancy]],NA())","v":{"$error":"#N/A"}},{"$f":"IF(AND(Control!$C$14,tab_selected_country_data[[#This Row],[Year]]>Control!$C$9),tab_selected_country_data[[#This Row],[Life Expectancy]],NA())","v":78.37},{"$f":"IF(tab_selected_country_data[[#This Row],[Year]]=Control!$C$9,tab_selected_country_data[[#This Row],[Life Expectancy]],NA())","v":{"$error":"#N/A"}},{"$f":"AVERAGEIF(tab_data[Year],tab_selected_country_data[[#This Row],[Year]],tab_data[Life Expectancy])","v":67.565736318407957},{"$f":"SUMPRODUCT(($M59=tab_data[Year])*tab_data[Life Expectancy]*tab_data[Population])/SUMIF(tab_data[Year],$M59,tab_data[Population])","v":68.240730681468008},{"$f":"INDEX(tab_selected_country_data[[#This Row],[Average Life Expectancy]:[Weighted Average Life Expectancy]],1,Control!$C$11)","v":67.565736318407957},{"$f":"SUMPRODUCT(($M59=tab_data[Year])*tab_data[Life Expectancy]*tab_data[Population])/SUMIF(tab_data[Year],$M59,tab_data[Population])","v":68.240730681468008},{"$f":"MIN(IF((tab_selected_country_data[[#This Row],[Year]]=tab_data[Year]),tab_data[Life Expectancy],999999999))","v":39.659999999999997},{"$f":"MAX((tab_selected_country_data[[#This Row],[Year]]=tab_data[Year])*tab_data[Life Expectancy])-tab_selected_country_data[[#This Row],[Min Life Expectancy]]","v":42.34}]
[null,"Equatorial Guinea","Africa",{"$f":"MATCH(tab_xy_scatter_data[[#This Row],[Country]]&\"|\"&Control!$C$9,tab_data[ID (Country|Year)],0)","v":3413},{"$f":"INDEX(tab_data[Fertility],tab_xy_scatter_data[[#This Row],[Position]])","v":5.6779999999999999},{"$f":"INDEX(tab_data[Life Expectancy],tab_xy_scatter_data[[#This Row],[Position]])","v":39.753},{"$f":"IF(Control!$C$12,tab_xy_scatter_data[[#This Row],[Fertility Rate All]],NV())","v":5.6779999999999999},{"$f":"IF(Control!$C$12,tab_xy_scatter_data[[#This Row],[Life Expectancy All]],NV())","v":39.753},{"$f":"IF(AND(Control!$C$6=tab_xy_scatter_data[[#This Row],[Region]],Control!$C$13),tab_xy_scatter_data[[#This Row],[Fertility Rate All]],NA())","v":{"$error":"#N/A"}},{"$f":"IF(AND(Control!$C$6=tab_xy_scatter_data[[#This Row],[Region]],Control!$C$13),tab_xy_scatter_data[[#This Row],[Life Expectancy All]],NA())","v":{"$error":"#N/A"}},{"$f":"INDEX(tab_data[Population],tab_xy_scatter_data[[#This Row],[Position]])","v":290907},null,2003,{"$f":"MATCH(Control!$C$5&\"|\"&tab_selected_country_data[[#This Row],[Year]],tab_data[ID (Country|Year)],0)","v":3766},{"$f":"INDEX(tab_data[Fertility],tab_selected_country_data[[#This Row],[Position]])","v":1.76},{"$f":"IF(tab_selected_country_data[[#This Row],[Year]]=Control!$C$9,tab_selected_country_data[[#This Row],[Fertility Rate All]],NA())","v":{"$error":"#N/A"}},{"$f":"AVERAGEIF(tab_data[Year],tab_selected_country_data[[#This Row],[Year]],tab_data[Fertility])","v":3.1169850746268675},{"$f":"SUMPRODUCT(($M60=tab_data[Year])*tab_data[Fertility]*tab_data[Population])/SUMIF(tab_data[Year],$M60,tab_data[Population])","v":2.6434330129476513},{"$f":"INDEX(tab_selected_country_data[[#This Row],[Average Fertility Rate]:[Weighted Average Fertility Rate]],1,Control!$C$11)","v":3.1169850746268675},{"$f":"MIN(IF((tab_selected_country_data[[#This Row],[Year]]=tab_data[Year]),tab_data[Fertility],999999999))","v":0.83799999999999997},{"$f":"MAX((tab_selected_country_data[[#This Row],[Year]]=tab_data[Year])*tab_data[Fertility])-tab_selected_country_data[[#This Row],[Min Fertility Rate]]","v":6.82},{"$f":"INDEX(tab_data[Life Expectancy],tab_selected_country_data[[#This Row],[Position]])","v":78.63},{"$f":"IF(AND(Control!$C$14,tab_selected_country_data[[#This Row],[Year]]<Control!$C$9),tab_selected_country_data[[#This Row],[Life Expectancy]],NA())","v":{"$error":"#N/A"}},{"$f":"IF(AND(Control!$C$14,tab_selected_country_data[[#This Row],[Year]]>Control!$C$9),tab_selected_country_data[[#This Row],[Life Expectancy]],NA())","v":78.63},{"$f":"IF(tab_selected_country_data[[#This Row],[Year]]=Control!$C$9,tab_selected_country_data[[#This Row],[Life Expectancy]],NA())","v":{"$error":"#N/A"}},{"$f":"AVERAGEIF(tab_data[Year],tab_selected_country_data[[#This Row],[Year]],tab_data[Life Expectancy])","v":67.843582089552243},{"$f":"SUMPRODUCT(($M60=tab_data[Year])*tab_data[Life Expectancy]*tab_data[Population])/SUMIF(tab_data[Year],$M60,tab_data[Population])","v":68.50532094900791},{"$f":"INDEX(tab_selected_country_data[[#This Row],[Average Life Expectancy]:[Weighted Average Life Expectancy]],1,Control!$C$11)","v":67.843582089552243},{"$f":"SUMPRODUCT(($M60=tab_data[Year])*tab_data[Life Expectancy]*tab_data[Population])/SUMIF(tab_data[Year],$M60,tab_data[Population])","v":68.50532094900791},{"$f":"MIN(IF((tab_selected_country_data[[#This Row],[Year]]=tab_data[Year]),tab_data[Life Expectancy],999999999))","v":40.5},{"$f":"MAX((tab_selected_country_data[[#This Row],[Year]]=tab_data[Year])*tab_data[Life Expectancy])-tab_selected_country_data[[#This Row],[Min Life Expectancy]]","v":41.569999999999993}]
[null,"Eritrea","Africa",{"$f":"MATCH(tab_xy_scatter_data[[#This Row],[Country]]&\"|\"&Control!$C$9,tab_data[ID (Country|Year)],0)","v":3477},{"$f":"INDEX(tab_data[Fertility],tab_xy_scatter_data[[#This Row],[Position]])","v":6.65},{"$f":"INDEX(tab_data[Life Expectancy],tab_xy_scatter_data[[#This Row],[Position]])","v":40.529000000000003},{"$f":"IF(Control!$C$12,tab_xy_scatter_data[[#This Row],[Fertility Rate All]],NV())","v":6.65},{"$f":"IF(Control!$C$12,tab_xy_scatter_data[[#This Row],[Life Expectancy All]],NV())","v":40.529000000000003},{"$f":"IF(AND(Control!$C$6=tab_xy_scatter_data[[#This Row],[Region]],Control!$C$13),tab_xy_scatter_data[[#This Row],[Fertility Rate All]],NA())","v":{"$error":"#N/A"}},{"$f":"IF(AND(Control!$C$6=tab_xy_scatter_data[[#This Row],[Region]],Control!$C$13),tab_xy_scatter_data[[#This Row],[Life Expectancy All]],NA())","v":{"$error":"#N/A"}},{"$f":"INDEX(tab_data[Population],tab_xy_scatter_data[[#This Row],[Position]])","v":1847000},null,2004,{"$f":"MATCH(Control!$C$5&\"|\"&tab_selected_country_data[[#This Row],[Year]],tab_data[ID (Country|Year)],0)","v":3767},{"$f":"INDEX(tab_data[Fertility],tab_selected_country_data[[#This Row],[Position]])","v":1.8},{"$f":"IF(tab_selected_country_data[[#This Row],[Year]]=Control!$C$9,tab_selected_country_data[[#This Row],[Fertility Rate All]],NA())","v":{"$error":"#N/A"}},{"$f":"AVERAGEIF(tab_data[Year],tab_selected_country_data[[#This Row],[Year]],tab_data[Fertility])","v":3.0802388059701489},{"$f":"SUMPRODUCT(($M61=tab_data[Year])*tab_data[Fertility]*tab_data[Population])/SUMIF(tab_data[Year],$M61,tab_data[Population])","v":2.6252564426742242},{"$f":"INDEX(tab_selected_country_data[[#This Row],[Average Fertility Rate]:[Weighted Average Fertility Rate]],1,Control!$C$11)","v":3.0802388059701489},{"$f":"MIN(IF((tab_selected_country_data[[#This Row],[Year]]=tab_data[Year]),tab_data[Fertility],999999999))","v":0.83599999999999997},{"$f":"MAX((tab_selected_country_data[[#This Row],[Year]]=tab_data[Year])*tab_data[Fertility])-tab_selected_country_data[[#This Row],[Min Fertility Rate]]","v":6.8},{"$f":"INDEX(tab_data[Life Expectancy],tab_selected_country_data[[#This Row],[Position]])","v":78.959999999999994},{"$f":"IF(AND(Control!$C$14,tab_selected_country_data[[#This Row],[Year]]<Control!$C$9),tab_selected_country_data[[#This Row],[Life Expectancy]],NA())","v":{"$error":"#N/A"}},{"$f":"IF(AND(Control!$C$14,tab_selected_country_data[[#This Row],[Year]]>Control!$C$9),tab_selected_country_data[[#This Row],[Life Expectancy]],NA())","v":78.959999999999994},{"$f":"IF(tab_selected_country_data[[#This Row],[Year]]=Control!$C$9,tab_selected_country_data[[#This Row],[Life Expectancy]],NA())","v":{"$error":"#N/A"}},{"$f":"AVERAGEIF(tab_data[Year],tab_selected_country_data[[#This Row],[Year]],tab_data[Life Expectancy])","v":68.175283582089506},{"$f":"SUMPRODUCT(($M61=tab_data[Year])*tab_data[Life Expectancy]*tab_data[Population])/SUMIF(tab_data[Year],$M61,tab_data[Population])","v":68.819763096119047},{"$f":"INDEX(tab_selected_country_data[[#This Row],[Average Life Expectancy]:[Weighted Average Life Expectancy]],1,Control!$C$11)","v":68.175283582089506},{"$f":"SUMPRODUCT(($M61=tab_data[Year])*tab_data[Life Expectancy]*tab_data[Population])/SUMIF(tab_data[Year],$M61,tab_data[Population])","v":68.819763096119047},{"$f":"MIN(IF((tab_selected_country_data[[#This Row],[Year]]=tab_data[Year]),tab_data[Life Expectancy],999999999))","v":41.345999999999997},{"$f":"MAX((tab_selected_country_data[[#This Row],[Year]]=tab_data[Year])*tab_data[Life Expectancy])-tab_selected_country_data[[#This Row],[Min Life Expectancy]]","v":41.014000000000003}]
[null,"Estonia","Europe",{"$f":"MATCH(tab_xy_scatter_data[[#This Row],[Country]]&\"|\"&Control!$C$9,tab_data[ID (Country|Year)],0)","v":3557},{"$f":"INDEX(tab_data[Fertility],tab_xy_scatter_data[[#This Row],[Position]])","v":2.097},{"$f":"INDEX(tab_data[Life Expectancy],tab_xy_scatter_data[[#This Row],[Position]])","v":70.39},{"$f":"IF(Control!$C$12,tab_xy_scatter_data[[#This Row],[Fertility Rate All]],NV())","v":2.097},{"$f":"IF(Control!$C$12,tab_xy_scatter_data[[#This Row],[Life Expectancy All]],NV())","v":70.39},{"$f":"IF(AND(Control!$C$6=tab_xy_scatter_data[[#This Row],[Region]],Control!$C$13),tab_xy_scatter_data[[#This Row],[Fertility Rate All]],NA())","v":2.097},{"$f":"IF(AND(Control!$C$6=tab_xy_scatter_data[[#This Row],[Region]],Control!$C$13),tab_xy_scatter_data[[#This Row],[Life Expectancy All]],NA())","v":70.39},{"$f":"INDEX(tab_data[Population],tab_xy_scatter_data[[#This Row],[Position]])","v":1365002},null,2005,{"$f":"MATCH(Control!$C$5&\"|\"&tab_selected_country_data[[#This Row],[Year]],tab_data[ID (Country|Year)],0)","v":3768},{"$f":"INDEX(tab_data[Fertility],tab_selected_country_data[[#This Row],[Position]])","v":1.8},{"$f":"IF(tab_selected_country_data[[#This Row],[Year]]=Control!$C$9,tab_selected_country_data[[#This Row],[Fertility Rate All]],NA())","v":{"$error":"#N/A"}},{"$f":"AVERAGEIF(tab_data[Year],tab_selected_country_data[[#This Row],[Year]],tab_data[Fertility])","v":3.0462537313432847},{"$f":"SUMPRODUCT(($M62=tab_data[Year])*tab_data[Fertility]*tab_data[Population])/SUMIF(tab_data[Year],$M62,tab_data[Population])","v":2.6081515876406196},{"$f":"INDEX(tab_selected_country_data[[#This Row],[Average Fertility Rate]:[Weighted Average Fertility Rate]],1,Control!$C$11)","v":3.0462537313432847},{"$f":"MIN(IF((tab_selected_country_data[[#This Row],[Year]]=tab_data[Year]),tab_data[Fertility],999999999))","v":0.84899999999999998},{"$f":"MAX((tab_selected_country_data[[#This Row],[Year]]=tab_data[Year])*tab_data[Fertility])-tab_selected_country_data[[#This Row],[Min Fertility Rate]]","v":6.7679999999999998},{"$f":"INDEX(tab_data[Life Expectancy],tab_selected_country_data[[#This Row],[Position]])","v":79.09},{"$f":"IF(AND(Control!$C$14,tab_selected_country_data[[#This Row],[Year]]<Control!$C$9),tab_selected_country_data[[#This Row],[Life Expectancy]],NA())","v":{"$error":"#N/A"}},{"$f":"IF(AND(Control!$C$14,tab_selected_country_data[[#This Row],[Year]]>Control!$C$9),tab_selected_country_data[[#This Row],[Life Expectancy]],NA())","v":79.09},{"$f":"IF(tab_selected_country_data[[#This Row],[Year]]=Control!$C$9,tab_selected_country_data[[#This Row],[Life Expectancy]],NA())","v":{"$error":"#N/A"}},{"$f":"AVERAGEIF(tab_data[Year],tab_selected_country_data[[#This Row],[Year]],tab_data[Life Expectancy])","v":68.465830845771166},{"$f":"SUMPRODUCT(($M62=tab_data[Year])*tab_data[Life Expectancy]*tab_data[Population])/SUMIF(tab_data[Year],$M62,tab_data[Population])","v":69.045944264779365},{"$f":"INDEX(tab_selected_country_data[[#This Row],[Average Life Expectancy]:[Weighted Average Life Expectancy]],1,Control!$C$11)","v":68.465830845771166},{"$f":"SUMPRODUCT(($M62=tab_data[Year])*tab_data[Life Expectancy]*tab_data[Population])/SUMIF(tab_data[Year],$M62,tab_data[Population])","v":69.045944264779365},{"$f":"MIN(IF((tab_selected_country_data[[#This Row],[Year]]=tab_data[Year]),tab_data[Life Expectancy],999999999))","v":42.156999999999996},{"$f":"MAX((tab_selected_country_data[[#This Row],[Year]]=tab_data[Year])*tab_data[Life Expectancy])-tab_selected_country_data[[#This Row],[Min Life Expectancy]]","v":40.113}]
[null,"Ethiopia","Africa",{"$f":"MATCH(tab_xy_scatter_data[[#This Row],[Country]]&\"|\"&Control!$C$9,tab_data[ID (Country|Year)],0)","v":3605},{"$f":"INDEX(tab_data[Fertility],tab_xy_scatter_data[[#This Row],[Position]])","v":6.9779999999999998},{"$f":"INDEX(tab_data[Life Expectancy],tab_xy_scatter_data[[#This Row],[Position]])","v":42.948999999999998},{"$f":"IF(Control!$C$12,tab_xy_scatter_data[[#This Row],[Fertility Rate All]],NV())","v":6.9779999999999998},{"$f":"IF(Control!$C$12,tab_xy_scatter_data[[#This Row],[Life Expectancy All]],NV())","v":42.948999999999998},{"$f":"IF(AND(Control!$C$6=tab_xy_scatter_data[[#This Row],[Region]],Control!$C$13),tab_xy_scatter_data[[#This Row],[Fertility Rate All]],NA())","v":{"$error":"#N/A"}},{"$f":"IF(AND(Control!$C$6=tab_xy_scatter_data[[#This Row],[Region]],Control!$C$13),tab_xy_scatter_data[[#This Row],[Life Expectancy All]],NA())","v":{"$error":"#N/A"}},{"$f":"INDEX(tab_data[Population],tab_xy_scatter_data[[#This Row],[Position]])","v":28959382},null,2006,{"$f":"MATCH(Control!$C$5&\"|\"&tab_selected_country_data[[#This Row],[Year]],tab_data[ID (Country|Year)],0)","v":3769},{"$f":"INDEX(tab_data[Fertility],tab_selected_country_data[[#This Row],[Position]])","v":1.84},{"$f":"IF(tab_selected_country_data[[#This Row],[Year]]=Control!$C$9,tab_selected_country_data[[#This Row],[Fertility Rate All]],NA())","v":{"$error":"#N/A"}},{"$f":"AVERAGEIF(tab_data[Year],tab_selected_country_data[[#This Row],[Year]],tab_data[Fertility])","v":3.0163432835820894},{"$f":"SUMPRODUCT(($M63=tab_data[Year])*tab_data[Fertility]*tab_data[Population])/SUMIF(tab_data[Year],$M63,tab_data[Population])","v":2.5947937697526524},{"$f":"INDEX(tab_selected_country_data[[#This Row],[Average Fertility Rate]:[Weighted Average Fertility Rate]],1,Control!$C$11)","v":3.0163432835820894},{"$f":"MIN(IF((tab_selected_country_data[[#This Row],[Year]]=tab_data[Year]),tab_data[Fertility],999999999))","v":0.874},{"$f":"MAX((tab_selected_country_data[[#This Row],[Year]]=tab_data[Year])*tab_data[Fertility])-tab_selected_country_data[[#This Row],[Min Fertility Rate]]","v":6.7280000000000006},{"$f":"INDEX(tab_data[Life Expectancy],tab_selected_country_data[[#This Row],[Position]])","v":79.489999999999995},{"$f":"IF(AND(Control!$C$14,tab_selected_country_data[[#This Row],[Year]]<Control!$C$9),tab_selected_country_data[[#This Row],[Life Expectancy]],NA())","v":{"$error":"#N/A"}},{"$f":"IF(AND(Control!$C$14,tab_selected_country_data[[#This Row],[Year]]>Control!$C$9),tab_selected_country_data[[#This Row],[Life Expectancy]],NA())","v":79.489999999999995},{"$f":"IF(tab_selected_country_data[[#This Row],[Year]]=Control!$C$9,tab_selected_country_data[[#This Row],[Life Expectancy]],NA())","v":{"$error":"#N/A"}},{"$f":"AVERAGEIF(tab_data[Year],tab_selected_country_data[[#This Row],[Year]],tab_data[Life Expectancy])","v":68.806313432835822},{"$f":"SUMPRODUCT(($M63=tab_data[Year])*tab_data[Life Expectancy]*tab_data[Population])/SUMIF(tab_data[Year],$M63,tab_data[Population])","v":69.350217079333078},{"$f":"INDEX(tab_selected_country_data[[#This Row],[Average Life Expectancy]:[Weighted Average Life Expectancy]],1,Control!$C$11)","v":68.806313432835822},{"$f":"SUMPRODUCT(($M63=tab_data[Year])*tab_data[Life Expectancy]*tab_data[Population])/SUMIF(tab_data[Year],$M63,tab_data[Population])","v":69.350217079333078},{"$f":"MIN(IF((tab_selected_country_data[[#This Row],[Year]]=tab_data[Year]),tab_data[Life Expectancy],999999999))","v":42.893000000000001},{"$f":"MAX((tab_selected_country_data[[#This Row],[Year]]=tab_data[Year])*tab_data[Life Expectancy])-tab_selected_country_data[[#This Row],[Min Life Expectancy]]","v":39.787000000000006}]
[null,"Fiji","Asia + Pacific",{"$f":"MATCH(tab_xy_scatter_data[[#This Row],[Country]]&\"|\"&Control!$C$9,tab_data[ID (Country|Year)],0)","v":3669},{"$f":"INDEX(tab_data[Fertility],tab_xy_scatter_data[[#This Row],[Position]])","v":4.5430000000000001},{"$f":"INDEX(tab_data[Life Expectancy],tab_xy_scatter_data[[#This Row],[Position]])","v":59.856999999999999},{"$f":"IF(Control!$C$12,tab_xy_scatter_data[[#This Row],[Fertility Rate All]],NV())","v":4.5430000000000001},{"$f":"IF(Control!$C$12,tab_xy_scatter_data[[#This Row],[Life Expectancy All]],NV())","v":59.856999999999999},{"$f":"IF(AND(Control!$C$6=tab_xy_scatter_data[[#This Row],[Region]],Control!$C$13),tab_xy_scatter_data[[#This Row],[Fertility Rate All]],NA())","v":{"$error":"#N/A"}},{"$f":"IF(AND(Control!$C$6=tab_xy_scatter_data[[#This Row],[Region]],Control!$C$13),tab_xy_scatter_data[[#This Row],[Life Expectancy All]],NA())","v":{"$error":"#N/A"}},{"$f":"INDEX(tab_data[Population],tab_xy_scatter_data[[#This Row],[Position]])","v":520555},null,2007,{"$f":"MATCH(Control!$C$5&\"|\"&tab_selected_country_data[[#This Row],[Year]],tab_data[ID (Country|Year)],0)","v":3770},{"$f":"INDEX(tab_data[Fertility],tab_selected_country_data[[#This Row],[Position]])","v":1.83},{"$f":"IF(tab_selected_country_data[[#This Row],[Year]]=Control!$C$9,tab_selected_country_data[[#This Row],[Fertility Rate All]],NA())","v":{"$error":"#N/A"}},{"$f":"AVERAGEIF(tab_data[Year],tab_selected_country_data[[#This Row],[Year]],tab_data[Fertility])","v":2.9876238805970137},{"$f":"SUMPRODUCT(($M64=tab_data[Year])*tab_data[Fertility]*tab_data[Population])/SUMIF(tab_data[Year],$M64,tab_data[Population])","v":2.5803799412065764},{"$f":"INDEX(tab_selected_country_data[[#This Row],[Average Fertility Rate]:[Weighted Average Fertility Rate]],1,Control!$C$11)","v":2.9876238805970137},{"$f":"MIN(IF((tab_selected_country_data[[#This Row],[Year]]=tab_data[Year]),tab_data[Fertility],999999999))","v":0.90600000000000003},{"$f":"MAX((tab_selected_country_data[[#This Row],[Year]]=tab_data[Year])*tab_data[Fertility])-tab_selected_country_data[[#This Row],[Min Fertility Rate]]","v":6.6870000000000003},{"$f":"INDEX(tab_data[Life Expectancy],tab_selected_country_data[[#This Row],[Position]])","v":79.53},{"$f":"IF(AND(Control!$C$14,tab_selected_country_data[[#This Row],[Year]]<Control!$C$9),tab_selected_country_data[[#This Row],[Life Expectancy]],NA())","v":{"$error":"#N/A"}},{"$f":"IF(AND(Control!$C$14,tab_selected_country_data[[#This Row],[Year]]>Control!$C$9),tab_selected_country_data[[#This Row],[Life Expectancy]],NA())","v":79.53},{"$f":"IF(tab_selected_country_data[[#This Row],[Year]]=Control!$C$9,tab_selected_country_data[[#This Row],[Life Expectancy]],NA())","v":{"$error":"#N/A"}},{"$f":"AVERAGEIF(tab_data[Year],tab_selected_country_data[[#This Row],[Year]],tab_data[Life Expectancy])","v":69.105611940298516},{"$f":"SUMPRODUCT(($M64=tab_data[Year])*tab_data[Life Expectancy]*tab_data[Population])/SUMIF(tab_data[Year],$M64,tab_data[Population])","v":69.59387919783758},{"$f":"INDEX(tab_selected_country_data[[#This Row],[Average Life Expectancy]:[Weighted Average Life Expectancy]],1,Control!$C$11)","v":69.105611940298516},{"$f":"SUMPRODUCT(($M64=tab_data[Year])*tab_data[Life Expectancy]*tab_data[Population])/SUMIF(tab_data[Year],$M64,tab_data[Population])","v":69.59387919783758},{"$f":"MIN(IF((tab_selected_country_data[[#This Row],[Year]]=tab_data[Year]),tab_data[Life Expectancy],999999999))","v":43.534999999999997},{"$f":"MAX((tab_selected_country_data[[#This Row],[Year]]=tab_data[Year])*tab_data[Life Expectancy])-tab_selected_country_data[[#This Row],[Min Life Expectancy]]","v":39.335000000000008}]
[null,"Finland","Europe",{"$f":"MATCH(tab_xy_scatter_data[[#This Row],[Country]]&\"|\"&Control!$C$9,tab_data[ID (Country|Year)],0)","v":3734},{"$f":"INDEX(tab_data[Fertility],tab_xy_scatter_data[[#This Row],[Position]])","v":1.83},{"$f":"INDEX(tab_data[Life Expectancy],tab_xy_scatter_data[[#This Row],[Position]])","v":70.36},{"$f":"IF(Control!$C$12,tab_xy_scatter_data[[#This Row],[Fertility Rate All]],NV())","v":1.83},{"$f":"IF(Control!$C$12,tab_xy_scatter_data[[#This Row],[Life Expectancy All]],NV())","v":70.36},{"$f":"IF(AND(Control!$C$6=tab_xy_scatter_data[[#This Row],[Region]],Control!$C$13),tab_xy_scatter_data[[#This Row],[Fertility Rate All]],NA())","v":1.83},{"$f":"IF(AND(Control!$C$6=tab_xy_scatter_data[[#This Row],[Region]],Control!$C$13),tab_xy_scatter_data[[#This Row],[Life Expectancy All]],NA())","v":70.36},{"$f":"INDEX(tab_data[Population],tab_xy_scatter_data[[#This Row],[Position]])","v":4605998},null,2008,{"$f":"MATCH(Control!$C$5&\"|\"&tab_selected_country_data[[#This Row],[Year]],tab_data[ID (Country|Year)],0)","v":3771},{"$f":"INDEX(tab_data[Fertility],tab_selected_country_data[[#This Row],[Position]])","v":1.85},{"$f":"IF(tab_selected_country_data[[#This Row],[Year]]=Control!$C$9,tab_selected_country_data[[#This Row],[Fertility Rate All]],NA())","v":{"$error":"#N/A"}},{"$f":"AVERAGEIF(tab_data[Year],tab_selected_country_data[[#This Row],[Year]],tab_data[Fertility])","v":2.9593985074626841},{"$f":"SUMPRODUCT(($M65=tab_data[Year])*tab_data[Fertility]*tab_data[Population])/SUMIF(tab_data[Year],$M65,tab_data[Population])","v":2.5642866897761811},{"$f":"INDEX(tab_selected_country_data[[#This Row],[Average Fertility Rate]:[Weighted Average Fertility Rate]],1,Control!$C$11)","v":2.9593985074626841},{"$f":"MIN(IF((tab_selected_country_data[[#This Row],[Year]]=tab_data[Year]),tab_data[Fertility],999999999))","v":0.93899999999999995},{"$f":"MAX((tab_selected_country_data[[#This Row],[Year]]=tab_data[Year])*tab_data[Fertility])-tab_selected_country_data[[#This Row],[Min Fertility Rate]]","v":6.649},{"$f":"INDEX(tab_data[Life Expectancy],tab_selected_country_data[[#This Row],[Position]])","v":79.698999999999998},{"$f":"IF(AND(Control!$C$14,tab_selected_country_data[[#This Row],[Year]]<Control!$C$9),tab_selected_country_data[[#This Row],[Life Expectancy]],NA())","v":{"$error":"#N/A"}},{"$f":"IF(AND(Control!$C$14,tab_selected_country_data[[#This Row],[Year]]>Control!$C$9),tab_selected_country_data[[#This Row],[Life Expectancy]],NA())","v":79.698999999999998},{"$f":"IF(tab_selected_country_data[[#This Row],[Year]]=Control!$C$9,tab_selected_country_data[[#This Row],[Life Expectancy]],NA())","v":{"$error":"#N/A"}},{"$f":"AVERAGEIF(tab_data[Year],tab_selected_country_data[[#This Row],[Year]],tab_data[Life Expectancy])","v":69.406358208955183},{"$f":"SUMPRODUCT(($M65=tab_data[Year])*tab_data[Life Expectancy]*tab_data[Population])/SUMIF(tab_data[Year],$M65,tab_data[Population])","v":69.808227526984311},{"$f":"INDEX(tab_selected_country_data[[#This Row],[Average Life Expectancy]:[Weighted Average Life Expectancy]],1,Control!$C$11)","v":69.406358208955183},{"$f":"SUMPRODUCT(($M65=tab_data[Year])*tab_data[Life Expectancy]*tab_data[Population])/SUMIF(tab_data[Year],$M65,tab_data[Population])","v":69.808227526984311},{"$f":"MIN(IF((tab_selected_country_data[[#This Row],[Year]]=tab_data[Year]),tab_data[Life Expectancy],999999999))","v":44.075000000000003},{"$f":"MAX((tab_selected_country_data[[#This Row],[Year]]=tab_data[Year])*tab_data[Life Expectancy])-tab_selected_country_data[[#This Row],[Min Life Expectancy]]","v":38.734999999999999}]
[null,"France","Europe",{"$f":"MATCH(tab_xy_scatter_data[[#This Row],[Country]]&\"|\"&Control!$C$9,tab_data[ID (Country|Year)],0)","v":3798},{"$f":"INDEX(tab_data[Fertility],tab_xy_scatter_data[[#This Row],[Position]])","v":2.488},{"$f":"INDEX(tab_data[Life Expectancy],tab_xy_scatter_data[[#This Row],[Position]])","v":72.16},{"$f":"IF(Control!$C$12,tab_xy_scatter_data[[#This Row],[Fertility Rate All]],NV())","v":2.488},{"$f":"IF(Control!$C$12,tab_xy_scatter_data[[#This Row],[Life Expectancy All]],NV())","v":72.16},{"$f":"IF(AND(Control!$C$6=tab_xy_scatter_data[[#This Row],[Region]],Control!$C$13),tab_xy_scatter_data[[#This Row],[Fertility Rate All]],NA())","v":2.488},{"$f":"IF(AND(Control!$C$6=tab_xy_scatter_data[[#This Row],[Region]],Control!$C$13),tab_xy_scatter_data[[#This Row],[Life Expectancy All]],NA())","v":72.16},{"$f":"INDEX(tab_data[Population],tab_xy_scatter_data[[#This Row],[Position]])","v":50763212},null,2009,{"$f":"MATCH(Control!$C$5&\"|\"&tab_selected_country_data[[#This Row],[Year]],tab_data[ID (Country|Year)],0)","v":3772},{"$f":"INDEX(tab_data[Fertility],tab_selected_country_data[[#This Row],[Position]])","v":1.86},{"$f":"IF(tab_selected_country_data[[#This Row],[Year]]=Control!$C$9,tab_selected_country_data[[#This Row],[Fertility Rate All]],NA())","v":{"$error":"#N/A"}},{"$f":"AVERAGEIF(tab_data[Year],tab_selected_country_data[[#This Row],[Year]],tab_data[Fertility])","v":2.9303283582089552},{"$f":"SUMPRODUCT(($M66=tab_data[Year])*tab_data[Fertility]*tab_data[Population])/SUMIF(tab_data[Year],$M66,tab_data[Population])","v":2.5476587271960569},{"$f":"INDEX(tab_selected_country_data[[#This Row],[Average Fertility Rate]:[Weighted Average Fertility Rate]],1,Control!$C$11)","v":2.9303283582089552},{"$f":"MIN(IF((tab_selected_country_data[[#This Row],[Year]]=tab_data[Year]),tab_data[Fertility],999999999))","v":0.97299999999999998},{"$f":"MAX((tab_selected_country_data[[#This Row],[Year]]=tab_data[Year])*tab_data[Fertility])-tab_selected_country_data[[#This Row],[Min Fertility Rate]]","v":6.6120000000000001},{"$f":"INDEX(tab_data[Life Expectancy],tab_selected_country_data[[#This Row],[Position]])","v":79.783000000000001},{"$f":"IF(AND(Control!$C$14,tab_selected_country_data[[#This Row],[Year]]<Control!$C$9),tab_selected_country_data[[#This Row],[Life Expectancy]],NA())","v":{"$error":"#N/A"}},{"$f":"IF(AND(Control!$C$14,tab_selected_country_data[[#This Row],[Year]]>Control!$C$9),tab_selected_country_data[[#This Row],[Life Expectancy]],NA())","v":79.783000000000001},{"$f":"IF(tab_selected_country_data[[#This Row],[Year]]=Control!$C$9,tab_selected_country_data[[#This Row],[Life Expectancy]],NA())","v":{"$error":"#N/A"}},{"$f":"AVERAGEIF(tab_data[Year],tab_selected_country_data[[#This Row],[Year]],tab_data[Life Expectancy])","v":69.707044776119361},{"$f":"SUMPRODUCT(($M66=tab_data[Year])*tab_data[Life Expectancy]*tab_data[Population])/SUMIF(tab_data[Year],$M66,tab_data[Population])","v":70.039315147471271},{"$f":"INDEX(tab_selected_country_data[[#This Row],[Average Life Expectancy]:[Weighted Average Life Expectancy]],1,Control!$C$11)","v":69.707044776119361},{"$f":"SUMPRODUCT(($M66=tab_data[Year])*tab_data[Life Expectancy]*tab_data[Population])/SUMIF(tab_data[Year],$M66,tab_data[Population])","v":70.039315147471271},{"$f":"MIN(IF((tab_selected_country_data[[#This Row],[Year]]=tab_data[Year]),tab_data[Life Expectancy],999999999))","v":44.508000000000003},{"$f":"MAX((tab_selected_country_data[[#This Row],[Year]]=tab_data[Year])*tab_data[Life Expectancy])-tab_selected_country_data[[#This Row],[Min Life Expectancy]]","v":38.423999999999999}]
[null,"French Guiana","Latin America + Caribbean",{"$f":"MATCH(tab_xy_scatter_data[[#This Row],[Country]]&\"|\"&Control!$C$9,tab_data[ID (Country|Year)],0)","v":3861},{"$f":"INDEX(tab_data[Fertility],tab_xy_scatter_data[[#This Row],[Position]])","v":4.6529999999999996},{"$f":"INDEX(tab_data[Life Expectancy],tab_xy_scatter_data[[#This Row],[Position]])","v":65.337000000000003},{"$f":"IF(Control!$C$12,tab_xy_scatter_data[[#This Row],[Fertility Rate All]],NV())","v":4.6529999999999996},{"$f":"IF(Control!$C$12,tab_xy_scatter_data[[#This Row],[Life Expectancy All]],NV())","v":65.337000000000003},{"$f":"IF(AND(Control!$C$6=tab_xy_scatter_data[[#This Row],[Region]],Control!$C$13),tab_xy_scatter_data[[#This Row],[Fertility Rate All]],NA())","v":{"$error":"#N/A"}},{"$f":"IF(AND(Control!$C$6=tab_xy_scatter_data[[#This Row],[Region]],Control!$C$13),tab_xy_scatter_data[[#This Row],[Life Expectancy All]],NA())","v":{"$error":"#N/A"}},{"$f":"INDEX(tab_data[Population],tab_xy_scatter_data[[#This Row],[Position]])","v":48561},null,2010,{"$f":"MATCH(Control!$C$5&\"|\"&tab_selected_country_data[[#This Row],[Year]],tab_data[ID (Country|Year)],0)","v":3773},{"$f":"INDEX(tab_data[Fertility],tab_selected_country_data[[#This Row],[Position]])","v":1.87},{"$f":"IF(tab_selected_country_data[[#This Row],[Year]]=Control!$C$9,tab_selected_country_data[[#This Row],[Fertility Rate All]],NA())","v":{"$error":"#N/A"}},{"$f":"AVERAGEIF(tab_data[Year],tab_selected_country_data[[#This Row],[Year]],tab_data[Fertility])","v":2.8996616915422897},{"$f":"SUMPRODUCT(($M67=tab_data[Year])*tab_data[Fertility]*tab_data[Population])/SUMIF(tab_data[Year],$M67,tab_data[Population])","v":2.5304430168117795},{"$f":"INDEX(tab_selected_country_data[[#This Row],[Average Fertility Rate]:[Weighted Average Fertility Rate]],1,Control!$C$11)","v":2.8996616915422897},{"$f":"MIN(IF((tab_selected_country_data[[#This Row],[Year]]=tab_data[Year]),tab_data[Fertility],999999999))","v":0.89500000000000002},{"$f":"MAX((tab_selected_country_data[[#This Row],[Year]]=tab_data[Year])*tab_data[Fertility])-tab_selected_country_data[[#This Row],[Min Fertility Rate]]","v":6.6890000000000001},{"$f":"INDEX(tab_data[Life Expectancy],tab_selected_country_data[[#This Row],[Position]])","v":79.986999999999995},{"$f":"IF(AND(Control!$C$14,tab_selected_country_data[[#This Row],[Year]]<Control!$C$9),tab_selected_country_data[[#This Row],[Life Expectancy]],NA())","v":{"$error":"#N/A"}},{"$f":"IF(AND(Control!$C$14,tab_selected_country_data[[#This Row],[Year]]>Control!$C$9),tab_selected_country_data[[#This Row],[Life Expectancy]],NA())","v":79.986999999999995},{"$f":"IF(tab_selected_country_data[[#This Row],[Year]]=Control!$C$9,tab_selected_country_data[[#This Row],[Life Expectancy]],NA())","v":{"$error":"#N/A"}},{"$f":"AVERAGEIF(tab_data[Year],tab_selected_country_data[[#This Row],[Year]],tab_data[Life Expectancy])","v":69.907248756218863},{"$f":"SUMPRODUCT(($M67=tab_data[Year])*tab_data[Life Expectancy]*tab_data[Population])/SUMIF(tab_data[Year],$M67,tab_data[Population])","v":70.232871247596918},{"$f":"INDEX(tab_selected_country_data[[#This Row],[Average Life Expectancy]:[Weighted Average Life Expectancy]],1,Control!$C$11)","v":69.907248756218863},{"$f":"SUMPRODUCT(($M67=tab_data[Year])*tab_data[Life Expectancy]*tab_data[Population])/SUMIF(tab_data[Year],$M67,tab_data[Population])","v":70.232871247596918},{"$f":"MIN(IF((tab_selected_country_data[[#This Row],[Year]]=tab_data[Year]),tab_data[Life Expectancy],999999999))","v":44.845999999999997},{"$f":"MAX((tab_selected_country_data[[#This Row],[Year]]=tab_data[Year])*tab_data[Life Expectancy])-tab_selected_country_data[[#This Row],[Min Life Expectancy]]","v":38.246000000000002}]
[null,"French Polynesia","Asia + Pacific",{"$f":"MATCH(tab_xy_scatter_data[[#This Row],[Country]]&\"|\"&Control!$C$9,tab_data[ID (Country|Year)],0)","v":3925},{"$f":"INDEX(tab_data[Fertility],tab_xy_scatter_data[[#This Row],[Position]])","v":5.0570000000000004},{"$f":"INDEX(tab_data[Life Expectancy],tab_xy_scatter_data[[#This Row],[Position]])","v":60.183999999999997},{"$f":"IF(Control!$C$12,tab_xy_scatter_data[[#This Row],[Fertility Rate All]],NV())","v":5.0570000000000004},{"$f":"IF(Control!$C$12,tab_xy_scatter_data[[#This Row],[Life Expectancy All]],NV())","v":60.183999999999997},{"$f":"IF(AND(Control!$C$6=tab_xy_scatter_data[[#This Row],[Region]],Control!$C$13),tab_xy_scatter_data[[#This Row],[Fertility Rate All]],NA())","v":{"$error":"#N/A"}},{"$f":"IF(AND(Control!$C$6=tab_xy_scatter_data[[#This Row],[Region]],Control!$C$13),tab_xy_scatter_data[[#This Row],[Life Expectancy All]],NA())","v":{"$error":"#N/A"}},{"$f":"INDEX(tab_data[Population],tab_xy_scatter_data[[#This Row],[Position]])","v":110872},null,2011,{"$f":"MATCH(Control!$C$5&\"|\"&tab_selected_country_data[[#This Row],[Year]],tab_data[ID (Country|Year)],0)","v":3774},{"$f":"INDEX(tab_data[Fertility],tab_selected_country_data[[#This Row],[Position]])","v":1.83},{"$f":"IF(tab_selected_country_data[[#This Row],[Year]]=Control!$C$9,tab_selected_country_data[[#This Row],[Fertility Rate All]],NA())","v":{"$error":"#N/A"}},{"$f":"AVERAGEIF(tab_data[Year],tab_selected_country_data[[#This Row],[Year]],tab_data[Fertility])","v":2.8677892537313419},{"$f":"SUMPRODUCT(($M68=tab_data[Year])*tab_data[Fertility]*tab_data[Population])/SUMIF(tab_data[Year],$M68,tab_data[Population])","v":2.5160948045650406},{"$f":"INDEX(tab_selected_country_data[[#This Row],[Average Fertility Rate]:[Weighted Average Fertility Rate]],1,Control!$C$11)","v":2.8677892537313419},{"$f":"MIN(IF((tab_selected_country_data[[#This Row],[Year]]=tab_data[Year]),tab_data[Fertility],999999999))","v":1.0309999999999999},{"$f":"MAX((tab_selected_country_data[[#This Row],[Year]]=tab_data[Year])*tab_data[Fertility])-tab_selected_country_data[[#This Row],[Min Fertility Rate]]","v":6.5500000000000007},{"$f":"INDEX(tab_data[Life Expectancy],tab_selected_country_data[[#This Row],[Position]])","v":80.180000000000007},{"$f":"IF(AND(Control!$C$14,tab_selected_country_data[[#This Row],[Year]]<Control!$C$9),tab_selected_country_data[[#This Row],[Life Expectancy]],NA())","v":{"$error":"#N/A"}},{"$f":"IF(AND(Control!$C$14,tab_selected_country_data[[#This Row],[Year]]>Control!$C$9),tab_selected_country_data[[#This Row],[Life Expectancy]],NA())","v":80.180000000000007},{"$f":"IF(tab_selected_country_data[[#This Row],[Year]]=Control!$C$9,tab_selected_country_data[[#This Row],[Life Expectancy]],NA())","v":{"$error":"#N/A"}},{"$f":"AVERAGEIF(tab_data[Year],tab_selected_country_data[[#This Row],[Year]],tab_data[Life Expectancy])","v":70.227621890547283},{"$f":"SUMPRODUCT(($M68=tab_data[Year])*tab_data[Life Expectancy]*tab_data[Population])/SUMIF(tab_data[Year],$M68,tab_data[Population])","v":70.451794803496398},{"$f":"INDEX(tab_selected_country_data[[#This Row],[Average Life Expectancy]:[Weighted Average Life Expectancy]],1,Control!$C$11)","v":70.227621890547283},{"$f":"SUMPRODUCT(($M68=tab_data[Year])*tab_data[Life Expectancy]*tab_data[Population])/SUMIF(tab_data[Year],$M68,tab_data[Population])","v":70.451794803496398},{"$f":"MIN(IF((tab_selected_country_data[[#This Row],[Year]]=tab_data[Year]),tab_data[Life Expectancy],999999999))","v":45.11},{"$f":"MAX((tab_selected_country_data[[#This Row],[Year]]=tab_data[Year])*tab_data[Life Expectancy])-tab_selected_country_data[[#This Row],[Min Life Expectancy]]","v":38.144999999999996}]
[null,"Gabon","Africa",{"$f":"MATCH(tab_xy_scatter_data[[#This Row],[Country]]&\"|\"&Control!$C$9,tab_data[ID (Country|Year)],0)","v":3989},{"$f":"INDEX(tab_data[Fertility],tab_xy_scatter_data[[#This Row],[Position]])","v":5.0810000000000004},{"$f":"INDEX(tab_data[Life Expectancy],tab_xy_scatter_data[[#This Row],[Position]])","v":46.67},{"$f":"IF(Control!$C$12,tab_xy_scatter_data[[#This Row],[Fertility Rate All]],NV())","v":5.0810000000000004},{"$f":"IF(Control!$C$12,tab_xy_scatter_data[[#This Row],[Life Expectancy All]],NV())","v":46.67},{"$f":"IF(AND(Control!$C$6=tab_xy_scatter_data[[#This Row],[Region]],Control!$C$13),tab_xy_scatter_data[[#This Row],[Fertility Rate All]],NA())","v":{"$error":"#N/A"}},{"$f":"IF(AND(Control!$C$6=tab_xy_scatter_data[[#This Row],[Region]],Control!$C$13),tab_xy_scatter_data[[#This Row],[Life Expectancy All]],NA())","v":{"$error":"#N/A"}},{"$f":"INDEX(tab_data[Population],tab_xy_scatter_data[[#This Row],[Position]])","v":529526},null,2012,{"$f":"MATCH(Control!$C$5&\"|\"&tab_selected_country_data[[#This Row],[Year]],tab_data[ID (Country|Year)],0)","v":3775},{"$f":"INDEX(tab_data[Fertility],tab_selected_country_data[[#This Row],[Position]])","v":1.8},{"$f":"IF(tab_selected_country_data[[#This Row],[Year]]=Control!$C$9,tab_selected_country_data[[#This Row],[Fertility Rate All]],NA())","v":{"$error":"#N/A"}},{"$f":"AVERAGEIF(tab_data[Year],tab_selected_country_data[[#This Row],[Year]],tab_data[Fertility])","v":2.839175323383083},{"$f":"SUMPRODUCT(($M69=tab_data[Year])*tab_data[Fertility]*tab_data[Population])/SUMIF(tab_data[Year],$M69,tab_data[Population])","v":2.5041860090378498},{"$f":"INDEX(tab_selected_country_data[[#This Row],[Average Fertility Rate]:[Weighted Average Fertility Rate]],1,Control!$C$11)","v":2.839175323383083},{"$f":"MIN(IF((tab_selected_country_data[[#This Row],[Year]]=tab_data[Year]),tab_data[Fertility],999999999))","v":1.0580000000000001},{"$f":"MAX((tab_selected_country_data[[#This Row],[Year]]=tab_data[Year])*tab_data[Fertility])-tab_selected_country_data[[#This Row],[Min Fertility Rate]]","v":6.516},{"$f":"INDEX(tab_data[Life Expectancy],tab_selected_country_data[[#This Row],[Position]])","v":80.361999999999995},{"$f":"IF(AND(Control!$C$14,tab_selected_country_data[[#This Row],[Year]]<Control!$C$9),tab_selected_country_data[[#This Row],[Life Expectancy]],NA())","v":{"$error":"#N/A"}},{"$f":"IF(AND(Control!$C$14,tab_selected_country_data[[#This Row],[Year]]>Control!$C$9),tab_selected_country_data[[#This Row],[Life Expectancy]],NA())","v":80.361999999999995},{"$f":"IF(tab_selected_country_data[[#This Row],[Year]]=Control!$C$9,tab_selected_country_data[[#This Row],[Life Expectancy]],NA())","v":{"$error":"#N/A"}},{"$f":"AVERAGEIF(tab_data[Year],tab_selected_country_data[[#This Row],[Year]],tab_data[Life Expectancy])","v":70.508393034825886},{"$f":"SUMPRODUCT(($M69=tab_data[Year])*tab_data[Life Expectancy]*tab_data[Population])/SUMIF(tab_data[Year],$M69,tab_data[Population])","v":70.652243613954752},{"$f":"INDEX(tab_selected_country_data[[#This Row],[Average Life Expectancy]:[Weighted Average Life Expectancy]],1,Control!$C$11)","v":70.508393034825886},{"$f":"SUMPRODUCT(($M69=tab_data[Year])*tab_data[Life Expectancy]*tab_data[Population])/SUMIF(tab_data[Year],$M69,tab_data[Population])","v":70.652243613954752},{"$f":"MIN(IF((tab_selected_country_data[[#This Row],[Year]]=tab_data[Year]),tab_data[Life Expectancy],999999999))","v":45.338000000000001},{"$f":"MAX((tab_selected_country_data[[#This Row],[Year]]=tab_data[Year])*tab_data[Life Expectancy])-tab_selected_country_data[[#This Row],[Min Life Expectancy]]","v":38.080000000000005}]
[null,"Gambia","Africa",{"$f":"MATCH(tab_xy_scatter_data[[#This Row],[Country]]&\"|\"&Control!$C$9,tab_data[ID (Country|Year)],0)","v":4053},{"$f":"INDEX(tab_data[Fertility],tab_xy_scatter_data[[#This Row],[Position]])","v":6.093},{"$f":"INDEX(tab_data[Life Expectancy],tab_xy_scatter_data[[#This Row],[Position]])","v":37.823999999999998},{"$f":"IF(Control!$C$12,tab_xy_scatter_data[[#This Row],[Fertility Rate All]],NV())","v":6.093},{"$f":"IF(Control!$C$12,tab_xy_scatter_data[[#This Row],[Life Expectancy All]],NV())","v":37.823999999999998},{"$f":"IF(AND(Control!$C$6=tab_xy_scatter_data[[#This Row],[Region]],Control!$C$13),tab_xy_scatter_data[[#This Row],[Fertility Rate All]],NA())","v":{"$error":"#N/A"}},{"$f":"IF(AND(Control!$C$6=tab_xy_scatter_data[[#This Row],[Region]],Control!$C$13),tab_xy_scatter_data[[#This Row],[Life Expectancy All]],NA())","v":{"$error":"#N/A"}},{"$f":"INDEX(tab_data[Population],tab_xy_scatter_data[[#This Row],[Position]])","v":458663},null,2013,{"$f":"MATCH(Control!$C$5&\"|\"&tab_selected_country_data[[#This Row],[Year]],tab_data[ID (Country|Year)],0)","v":3776},{"$f":"INDEX(tab_data[Fertility],tab_selected_country_data[[#This Row],[Position]])","v":1.853},{"$f":"IF(tab_selected_country_data[[#This Row],[Year]]=Control!$C$9,tab_selected_country_data[[#This Row],[Fertility Rate All]],NA())","v":{"$error":"#N/A"}},{"$f":"AVERAGEIF(tab_data[Year],tab_selected_country_data[[#This Row],[Year]],tab_data[Fertility])","v":2.8101840796019912},{"$f":"SUMPRODUCT(($M70=tab_data[Year])*tab_data[Fertility]*tab_data[Population])/SUMIF(tab_data[Year],$M70,tab_data[Population])","v":2.4947082105230742},{"$f":"INDEX(tab_selected_country_data[[#This Row],[Average Fertility Rate]:[Weighted Average Fertility Rate]],1,Control!$C$11)","v":2.8101840796019912},{"$f":"MIN(IF((tab_selected_country_data[[#This Row],[Year]]=tab_data[Year]),tab_data[Fertility],999999999))","v":1.083},{"$f":"MAX((tab_selected_country_data[[#This Row],[Year]]=tab_data[Year])*tab_data[Fertility])-tab_selected_country_data[[#This Row],[Min Fertility Rate]]","v":6.4779999999999998},{"$f":"INDEX(tab_data[Life Expectancy],tab_selected_country_data[[#This Row],[Position]])","v":80.534999999999997},{"$f":"IF(AND(Control!$C$14,tab_selected_country_data[[#This Row],[Year]]<Control!$C$9),tab_selected_country_data[[#This Row],[Life Expectancy]],NA())","v":{"$error":"#N/A"}},{"$f":"IF(AND(Control!$C$14,tab_selected_country_data[[#This Row],[Year]]>Control!$C$9),tab_selected_country_data[[#This Row],[Life Expectancy]],NA())","v":80.534999999999997},{"$f":"IF(tab_selected_country_data[[#This Row],[Year]]=Control!$C$9,tab_selected_country_data[[#This Row],[Life Expectancy]],NA())","v":{"$error":"#N/A"}},{"$f":"AVERAGEIF(tab_data[Year],tab_selected_country_data[[#This Row],[Year]],tab_data[Life Expectancy])","v":70.759776119402943},{"$f":"SUMPRODUCT(($M70=tab_data[Year])*tab_data[Life Expectancy]*tab_data[Population])/SUMIF(tab_data[Year],$M70,tab_data[Population])","v":70.841681373700737},{"$f":"INDEX(tab_selected_country_data[[#This Row],[Average Life Expectancy]:[Weighted Average Life Expectancy]],1,Control!$C$11)","v":70.759776119402943},{"$f":"SUMPRODUCT(($M70=tab_data[Year])*tab_data[Life Expectancy]*tab_data[Population])/SUMIF(tab_data[Year],$M70,tab_data[Population])","v":70.841681373700737},{"$f":"MIN(IF((tab_selected_country_data[[#This Row],[Year]]=tab_data[Year]),tab_data[Life Expectancy],999999999))","v":45.561},{"$f":"MAX((tab_selected_country_data[[#This Row],[Year]]=tab_data[Year])*tab_data[Life Expectancy])-tab_selected_country_data[[#This Row],[Min Life Expectancy]]","v":38.018999999999998}]
[null,"Georgia","Europe",{"$f":"MATCH(tab_xy_scatter_data[[#This Row],[Country]]&\"|\"&Control!$C$9,tab_data[ID (Country|Year)],0)","v":4117},{"$f":"INDEX(tab_data[Fertility],tab_xy_scatter_data[[#This Row],[Position]])","v":2.5950000000000002},{"$f":"INDEX(tab_data[Life Expectancy],tab_xy_scatter_data[[#This Row],[Position]])","v":67.456000000000003},{"$f":"IF(Control!$C$12,tab_xy_scatter_data[[#This Row],[Fertility Rate All]],NV())","v":2.5950000000000002},{"$f":"IF(Control!$C$12,tab_xy_scatter_data[[#This Row],[Life Expectancy All]],NV())","v":67.456000000000003},{"$f":"IF(AND(Control!$C$6=tab_xy_scatter_data[[#This Row],[Region]],Control!$C$13),tab_xy_scatter_data[[#This Row],[Fertility Rate All]],NA())","v":2.5950000000000002},{"$f":"IF(AND(Control!$C$6=tab_xy_scatter_data[[#This Row],[Region]],Control!$C$13),tab_xy_scatter_data[[#This Row],[Life Expectancy All]],NA())","v":67.456000000000003},{"$f":"INDEX(tab_data[Population],tab_xy_scatter_data[[#This Row],[Position]])","v":4707491}]
[null,"Germany","Europe",{"$f":"MATCH(tab_xy_scatter_data[[#This Row],[Country]]&\"|\"&Control!$C$9,tab_data[ID (Country|Year)],0)","v":4181},{"$f":"INDEX(tab_data[Fertility],tab_xy_scatter_data[[#This Row],[Position]])","v":2.0419999999999998},{"$f":"INDEX(tab_data[Life Expectancy],tab_xy_scatter_data[[#This Row],[Position]])","v":70.825999999999993},{"$f":"IF(Control!$C$12,tab_xy_scatter_data[[#This Row],[Fertility Rate All]],NV())","v":2.0419999999999998},{"$f":"IF(Control!$C$12,tab_xy_scatter_data[[#This Row],[Life Expectancy All]],NV())","v":70.825999999999993},{"$f":"IF(AND(Control!$C$6=tab_xy_scatter_data[[#This Row],[Region]],Control!$C$13),tab_xy_scatter_data[[#This Row],[Fertility Rate All]],NA())","v":2.0419999999999998},{"$f":"IF(AND(Control!$C$6=tab_xy_scatter_data[[#This Row],[Region]],Control!$C$13),tab_xy_scatter_data[[#This Row],[Life Expectancy All]],NA())","v":70.825999999999993},{"$f":"INDEX(tab_data[Population],tab_xy_scatter_data[[#This Row],[Position]])","v":78169287}]
[null,"Ghana","Africa",{"$f":"MATCH(tab_xy_scatter_data[[#This Row],[Country]]&\"|\"&Control!$C$9,tab_data[ID (Country|Year)],0)","v":4245},{"$f":"INDEX(tab_data[Fertility],tab_xy_scatter_data[[#This Row],[Position]])","v":6.95},{"$f":"INDEX(tab_data[Life Expectancy],tab_xy_scatter_data[[#This Row],[Position]])","v":49.338999999999999},{"$f":"IF(Control!$C$12,tab_xy_scatter_data[[#This Row],[Fertility Rate All]],NV())","v":6.95},{"$f":"IF(Control!$C$12,tab_xy_scatter_data[[#This Row],[Life Expectancy All]],NV())","v":49.338999999999999},{"$f":"IF(AND(Control!$C$6=tab_xy_scatter_data[[#This Row],[Region]],Control!$C$13),tab_xy_scatter_data[[#This Row],[Fertility Rate All]],NA())","v":{"$error":"#N/A"}},{"$f":"IF(AND(Control!$C$6=tab_xy_scatter_data[[#This Row],[Region]],Control!$C$13),tab_xy_scatter_data[[#This Row],[Life Expectancy All]],NA())","v":{"$error":"#N/A"}},{"$f":"INDEX(tab_data[Population],tab_xy_scatter_data[[#This Row],[Position]])","v":8681818}]
[null,"Greece","Europe",{"$f":"MATCH(tab_xy_scatter_data[[#This Row],[Country]]&\"|\"&Control!$C$9,tab_data[ID (Country|Year)],0)","v":4309},{"$f":"INDEX(tab_data[Fertility],tab_xy_scatter_data[[#This Row],[Position]])","v":2.3639999999999999},{"$f":"INDEX(tab_data[Life Expectancy],tab_xy_scatter_data[[#This Row],[Position]])","v":70.948999999999998},{"$f":"IF(Control!$C$12,tab_xy_scatter_data[[#This Row],[Fertility Rate All]],NV())","v":2.3639999999999999},{"$f":"IF(Control!$C$12,tab_xy_scatter_data[[#This Row],[Life Expectancy All]],NV())","v":70.948999999999998},{"$f":"IF(AND(Control!$C$6=tab_xy_scatter_data[[#This Row],[Region]],Control!$C$13),tab_xy_scatter_data[[#This Row],[Fertility Rate All]],NA())","v":2.3639999999999999},{"$f":"IF(AND(Control!$C$6=tab_xy_scatter_data[[#This Row],[Region]],Control!$C$13),tab_xy_scatter_data[[#This Row],[Life Expectancy All]],NA())","v":70.948999999999998},{"$f":"INDEX(tab_data[Population],tab_xy_scatter_data[[#This Row],[Position]])","v":8793002}]
[null,"Grenada","Latin America + Caribbean",{"$f":"MATCH(tab_xy_scatter_data[[#This Row],[Country]]&\"|\"&Control!$C$9,tab_data[ID (Country|Year)],0)","v":4373},{"$f":"INDEX(tab_data[Fertility],tab_xy_scatter_data[[#This Row],[Position]])","v":4.6040000000000001},{"$f":"INDEX(tab_data[Life Expectancy],tab_xy_scatter_data[[#This Row],[Position]])","v":63.843000000000004},{"$f":"IF(Control!$C$12,tab_xy_scatter_data[[#This Row],[Fertility Rate All]],NV())","v":4.6040000000000001},{"$f":"IF(Control!$C$12,tab_xy_scatter_data[[#This Row],[Life Expectancy All]],NV())","v":63.843000000000004},{"$f":"IF(AND(Control!$C$6=tab_xy_scatter_data[[#This Row],[Region]],Control!$C$13),tab_xy_scatter_data[[#This Row],[Fertility Rate All]],NA())","v":{"$error":"#N/A"}},{"$f":"IF(AND(Control!$C$6=tab_xy_scatter_data[[#This Row],[Region]],Control!$C$13),tab_xy_scatter_data[[#This Row],[Life Expectancy All]],NA())","v":{"$error":"#N/A"}},{"$f":"INDEX(tab_data[Population],tab_xy_scatter_data[[#This Row],[Position]])","v":94393}]
[null,"Guadeloupe","Latin America + Caribbean",{"$f":"MATCH(tab_xy_scatter_data[[#This Row],[Country]]&\"|\"&Control!$C$9,tab_data[ID (Country|Year)],0)","v":4437},{"$f":"INDEX(tab_data[Fertility],tab_xy_scatter_data[[#This Row],[Position]])","v":4.9329999999999998},{"$f":"INDEX(tab_data[Life Expectancy],tab_xy_scatter_data[[#This Row],[Position]])","v":64.981999999999999},{"$f":"IF(Control!$C$12,tab_xy_scatter_data[[#This Row],[Fertility Rate All]],NV())","v":4.9329999999999998},{"$f":"IF(Control!$C$12,tab_xy_scatter_data[[#This Row],[Life Expectancy All]],NV())","v":64.981999999999999},{"$f":"IF(AND(Control!$C$6=tab_xy_scatter_data[[#This Row],[Region]],Control!$C$13),tab_xy_scatter_data[[#This Row],[Fertility Rate All]],NA())","v":{"$error":"#N/A"}},{"$f":"IF(AND(Control!$C$6=tab_xy_scatter_data[[#This Row],[Region]],Control!$C$13),tab_xy_scatter_data[[#This Row],[Life Expectancy All]],NA())","v":{"$error":"#N/A"}},{"$f":"INDEX(tab_data[Population],tab_xy_scatter_data[[#This Row],[Position]])","v":320063}]
[null,"Guam","Asia + Pacific",{"$f":"MATCH(tab_xy_scatter_data[[#This Row],[Country]]&\"|\"&Control!$C$9,tab_data[ID (Country|Year)],0)","v":4501},{"$f":"INDEX(tab_data[Fertility],tab_xy_scatter_data[[#This Row],[Position]])","v":4.3719999999999999},{"$f":"INDEX(tab_data[Life Expectancy],tab_xy_scatter_data[[#This Row],[Position]])","v":65.662000000000006},{"$f":"IF(Control!$C$12,tab_xy_scatter_data[[#This Row],[Fertility Rate All]],NV())","v":4.3719999999999999},{"$f":"IF(Control!$C$12,tab_xy_scatter_data[[#This Row],[Life Expectancy All]],NV())","v":65.662000000000006},{"$f":"IF(AND(Control!$C$6=tab_xy_scatter_data[[#This Row],[Region]],Control!$C$13),tab_xy_scatter_data[[#This Row],[Fertility Rate All]],NA())","v":{"$error":"#N/A"}},{"$f":"IF(AND(Control!$C$6=tab_xy_scatter_data[[#This Row],[Region]],Control!$C$13),tab_xy_scatter_data[[#This Row],[Life Expectancy All]],NA())","v":{"$error":"#N/A"}},{"$f":"INDEX(tab_data[Population],tab_xy_scatter_data[[#This Row],[Position]])","v":85459}]
[null,"Guatemala","Latin America + Caribbean",{"$f":"MATCH(tab_xy_scatter_data[[#This Row],[Country]]&\"|\"&Control!$C$9,tab_data[ID (Country|Year)],0)","v":4565},{"$f":"INDEX(tab_data[Fertility],tab_xy_scatter_data[[#This Row],[Position]])","v":6.2350000000000003},{"$f":"INDEX(tab_data[Life Expectancy],tab_xy_scatter_data[[#This Row],[Position]])","v":52.040999999999997},{"$f":"IF(Control!$C$12,tab_xy_scatter_data[[#This Row],[Fertility Rate All]],NV())","v":6.2350000000000003},{"$f":"IF(Control!$C$12,tab_xy_scatter_data[[#This Row],[Life Expectancy All]],NV())","v":52.040999999999997},{"$f":"IF(AND(Control!$C$6=tab_xy_scatter_data[[#This Row],[Region]],Control!$C$13),tab_xy_scatter_data[[#This Row],[Fertility Rate All]],NA())","v":{"$error":"#N/A"}},{"$f":"IF(AND(Control!$C$6=tab_xy_scatter_data[[#This Row],[Region]],Control!$C$13),tab_xy_scatter_data[[#This Row],[Life Expectancy All]],NA())","v":{"$error":"#N/A"}},{"$f":"INDEX(tab_data[Population],tab_xy_scatter_data[[#This Row],[Position]])","v":5447687}]
[null,"Guinea","Africa",{"$f":"MATCH(tab_xy_scatter_data[[#This Row],[Country]]&\"|\"&Control!$C$9,tab_data[ID (Country|Year)],0)","v":4629},{"$f":"INDEX(tab_data[Fertility],tab_xy_scatter_data[[#This Row],[Position]])","v":6.1950000000000003},{"$f":"INDEX(tab_data[Life Expectancy],tab_xy_scatter_data[[#This Row],[Position]])","v":36.655999999999999},{"$f":"IF(Control!$C$12,tab_xy_scatter_data[[#This Row],[Fertility Rate All]],NV())","v":6.1950000000000003},{"$f":"IF(Control!$C$12,tab_xy_scatter_data[[#This Row],[Life Expectancy All]],NV())","v":36.655999999999999},{"$f":"IF(AND(Control!$C$6=tab_xy_scatter_data[[#This Row],[Region]],Control!$C$13),tab_xy_scatter_data[[#This Row],[Fertility Rate All]],NA())","v":{"$error":"#N/A"}},{"$f":"IF(AND(Control!$C$6=tab_xy_scatter_data[[#This Row],[Region]],Control!$C$13),tab_xy_scatter_data[[#This Row],[Life Expectancy All]],NA())","v":{"$error":"#N/A"}},{"$f":"INDEX(tab_data[Population],tab_xy_scatter_data[[#This Row],[Position]])","v":4153653}]
[null,"Guinea-Bissau","Africa",{"$f":"MATCH(tab_xy_scatter_data[[#This Row],[Country]]&\"|\"&Control!$C$9,tab_data[ID (Country|Year)],0)","v":4683},{"$f":"INDEX(tab_data[Fertility],tab_xy_scatter_data[[#This Row],[Position]])","v":6.0709999999999997},{"$f":"INDEX(tab_data[Life Expectancy],tab_xy_scatter_data[[#This Row],[Position]])","v":44.054000000000002},{"$f":"IF(Control!$C$12,tab_xy_scatter_data[[#This Row],[Fertility Rate All]],NV())","v":6.0709999999999997},{"$f":"IF(Control!$C$12,tab_xy_scatter_data[[#This Row],[Life Expectancy All]],NV())","v":44.054000000000002},{"$f":"IF(AND(Control!$C$6=tab_xy_scatter_data[[#This Row],[Region]],Control!$C$13),tab_xy_scatter_data[[#This Row],[Fertility Rate All]],NA())","v":{"$error":"#N/A"}},{"$f":"IF(AND(Control!$C$6=tab_xy_scatter_data[[#This Row],[Region]],Control!$C$13),tab_xy_scatter_data[[#This Row],[Life Expectancy All]],NA())","v":{"$error":"#N/A"}},{"$f":"INDEX(tab_data[Population],tab_xy_scatter_data[[#This Row],[Position]])","v":602916}]
[null,"Guyana","Latin America + Caribbean",{"$f":"MATCH(tab_xy_scatter_data[[#This Row],[Country]]&\"|\"&Control!$C$9,tab_data[ID (Country|Year)],0)","v":4747},{"$f":"INDEX(tab_data[Fertility],tab_xy_scatter_data[[#This Row],[Position]])","v":5.0679999999999996},{"$f":"INDEX(tab_data[Life Expectancy],tab_xy_scatter_data[[#This Row],[Position]])","v":59.447000000000003},{"$f":"IF(Control!$C$12,tab_xy_scatter_data[[#This Row],[Fertility Rate All]],NV())","v":5.0679999999999996},{"$f":"IF(Control!$C$12,tab_xy_scatter_data[[#This Row],[Life Expectancy All]],NV())","v":59.447000000000003},{"$f":"IF(AND(Control!$C$6=tab_xy_scatter_data[[#This Row],[Region]],Control!$C$13),tab_xy_scatter_data[[#This Row],[Fertility Rate All]],NA())","v":{"$error":"#N/A"}},{"$f":"IF(AND(Control!$C$6=tab_xy_scatter_data[[#This Row],[Region]],Control!$C$13),tab_xy_scatter_data[[#This Row],[Life Expectancy All]],NA())","v":{"$error":"#N/A"}},{"$f":"INDEX(tab_data[Population],tab_xy_scatter_data[[#This Row],[Position]])","v":720738}]
[null,"Haiti","Latin America + Caribbean",{"$f":"MATCH(tab_xy_scatter_data[[#This Row],[Country]]&\"|\"&Control!$C$9,tab_data[ID (Country|Year)],0)","v":4812},{"$f":"INDEX(tab_data[Fertility],tab_xy_scatter_data[[#This Row],[Position]])","v":5.7619999999999996},{"$f":"INDEX(tab_data[Life Expectancy],tab_xy_scatter_data[[#This Row],[Position]])","v":47.204000000000001},{"$f":"IF(Control!$C$12,tab_xy_scatter_data[[#This Row],[Fertility Rate All]],NV())","v":5.7619999999999996},{"$f":"IF(Control!$C$12,tab_xy_scatter_data[[#This Row],[Life Expectancy All]],NV())","v":47.204000000000001},{"$f":"IF(AND(Control!$C$6=tab_xy_scatter_data[[#This Row],[Region]],Control!$C$13),tab_xy_scatter_data[[#This Row],[Fertility Rate All]],NA())","v":{"$error":"#N/A"}},{"$f":"IF(AND(Control!$C$6=tab_xy_scatter_data[[#This Row],[Region]],Control!$C$13),tab_xy_scatter_data[[#This Row],[Life Expectancy All]],NA())","v":{"$error":"#N/A"}},{"$f":"INDEX(tab_data[Population],tab_xy_scatter_data[[#This Row],[Position]])","v":4709644}]
[null,"Honduras","Latin America + Caribbean",{"$f":"MATCH(tab_xy_scatter_data[[#This Row],[Country]]&\"|\"&Control!$C$9,tab_data[ID (Country|Year)],0)","v":4875},{"$f":"INDEX(tab_data[Fertility],tab_xy_scatter_data[[#This Row],[Position]])","v":7.27},{"$f":"INDEX(tab_data[Life Expectancy],tab_xy_scatter_data[[#This Row],[Position]])","v":52.51},{"$f":"IF(Control!$C$12,tab_xy_scatter_data[[#This Row],[Fertility Rate All]],NV())","v":7.27},{"$f":"IF(Control!$C$12,tab_xy_scatter_data[[#This Row],[Life Expectancy All]],NV())","v":52.51},{"$f":"IF(AND(Control!$C$6=tab_xy_scatter_data[[#This Row],[Region]],Control!$C$13),tab_xy_scatter_data[[#This Row],[Fertility Rate All]],NA())","v":{"$error":"#N/A"}},{"$f":"IF(AND(Control!$C$6=tab_xy_scatter_data[[#This Row],[Region]],Control!$C$13),tab_xy_scatter_data[[#This Row],[Life Expectancy All]],NA())","v":{"$error":"#N/A"}},{"$f":"INDEX(tab_data[Population],tab_xy_scatter_data[[#This Row],[Position]])","v":2688208}]
[null,"Hong Kong","Asia + Pacific",{"$f":"MATCH(tab_xy_scatter_data[[#This Row],[Country]]&\"|\"&Control!$C$9,tab_data[ID (Country|Year)],0)","v":4939},{"$f":"INDEX(tab_data[Fertility],tab_xy_scatter_data[[#This Row],[Position]])","v":3.4209999999999998},{"$f":"INDEX(tab_data[Life Expectancy],tab_xy_scatter_data[[#This Row],[Position]])","v":71.891999999999996},{"$f":"IF(Control!$C$12,tab_xy_scatter_data[[#This Row],[Fertility Rate All]],NV())","v":3.4209999999999998},{"$f":"IF(Control!$C$12,tab_xy_scatter_data[[#This Row],[Life Expectancy All]],NV())","v":71.891999999999996},{"$f":"IF(AND(Control!$C$6=tab_xy_scatter_data[[#This Row],[Region]],Control!$C$13),tab_xy_scatter_data[[#This Row],[Fertility Rate All]],NA())","v":{"$error":"#N/A"}},{"$f":"IF(AND(Control!$C$6=tab_xy_scatter_data[[#This Row],[Region]],Control!$C$13),tab_xy_scatter_data[[#This Row],[Life Expectancy All]],NA())","v":{"$error":"#N/A"}},{"$f":"INDEX(tab_data[Population],tab_xy_scatter_data[[#This Row],[Position]])","v":3958092}]
[null,"Hungary","Europe",{"$f":"MATCH(tab_xy_scatter_data[[#This Row],[Country]]&\"|\"&Control!$C$9,tab_data[ID (Country|Year)],0)","v":5006},{"$f":"INDEX(tab_data[Fertility],tab_xy_scatter_data[[#This Row],[Position]])","v":2.0299999999999998},{"$f":"INDEX(tab_data[Life Expectancy],tab_xy_scatter_data[[#This Row],[Position]])","v":69.239999999999995},{"$f":"IF(Control!$C$12,tab_xy_scatter_data[[#This Row],[Fertility Rate All]],NV())","v":2.0299999999999998},{"$f":"IF(Control!$C$12,tab_xy_scatter_data[[#This Row],[Life Expectancy All]],NV())","v":69.239999999999995},{"$f":"IF(AND(Control!$C$6=tab_xy_scatter_data[[#This Row],[Region]],Control!$C$13),tab_xy_scatter_data[[#This Row],[Fertility Rate All]],NA())","v":2.0299999999999998},{"$f":"IF(AND(Control!$C$6=tab_xy_scatter_data[[#This Row],[Region]],Control!$C$13),tab_xy_scatter_data[[#This Row],[Life Expectancy All]],NA())","v":69.239999999999995},{"$f":"INDEX(tab_data[Population],tab_xy_scatter_data[[#This Row],[Position]])","v":10315420}]
[null,"Iceland","Europe",{"$f":"MATCH(tab_xy_scatter_data[[#This Row],[Country]]&\"|\"&Control!$C$9,tab_data[ID (Country|Year)],0)","v":5065},{"$f":"INDEX(tab_data[Fertility],tab_xy_scatter_data[[#This Row],[Position]])","v":3.0310000000000001},{"$f":"INDEX(tab_data[Life Expectancy],tab_xy_scatter_data[[#This Row],[Position]])","v":73.81},{"$f":"IF(Control!$C$12,tab_xy_scatter_data[[#This Row],[Fertility Rate All]],NV())","v":3.0310000000000001},{"$f":"IF(Control!$C$12,tab_xy_scatter_data[[#This Row],[Life Expectancy All]],NV())","v":73.81},{"$f":"IF(AND(Control!$C$6=tab_xy_scatter_data[[#This Row],[Region]],Control!$C$13),tab_xy_scatter_data[[#This Row],[Fertility Rate All]],NA())","v":3.0310000000000001},{"$f":"IF(AND(Control!$C$6=tab_xy_scatter_data[[#This Row],[Region]],Control!$C$13),tab_xy_scatter_data[[#This Row],[Life Expectancy All]],NA())","v":73.81},{"$f":"INDEX(tab_data[Population],tab_xy_scatter_data[[#This Row],[Position]])","v":204101}]
[null,"India","Asia + Pacific",{"$f":"MATCH(tab_xy_scatter_data[[#This Row],[Country]]&\"|\"&Control!$C$9,tab_data[ID (Country|Year)],0)","v":5131},{"$f":"INDEX(tab_data[Fertility],tab_xy_scatter_data[[#This Row],[Position]])","v":5.4939999999999998},{"$f":"INDEX(tab_data[Life Expectancy],tab_xy_scatter_data[[#This Row],[Position]])","v":48.835999999999999},{"$f":"IF(Control!$C$12,tab_xy_scatter_data[[#This Row],[Fertility Rate All]],NV())","v":5.4939999999999998},{"$f":"IF(Control!$C$12,tab_xy_scatter_data[[#This Row],[Life Expectancy All]],NV())","v":48.835999999999999},{"$f":"IF(AND(Control!$C$6=tab_xy_scatter_data[[#This Row],[Region]],Control!$C$13),tab_xy_scatter_data[[#This Row],[Fertility Rate All]],NA())","v":{"$error":"#N/A"}},{"$f":"IF(AND(Control!$C$6=tab_xy_scatter_data[[#This Row],[Region]],Control!$C$13),tab_xy_scatter_data[[#This Row],[Life Expectancy All]],NA())","v":{"$error":"#N/A"}},{"$f":"INDEX(tab_data[Population],tab_xy_scatter_data[[#This Row],[Position]])","v":553873890}]
[null,"Indonesia","Asia + Pacific",{"$f":"MATCH(tab_xy_scatter_data[[#This Row],[Country]]&\"|\"&Control!$C$9,tab_data[ID (Country|Year)],0)","v":5195},{"$f":"INDEX(tab_data[Fertility],tab_xy_scatter_data[[#This Row],[Position]])","v":5.4740000000000002},{"$f":"INDEX(tab_data[Life Expectancy],tab_xy_scatter_data[[#This Row],[Position]])","v":52.387999999999998},{"$f":"IF(Control!$C$12,tab_xy_scatter_data[[#This Row],[Fertility Rate All]],NV())","v":5.4740000000000002},{"$f":"IF(Control!$C$12,tab_xy_scatter_data[[#This Row],[Life Expectancy All]],NV())","v":52.387999999999998},{"$f":"IF(AND(Control!$C$6=tab_xy_scatter_data[[#This Row],[Region]],Control!$C$13),tab_xy_scatter_data[[#This Row],[Fertility Rate All]],NA())","v":{"$error":"#N/A"}},{"$f":"IF(AND(Control!$C$6=tab_xy_scatter_data[[#This Row],[Region]],Control!$C$13),tab_xy_scatter_data[[#This Row],[Life Expectancy All]],NA())","v":{"$error":"#N/A"}},{"$f":"INDEX(tab_data[Population],tab_xy_scatter_data[[#This Row],[Position]])","v":118361740}]
[null,"Iran","Asia + Pacific",{"$f":"MATCH(tab_xy_scatter_data[[#This Row],[Country]]&\"|\"&Control!$C$9,tab_data[ID (Country|Year)],0)","v":5259},{"$f":"INDEX(tab_data[Fertility],tab_xy_scatter_data[[#This Row],[Position]])","v":6.44},{"$f":"INDEX(tab_data[Life Expectancy],tab_xy_scatter_data[[#This Row],[Position]])","v":50.856000000000002},{"$f":"IF(Control!$C$12,tab_xy_scatter_data[[#This Row],[Fertility Rate All]],NV())","v":6.44},{"$f":"IF(Control!$C$12,tab_xy_scatter_data[[#This Row],[Life Expectancy All]],NV())","v":50.856000000000002},{"$f":"IF(AND(Control!$C$6=tab_xy_scatter_data[[#This Row],[Region]],Control!$C$13),tab_xy_scatter_data[[#This Row],[Fertility Rate All]],NA())","v":{"$error":"#N/A"}},{"$f":"IF(AND(Control!$C$6=tab_xy_scatter_data[[#This Row],[Region]],Control!$C$13),tab_xy_scatter_data[[#This Row],[Life Expectancy All]],NA())","v":{"$error":"#N/A"}},{"$f":"INDEX(tab_data[Population],tab_xy_scatter_data[[#This Row],[Position]])","v":28662011}]
[null,"Iraq","West Asia",{"$f":"MATCH(tab_xy_scatter_data[[#This Row],[Country]]&\"|\"&Control!$C$9,tab_data[ID (Country|Year)],0)","v":5323},{"$f":"INDEX(tab_data[Fertility],tab_xy_scatter_data[[#This Row],[Position]])","v":7.3620000000000001},{"$f":"INDEX(tab_data[Life Expectancy],tab_xy_scatter_data[[#This Row],[Position]])","v":58.198999999999998},{"$f":"IF(Control!$C$12,tab_xy_scatter_data[[#This Row],[Fertility Rate All]],NV())","v":7.3620000000000001},{"$f":"IF(Control!$C$12,tab_xy_scatter_data[[#This Row],[Life Expectancy All]],NV())","v":58.198999999999998},{"$f":"IF(AND(Control!$C$6=tab_xy_scatter_data[[#This Row],[Region]],Control!$C$13),tab_xy_scatter_data[[#This Row],[Fertility Rate All]],NA())","v":{"$error":"#N/A"}},{"$f":"IF(AND(Control!$C$6=tab_xy_scatter_data[[#This Row],[Region]],Control!$C$13),tab_xy_scatter_data[[#This Row],[Life Expectancy All]],NA())","v":{"$error":"#N/A"}},{"$f":"INDEX(tab_data[Population],tab_xy_scatter_data[[#This Row],[Position]])","v":10021785}]
[null,"Ireland","Europe",{"$f":"MATCH(tab_xy_scatter_data[[#This Row],[Country]]&\"|\"&Control!$C$9,tab_data[ID (Country|Year)],0)","v":5385},{"$f":"INDEX(tab_data[Fertility],tab_xy_scatter_data[[#This Row],[Position]])","v":3.8130000000000002},{"$f":"INDEX(tab_data[Life Expectancy],tab_xy_scatter_data[[#This Row],[Position]])","v":70.89},{"$f":"IF(Control!$C$12,tab_xy_scatter_data[[#This Row],[Fertility Rate All]],NV())","v":3.8130000000000002},{"$f":"IF(Control!$C$12,tab_xy_scatter_data[[#This Row],[Life Expectancy All]],NV())","v":70.89},{"$f":"IF(AND(Control!$C$6=tab_xy_scatter_data[[#This Row],[Region]],Control!$C$13),tab_xy_scatter_data[[#This Row],[Fertility Rate All]],NA())","v":3.8130000000000002},{"$f":"IF(AND(Control!$C$6=tab_xy_scatter_data[[#This Row],[Region]],Control!$C$13),tab_xy_scatter_data[[#This Row],[Life Expectancy All]],NA())","v":70.89},{"$f":"INDEX(tab_data[Population],tab_xy_scatter_data[[#This Row],[Position]])","v":2963020}]
[null,"Israel","Europe",{"$f":"MATCH(tab_xy_scatter_data[[#This Row],[Country]]&\"|\"&Control!$C$9,tab_data[ID (Country|Year)],0)","v":5451},{"$f":"INDEX(tab_data[Fertility],tab_xy_scatter_data[[#This Row],[Position]])","v":3.8170000000000002},{"$f":"INDEX(tab_data[Life Expectancy],tab_xy_scatter_data[[#This Row],[Position]])","v":71.185000000000002},{"$f":"IF(Control!$C$12,tab_xy_scatter_data[[#This Row],[Fertility Rate All]],NV())","v":3.8170000000000002},{"$f":"IF(Control!$C$12,tab_xy_scatter_data[[#This Row],[Life Expectancy All]],NV())","v":71.185000000000002},{"$f":"IF(AND(Control!$C$6=tab_xy_scatter_data[[#This Row],[Region]],Control!$C$13),tab_xy_scatter_data[[#This Row],[Fertility Rate All]],NA())","v":3.8170000000000002},{"$f":"IF(AND(Control!$C$6=tab_xy_scatter_data[[#This Row],[Region]],Control!$C$13),tab_xy_scatter_data[[#This Row],[Life Expectancy All]],NA())","v":71.185000000000002},{"$f":"INDEX(tab_data[Population],tab_xy_scatter_data[[#This Row],[Position]])","v":2849534}]
[null,"Italy","Europe",{"$f":"MATCH(tab_xy_scatter_data[[#This Row],[Country]]&\"|\"&Control!$C$9,tab_data[ID (Country|Year)],0)","v":5515},{"$f":"INDEX(tab_data[Fertility],tab_xy_scatter_data[[#This Row],[Position]])","v":2.4689999999999999},{"$f":"INDEX(tab_data[Life Expectancy],tab_xy_scatter_data[[#This Row],[Position]])","v":71.66},{"$f":"IF(Control!$C$12,tab_xy_scatter_data[[#This Row],[Fertility Rate All]],NV())","v":2.4689999999999999},{"$f":"IF(Control!$C$12,tab_xy_scatter_data[[#This Row],[Life Expectancy All]],NV())","v":71.66},{"$f":"IF(AND(Control!$C$6=tab_xy_scatter_data[[#This Row],[Region]],Control!$C$13),tab_xy_scatter_data[[#This Row],[Fertility Rate All]],NA())","v":2.4689999999999999},{"$f":"IF(AND(Control!$C$6=tab_xy_scatter_data[[#This Row],[Region]],Control!$C$13),tab_xy_scatter_data[[#This Row],[Life Expectancy All]],NA())","v":71.66},{"$f":"INDEX(tab_data[Population],tab_xy_scatter_data[[#This Row],[Position]])","v":53324772}]
[null,"Jamaica","Latin America + Caribbean",{"$f":"MATCH(tab_xy_scatter_data[[#This Row],[Country]]&\"|\"&Control!$C$9,tab_data[ID (Country|Year)],0)","v":5579},{"$f":"INDEX(tab_data[Fertility],tab_xy_scatter_data[[#This Row],[Position]])","v":5.4770000000000003},{"$f":"INDEX(tab_data[Life Expectancy],tab_xy_scatter_data[[#This Row],[Position]])","v":68.259},{"$f":"IF(Control!$C$12,tab_xy_scatter_data[[#This Row],[Fertility Rate All]],NV())","v":5.4770000000000003},{"$f":"IF(Control!$C$12,tab_xy_scatter_data[[#This Row],[Life Expectancy All]],NV())","v":68.259},{"$f":"IF(AND(Control!$C$6=tab_xy_scatter_data[[#This Row],[Region]],Control!$C$13),tab_xy_scatter_data[[#This Row],[Fertility Rate All]],NA())","v":{"$error":"#N/A"}},{"$f":"IF(AND(Control!$C$6=tab_xy_scatter_data[[#This Row],[Region]],Control!$C$13),tab_xy_scatter_data[[#This Row],[Life Expectancy All]],NA())","v":{"$error":"#N/A"}},{"$f":"INDEX(tab_data[Population],tab_xy_scatter_data[[#This Row],[Position]])","v":1869031}]
[null,"Japan","Asia + Pacific",{"$f":"MATCH(tab_xy_scatter_data[[#This Row],[Country]]&\"|\"&Control!$C$9,tab_data[ID (Country|Year)],0)","v":5643},{"$f":"INDEX(tab_data[Fertility],tab_xy_scatter_data[[#This Row],[Position]])","v":2.101},{"$f":"INDEX(tab_data[Life Expectancy],tab_xy_scatter_data[[#This Row],[Position]])","v":72.069999999999993},{"$f":"IF(Control!$C$12,tab_xy_scatter_data[[#This Row],[Fertility Rate All]],NV())","v":2.101},{"$f":"IF(Control!$C$12,tab_xy_scatter_data[[#This Row],[Life Expectancy All]],NV())","v":72.069999999999993},{"$f":"IF(AND(Control!$C$6=tab_xy_scatter_data[[#This Row],[Region]],Control!$C$13),tab_xy_scatter_data[[#This Row],[Fertility Rate All]],NA())","v":{"$error":"#N/A"}},{"$f":"IF(AND(Control!$C$6=tab_xy_scatter_data[[#This Row],[Region]],Control!$C$13),tab_xy_scatter_data[[#This Row],[Life Expectancy All]],NA())","v":{"$error":"#N/A"}},{"$f":"INDEX(tab_data[Population],tab_xy_scatter_data[[#This Row],[Position]])","v":103710287}]
[null,"Jordan","West Asia",{"$f":"MATCH(tab_xy_scatter_data[[#This Row],[Country]]&\"|\"&Control!$C$9,tab_data[ID (Country|Year)],0)","v":5707},{"$f":"INDEX(tab_data[Fertility],tab_xy_scatter_data[[#This Row],[Position]])","v":7.9260000000000002},{"$f":"INDEX(tab_data[Life Expectancy],tab_xy_scatter_data[[#This Row],[Position]])","v":60.170999999999999},{"$f":"IF(Control!$C$12,tab_xy_scatter_data[[#This Row],[Fertility Rate All]],NV())","v":7.9260000000000002},{"$f":"IF(Control!$C$12,tab_xy_scatter_data[[#This Row],[Life Expectancy All]],NV())","v":60.170999999999999},{"$f":"IF(AND(Control!$C$6=tab_xy_scatter_data[[#This Row],[Region]],Control!$C$13),tab_xy_scatter_data[[#This Row],[Fertility Rate All]],NA())","v":{"$error":"#N/A"}},{"$f":"IF(AND(Control!$C$6=tab_xy_scatter_data[[#This Row],[Region]],Control!$C$13),tab_xy_scatter_data[[#This Row],[Life Expectancy All]],NA())","v":{"$error":"#N/A"}},{"$f":"INDEX(tab_data[Population],tab_xy_scatter_data[[#This Row],[Position]])","v":1666920}]
[null,"Kazakhstan","Asia + Pacific",{"$f":"MATCH(tab_xy_scatter_data[[#This Row],[Country]]&\"|\"&Control!$C$9,tab_data[ID (Country|Year)],0)","v":5771},{"$f":"INDEX(tab_data[Fertility],tab_xy_scatter_data[[#This Row],[Position]])","v":3.5379999999999998},{"$f":"INDEX(tab_data[Life Expectancy],tab_xy_scatter_data[[#This Row],[Position]])","v":62.542000000000002},{"$f":"IF(Control!$C$12,tab_xy_scatter_data[[#This Row],[Fertility Rate All]],NV())","v":3.5379999999999998},{"$f":"IF(Control!$C$12,tab_xy_scatter_data[[#This Row],[Life Expectancy All]],NV())","v":62.542000000000002},{"$f":"IF(AND(Control!$C$6=tab_xy_scatter_data[[#This Row],[Region]],Control!$C$13),tab_xy_scatter_data[[#This Row],[Fertility Rate All]],NA())","v":{"$error":"#N/A"}},{"$f":"IF(AND(Control!$C$6=tab_xy_scatter_data[[#This Row],[Region]],Control!$C$13),tab_xy_scatter_data[[#This Row],[Life Expectancy All]],NA())","v":{"$error":"#N/A"}},{"$f":"INDEX(tab_data[Population],tab_xy_scatter_data[[#This Row],[Position]])","v":13109992}]
[null,"Kenya","Africa",{"$f":"MATCH(tab_xy_scatter_data[[#This Row],[Country]]&\"|\"&Control!$C$9,tab_data[ID (Country|Year)],0)","v":5835},{"$f":"INDEX(tab_data[Fertility],tab_xy_scatter_data[[#This Row],[Position]])","v":8.0809999999999995},{"$f":"INDEX(tab_data[Life Expectancy],tab_xy_scatter_data[[#This Row],[Position]])","v":52.216999999999999},{"$f":"IF(Control!$C$12,tab_xy_scatter_data[[#This Row],[Fertility Rate All]],NV())","v":8.0809999999999995},{"$f":"IF(Control!$C$12,tab_xy_scatter_data[[#This Row],[Life Expectancy All]],NV())","v":52.216999999999999},{"$f":"IF(AND(Control!$C$6=tab_xy_scatter_data[[#This Row],[Region]],Control!$C$13),tab_xy_scatter_data[[#This Row],[Fertility Rate All]],NA())","v":{"$error":"#N/A"}},{"$f":"IF(AND(Control!$C$6=tab_xy_scatter_data[[#This Row],[Region]],Control!$C$13),tab_xy_scatter_data[[#This Row],[Life Expectancy All]],NA())","v":{"$error":"#N/A"}},{"$f":"INDEX(tab_data[Population],tab_xy_scatter_data[[#This Row],[Position]])","v":11252318}]
[null,"Kiribati","Asia + Pacific",{"$f":"MATCH(tab_xy_scatter_data[[#This Row],[Country]]&\"|\"&Control!$C$9,tab_data[ID (Country|Year)],0)","v":5899},{"$f":"INDEX(tab_data[Fertility],tab_xy_scatter_data[[#This Row],[Position]])","v":6.0510000000000002},{"$f":"INDEX(tab_data[Life Expectancy],tab_xy_scatter_data[[#This Row],[Position]])","v":51.421999999999997},{"$f":"IF(Control!$C$12,tab_xy_scatter_data[[#This Row],[Fertility Rate All]],NV())","v":6.0510000000000002},{"$f":"IF(Control!$C$12,tab_xy_scatter_data[[#This Row],[Life Expectancy All]],NV())","v":51.421999999999997},{"$f":"IF(AND(Control!$C$6=tab_xy_scatter_data[[#This Row],[Region]],Control!$C$13),tab_xy_scatter_data[[#This Row],[Fertility Rate All]],NA())","v":{"$error":"#N/A"}},{"$f":"IF(AND(Control!$C$6=tab_xy_scatter_data[[#This Row],[Region]],Control!$C$13),tab_xy_scatter_data[[#This Row],[Life Expectancy All]],NA())","v":{"$error":"#N/A"}},{"$f":"INDEX(tab_data[Population],tab_xy_scatter_data[[#This Row],[Position]])","v":43891}]
[null,"Korea Democratic Republic","Asia + Pacific",{"$f":"MATCH(tab_xy_scatter_data[[#This Row],[Country]]&\"|\"&Control!$C$9,tab_data[ID (Country|Year)],0)","v":5963},{"$f":"INDEX(tab_data[Fertility],tab_xy_scatter_data[[#This Row],[Position]])","v":4.327},{"$f":"INDEX(tab_data[Life Expectancy],tab_xy_scatter_data[[#This Row],[Position]])","v":59.655999999999999},{"$f":"IF(Control!$C$12,tab_xy_scatter_data[[#This Row],[Fertility Rate All]],NV())","v":4.327},{"$f":"IF(Control!$C$12,tab_xy_scatter_data[[#This Row],[Life Expectancy All]],NV())","v":59.655999999999999},{"$f":"IF(AND(Control!$C$6=tab_xy_scatter_data[[#This Row],[Region]],Control!$C$13),tab_xy_scatter_data[[#This Row],[Fertility Rate All]],NA())","v":{"$error":"#N/A"}},{"$f":"IF(AND(Control!$C$6=tab_xy_scatter_data[[#This Row],[Region]],Control!$C$13),tab_xy_scatter_data[[#This Row],[Life Expectancy All]],NA())","v":{"$error":"#N/A"}},{"$f":"INDEX(tab_data[Population],tab_xy_scatter_data[[#This Row],[Position]])","v":14246772}]
[null,"Korea Republic","Asia + Pacific",{"$f":"MATCH(tab_xy_scatter_data[[#This Row],[Country]]&\"|\"&Control!$C$9,tab_data[ID (Country|Year)],0)","v":6027},{"$f":"INDEX(tab_data[Fertility],tab_xy_scatter_data[[#This Row],[Position]])","v":4.5270000000000001},{"$f":"INDEX(tab_data[Life Expectancy],tab_xy_scatter_data[[#This Row],[Position]])","v":61.170999999999999},{"$f":"IF(Control!$C$12,tab_xy_scatter_data[[#This Row],[Fertility Rate All]],NV())","v":4.5270000000000001},{"$f":"IF(Control!$C$12,tab_xy_scatter_data[[#This Row],[Life Expectancy All]],NV())","v":61.170999999999999},{"$f":"IF(AND(Control!$C$6=tab_xy_scatter_data[[#This Row],[Region]],Control!$C$13),tab_xy_scatter_data[[#This Row],[Fertility Rate All]],NA())","v":{"$error":"#N/A"}},{"$f":"IF(AND(Control!$C$6=tab_xy_scatter_data[[#This Row],[Region]],Control!$C$13),tab_xy_scatter_data[[#This Row],[Life Expectancy All]],NA())","v":{"$error":"#N/A"}},{"$f":"INDEX(tab_data[Population],tab_xy_scatter_data[[#This Row],[Position]])","v":31443029}]
[null,"Kuwait","West Asia",{"$f":"MATCH(tab_xy_scatter_data[[#This Row],[Country]]&\"|\"&Control!$C$9,tab_data[ID (Country|Year)],0)","v":6091},{"$f":"INDEX(tab_data[Fertility],tab_xy_scatter_data[[#This Row],[Position]])","v":7.2409999999999997},{"$f":"INDEX(tab_data[Life Expectancy],tab_xy_scatter_data[[#This Row],[Position]])","v":65.856999999999999},{"$f":"IF(Control!$C$12,tab_xy_scatter_data[[#This Row],[Fertility Rate All]],NV())","v":7.2409999999999997},{"$f":"IF(Control!$C$12,tab_xy_scatter_data[[#This Row],[Life Expectancy All]],NV())","v":65.856999999999999},{"$f":"IF(AND(Control!$C$6=tab_xy_scatter_data[[#This Row],[Region]],Control!$C$13),tab_xy_scatter_data[[#This Row],[Fertility Rate All]],NA())","v":{"$error":"#N/A"}},{"$f":"IF(AND(Control!$C$6=tab_xy_scatter_data[[#This Row],[Region]],Control!$C$13),tab_xy_scatter_data[[#This Row],[Life Expectancy All]],NA())","v":{"$error":"#N/A"}},{"$f":"INDEX(tab_data[Population],tab_xy_scatter_data[[#This Row],[Position]])","v":753142}]
[null,"Kyrgyzstan","Asia + Pacific",{"$f":"MATCH(tab_xy_scatter_data[[#This Row],[Country]]&\"|\"&Control!$C$9,tab_data[ID (Country|Year)],0)","v":6155},{"$f":"INDEX(tab_data[Fertility],tab_xy_scatter_data[[#This Row],[Position]])","v":4.8920000000000003},{"$f":"INDEX(tab_data[Life Expectancy],tab_xy_scatter_data[[#This Row],[Position]])","v":60.499000000000002},{"$f":"IF(Control!$C$12,tab_xy_scatter_data[[#This Row],[Fertility Rate All]],NV())","v":4.8920000000000003},{"$f":"IF(Control!$C$12,tab_xy_scatter_data[[#This Row],[Life Expectancy All]],NV())","v":60.499000000000002},{"$f":"IF(AND(Control!$C$6=tab_xy_scatter_data[[#This Row],[Region]],Control!$C$13),tab_xy_scatter_data[[#This Row],[Fertility Rate All]],NA())","v":{"$error":"#N/A"}},{"$f":"IF(AND(Control!$C$6=tab_xy_scatter_data[[#This Row],[Region]],Control!$C$13),tab_xy_scatter_data[[#This Row],[Life Expectancy All]],NA())","v":{"$error":"#N/A"}},{"$f":"INDEX(tab_data[Population],tab_xy_scatter_data[[#This Row],[Position]])","v":2964499}]
[null,"La Reunion","Africa",{"$f":"MATCH(tab_xy_scatter_data[[#This Row],[Country]]&\"|\"&Control!$C$9,tab_data[ID (Country|Year)],0)","v":6219},{"$f":"INDEX(tab_data[Fertility],tab_xy_scatter_data[[#This Row],[Position]])","v":4.7649999999999997},{"$f":"INDEX(tab_data[Life Expectancy],tab_xy_scatter_data[[#This Row],[Position]])","v":63.058999999999997},{"$f":"IF(Control!$C$12,tab_xy_scatter_data[[#This Row],[Fertility Rate All]],NV())","v":4.7649999999999997},{"$f":"IF(Control!$C$12,tab_xy_scatter_data[[#This Row],[Life Expectancy All]],NV())","v":63.058999999999997},{"$f":"IF(AND(Control!$C$6=tab_xy_scatter_data[[#This Row],[Region]],Control!$C$13),tab_xy_scatter_data[[#This Row],[Fertility Rate All]],NA())","v":{"$error":"#N/A"}},{"$f":"IF(AND(Control!$C$6=tab_xy_scatter_data[[#This Row],[Region]],Control!$C$13),tab_xy_scatter_data[[#This Row],[Life Expectancy All]],NA())","v":{"$error":"#N/A"}},{"$f":"INDEX(tab_data[Population],tab_xy_scatter_data[[#This Row],[Position]])","v":462096}]
[null,"Laos","Asia + Pacific",{"$f":"MATCH(tab_xy_scatter_data[[#This Row],[Country]]&\"|\"&Control!$C$9,tab_data[ID (Country|Year)],0)","v":6283},{"$f":"INDEX(tab_data[Fertility],tab_xy_scatter_data[[#This Row],[Position]])","v":5.9740000000000002},{"$f":"INDEX(tab_data[Life Expectancy],tab_xy_scatter_data[[#This Row],[Position]])","v":46.256},{"$f":"IF(Control!$C$12,tab_xy_scatter_data[[#This Row],[Fertility Rate All]],NV())","v":5.9740000000000002},{"$f":"IF(Control!$C$12,tab_xy_scatter_data[[#This Row],[Life Expectancy All]],NV())","v":46.256},{"$f":"IF(AND(Control!$C$6=tab_xy_scatter_data[[#This Row],[Region]],Control!$C$13),tab_xy_scatter_data[[#This Row],[Fertility Rate All]],NA())","v":{"$error":"#N/A"}},{"$f":"IF(AND(Control!$C$6=tab_xy_scatter_data[[#This Row],[Region]],Control!$C$13),tab_xy_scatter_data[[#This Row],[Life Expectancy All]],NA())","v":{"$error":"#N/A"}},{"$f":"INDEX(tab_data[Population],tab_xy_scatter_data[[#This Row],[Position]])","v":2691207}]
[null,"Latvia","Europe",{"$f":"MATCH(tab_xy_scatter_data[[#This Row],[Country]]&\"|\"&Control!$C$9,tab_data[ID (Country|Year)],0)","v":6365},{"$f":"INDEX(tab_data[Fertility],tab_xy_scatter_data[[#This Row],[Position]])","v":1.91},{"$f":"INDEX(tab_data[Life Expectancy],tab_xy_scatter_data[[#This Row],[Position]])","v":70.23},{"$f":"IF(Control!$C$12,tab_xy_scatter_data[[#This Row],[Fertility Rate All]],NV())","v":1.91},{"$f":"IF(Control!$C$12,tab_xy_scatter_data[[#This Row],[Life Expectancy All]],NV())","v":70.23},{"$f":"IF(AND(Control!$C$6=tab_xy_scatter_data[[#This Row],[Region]],Control!$C$13),tab_xy_scatter_data[[#This Row],[Fertility Rate All]],NA())","v":1.91},{"$f":"IF(AND(Control!$C$6=tab_xy_scatter_data[[#This Row],[Region]],Control!$C$13),tab_xy_scatter_data[[#This Row],[Life Expectancy All]],NA())","v":70.23},{"$f":"INDEX(tab_data[Population],tab_xy_scatter_data[[#This Row],[Position]])","v":2365705}]
[null,"Lebanon","West Asia",{"$f":"MATCH(tab_xy_scatter_data[[#This Row],[Country]]&\"|\"&Control!$C$9,tab_data[ID (Country|Year)],0)","v":6411},{"$f":"INDEX(tab_data[Fertility],tab_xy_scatter_data[[#This Row],[Position]])","v":4.9480000000000004},{"$f":"INDEX(tab_data[Life Expectancy],tab_xy_scatter_data[[#This Row],[Position]])","v":66.066999999999993},{"$f":"IF(Control!$C$12,tab_xy_scatter_data[[#This Row],[Fertility Rate All]],NV())","v":4.9480000000000004},{"$f":"IF(Control!$C$12,tab_xy_scatter_data[[#This Row],[Life Expectancy All]],NV())","v":66.066999999999993},{"$f":"IF(AND(Control!$C$6=tab_xy_scatter_data[[#This Row],[Region]],Control!$C$13),tab_xy_scatter_data[[#This Row],[Fertility Rate All]],NA())","v":{"$error":"#N/A"}},{"$f":"IF(AND(Control!$C$6=tab_xy_scatter_data[[#This Row],[Region]],Control!$C$13),tab_xy_scatter_data[[#This Row],[Life Expectancy All]],NA())","v":{"$error":"#N/A"}},{"$f":"INDEX(tab_data[Population],tab_xy_scatter_data[[#This Row],[Position]])","v":2464286}]
[null,"Lesotho","Africa",{"$f":"MATCH(tab_xy_scatter_data[[#This Row],[Country]]&\"|\"&Control!$C$9,tab_data[ID (Country|Year)],0)","v":6488},{"$f":"INDEX(tab_data[Fertility],tab_xy_scatter_data[[#This Row],[Position]])","v":5.8079999999999998},{"$f":"INDEX(tab_data[Life Expectancy],tab_xy_scatter_data[[#This Row],[Position]])","v":49.030999999999999},{"$f":"IF(Control!$C$12,tab_xy_scatter_data[[#This Row],[Fertility Rate All]],NV())","v":5.8079999999999998},{"$f":"IF(Control!$C$12,tab_xy_scatter_data[[#This Row],[Life Expectancy All]],NV())","v":49.030999999999999},{"$f":"IF(AND(Control!$C$6=tab_xy_scatter_data[[#This Row],[Region]],Control!$C$13),tab_xy_scatter_data[[#This Row],[Fertility Rate All]],NA())","v":{"$error":"#N/A"}},{"$f":"IF(AND(Control!$C$6=tab_xy_scatter_data[[#This Row],[Region]],Control!$C$13),tab_xy_scatter_data[[#This Row],[Life Expectancy All]],NA())","v":{"$error":"#N/A"}},{"$f":"INDEX(tab_data[Population],tab_xy_scatter_data[[#This Row],[Position]])","v":1033044}]
[null,"Liberia","Africa",{"$f":"MATCH(tab_xy_scatter_data[[#This Row],[Country]]&\"|\"&Control!$C$9,tab_data[ID (Country|Year)],0)","v":6539},{"$f":"INDEX(tab_data[Fertility],tab_xy_scatter_data[[#This Row],[Position]])","v":6.6950000000000003},{"$f":"INDEX(tab_data[Life Expectancy],tab_xy_scatter_data[[#This Row],[Position]])","v":39.253999999999998},{"$f":"IF(Control!$C$12,tab_xy_scatter_data[[#This Row],[Fertility Rate All]],NV())","v":6.6950000000000003},{"$f":"IF(Control!$C$12,tab_xy_scatter_data[[#This Row],[Life Expectancy All]],NV())","v":39.253999999999998},{"$f":"IF(AND(Control!$C$6=tab_xy_scatter_data[[#This Row],[Region]],Control!$C$13),tab_xy_scatter_data[[#This Row],[Fertility Rate All]],NA())","v":{"$error":"#N/A"}},{"$f":"IF(AND(Control!$C$6=tab_xy_scatter_data[[#This Row],[Region]],Control!$C$13),tab_xy_scatter_data[[#This Row],[Life Expectancy All]],NA())","v":{"$error":"#N/A"}},{"$f":"INDEX(tab_data[Population],tab_xy_scatter_data[[#This Row],[Position]])","v":1439677}]
[null,"Libya","Africa",{"$f":"MATCH(tab_xy_scatter_data[[#This Row],[Country]]&\"|\"&Control!$C$9,tab_data[ID (Country|Year)],0)","v":6603},{"$f":"INDEX(tab_data[Fertility],tab_xy_scatter_data[[#This Row],[Position]])","v":7.867},{"$f":"INDEX(tab_data[Life Expectancy],tab_xy_scatter_data[[#This Row],[Position]])","v":56.052},{"$f":"IF(Control!$C$12,tab_xy_scatter_data[[#This Row],[Fertility Rate All]],NV())","v":7.867},{"$f":"IF(Control!$C$12,tab_xy_scatter_data[[#This Row],[Life Expectancy All]],NV())","v":56.052},{"$f":"IF(AND(Control!$C$6=tab_xy_scatter_data[[#This Row],[Region]],Control!$C$13),tab_xy_scatter_data[[#This Row],[Fertility Rate All]],NA())","v":{"$error":"#N/A"}},{"$f":"IF(AND(Control!$C$6=tab_xy_scatter_data[[#This Row],[Region]],Control!$C$13),tab_xy_scatter_data[[#This Row],[Life Expectancy All]],NA())","v":{"$error":"#N/A"}},{"$f":"INDEX(tab_data[Population],tab_xy_scatter_data[[#This Row],[Position]])","v":1994000}]
[null,"Lithuania","Europe",{"$f":"MATCH(tab_xy_scatter_data[[#This Row],[Country]]&\"|\"&Control!$C$9,tab_data[ID (Country|Year)],0)","v":6677},{"$f":"INDEX(tab_data[Fertility],tab_xy_scatter_data[[#This Row],[Position]])","v":2.3079999999999998},{"$f":"INDEX(tab_data[Life Expectancy],tab_xy_scatter_data[[#This Row],[Position]])","v":71.08},{"$f":"IF(Control!$C$12,tab_xy_scatter_data[[#This Row],[Fertility Rate All]],NV())","v":2.3079999999999998},{"$f":"IF(Control!$C$12,tab_xy_scatter_data[[#This Row],[Life Expectancy All]],NV())","v":71.08},{"$f":"IF(AND(Control!$C$6=tab_xy_scatter_data[[#This Row],[Region]],Control!$C$13),tab_xy_scatter_data[[#This Row],[Fertility Rate All]],NA())","v":2.3079999999999998},{"$f":"IF(AND(Control!$C$6=tab_xy_scatter_data[[#This Row],[Region]],Control!$C$13),tab_xy_scatter_data[[#This Row],[Life Expectancy All]],NA())","v":71.08},{"$f":"INDEX(tab_data[Population],tab_xy_scatter_data[[#This Row],[Position]])","v":3137113}]
[null,"Luxembourg","Europe",{"$f":"MATCH(tab_xy_scatter_data[[#This Row],[Country]]&\"|\"&Control!$C$9,tab_data[ID (Country|Year)],0)","v":6729},{"$f":"INDEX(tab_data[Fertility],tab_xy_scatter_data[[#This Row],[Position]])","v":1.96},{"$f":"INDEX(tab_data[Life Expectancy],tab_xy_scatter_data[[#This Row],[Position]])","v":69.58},{"$f":"IF(Control!$C$12,tab_xy_scatter_data[[#This Row],[Fertility Rate All]],NV())","v":1.96},{"$f":"IF(Control!$C$12,tab_xy_scatter_data[[#This Row],[Life Expectancy All]],NV())","v":69.58},{"$f":"IF(AND(Control!$C$6=tab_xy_scatter_data[[#This Row],[Region]],Control!$C$13),tab_xy_scatter_data[[#This Row],[Fertility Rate All]],NA())","v":1.96},{"$f":"IF(AND(Control!$C$6=tab_xy_scatter_data[[#This Row],[Region]],Control!$C$13),tab_xy_scatter_data[[#This Row],[Life Expectancy All]],NA())","v":69.58},{"$f":"INDEX(tab_data[Population],tab_xy_scatter_data[[#This Row],[Position]])","v":339184}]
[null,"Macao","Asia + Pacific",{"$f":"MATCH(tab_xy_scatter_data[[#This Row],[Country]]&\"|\"&Control!$C$9,tab_data[ID (Country|Year)],0)","v":6795},{"$f":"INDEX(tab_data[Fertility],tab_xy_scatter_data[[#This Row],[Position]])","v":2.1659999999999999},{"$f":"INDEX(tab_data[Life Expectancy],tab_xy_scatter_data[[#This Row],[Position]])","v":69.197999999999993},{"$f":"IF(Control!$C$12,tab_xy_scatter_data[[#This Row],[Fertility Rate All]],NV())","v":2.1659999999999999},{"$f":"IF(Control!$C$12,tab_xy_scatter_data[[#This Row],[Life Expectancy All]],NV())","v":69.197999999999993},{"$f":"IF(AND(Control!$C$6=tab_xy_scatter_data[[#This Row],[Region]],Control!$C$13),tab_xy_scatter_data[[#This Row],[Fertility Rate All]],NA())","v":{"$error":"#N/A"}},{"$f":"IF(AND(Control!$C$6=tab_xy_scatter_data[[#This Row],[Region]],Control!$C$13),tab_xy_scatter_data[[#This Row],[Life Expectancy All]],NA())","v":{"$error":"#N/A"}},{"$f":"INDEX(tab_data[Population],tab_xy_scatter_data[[#This Row],[Position]])","v":250995}]
[null,"Macedonia","Europe",{"$f":"MATCH(tab_xy_scatter_data[[#This Row],[Country]]&\"|\"&Control!$C$9,tab_data[ID (Country|Year)],0)","v":6859},{"$f":"INDEX(tab_data[Fertility],tab_xy_scatter_data[[#This Row],[Position]])","v":2.98},{"$f":"INDEX(tab_data[Life Expectancy],tab_xy_scatter_data[[#This Row],[Position]])","v":66.301000000000002},{"$f":"IF(Control!$C$12,tab_xy_scatter_data[[#This Row],[Fertility Rate All]],NV())","v":2.98},{"$f":"IF(Control!$C$12,tab_xy_scatter_data[[#This Row],[Life Expectancy All]],NV())","v":66.301000000000002},{"$f":"IF(AND(Control!$C$6=tab_xy_scatter_data[[#This Row],[Region]],Control!$C$13),tab_xy_scatter_data[[#This Row],[Fertility Rate All]],NA())","v":2.98},{"$f":"IF(AND(Control!$C$6=tab_xy_scatter_data[[#This Row],[Region]],Control!$C$13),tab_xy_scatter_data[[#This Row],[Life Expectancy All]],NA())","v":66.301000000000002},{"$f":"INDEX(tab_data[Population],tab_xy_scatter_data[[#This Row],[Position]])","v":1567968}]
[null,"Madagascar","Africa",{"$f":"MATCH(tab_xy_scatter_data[[#This Row],[Country]]&\"|\"&Control!$C$9,tab_data[ID (Country|Year)],0)","v":6923},{"$f":"INDEX(tab_data[Fertility],tab_xy_scatter_data[[#This Row],[Position]])","v":7.3250000000000002},{"$f":"INDEX(tab_data[Life Expectancy],tab_xy_scatter_data[[#This Row],[Position]])","v":44.771000000000001},{"$f":"IF(Control!$C$12,tab_xy_scatter_data[[#This Row],[Fertility Rate All]],NV())","v":7.3250000000000002},{"$f":"IF(Control!$C$12,tab_xy_scatter_data[[#This Row],[Life Expectancy All]],NV())","v":44.771000000000001},{"$f":"IF(AND(Control!$C$6=tab_xy_scatter_data[[#This Row],[Region]],Control!$C$13),tab_xy_scatter_data[[#This Row],[Fertility Rate All]],NA())","v":{"$error":"#N/A"}},{"$f":"IF(AND(Control!$C$6=tab_xy_scatter_data[[#This Row],[Region]],Control!$C$13),tab_xy_scatter_data[[#This Row],[Life Expectancy All]],NA())","v":{"$error":"#N/A"}},{"$f":"INDEX(tab_data[Population],tab_xy_scatter_data[[#This Row],[Position]])","v":6548922}]
[null,"Malawi","Africa",{"$f":"MATCH(tab_xy_scatter_data[[#This Row],[Country]]&\"|\"&Control!$C$9,tab_data[ID (Country|Year)],0)","v":6987},{"$f":"INDEX(tab_data[Fertility],tab_xy_scatter_data[[#This Row],[Position]])","v":7.3040000000000003},{"$f":"INDEX(tab_data[Life Expectancy],tab_xy_scatter_data[[#This Row],[Position]])","v":40.64},{"$f":"IF(Control!$C$12,tab_xy_scatter_data[[#This Row],[Fertility Rate All]],NV())","v":7.3040000000000003},{"$f":"IF(Control!$C$12,tab_xy_scatter_data[[#This Row],[Life Expectancy All]],NV())","v":40.64},{"$f":"IF(AND(Control!$C$6=tab_xy_scatter_data[[#This Row],[Region]],Control!$C$13),tab_xy_scatter_data[[#This Row],[Fertility Rate All]],NA())","v":{"$error":"#N/A"}},{"$f":"IF(AND(Control!$C$6=tab_xy_scatter_data[[#This Row],[Region]],Control!$C$13),tab_xy_scatter_data[[#This Row],[Life Expectancy All]],NA())","v":{"$error":"#N/A"}},{"$f":"INDEX(tab_data[Population],tab_xy_scatter_data[[#This Row],[Position]])","v":4531280}]
[null,"Malaysia","Asia + Pacific",{"$f":"MATCH(tab_xy_scatter_data[[#This Row],[Country]]&\"|\"&Control!$C$9,tab_data[ID (Country|Year)],0)","v":7051},{"$f":"INDEX(tab_data[Fertility],tab_xy_scatter_data[[#This Row],[Position]])","v":4.8719999999999999},{"$f":"INDEX(tab_data[Life Expectancy],tab_xy_scatter_data[[#This Row],[Position]])","v":64.445999999999998},{"$f":"IF(Control!$C$12,tab_xy_scatter_data[[#This Row],[Fertility Rate All]],NV())","v":4.8719999999999999},{"$f":"IF(Control!$C$12,tab_xy_scatter_data[[#This Row],[Life Expectancy All]],NV())","v":64.445999999999998},{"$f":"IF(AND(Control!$C$6=tab_xy_scatter_data[[#This Row],[Region]],Control!$C$13),tab_xy_scatter_data[[#This Row],[Fertility Rate All]],NA())","v":{"$error":"#N/A"}},{"$f":"IF(AND(Control!$C$6=tab_xy_scatter_data[[#This Row],[Region]],Control!$C$13),tab_xy_scatter_data[[#This Row],[Life Expectancy All]],NA())","v":{"$error":"#N/A"}},{"$f":"INDEX(tab_data[Population],tab_xy_scatter_data[[#This Row],[Position]])","v":10909353}]
[null,"Maldives","Asia + Pacific",{"$f":"MATCH(tab_xy_scatter_data[[#This Row],[Country]]&\"|\"&Control!$C$9,tab_data[ID (Country|Year)],0)","v":7115},{"$f":"INDEX(tab_data[Fertility],tab_xy_scatter_data[[#This Row],[Position]])","v":7.2270000000000003},{"$f":"INDEX(tab_data[Life Expectancy],tab_xy_scatter_data[[#This Row],[Position]])","v":44.152999999999999},{"$f":"IF(Control!$C$12,tab_xy_scatter_data[[#This Row],[Fertility Rate All]],NV())","v":7.2270000000000003},{"$f":"IF(Control!$C$12,tab_xy_scatter_data[[#This Row],[Life Expectancy All]],NV())","v":44.152999999999999},{"$f":"IF(AND(Control!$C$6=tab_xy_scatter_data[[#This Row],[Region]],Control!$C$13),tab_xy_scatter_data[[#This Row],[Fertility Rate All]],NA())","v":{"$error":"#N/A"}},{"$f":"IF(AND(Control!$C$6=tab_xy_scatter_data[[#This Row],[Region]],Control!$C$13),tab_xy_scatter_data[[#This Row],[Life Expectancy All]],NA())","v":{"$error":"#N/A"}},{"$f":"INDEX(tab_data[Population],tab_xy_scatter_data[[#This Row],[Position]])","v":115772}]
[null,"Mali","Africa",{"$f":"MATCH(tab_xy_scatter_data[[#This Row],[Country]]&\"|\"&Control!$C$9,tab_data[ID (Country|Year)],0)","v":7179},{"$f":"INDEX(tab_data[Fertility],tab_xy_scatter_data[[#This Row],[Position]])","v":6.9009999999999998},{"$f":"INDEX(tab_data[Life Expectancy],tab_xy_scatter_data[[#This Row],[Position]])","v":32.387999999999998},{"$f":"IF(Control!$C$12,tab_xy_scatter_data[[#This Row],[Fertility Rate All]],NV())","v":6.9009999999999998},{"$f":"IF(Control!$C$12,tab_xy_scatter_data[[#This Row],[Life Expectancy All]],NV())","v":32.387999999999998},{"$f":"IF(AND(Control!$C$6=tab_xy_scatter_data[[#This Row],[Region]],Control!$C$13),tab_xy_scatter_data[[#This Row],[Fertility Rate All]],NA())","v":{"$error":"#N/A"}},{"$f":"IF(AND(Control!$C$6=tab_xy_scatter_data[[#This Row],[Region]],Control!$C$13),tab_xy_scatter_data[[#This Row],[Life Expectancy All]],NA())","v":{"$error":"#N/A"}},{"$f":"INDEX(tab_data[Population],tab_xy_scatter_data[[#This Row],[Position]])","v":6034022}]
[null,"Malta","Europe",{"$f":"MATCH(tab_xy_scatter_data[[#This Row],[Country]]&\"|\"&Control!$C$9,tab_data[ID (Country|Year)],0)","v":7243},{"$f":"INDEX(tab_data[Fertility],tab_xy_scatter_data[[#This Row],[Position]])","v":1.9750000000000001},{"$f":"INDEX(tab_data[Life Expectancy],tab_xy_scatter_data[[#This Row],[Position]])","v":70.515000000000001},{"$f":"IF(Control!$C$12,tab_xy_scatter_data[[#This Row],[Fertility Rate All]],NV())","v":1.9750000000000001},{"$f":"IF(Control!$C$12,tab_xy_scatter_data[[#This Row],[Life Expectancy All]],NV())","v":70.515000000000001},{"$f":"IF(AND(Control!$C$6=tab_xy_scatter_data[[#This Row],[Region]],Control!$C$13),tab_xy_scatter_data[[#This Row],[Fertility Rate All]],NA())","v":1.9750000000000001},{"$f":"IF(AND(Control!$C$6=tab_xy_scatter_data[[#This Row],[Region]],Control!$C$13),tab_xy_scatter_data[[#This Row],[Life Expectancy All]],NA())","v":70.515000000000001},{"$f":"INDEX(tab_data[Population],tab_xy_scatter_data[[#This Row],[Position]])","v":303607}]
[null,"Martinique","Latin America + Caribbean",{"$f":"MATCH(tab_xy_scatter_data[[#This Row],[Country]]&\"|\"&Control!$C$9,tab_data[ID (Country|Year)],0)","v":7307},{"$f":"INDEX(tab_data[Fertility],tab_xy_scatter_data[[#This Row],[Position]])","v":4.6130000000000004},{"$f":"INDEX(tab_data[Life Expectancy],tab_xy_scatter_data[[#This Row],[Position]])","v":65.986000000000004},{"$f":"IF(Control!$C$12,tab_xy_scatter_data[[#This Row],[Fertility Rate All]],NV())","v":4.6130000000000004},{"$f":"IF(Control!$C$12,tab_xy_scatter_data[[#This Row],[Life Expectancy All]],NV())","v":65.986000000000004},{"$f":"IF(AND(Control!$C$6=tab_xy_scatter_data[[#This Row],[Region]],Control!$C$13),tab_xy_scatter_data[[#This Row],[Fertility Rate All]],NA())","v":{"$error":"#N/A"}},{"$f":"IF(AND(Control!$C$6=tab_xy_scatter_data[[#This Row],[Region]],Control!$C$13),tab_xy_scatter_data[[#This Row],[Life Expectancy All]],NA())","v":{"$error":"#N/A"}},{"$f":"INDEX(tab_data[Population],tab_xy_scatter_data[[#This Row],[Position]])","v":325561}]
[null,"Mauritania","Africa",{"$f":"MATCH(tab_xy_scatter_data[[#This Row],[Country]]&\"|\"&Control!$C$9,tab_data[ID (Country|Year)],0)","v":7371},{"$f":"INDEX(tab_data[Fertility],tab_xy_scatter_data[[#This Row],[Position]])","v":6.7839999999999998},{"$f":"INDEX(tab_data[Life Expectancy],tab_xy_scatter_data[[#This Row],[Position]])","v":49.13},{"$f":"IF(Control!$C$12,tab_xy_scatter_data[[#This Row],[Fertility Rate All]],NV())","v":6.7839999999999998},{"$f":"IF(Control!$C$12,tab_xy_scatter_data[[#This Row],[Life Expectancy All]],NV())","v":49.13},{"$f":"IF(AND(Control!$C$6=tab_xy_scatter_data[[#This Row],[Region]],Control!$C$13),tab_xy_scatter_data[[#This Row],[Fertility Rate All]],NA())","v":{"$error":"#N/A"}},{"$f":"IF(AND(Control!$C$6=tab_xy_scatter_data[[#This Row],[Region]],Control!$C$13),tab_xy_scatter_data[[#This Row],[Life Expectancy All]],NA())","v":{"$error":"#N/A"}},{"$f":"INDEX(tab_data[Population],tab_xy_scatter_data[[#This Row],[Position]])","v":1133539}]
[null,"Mauritius","Africa",{"$f":"MATCH(tab_xy_scatter_data[[#This Row],[Country]]&\"|\"&Control!$C$9,tab_data[ID (Country|Year)],0)","v":7435},{"$f":"INDEX(tab_data[Fertility],tab_xy_scatter_data[[#This Row],[Position]])","v":3.952},{"$f":"INDEX(tab_data[Life Expectancy],tab_xy_scatter_data[[#This Row],[Position]])","v":63.222999999999999},{"$f":"IF(Control!$C$12,tab_xy_scatter_data[[#This Row],[Fertility Rate All]],NV())","v":3.952},{"$f":"IF(Control!$C$12,tab_xy_scatter_data[[#This Row],[Life Expectancy All]],NV())","v":63.222999999999999},{"$f":"IF(AND(Control!$C$6=tab_xy_scatter_data[[#This Row],[Region]],Control!$C$13),tab_xy_scatter_data[[#This Row],[Fertility Rate All]],NA())","v":{"$error":"#N/A"}},{"$f":"IF(AND(Control!$C$6=tab_xy_scatter_data[[#This Row],[Region]],Control!$C$13),tab_xy_scatter_data[[#This Row],[Life Expectancy All]],NA())","v":{"$error":"#N/A"}},{"$f":"INDEX(tab_data[Population],tab_xy_scatter_data[[#This Row],[Position]])","v":826862}]
[null,"Mayotte","Africa",{"$f":"MATCH(tab_xy_scatter_data[[#This Row],[Country]]&\"|\"&Control!$C$9,tab_data[ID (Country|Year)],0)","v":7499},{"$f":"INDEX(tab_data[Fertility],tab_xy_scatter_data[[#This Row],[Position]])","v":7.9119999999999999},{"$f":"INDEX(tab_data[Life Expectancy],tab_xy_scatter_data[[#This Row],[Position]])","v":62.363999999999997},{"$f":"IF(Control!$C$12,tab_xy_scatter_data[[#This Row],[Fertility Rate All]],NV())","v":7.9119999999999999},{"$f":"IF(Control!$C$12,tab_xy_scatter_data[[#This Row],[Life Expectancy All]],NV())","v":62.363999999999997},{"$f":"IF(AND(Control!$C$6=tab_xy_scatter_data[[#This Row],[Region]],Control!$C$13),tab_xy_scatter_data[[#This Row],[Fertility Rate All]],NA())","v":{"$error":"#N/A"}},{"$f":"IF(AND(Control!$C$6=tab_xy_scatter_data[[#This Row],[Region]],Control!$C$13),tab_xy_scatter_data[[#This Row],[Life Expectancy All]],NA())","v":{"$error":"#N/A"}},{"$f":"INDEX(tab_data[Population],tab_xy_scatter_data[[#This Row],[Position]])","v":36755}]
[null,"Mexico","Latin America + Caribbean",{"$f":"MATCH(tab_xy_scatter_data[[#This Row],[Country]]&\"|\"&Control!$C$9,tab_data[ID (Country|Year)],0)","v":7563},{"$f":"INDEX(tab_data[Fertility],tab_xy_scatter_data[[#This Row],[Position]])","v":6.72},{"$f":"INDEX(tab_data[Life Expectancy],tab_xy_scatter_data[[#This Row],[Position]])","v":61.369},{"$f":"IF(Control!$C$12,tab_xy_scatter_data[[#This Row],[Fertility Rate All]],NV())","v":6.72},{"$f":"IF(Control!$C$12,tab_xy_scatter_data[[#This Row],[Life Expectancy All]],NV())","v":61.369},{"$f":"IF(AND(Control!$C$6=tab_xy_scatter_data[[#This Row],[Region]],Control!$C$13),tab_xy_scatter_data[[#This Row],[Fertility Rate All]],NA())","v":{"$error":"#N/A"}},{"$f":"IF(AND(Control!$C$6=tab_xy_scatter_data[[#This Row],[Region]],Control!$C$13),tab_xy_scatter_data[[#This Row],[Life Expectancy All]],NA())","v":{"$error":"#N/A"}},{"$f":"INDEX(tab_data[Population],tab_xy_scatter_data[[#This Row],[Position]])","v":51868335}]
[null,"Micronesia Federated States of","Asia + Pacific",{"$f":"MATCH(tab_xy_scatter_data[[#This Row],[Country]]&\"|\"&Control!$C$9,tab_data[ID (Country|Year)],0)","v":7627},{"$f":"INDEX(tab_data[Fertility],tab_xy_scatter_data[[#This Row],[Position]])","v":6.9379999999999997},{"$f":"INDEX(tab_data[Life Expectancy],tab_xy_scatter_data[[#This Row],[Position]])","v":61.634},{"$f":"IF(Control!$C$12,tab_xy_scatter_data[[#This Row],[Fertility Rate All]],NV())","v":6.9379999999999997},{"$f":"IF(Control!$C$12,tab_xy_scatter_data[[#This Row],[Life Expectancy All]],NV())","v":61.634},{"$f":"IF(AND(Control!$C$6=tab_xy_scatter_data[[#This Row],[Region]],Control!$C$13),tab_xy_scatter_data[[#This Row],[Fertility Rate All]],NA())","v":{"$error":"#N/A"}},{"$f":"IF(AND(Control!$C$6=tab_xy_scatter_data[[#This Row],[Region]],Control!$C$13),tab_xy_scatter_data[[#This Row],[Life Expectancy All]],NA())","v":{"$error":"#N/A"}},{"$f":"INDEX(tab_data[Population],tab_xy_scatter_data[[#This Row],[Position]])","v":61431}]
[null,"Moldova","Europe",{"$f":"MATCH(tab_xy_scatter_data[[#This Row],[Country]]&\"|\"&Control!$C$9,tab_data[ID (Country|Year)],0)","v":7695},{"$f":"INDEX(tab_data[Fertility],tab_xy_scatter_data[[#This Row],[Position]])","v":2.5819999999999999},{"$f":"INDEX(tab_data[Life Expectancy],tab_xy_scatter_data[[#This Row],[Position]])","v":65.045000000000002},{"$f":"IF(Control!$C$12,tab_xy_scatter_data[[#This Row],[Fertility Rate All]],NV())","v":2.5819999999999999},{"$f":"IF(Control!$C$12,tab_xy_scatter_data[[#This Row],[Life Expectancy All]],NV())","v":65.045000000000002},{"$f":"IF(AND(Control!$C$6=tab_xy_scatter_data[[#This Row],[Region]],Control!$C$13),tab_xy_scatter_data[[#This Row],[Fertility Rate All]],NA())","v":2.5819999999999999},{"$f":"IF(AND(Control!$C$6=tab_xy_scatter_data[[#This Row],[Region]],Control!$C$13),tab_xy_scatter_data[[#This Row],[Life Expectancy All]],NA())","v":65.045000000000002},{"$f":"INDEX(tab_data[Population],tab_xy_scatter_data[[#This Row],[Position]])","v":3594501}]
[null,"Mongolia","Asia + Pacific",{"$f":"MATCH(tab_xy_scatter_data[[#This Row],[Country]]&\"|\"&Control!$C$9,tab_data[ID (Country|Year)],0)","v":7755},{"$f":"INDEX(tab_data[Fertility],tab_xy_scatter_data[[#This Row],[Position]])","v":7.569},{"$f":"INDEX(tab_data[Life Expectancy],tab_xy_scatter_data[[#This Row],[Position]])","v":55.363},{"$f":"IF(Control!$C$12,tab_xy_scatter_data[[#This Row],[Fertility Rate All]],NV())","v":7.569},{"$f":"IF(Control!$C$12,tab_xy_scatter_data[[#This Row],[Life Expectancy All]],NV())","v":55.363},{"$f":"IF(AND(Control!$C$6=tab_xy_scatter_data[[#This Row],[Region]],Control!$C$13),tab_xy_scatter_data[[#This Row],[Fertility Rate All]],NA())","v":{"$error":"#N/A"}},{"$f":"IF(AND(Control!$C$6=tab_xy_scatter_data[[#This Row],[Region]],Control!$C$13),tab_xy_scatter_data[[#This Row],[Life Expectancy All]],NA())","v":{"$error":"#N/A"}},{"$f":"INDEX(tab_data[Population],tab_xy_scatter_data[[#This Row],[Position]])","v":1281535}]
[null,"Montenegro","Europe",{"$f":"MATCH(tab_xy_scatter_data[[#This Row],[Country]]&\"|\"&Control!$C$9,tab_data[ID (Country|Year)],0)","v":7819},{"$f":"INDEX(tab_data[Fertility],tab_xy_scatter_data[[#This Row],[Position]])","v":2.6890000000000001},{"$f":"INDEX(tab_data[Life Expectancy],tab_xy_scatter_data[[#This Row],[Position]])","v":69.869},{"$f":"IF(Control!$C$12,tab_xy_scatter_data[[#This Row],[Fertility Rate All]],NV())","v":2.6890000000000001},{"$f":"IF(Control!$C$12,tab_xy_scatter_data[[#This Row],[Life Expectancy All]],NV())","v":69.869},{"$f":"IF(AND(Control!$C$6=tab_xy_scatter_data[[#This Row],[Region]],Control!$C$13),tab_xy_scatter_data[[#This Row],[Fertility Rate All]],NA())","v":2.6890000000000001},{"$f":"IF(AND(Control!$C$6=tab_xy_scatter_data[[#This Row],[Region]],Control!$C$13),tab_xy_scatter_data[[#This Row],[Life Expectancy All]],NA())","v":69.869},{"$f":"INDEX(tab_data[Population],tab_xy_scatter_data[[#This Row],[Position]])","v":518727}]
[null,"Morocco","Africa",{"$f":"MATCH(tab_xy_scatter_data[[#This Row],[Country]]&\"|\"&Control!$C$9,tab_data[ID (Country|Year)],0)","v":7883},{"$f":"INDEX(tab_data[Fertility],tab_xy_scatter_data[[#This Row],[Position]])","v":6.6870000000000003},{"$f":"INDEX(tab_data[Life Expectancy],tab_xy_scatter_data[[#This Row],[Position]])","v":52.576000000000001},{"$f":"IF(Control!$C$12,tab_xy_scatter_data[[#This Row],[Fertility Rate All]],NV())","v":6.6870000000000003},{"$f":"IF(Control!$C$12,tab_xy_scatter_data[[#This Row],[Life Expectancy All]],NV())","v":52.576000000000001},{"$f":"IF(AND(Control!$C$6=tab_xy_scatter_data[[#This Row],[Region]],Control!$C$13),tab_xy_scatter_data[[#This Row],[Fertility Rate All]],NA())","v":{"$error":"#N/A"}},{"$f":"IF(AND(Control!$C$6=tab_xy_scatter_data[[#This Row],[Region]],Control!$C$13),tab_xy_scatter_data[[#This Row],[Life Expectancy All]],NA())","v":{"$error":"#N/A"}},{"$f":"INDEX(tab_data[Population],tab_xy_scatter_data[[#This Row],[Position]])","v":15309995}]
[null,"Mozambique","Africa",{"$f":"MATCH(tab_xy_scatter_data[[#This Row],[Country]]&\"|\"&Control!$C$9,tab_data[ID (Country|Year)],0)","v":7947},{"$f":"INDEX(tab_data[Fertility],tab_xy_scatter_data[[#This Row],[Position]])","v":6.5910000000000002},{"$f":"INDEX(tab_data[Life Expectancy],tab_xy_scatter_data[[#This Row],[Position]])","v":39.247},{"$f":"IF(Control!$C$12,tab_xy_scatter_data[[#This Row],[Fertility Rate All]],NV())","v":6.5910000000000002},{"$f":"IF(Control!$C$12,tab_xy_scatter_data[[#This Row],[Life Expectancy All]],NV())","v":39.247},{"$f":"IF(AND(Control!$C$6=tab_xy_scatter_data[[#This Row],[Region]],Control!$C$13),tab_xy_scatter_data[[#This Row],[Fertility Rate All]],NA())","v":{"$error":"#N/A"}},{"$f":"IF(AND(Control!$C$6=tab_xy_scatter_data[[#This Row],[Region]],Control!$C$13),tab_xy_scatter_data[[#This Row],[Life Expectancy All]],NA())","v":{"$error":"#N/A"}},{"$f":"INDEX(tab_data[Population],tab_xy_scatter_data[[#This Row],[Position]])","v":9453385}]
[null,"Myanmar","Asia + Pacific",{"$f":"MATCH(tab_xy_scatter_data[[#This Row],[Country]]&\"|\"&Control!$C$9,tab_data[ID (Country|Year)],0)","v":8011},{"$f":"INDEX(tab_data[Fertility],tab_xy_scatter_data[[#This Row],[Position]])","v":5.9589999999999996},{"$f":"INDEX(tab_data[Life Expectancy],tab_xy_scatter_data[[#This Row],[Position]])","v":50.988},{"$f":"IF(Control!$C$12,tab_xy_scatter_data[[#This Row],[Fertility Rate All]],NV())","v":5.9589999999999996},{"$f":"IF(Control!$C$12,tab_xy_scatter_data[[#This Row],[Life Expectancy All]],NV())","v":50.988},{"$f":"IF(AND(Control!$C$6=tab_xy_scatter_data[[#This Row],[Region]],Control!$C$13),tab_xy_scatter_data[[#This Row],[Fertility Rate All]],NA())","v":{"$error":"#N/A"}},{"$f":"IF(AND(Control!$C$6=tab_xy_scatter_data[[#This Row],[Region]],Control!$C$13),tab_xy_scatter_data[[#This Row],[Life Expectancy All]],NA())","v":{"$error":"#N/A"}},{"$f":"INDEX(tab_data[Population],tab_xy_scatter_data[[#This Row],[Position]])","v":26164131}]
[null,"Namibia","Africa",{"$f":"MATCH(tab_xy_scatter_data[[#This Row],[Country]]&\"|\"&Control!$C$9,tab_data[ID (Country|Year)],0)","v":8075},{"$f":"INDEX(tab_data[Fertility],tab_xy_scatter_data[[#This Row],[Position]])","v":6.4589999999999996},{"$f":"INDEX(tab_data[Life Expectancy],tab_xy_scatter_data[[#This Row],[Position]])","v":52.567999999999998},{"$f":"IF(Control!$C$12,tab_xy_scatter_data[[#This Row],[Fertility Rate All]],NV())","v":6.4589999999999996},{"$f":"IF(Control!$C$12,tab_xy_scatter_data[[#This Row],[Life Expectancy All]],NV())","v":52.567999999999998},{"$f":"IF(AND(Control!$C$6=tab_xy_scatter_data[[#This Row],[Region]],Control!$C$13),tab_xy_scatter_data[[#This Row],[Fertility Rate All]],NA())","v":{"$error":"#N/A"}},{"$f":"IF(AND(Control!$C$6=tab_xy_scatter_data[[#This Row],[Region]],Control!$C$13),tab_xy_scatter_data[[#This Row],[Life Expectancy All]],NA())","v":{"$error":"#N/A"}},{"$f":"INDEX(tab_data[Population],tab_xy_scatter_data[[#This Row],[Position]])","v":780386}]
[null,"Nepal","Asia + Pacific",{"$f":"MATCH(tab_xy_scatter_data[[#This Row],[Country]]&\"|\"&Control!$C$9,tab_data[ID (Country|Year)],0)","v":8139},{"$f":"INDEX(tab_data[Fertility],tab_xy_scatter_data[[#This Row],[Position]])","v":5.9710000000000001},{"$f":"INDEX(tab_data[Life Expectancy],tab_xy_scatter_data[[#This Row],[Position]])","v":42.427999999999997},{"$f":"IF(Control!$C$12,tab_xy_scatter_data[[#This Row],[Fertility Rate All]],NV())","v":5.9710000000000001},{"$f":"IF(Control!$C$12,tab_xy_scatter_data[[#This Row],[Life Expectancy All]],NV())","v":42.427999999999997},{"$f":"IF(AND(Control!$C$6=tab_xy_scatter_data[[#This Row],[Region]],Control!$C$13),tab_xy_scatter_data[[#This Row],[Fertility Rate All]],NA())","v":{"$error":"#N/A"}},{"$f":"IF(AND(Control!$C$6=tab_xy_scatter_data[[#This Row],[Region]],Control!$C$13),tab_xy_scatter_data[[#This Row],[Life Expectancy All]],NA())","v":{"$error":"#N/A"}},{"$f":"INDEX(tab_data[Population],tab_xy_scatter_data[[#This Row],[Position]])","v":11917872}]
[null,"Netherlands","Europe",{"$f":"MATCH(tab_xy_scatter_data[[#This Row],[Country]]&\"|\"&Control!$C$9,tab_data[ID (Country|Year)],0)","v":8200},{"$f":"INDEX(tab_data[Fertility],tab_xy_scatter_data[[#This Row],[Position]])","v":2.57},{"$f":"INDEX(tab_data[Life Expectancy],tab_xy_scatter_data[[#This Row],[Position]])","v":73.599999999999994},{"$f":"IF(Control!$C$12,tab_xy_scatter_data[[#This Row],[Fertility Rate All]],NV())","v":2.57},{"$f":"IF(Control!$C$12,tab_xy_scatter_data[[#This Row],[Life Expectancy All]],NV())","v":73.599999999999994},{"$f":"IF(AND(Control!$C$6=tab_xy_scatter_data[[#This Row],[Region]],Control!$C$13),tab_xy_scatter_data[[#This Row],[Fertility Rate All]],NA())","v":2.57},{"$f":"IF(AND(Control!$C$6=tab_xy_scatter_data[[#This Row],[Region]],Control!$C$13),tab_xy_scatter_data[[#This Row],[Life Expectancy All]],NA())","v":73.599999999999994},{"$f":"INDEX(tab_data[Population],tab_xy_scatter_data[[#This Row],[Position]])","v":12958757}]
[null,"Netherlands Antilles","Latin America + Caribbean",{"$f":"MATCH(tab_xy_scatter_data[[#This Row],[Country]]&\"|\"&Control!$C$9,tab_data[ID (Country|Year)],0)","v":8267},{"$f":"INDEX(tab_data[Fertility],tab_xy_scatter_data[[#This Row],[Position]])","v":2.91},{"$f":"INDEX(tab_data[Life Expectancy],tab_xy_scatter_data[[#This Row],[Position]])","v":69.215999999999994},{"$f":"IF(Control!$C$12,tab_xy_scatter_data[[#This Row],[Fertility Rate All]],NV())","v":2.91},{"$f":"IF(Control!$C$12,tab_xy_scatter_data[[#This Row],[Life Expectancy All]],NV())","v":69.215999999999994},{"$f":"IF(AND(Control!$C$6=tab_xy_scatter_data[[#This Row],[Region]],Control!$C$13),tab_xy_scatter_data[[#This Row],[Fertility Rate All]],NA())","v":{"$error":"#N/A"}},{"$f":"IF(AND(Control!$C$6=tab_xy_scatter_data[[#This Row],[Region]],Control!$C$13),tab_xy_scatter_data[[#This Row],[Life Expectancy All]],NA())","v":{"$error":"#N/A"}},{"$f":"INDEX(tab_data[Population],tab_xy_scatter_data[[#This Row],[Position]])","v":159179}]
[null,"New Caledonia","Asia + Pacific",{"$f":"MATCH(tab_xy_scatter_data[[#This Row],[Country]]&\"|\"&Control!$C$9,tab_data[ID (Country|Year)],0)","v":8331},{"$f":"INDEX(tab_data[Fertility],tab_xy_scatter_data[[#This Row],[Position]])","v":5.3040000000000003},{"$f":"INDEX(tab_data[Life Expectancy],tab_xy_scatter_data[[#This Row],[Position]])","v":62.421999999999997},{"$f":"IF(Control!$C$12,tab_xy_scatter_data[[#This Row],[Fertility Rate All]],NV())","v":5.3040000000000003},{"$f":"IF(Control!$C$12,tab_xy_scatter_data[[#This Row],[Life Expectancy All]],NV())","v":62.421999999999997},{"$f":"IF(AND(Control!$C$6=tab_xy_scatter_data[[#This Row],[Region]],Control!$C$13),tab_xy_scatter_data[[#This Row],[Fertility Rate All]],NA())","v":{"$error":"#N/A"}},{"$f":"IF(AND(Control!$C$6=tab_xy_scatter_data[[#This Row],[Region]],Control!$C$13),tab_xy_scatter_data[[#This Row],[Life Expectancy All]],NA())","v":{"$error":"#N/A"}},{"$f":"INDEX(tab_data[Population],tab_xy_scatter_data[[#This Row],[Position]])","v":105134}]
[null,"New Zealand","Asia + Pacific",{"$f":"MATCH(tab_xy_scatter_data[[#This Row],[Country]]&\"|\"&Control!$C$9,tab_data[ID (Country|Year)],0)","v":8392},{"$f":"INDEX(tab_data[Fertility],tab_xy_scatter_data[[#This Row],[Position]])","v":2.9493399999999999},{"$f":"INDEX(tab_data[Life Expectancy],tab_xy_scatter_data[[#This Row],[Position]])","v":71.33},{"$f":"IF(Control!$C$12,tab_xy_scatter_data[[#This Row],[Fertility Rate All]],NV())","v":2.9493399999999999},{"$f":"IF(Control!$C$12,tab_xy_scatter_data[[#This Row],[Life Expectancy All]],NV())","v":71.33},{"$f":"IF(AND(Control!$C$6=tab_xy_scatter_data[[#This Row],[Region]],Control!$C$13),tab_xy_scatter_data[[#This Row],[Fertility Rate All]],NA())","v":{"$error":"#N/A"}},{"$f":"IF(AND(Control!$C$6=tab_xy_scatter_data[[#This Row],[Region]],Control!$C$13),tab_xy_scatter_data[[#This Row],[Life Expectancy All]],NA())","v":{"$error":"#N/A"}},{"$f":"INDEX(tab_data[Population],tab_xy_scatter_data[[#This Row],[Position]])","v":2819597}]
[null,"Nicaragua","Latin America + Caribbean",{"$f":"MATCH(tab_xy_scatter_data[[#This Row],[Country]]&\"|\"&Control!$C$9,tab_data[ID (Country|Year)],0)","v":8459},{"$f":"INDEX(tab_data[Fertility],tab_xy_scatter_data[[#This Row],[Position]])","v":6.8920000000000003},{"$f":"INDEX(tab_data[Life Expectancy],tab_xy_scatter_data[[#This Row],[Position]])","v":53.680999999999997},{"$f":"IF(Control!$C$12,tab_xy_scatter_data[[#This Row],[Fertility Rate All]],NV())","v":6.8920000000000003},{"$f":"IF(Control!$C$12,tab_xy_scatter_data[[#This Row],[Life Expectancy All]],NV())","v":53.680999999999997},{"$f":"IF(AND(Control!$C$6=tab_xy_scatter_data[[#This Row],[Region]],Control!$C$13),tab_xy_scatter_data[[#This Row],[Fertility Rate All]],NA())","v":{"$error":"#N/A"}},{"$f":"IF(AND(Control!$C$6=tab_xy_scatter_data[[#This Row],[Region]],Control!$C$13),tab_xy_scatter_data[[#This Row],[Life Expectancy All]],NA())","v":{"$error":"#N/A"}},{"$f":"INDEX(tab_data[Population],tab_xy_scatter_data[[#This Row],[Position]])","v":2398160}]
[null,"Niger","Africa",{"$f":"MATCH(tab_xy_scatter_data[[#This Row],[Country]]&\"|\"&Control!$C$9,tab_data[ID (Country|Year)],0)","v":8523},{"$f":"INDEX(tab_data[Fertility],tab_xy_scatter_data[[#This Row],[Position]])","v":7.4219999999999997},{"$f":"INDEX(tab_data[Life Expectancy],tab_xy_scatter_data[[#This Row],[Position]])","v":36.299999999999997},{"$f":"IF(Control!$C$12,tab_xy_scatter_data[[#This Row],[Fertility Rate All]],NV())","v":7.4219999999999997},{"$f":"IF(Control!$C$12,tab_xy_scatter_data[[#This Row],[Life Expectancy All]],NV())","v":36.299999999999997},{"$f":"IF(AND(Control!$C$6=tab_xy_scatter_data[[#This Row],[Region]],Control!$C$13),tab_xy_scatter_data[[#This Row],[Fertility Rate All]],NA())","v":{"$error":"#N/A"}},{"$f":"IF(AND(Control!$C$6=tab_xy_scatter_data[[#This Row],[Region]],Control!$C$13),tab_xy_scatter_data[[#This Row],[Life Expectancy All]],NA())","v":{"$error":"#N/A"}},{"$f":"INDEX(tab_data[Population],tab_xy_scatter_data[[#This Row],[Position]])","v":4372957}]
[null,"Nigeria","Africa",{"$f":"MATCH(tab_xy_scatter_data[[#This Row],[Country]]&\"|\"&Control!$C$9,tab_data[ID (Country|Year)],0)","v":8587},{"$f":"INDEX(tab_data[Fertility],tab_xy_scatter_data[[#This Row],[Position]])","v":6.4710000000000001},{"$f":"INDEX(tab_data[Life Expectancy],tab_xy_scatter_data[[#This Row],[Position]])","v":41.189},{"$f":"IF(Control!$C$12,tab_xy_scatter_data[[#This Row],[Fertility Rate All]],NV())","v":6.4710000000000001},{"$f":"IF(Control!$C$12,tab_xy_scatter_data[[#This Row],[Life Expectancy All]],NV())","v":41.189},{"$f":"IF(AND(Control!$C$6=tab_xy_scatter_data[[#This Row],[Region]],Control!$C$13),tab_xy_scatter_data[[#This Row],[Fertility Rate All]],NA())","v":{"$error":"#N/A"}},{"$f":"IF(AND(Control!$C$6=tab_xy_scatter_data[[#This Row],[Region]],Control!$C$13),tab_xy_scatter_data[[#This Row],[Life Expectancy All]],NA())","v":{"$error":"#N/A"}},{"$f":"INDEX(tab_data[Population],tab_xy_scatter_data[[#This Row],[Position]])","v":57357275}]
[null,"Norway","Europe",{"$f":"MATCH(tab_xy_scatter_data[[#This Row],[Country]]&\"|\"&Control!$C$9,tab_data[ID (Country|Year)],0)","v":8651},{"$f":"INDEX(tab_data[Fertility],tab_xy_scatter_data[[#This Row],[Position]])","v":2.5},{"$f":"INDEX(tab_data[Life Expectancy],tab_xy_scatter_data[[#This Row],[Position]])","v":74.08},{"$f":"IF(Control!$C$12,tab_xy_scatter_data[[#This Row],[Fertility Rate All]],NV())","v":2.5},{"$f":"IF(Control!$C$12,tab_xy_scatter_data[[#This Row],[Life Expectancy All]],NV())","v":74.08},{"$f":"IF(AND(Control!$C$6=tab_xy_scatter_data[[#This Row],[Region]],Control!$C$13),tab_xy_scatter_data[[#This Row],[Fertility Rate All]],NA())","v":2.5},{"$f":"IF(AND(Control!$C$6=tab_xy_scatter_data[[#This Row],[Region]],Control!$C$13),tab_xy_scatter_data[[#This Row],[Life Expectancy All]],NA())","v":74.08},{"$f":"INDEX(tab_data[Population],tab_xy_scatter_data[[#This Row],[Position]])","v":3877383}]
[null,"Oman","West Asia",{"$f":"MATCH(tab_xy_scatter_data[[#This Row],[Country]]&\"|\"&Control!$C$9,tab_data[ID (Country|Year)],0)","v":8715},{"$f":"INDEX(tab_data[Fertility],tab_xy_scatter_data[[#This Row],[Position]])","v":7.3109999999999999},{"$f":"INDEX(tab_data[Life Expectancy],tab_xy_scatter_data[[#This Row],[Position]])","v":50.31},{"$f":"IF(Control!$C$12,tab_xy_scatter_data[[#This Row],[Fertility Rate All]],NV())","v":7.3109999999999999},{"$f":"IF(Control!$C$12,tab_xy_scatter_data[[#This Row],[Life Expectancy All]],NV())","v":50.31},{"$f":"IF(AND(Control!$C$6=tab_xy_scatter_data[[#This Row],[Region]],Control!$C$13),tab_xy_scatter_data[[#This Row],[Fertility Rate All]],NA())","v":{"$error":"#N/A"}},{"$f":"IF(AND(Control!$C$6=tab_xy_scatter_data[[#This Row],[Region]],Control!$C$13),tab_xy_scatter_data[[#This Row],[Life Expectancy All]],NA())","v":{"$error":"#N/A"}},{"$f":"INDEX(tab_data[Population],tab_xy_scatter_data[[#This Row],[Position]])","v":731703}]
[null,"Pakistan","Asia + Pacific",{"$f":"MATCH(tab_xy_scatter_data[[#This Row],[Country]]&\"|\"&Control!$C$9,tab_data[ID (Country|Year)],0)","v":8779},{"$f":"INDEX(tab_data[Fertility],tab_xy_scatter_data[[#This Row],[Position]])","v":6.601},{"$f":"INDEX(tab_data[Life Expectancy],tab_xy_scatter_data[[#This Row],[Position]])","v":53.481999999999999},{"$f":"IF(Control!$C$12,tab_xy_scatter_data[[#This Row],[Fertility Rate All]],NV())","v":6.601},{"$f":"IF(Control!$C$12,tab_xy_scatter_data[[#This Row],[Life Expectancy All]],NV())","v":53.481999999999999},{"$f":"IF(AND(Control!$C$6=tab_xy_scatter_data[[#This Row],[Region]],Control!$C$13),tab_xy_scatter_data[[#This Row],[Fertility Rate All]],NA())","v":{"$error":"#N/A"}},{"$f":"IF(AND(Control!$C$6=tab_xy_scatter_data[[#This Row],[Region]],Control!$C$13),tab_xy_scatter_data[[#This Row],[Life Expectancy All]],NA())","v":{"$error":"#N/A"}},{"$f":"INDEX(tab_data[Population],tab_xy_scatter_data[[#This Row],[Position]])","v":59382651}]
[null,"Panama","Latin America + Caribbean",{"$f":"MATCH(tab_xy_scatter_data[[#This Row],[Country]]&\"|\"&Control!$C$9,tab_data[ID (Country|Year)],0)","v":8843},{"$f":"INDEX(tab_data[Fertility],tab_xy_scatter_data[[#This Row],[Position]])","v":5.173},{"$f":"INDEX(tab_data[Life Expectancy],tab_xy_scatter_data[[#This Row],[Position]])","v":65.518000000000001},{"$f":"IF(Control!$C$12,tab_xy_scatter_data[[#This Row],[Fertility Rate All]],NV())","v":5.173},{"$f":"IF(Control!$C$12,tab_xy_scatter_data[[#This Row],[Life Expectancy All]],NV())","v":65.518000000000001},{"$f":"IF(AND(Control!$C$6=tab_xy_scatter_data[[#This Row],[Region]],Control!$C$13),tab_xy_scatter_data[[#This Row],[Fertility Rate All]],NA())","v":{"$error":"#N/A"}},{"$f":"IF(AND(Control!$C$6=tab_xy_scatter_data[[#This Row],[Region]],Control!$C$13),tab_xy_scatter_data[[#This Row],[Life Expectancy All]],NA())","v":{"$error":"#N/A"}},{"$f":"INDEX(tab_data[Population],tab_xy_scatter_data[[#This Row],[Position]])","v":1509822}]
[null,"Papua New Guinea","Asia + Pacific",{"$f":"MATCH(tab_xy_scatter_data[[#This Row],[Country]]&\"|\"&Control!$C$9,tab_data[ID (Country|Year)],0)","v":8907},{"$f":"INDEX(tab_data[Fertility],tab_xy_scatter_data[[#This Row],[Position]])","v":6.1630000000000003},{"$f":"INDEX(tab_data[Life Expectancy],tab_xy_scatter_data[[#This Row],[Position]])","v":46.011000000000003},{"$f":"IF(Control!$C$12,tab_xy_scatter_data[[#This Row],[Fertility Rate All]],NV())","v":6.1630000000000003},{"$f":"IF(Control!$C$12,tab_xy_scatter_data[[#This Row],[Life Expectancy All]],NV())","v":46.011000000000003},{"$f":"IF(AND(Control!$C$6=tab_xy_scatter_data[[#This Row],[Region]],Control!$C$13),tab_xy_scatter_data[[#This Row],[Fertility Rate All]],NA())","v":{"$error":"#N/A"}},{"$f":"IF(AND(Control!$C$6=tab_xy_scatter_data[[#This Row],[Region]],Control!$C$13),tab_xy_scatter_data[[#This Row],[Life Expectancy All]],NA())","v":{"$error":"#N/A"}},{"$f":"INDEX(tab_data[Population],tab_xy_scatter_data[[#This Row],[Position]])","v":2434698}]
[null,"Paraguay","Latin America + Caribbean",{"$f":"MATCH(tab_xy_scatter_data[[#This Row],[Country]]&\"|\"&Control!$C$9,tab_data[ID (Country|Year)],0)","v":8971},{"$f":"INDEX(tab_data[Fertility],tab_xy_scatter_data[[#This Row],[Position]])","v":5.7389999999999999},{"$f":"INDEX(tab_data[Life Expectancy],tab_xy_scatter_data[[#This Row],[Position]])","v":65.486999999999995},{"$f":"IF(Control!$C$12,tab_xy_scatter_data[[#This Row],[Fertility Rate All]],NV())","v":5.7389999999999999},{"$f":"IF(Control!$C$12,tab_xy_scatter_data[[#This Row],[Life Expectancy All]],NV())","v":65.486999999999995},{"$f":"IF(AND(Control!$C$6=tab_xy_scatter_data[[#This Row],[Region]],Control!$C$13),tab_xy_scatter_data[[#This Row],[Fertility Rate All]],NA())","v":{"$error":"#N/A"}},{"$f":"IF(AND(Control!$C$6=tab_xy_scatter_data[[#This Row],[Region]],Control!$C$13),tab_xy_scatter_data[[#This Row],[Life Expectancy All]],NA())","v":{"$error":"#N/A"}},{"$f":"INDEX(tab_data[Population],tab_xy_scatter_data[[#This Row],[Position]])","v":2482508}]
[null,"Peru","Latin America + Caribbean",{"$f":"MATCH(tab_xy_scatter_data[[#This Row],[Country]]&\"|\"&Control!$C$9,tab_data[ID (Country|Year)],0)","v":9035},{"$f":"INDEX(tab_data[Fertility],tab_xy_scatter_data[[#This Row],[Position]])","v":6.3070000000000004},{"$f":"INDEX(tab_data[Life Expectancy],tab_xy_scatter_data[[#This Row],[Position]])","v":53.454999999999998},{"$f":"IF(Control!$C$12,tab_xy_scatter_data[[#This Row],[Fertility Rate All]],NV())","v":6.3070000000000004},{"$f":"IF(Control!$C$12,tab_xy_scatter_data[[#This Row],[Life Expectancy All]],NV())","v":53.454999999999998},{"$f":"IF(AND(Control!$C$6=tab_xy_scatter_data[[#This Row],[Region]],Control!$C$13),tab_xy_scatter_data[[#This Row],[Fertility Rate All]],NA())","v":{"$error":"#N/A"}},{"$f":"IF(AND(Control!$C$6=tab_xy_scatter_data[[#This Row],[Region]],Control!$C$13),tab_xy_scatter_data[[#This Row],[Life Expectancy All]],NA())","v":{"$error":"#N/A"}},{"$f":"INDEX(tab_data[Population],tab_xy_scatter_data[[#This Row],[Position]])","v":13187182}]
[null,"Philippines","Asia + Pacific",{"$f":"MATCH(tab_xy_scatter_data[[#This Row],[Country]]&\"|\"&Control!$C$9,tab_data[ID (Country|Year)],0)","v":9099},{"$f":"INDEX(tab_data[Fertility],tab_xy_scatter_data[[#This Row],[Position]])","v":6.2640000000000002},{"$f":"INDEX(tab_data[Life Expectancy],tab_xy_scatter_data[[#This Row],[Position]])","v":60.832000000000001},{"$f":"IF(Control!$C$12,tab_xy_scatter_data[[#This Row],[Fertility Rate All]],NV())","v":6.2640000000000002},{"$f":"IF(Control!$C$12,tab_xy_scatter_data[[#This Row],[Life Expectancy All]],NV())","v":60.832000000000001},{"$f":"IF(AND(Control!$C$6=tab_xy_scatter_data[[#This Row],[Region]],Control!$C$13),tab_xy_scatter_data[[#This Row],[Fertility Rate All]],NA())","v":{"$error":"#N/A"}},{"$f":"IF(AND(Control!$C$6=tab_xy_scatter_data[[#This Row],[Region]],Control!$C$13),tab_xy_scatter_data[[#This Row],[Life Expectancy All]],NA())","v":{"$error":"#N/A"}},{"$f":"INDEX(tab_data[Population],tab_xy_scatter_data[[#This Row],[Position]])","v":35451392}]
[null,"Poland","Europe",{"$f":"MATCH(tab_xy_scatter_data[[#This Row],[Country]]&\"|\"&Control!$C$9,tab_data[ID (Country|Year)],0)","v":9162},{"$f":"INDEX(tab_data[Fertility],tab_xy_scatter_data[[#This Row],[Position]])","v":2.2290000000000001},{"$f":"INDEX(tab_data[Life Expectancy],tab_xy_scatter_data[[#This Row],[Position]])","v":69.87},{"$f":"IF(Control!$C$12,tab_xy_scatter_data[[#This Row],[Fertility Rate All]],NV())","v":2.2290000000000001},{"$f":"IF(Control!$C$12,tab_xy_scatter_data[[#This Row],[Life Expectancy All]],NV())","v":69.87},{"$f":"IF(AND(Control!$C$6=tab_xy_scatter_data[[#This Row],[Region]],Control!$C$13),tab_xy_scatter_data[[#This Row],[Fertility Rate All]],NA())","v":2.2290000000000001},{"$f":"IF(AND(Control!$C$6=tab_xy_scatter_data[[#This Row],[Region]],Control!$C$13),tab_xy_scatter_data[[#This Row],[Life Expectancy All]],NA())","v":69.87},{"$f":"INDEX(tab_data[Population],tab_xy_scatter_data[[#This Row],[Position]])","v":32529022}]
[null,"Portugal","Europe",{"$f":"MATCH(tab_xy_scatter_data[[#This Row],[Country]]&\"|\"&Control!$C$9,tab_data[ID (Country|Year)],0)","v":9228},{"$f":"INDEX(tab_data[Fertility],tab_xy_scatter_data[[#This Row],[Position]])","v":2.9940000000000002},{"$f":"INDEX(tab_data[Life Expectancy],tab_xy_scatter_data[[#This Row],[Position]])","v":67.17},{"$f":"IF(Control!$C$12,tab_xy_scatter_data[[#This Row],[Fertility Rate All]],NV())","v":2.9940000000000002},{"$f":"IF(Control!$C$12,tab_xy_scatter_data[[#This Row],[Life Expectancy All]],NV())","v":67.17},{"$f":"IF(AND(Control!$C$6=tab_xy_scatter_data[[#This Row],[Region]],Control!$C$13),tab_xy_scatter_data[[#This Row],[Fertility Rate All]],NA())","v":2.9940000000000002},{"$f":"IF(AND(Control!$C$6=tab_xy_scatter_data[[#This Row],[Region]],Control!$C$13),tab_xy_scatter_data[[#This Row],[Life Expectancy All]],NA())","v":67.17},{"$f":"INDEX(tab_data[Population],tab_xy_scatter_data[[#This Row],[Position]])","v":8684237}]
[null,"Puerto Rico","Latin America + Caribbean",{"$f":"MATCH(tab_xy_scatter_data[[#This Row],[Country]]&\"|\"&Control!$C$9,tab_data[ID (Country|Year)],0)","v":9291},{"$f":"INDEX(tab_data[Fertility],tab_xy_scatter_data[[#This Row],[Position]])","v":3.1459999999999999},{"$f":"INDEX(tab_data[Life Expectancy],tab_xy_scatter_data[[#This Row],[Position]])","v":71.58},{"$f":"IF(Control!$C$12,tab_xy_scatter_data[[#This Row],[Fertility Rate All]],NV())","v":3.1459999999999999},{"$f":"IF(Control!$C$12,tab_xy_scatter_data[[#This Row],[Life Expectancy All]],NV())","v":71.58},{"$f":"IF(AND(Control!$C$6=tab_xy_scatter_data[[#This Row],[Region]],Control!$C$13),tab_xy_scatter_data[[#This Row],[Fertility Rate All]],NA())","v":{"$error":"#N/A"}},{"$f":"IF(AND(Control!$C$6=tab_xy_scatter_data[[#This Row],[Region]],Control!$C$13),tab_xy_scatter_data[[#This Row],[Life Expectancy All]],NA())","v":{"$error":"#N/A"}},{"$f":"INDEX(tab_data[Population],tab_xy_scatter_data[[#This Row],[Position]])","v":2715540}]
[null,"Qatar","West Asia",{"$f":"MATCH(tab_xy_scatter_data[[#This Row],[Country]]&\"|\"&Control!$C$9,tab_data[ID (Country|Year)],0)","v":9355},{"$f":"INDEX(tab_data[Fertility],tab_xy_scatter_data[[#This Row],[Position]])","v":6.9180000000000001},{"$f":"INDEX(tab_data[Life Expectancy],tab_xy_scatter_data[[#This Row],[Position]])","v":68.343000000000004},{"$f":"IF(Control!$C$12,tab_xy_scatter_data[[#This Row],[Fertility Rate All]],NV())","v":6.9180000000000001},{"$f":"IF(Control!$C$12,tab_xy_scatter_data[[#This Row],[Life Expectancy All]],NV())","v":68.343000000000004},{"$f":"IF(AND(Control!$C$6=tab_xy_scatter_data[[#This Row],[Region]],Control!$C$13),tab_xy_scatter_data[[#This Row],[Fertility Rate All]],NA())","v":{"$error":"#N/A"}},{"$f":"IF(AND(Control!$C$6=tab_xy_scatter_data[[#This Row],[Region]],Control!$C$13),tab_xy_scatter_data[[#This Row],[Life Expectancy All]],NA())","v":{"$error":"#N/A"}},{"$f":"INDEX(tab_data[Population],tab_xy_scatter_data[[#This Row],[Position]])","v":108401}]
[null,"Romania","Europe",{"$f":"MATCH(tab_xy_scatter_data[[#This Row],[Country]]&\"|\"&Control!$C$9,tab_data[ID (Country|Year)],0)","v":9419},{"$f":"INDEX(tab_data[Fertility],tab_xy_scatter_data[[#This Row],[Position]])","v":2.8672566371681398},{"$f":"INDEX(tab_data[Life Expectancy],tab_xy_scatter_data[[#This Row],[Position]])","v":68.131},{"$f":"IF(Control!$C$12,tab_xy_scatter_data[[#This Row],[Fertility Rate All]],NV())","v":2.8672566371681398},{"$f":"IF(Control!$C$12,tab_xy_scatter_data[[#This Row],[Life Expectancy All]],NV())","v":68.131},{"$f":"IF(AND(Control!$C$6=tab_xy_scatter_data[[#This Row],[Region]],Control!$C$13),tab_xy_scatter_data[[#This Row],[Fertility Rate All]],NA())","v":2.8672566371681398},{"$f":"IF(AND(Control!$C$6=tab_xy_scatter_data[[#This Row],[Region]],Control!$C$13),tab_xy_scatter_data[[#This Row],[Life Expectancy All]],NA())","v":68.131},{"$f":"INDEX(tab_data[Population],tab_xy_scatter_data[[#This Row],[Position]])","v":20252540}]
[null,"Russia","Europe",{"$f":"MATCH(tab_xy_scatter_data[[#This Row],[Country]]&\"|\"&Control!$C$9,tab_data[ID (Country|Year)],0)","v":9509},{"$f":"INDEX(tab_data[Fertility],tab_xy_scatter_data[[#This Row],[Position]])","v":1.9910000000000001},{"$f":"INDEX(tab_data[Life Expectancy],tab_xy_scatter_data[[#This Row],[Position]])","v":68.86},{"$f":"IF(Control!$C$12,tab_xy_scatter_data[[#This Row],[Fertility Rate All]],NV())","v":1.9910000000000001},{"$f":"IF(Control!$C$12,tab_xy_scatter_data[[#This Row],[Life Expectancy All]],NV())","v":68.86},{"$f":"IF(AND(Control!$C$6=tab_xy_scatter_data[[#This Row],[Region]],Control!$C$13),tab_xy_scatter_data[[#This Row],[Fertility Rate All]],NA())","v":1.9910000000000001},{"$f":"IF(AND(Control!$C$6=tab_xy_scatter_data[[#This Row],[Region]],Control!$C$13),tab_xy_scatter_data[[#This Row],[Life Expectancy All]],NA())","v":68.86},{"$f":"INDEX(tab_data[Population],tab_xy_scatter_data[[#This Row],[Position]])","v":130391798}]
[null,"Rwanda","Africa",{"$f":"MATCH(tab_xy_scatter_data[[#This Row],[Country]]&\"|\"&Control!$C$9,tab_data[ID (Country|Year)],0)","v":9552},{"$f":"INDEX(tab_data[Fertility],tab_xy_scatter_data[[#This Row],[Position]])","v":8.2309999999999999},{"$f":"INDEX(tab_data[Life Expectancy],tab_xy_scatter_data[[#This Row],[Position]])","v":44.402000000000001},{"$f":"IF(Control!$C$12,tab_xy_scatter_data[[#This Row],[Fertility Rate All]],NV())","v":8.2309999999999999},{"$f":"IF(Control!$C$12,tab_xy_scatter_data[[#This Row],[Life Expectancy All]],NV())","v":44.402000000000001},{"$f":"IF(AND(Control!$C$6=tab_xy_scatter_data[[#This Row],[Region]],Control!$C$13),tab_xy_scatter_data[[#This Row],[Fertility Rate All]],NA())","v":{"$error":"#N/A"}},{"$f":"IF(AND(Control!$C$6=tab_xy_scatter_data[[#This Row],[Region]],Control!$C$13),tab_xy_scatter_data[[#This Row],[Life Expectancy All]],NA())","v":{"$error":"#N/A"}},{"$f":"INDEX(tab_data[Population],tab_xy_scatter_data[[#This Row],[Position]])","v":3748672}]
[null,"Saint Lucia","Latin America + Caribbean",{"$f":"MATCH(tab_xy_scatter_data[[#This Row],[Country]]&\"|\"&Control!$C$9,tab_data[ID (Country|Year)],0)","v":9611},{"$f":"INDEX(tab_data[Fertility],tab_xy_scatter_data[[#This Row],[Position]])","v":6.101},{"$f":"INDEX(tab_data[Life Expectancy],tab_xy_scatter_data[[#This Row],[Position]])","v":63.017000000000003},{"$f":"IF(Control!$C$12,tab_xy_scatter_data[[#This Row],[Fertility Rate All]],NV())","v":6.101},{"$f":"IF(Control!$C$12,tab_xy_scatter_data[[#This Row],[Life Expectancy All]],NV())","v":63.017000000000003},{"$f":"IF(AND(Control!$C$6=tab_xy_scatter_data[[#This Row],[Region]],Control!$C$13),tab_xy_scatter_data[[#This Row],[Fertility Rate All]],NA())","v":{"$error":"#N/A"}},{"$f":"IF(AND(Control!$C$6=tab_xy_scatter_data[[#This Row],[Region]],Control!$C$13),tab_xy_scatter_data[[#This Row],[Life Expectancy All]],NA())","v":{"$error":"#N/A"}},{"$f":"INDEX(tab_data[Population],tab_xy_scatter_data[[#This Row],[Position]])","v":104101}]
[null,"Saint Vincent and the Grenadines","Latin America + Caribbean",{"$f":"MATCH(tab_xy_scatter_data[[#This Row],[Country]]&\"|\"&Control!$C$9,tab_data[ID (Country|Year)],0)","v":9675},{"$f":"INDEX(tab_data[Fertility],tab_xy_scatter_data[[#This Row],[Position]])","v":6.0140000000000002},{"$f":"INDEX(tab_data[Life Expectancy],tab_xy_scatter_data[[#This Row],[Position]])","v":65.100999999999999},{"$f":"IF(Control!$C$12,tab_xy_scatter_data[[#This Row],[Fertility Rate All]],NV())","v":6.0140000000000002},{"$f":"IF(Control!$C$12,tab_xy_scatter_data[[#This Row],[Life Expectancy All]],NV())","v":65.100999999999999},{"$f":"IF(AND(Control!$C$6=tab_xy_scatter_data[[#This Row],[Region]],Control!$C$13),tab_xy_scatter_data[[#This Row],[Fertility Rate All]],NA())","v":{"$error":"#N/A"}},{"$f":"IF(AND(Control!$C$6=tab_xy_scatter_data[[#This Row],[Region]],Control!$C$13),tab_xy_scatter_data[[#This Row],[Life Expectancy All]],NA())","v":{"$error":"#N/A"}},{"$f":"INDEX(tab_data[Population],tab_xy_scatter_data[[#This Row],[Position]])","v":90465}]
[null,"Samoa","Asia + Pacific",{"$f":"MATCH(tab_xy_scatter_data[[#This Row],[Country]]&\"|\"&Control!$C$9,tab_data[ID (Country|Year)],0)","v":9739},{"$f":"INDEX(tab_data[Fertility],tab_xy_scatter_data[[#This Row],[Position]])","v":7.194},{"$f":"INDEX(tab_data[Life Expectancy],tab_xy_scatter_data[[#This Row],[Position]])","v":54.777000000000001},{"$f":"IF(Control!$C$12,tab_xy_scatter_data[[#This Row],[Fertility Rate All]],NV())","v":7.194},{"$f":"IF(Control!$C$12,tab_xy_scatter_data[[#This Row],[Life Expectancy All]],NV())","v":54.777000000000001},{"$f":"IF(AND(Control!$C$6=tab_xy_scatter_data[[#This Row],[Region]],Control!$C$13),tab_xy_scatter_data[[#This Row],[Fertility Rate All]],NA())","v":{"$error":"#N/A"}},{"$f":"IF(AND(Control!$C$6=tab_xy_scatter_data[[#This Row],[Region]],Control!$C$13),tab_xy_scatter_data[[#This Row],[Life Expectancy All]],NA())","v":{"$error":"#N/A"}},{"$f":"INDEX(tab_data[Population],tab_xy_scatter_data[[#This Row],[Position]])","v":142354}]
[null,"Sao Tome and Principe","Africa",{"$f":"MATCH(tab_xy_scatter_data[[#This Row],[Country]]&\"|\"&Control!$C$9,tab_data[ID (Country|Year)],0)","v":9803},{"$f":"INDEX(tab_data[Fertility],tab_xy_scatter_data[[#This Row],[Position]])","v":6.468},{"$f":"INDEX(tab_data[Life Expectancy],tab_xy_scatter_data[[#This Row],[Position]])","v":55.859000000000002},{"$f":"IF(Control!$C$12,tab_xy_scatter_data[[#This Row],[Fertility Rate All]],NV())","v":6.468},{"$f":"IF(Control!$C$12,tab_xy_scatter_data[[#This Row],[Life Expectancy All]],NV())","v":55.859000000000002},{"$f":"IF(AND(Control!$C$6=tab_xy_scatter_data[[#This Row],[Region]],Control!$C$13),tab_xy_scatter_data[[#This Row],[Fertility Rate All]],NA())","v":{"$error":"#N/A"}},{"$f":"IF(AND(Control!$C$6=tab_xy_scatter_data[[#This Row],[Region]],Control!$C$13),tab_xy_scatter_data[[#This Row],[Life Expectancy All]],NA())","v":{"$error":"#N/A"}},{"$f":"INDEX(tab_data[Population],tab_xy_scatter_data[[#This Row],[Position]])","v":73630}]
[null,"Saudi Arabia","West Asia",{"$f":"MATCH(tab_xy_scatter_data[[#This Row],[Country]]&\"|\"&Control!$C$9,tab_data[ID (Country|Year)],0)","v":9867},{"$f":"INDEX(tab_data[Fertility],tab_xy_scatter_data[[#This Row],[Position]])","v":7.28},{"$f":"INDEX(tab_data[Life Expectancy],tab_xy_scatter_data[[#This Row],[Position]])","v":52.692},{"$f":"IF(Control!$C$12,tab_xy_scatter_data[[#This Row],[Fertility Rate All]],NV())","v":7.28},{"$f":"IF(Control!$C$12,tab_xy_scatter_data[[#This Row],[Life Expectancy All]],NV())","v":52.692},{"$f":"IF(AND(Control!$C$6=tab_xy_scatter_data[[#This Row],[Region]],Control!$C$13),tab_xy_scatter_data[[#This Row],[Fertility Rate All]],NA())","v":{"$error":"#N/A"}},{"$f":"IF(AND(Control!$C$6=tab_xy_scatter_data[[#This Row],[Region]],Control!$C$13),tab_xy_scatter_data[[#This Row],[Life Expectancy All]],NA())","v":{"$error":"#N/A"}},{"$f":"INDEX(tab_data[Population],tab_xy_scatter_data[[#This Row],[Position]])","v":5771846}]
[null,"Senegal","Africa",{"$f":"MATCH(tab_xy_scatter_data[[#This Row],[Country]]&\"|\"&Control!$C$9,tab_data[ID (Country|Year)],0)","v":9931},{"$f":"INDEX(tab_data[Fertility],tab_xy_scatter_data[[#This Row],[Position]])","v":7.3390000000000004},{"$f":"INDEX(tab_data[Life Expectancy],tab_xy_scatter_data[[#This Row],[Position]])","v":39.226999999999997},{"$f":"IF(Control!$C$12,tab_xy_scatter_data[[#This Row],[Fertility Rate All]],NV())","v":7.3390000000000004},{"$f":"IF(Control!$C$12,tab_xy_scatter_data[[#This Row],[Life Expectancy All]],NV())","v":39.226999999999997},{"$f":"IF(AND(Control!$C$6=tab_xy_scatter_data[[#This Row],[Region]],Control!$C$13),tab_xy_scatter_data[[#This Row],[Fertility Rate All]],NA())","v":{"$error":"#N/A"}},{"$f":"IF(AND(Control!$C$6=tab_xy_scatter_data[[#This Row],[Region]],Control!$C$13),tab_xy_scatter_data[[#This Row],[Life Expectancy All]],NA())","v":{"$error":"#N/A"}},{"$f":"INDEX(tab_data[Population],tab_xy_scatter_data[[#This Row],[Position]])","v":4096245}]
[null,"Serbia","Europe",{"$f":"MATCH(tab_xy_scatter_data[[#This Row],[Country]]&\"|\"&Control!$C$9,tab_data[ID (Country|Year)],0)","v":9995},{"$f":"INDEX(tab_data[Fertility],tab_xy_scatter_data[[#This Row],[Position]])","v":2.3839999999999999},{"$f":"INDEX(tab_data[Life Expectancy],tab_xy_scatter_data[[#This Row],[Position]])","v":67.738},{"$f":"IF(Control!$C$12,tab_xy_scatter_data[[#This Row],[Fertility Rate All]],NV())","v":2.3839999999999999},{"$f":"IF(Control!$C$12,tab_xy_scatter_data[[#This Row],[Life Expectancy All]],NV())","v":67.738},{"$f":"IF(AND(Control!$C$6=tab_xy_scatter_data[[#This Row],[Region]],Control!$C$13),tab_xy_scatter_data[[#This Row],[Fertility Rate All]],NA())","v":2.3839999999999999},{"$f":"IF(AND(Control!$C$6=tab_xy_scatter_data[[#This Row],[Region]],Control!$C$13),tab_xy_scatter_data[[#This Row],[Life Expectancy All]],NA())","v":67.738},{"$f":"INDEX(tab_data[Population],tab_xy_scatter_data[[#This Row],[Position]])","v":8172645}]
[null,"Seychelles","Africa",{"$f":"MATCH(tab_xy_scatter_data[[#This Row],[Country]]&\"|\"&Control!$C$9,tab_data[ID (Country|Year)],0)","v":10059},{"$f":"INDEX(tab_data[Fertility],tab_xy_scatter_data[[#This Row],[Position]])","v":5.7610000000000001},{"$f":"INDEX(tab_data[Life Expectancy],tab_xy_scatter_data[[#This Row],[Position]])","v":65.673000000000002},{"$f":"IF(Control!$C$12,tab_xy_scatter_data[[#This Row],[Fertility Rate All]],NV())","v":5.7610000000000001},{"$f":"IF(Control!$C$12,tab_xy_scatter_data[[#This Row],[Life Expectancy All]],NV())","v":65.673000000000002},{"$f":"IF(AND(Control!$C$6=tab_xy_scatter_data[[#This Row],[Region]],Control!$C$13),tab_xy_scatter_data[[#This Row],[Fertility Rate All]],NA())","v":{"$error":"#N/A"}},{"$f":"IF(AND(Control!$C$6=tab_xy_scatter_data[[#This Row],[Region]],Control!$C$13),tab_xy_scatter_data[[#This Row],[Life Expectancy All]],NA())","v":{"$error":"#N/A"}},{"$f":"INDEX(tab_data[Population],tab_xy_scatter_data[[#This Row],[Position]])","v":51659}]
[null,"Sierra Leone","Africa",{"$f":"MATCH(tab_xy_scatter_data[[#This Row],[Country]]&\"|\"&Control!$C$9,tab_data[ID (Country|Year)],0)","v":10123},{"$f":"INDEX(tab_data[Fertility],tab_xy_scatter_data[[#This Row],[Position]])","v":6.6970000000000001},{"$f":"INDEX(tab_data[Life Expectancy],tab_xy_scatter_data[[#This Row],[Position]])","v":34.600999999999999},{"$f":"IF(Control!$C$12,tab_xy_scatter_data[[#This Row],[Fertility Rate All]],NV())","v":6.6970000000000001},{"$f":"IF(Control!$C$12,tab_xy_scatter_data[[#This Row],[Life Expectancy All]],NV())","v":34.600999999999999},{"$f":"IF(AND(Control!$C$6=tab_xy_scatter_data[[#This Row],[Region]],Control!$C$13),tab_xy_scatter_data[[#This Row],[Fertility Rate All]],NA())","v":{"$error":"#N/A"}},{"$f":"IF(AND(Control!$C$6=tab_xy_scatter_data[[#This Row],[Region]],Control!$C$13),tab_xy_scatter_data[[#This Row],[Life Expectancy All]],NA())","v":{"$error":"#N/A"}},{"$f":"INDEX(tab_data[Population],tab_xy_scatter_data[[#This Row],[Position]])","v":2593123}]
[null,"Singapore","Asia + Pacific",{"$f":"MATCH(tab_xy_scatter_data[[#This Row],[Country]]&\"|\"&Control!$C$9,tab_data[ID (Country|Year)],0)","v":10187},{"$f":"INDEX(tab_data[Fertility],tab_xy_scatter_data[[#This Row],[Position]])","v":3.19},{"$f":"INDEX(tab_data[Life Expectancy],tab_xy_scatter_data[[#This Row],[Position]])","v":68.087999999999994},{"$f":"IF(Control!$C$12,tab_xy_scatter_data[[#This Row],[Fertility Rate All]],NV())","v":3.19},{"$f":"IF(Control!$C$12,tab_xy_scatter_data[[#This Row],[Life Expectancy All]],NV())","v":68.087999999999994},{"$f":"IF(AND(Control!$C$6=tab_xy_scatter_data[[#This Row],[Region]],Control!$C$13),tab_xy_scatter_data[[#This Row],[Fertility Rate All]],NA())","v":{"$error":"#N/A"}},{"$f":"IF(AND(Control!$C$6=tab_xy_scatter_data[[#This Row],[Region]],Control!$C$13),tab_xy_scatter_data[[#This Row],[Life Expectancy All]],NA())","v":{"$error":"#N/A"}},{"$f":"INDEX(tab_data[Population],tab_xy_scatter_data[[#This Row],[Position]])","v":2074099}]
[null,"Slovakia","Europe",{"$f":"MATCH(tab_xy_scatter_data[[#This Row],[Country]]&\"|\"&Control!$C$9,tab_data[ID (Country|Year)],0)","v":10241},{"$f":"INDEX(tab_data[Fertility],tab_xy_scatter_data[[#This Row],[Position]])","v":2.4990000000000001},{"$f":"INDEX(tab_data[Life Expectancy],tab_xy_scatter_data[[#This Row],[Position]])","v":69.739999999999995},{"$f":"IF(Control!$C$12,tab_xy_scatter_data[[#This Row],[Fertility Rate All]],NV())","v":2.4990000000000001},{"$f":"IF(Control!$C$12,tab_xy_scatter_data[[#This Row],[Life Expectancy All]],NV())","v":69.739999999999995},{"$f":"IF(AND(Control!$C$6=tab_xy_scatter_data[[#This Row],[Region]],Control!$C$13),tab_xy_scatter_data[[#This Row],[Fertility Rate All]],NA())","v":2.4990000000000001},{"$f":"IF(AND(Control!$C$6=tab_xy_scatter_data[[#This Row],[Region]],Control!$C$13),tab_xy_scatter_data[[#This Row],[Life Expectancy All]],NA())","v":69.739999999999995},{"$f":"INDEX(tab_data[Population],tab_xy_scatter_data[[#This Row],[Position]])","v":4509366}]
[null,"Slovenia","Europe",{"$f":"MATCH(tab_xy_scatter_data[[#This Row],[Country]]&\"|\"&Control!$C$9,tab_data[ID (Country|Year)],0)","v":10315},{"$f":"INDEX(tab_data[Fertility],tab_xy_scatter_data[[#This Row],[Position]])","v":2.2730000000000001},{"$f":"INDEX(tab_data[Life Expectancy],tab_xy_scatter_data[[#This Row],[Position]])","v":69.421000000000006},{"$f":"IF(Control!$C$12,tab_xy_scatter_data[[#This Row],[Fertility Rate All]],NV())","v":2.2730000000000001},{"$f":"IF(Control!$C$12,tab_xy_scatter_data[[#This Row],[Life Expectancy All]],NV())","v":69.421000000000006},{"$f":"IF(AND(Control!$C$6=tab_xy_scatter_data[[#This Row],[Region]],Control!$C$13),tab_xy_scatter_data[[#This Row],[Fertility Rate All]],NA())","v":2.2730000000000001},{"$f":"IF(AND(Control!$C$6=tab_xy_scatter_data[[#This Row],[Region]],Control!$C$13),tab_xy_scatter_data[[#This Row],[Life Expectancy All]],NA())","v":69.421000000000006},{"$f":"INDEX(tab_data[Population],tab_xy_scatter_data[[#This Row],[Position]])","v":1669731}]
[null,"Solomon Islands","Asia + Pacific",{"$f":"MATCH(tab_xy_scatter_data[[#This Row],[Country]]&\"|\"&Control!$C$9,tab_data[ID (Country|Year)],0)","v":10379},{"$f":"INDEX(tab_data[Fertility],tab_xy_scatter_data[[#This Row],[Position]])","v":6.9139999999999997},{"$f":"INDEX(tab_data[Life Expectancy],tab_xy_scatter_data[[#This Row],[Position]])","v":54.253},{"$f":"IF(Control!$C$12,tab_xy_scatter_data[[#This Row],[Fertility Rate All]],NV())","v":6.9139999999999997},{"$f":"IF(Control!$C$12,tab_xy_scatter_data[[#This Row],[Life Expectancy All]],NV())","v":54.253},{"$f":"IF(AND(Control!$C$6=tab_xy_scatter_data[[#This Row],[Region]],Control!$C$13),tab_xy_scatter_data[[#This Row],[Fertility Rate All]],NA())","v":{"$error":"#N/A"}},{"$f":"IF(AND(Control!$C$6=tab_xy_scatter_data[[#This Row],[Region]],Control!$C$13),tab_xy_scatter_data[[#This Row],[Life Expectancy All]],NA())","v":{"$error":"#N/A"}},{"$f":"INDEX(tab_data[Population],tab_xy_scatter_data[[#This Row],[Position]])","v":160256}]
[null,"Somalia","Africa",{"$f":"MATCH(tab_xy_scatter_data[[#This Row],[Country]]&\"|\"&Control!$C$9,tab_data[ID (Country|Year)],0)","v":10443},{"$f":"INDEX(tab_data[Fertility],tab_xy_scatter_data[[#This Row],[Position]])","v":7.1820000000000004},{"$f":"INDEX(tab_data[Life Expectancy],tab_xy_scatter_data[[#This Row],[Position]])","v":40.957999999999998},{"$f":"IF(Control!$C$12,tab_xy_scatter_data[[#This Row],[Fertility Rate All]],NV())","v":7.1820000000000004},{"$f":"IF(Control!$C$12,tab_xy_scatter_data[[#This Row],[Life Expectancy All]],NV())","v":40.957999999999998},{"$f":"IF(AND(Control!$C$6=tab_xy_scatter_data[[#This Row],[Region]],Control!$C$13),tab_xy_scatter_data[[#This Row],[Fertility Rate All]],NA())","v":{"$error":"#N/A"}},{"$f":"IF(AND(Control!$C$6=tab_xy_scatter_data[[#This Row],[Region]],Control!$C$13),tab_xy_scatter_data[[#This Row],[Life Expectancy All]],NA())","v":{"$error":"#N/A"}},{"$f":"INDEX(tab_data[Population],tab_xy_scatter_data[[#This Row],[Position]])","v":3601206}]
[null,"South Africa","Africa",{"$f":"MATCH(tab_xy_scatter_data[[#This Row],[Country]]&\"|\"&Control!$C$9,tab_data[ID (Country|Year)],0)","v":10513},{"$f":"INDEX(tab_data[Fertility],tab_xy_scatter_data[[#This Row],[Position]])","v":5.5910000000000002},{"$f":"INDEX(tab_data[Life Expectancy],tab_xy_scatter_data[[#This Row],[Position]])","v":52.825000000000003},{"$f":"IF(Control!$C$12,tab_xy_scatter_data[[#This Row],[Fertility Rate All]],NV())","v":5.5910000000000002},{"$f":"IF(Control!$C$12,tab_xy_scatter_data[[#This Row],[Life Expectancy All]],NV())","v":52.825000000000003},{"$f":"IF(AND(Control!$C$6=tab_xy_scatter_data[[#This Row],[Region]],Control!$C$13),tab_xy_scatter_data[[#This Row],[Fertility Rate All]],NA())","v":{"$error":"#N/A"}},{"$f":"IF(AND(Control!$C$6=tab_xy_scatter_data[[#This Row],[Region]],Control!$C$13),tab_xy_scatter_data[[#This Row],[Life Expectancy All]],NA())","v":{"$error":"#N/A"}},{"$f":"INDEX(tab_data[Population],tab_xy_scatter_data[[#This Row],[Position]])","v":22502306}]
[null,"South Sudan","Africa",{"$f":"MATCH(tab_xy_scatter_data[[#This Row],[Country]]&\"|\"&Control!$C$9,tab_data[ID (Country|Year)],0)","v":10571},{"$f":"INDEX(tab_data[Fertility],tab_xy_scatter_data[[#This Row],[Position]])","v":6.8810000000000002},{"$f":"INDEX(tab_data[Life Expectancy],tab_xy_scatter_data[[#This Row],[Position]])","v":35.792999999999999},{"$f":"IF(Control!$C$12,tab_xy_scatter_data[[#This Row],[Fertility Rate All]],NV())","v":6.8810000000000002},{"$f":"IF(Control!$C$12,tab_xy_scatter_data[[#This Row],[Life Expectancy All]],NV())","v":35.792999999999999},{"$f":"IF(AND(Control!$C$6=tab_xy_scatter_data[[#This Row],[Region]],Control!$C$13),tab_xy_scatter_data[[#This Row],[Fertility Rate All]],NA())","v":{"$error":"#N/A"}},{"$f":"IF(AND(Control!$C$6=tab_xy_scatter_data[[#This Row],[Region]],Control!$C$13),tab_xy_scatter_data[[#This Row],[Life Expectancy All]],NA())","v":{"$error":"#N/A"}},{"$f":"INDEX(tab_data[Population],tab_xy_scatter_data[[#This Row],[Position]])","v":3020949}]
[null,"Spain","Europe",{"$f":"MATCH(tab_xy_scatter_data[[#This Row],[Country]]&\"|\"&Control!$C$9,tab_data[ID (Country|Year)],0)","v":10636},{"$f":"INDEX(tab_data[Fertility],tab_xy_scatter_data[[#This Row],[Position]])","v":2.8719999999999999},{"$f":"INDEX(tab_data[Life Expectancy],tab_xy_scatter_data[[#This Row],[Position]])","v":72.239999999999995},{"$f":"IF(Control!$C$12,tab_xy_scatter_data[[#This Row],[Fertility Rate All]],NV())","v":2.8719999999999999},{"$f":"IF(Control!$C$12,tab_xy_scatter_data[[#This Row],[Life Expectancy All]],NV())","v":72.239999999999995},{"$f":"IF(AND(Control!$C$6=tab_xy_scatter_data[[#This Row],[Region]],Control!$C$13),tab_xy_scatter_data[[#This Row],[Fertility Rate All]],NA())","v":2.8719999999999999},{"$f":"IF(AND(Control!$C$6=tab_xy_scatter_data[[#This Row],[Region]],Control!$C$13),tab_xy_scatter_data[[#This Row],[Life Expectancy All]],NA())","v":72.239999999999995},{"$f":"INDEX(tab_data[Population],tab_xy_scatter_data[[#This Row],[Position]])","v":33791761}]
[null,"Sri Lanka","Asia + Pacific",{"$f":"MATCH(tab_xy_scatter_data[[#This Row],[Country]]&\"|\"&Control!$C$9,tab_data[ID (Country|Year)],0)","v":10699},{"$f":"INDEX(tab_data[Fertility],tab_xy_scatter_data[[#This Row],[Position]])","v":4.3419999999999996},{"$f":"INDEX(tab_data[Life Expectancy],tab_xy_scatter_data[[#This Row],[Position]])","v":64.114000000000004},{"$f":"IF(Control!$C$12,tab_xy_scatter_data[[#This Row],[Fertility Rate All]],NV())","v":4.3419999999999996},{"$f":"IF(Control!$C$12,tab_xy_scatter_data[[#This Row],[Life Expectancy All]],NV())","v":64.114000000000004},{"$f":"IF(AND(Control!$C$6=tab_xy_scatter_data[[#This Row],[Region]],Control!$C$13),tab_xy_scatter_data[[#This Row],[Fertility Rate All]],NA())","v":{"$error":"#N/A"}},{"$f":"IF(AND(Control!$C$6=tab_xy_scatter_data[[#This Row],[Region]],Control!$C$13),tab_xy_scatter_data[[#This Row],[Life Expectancy All]],NA())","v":{"$error":"#N/A"}},{"$f":"INDEX(tab_data[Population],tab_xy_scatter_data[[#This Row],[Position]])","v":12554583}]
[null,"Sudan","Africa",{"$f":"MATCH(tab_xy_scatter_data[[#This Row],[Country]]&\"|\"&Control!$C$9,tab_data[ID (Country|Year)],0)","v":10763},{"$f":"INDEX(tab_data[Fertility],tab_xy_scatter_data[[#This Row],[Position]])","v":6.8879999999999999},{"$f":"INDEX(tab_data[Life Expectancy],tab_xy_scatter_data[[#This Row],[Position]])","v":52.231000000000002},{"$f":"IF(Control!$C$12,tab_xy_scatter_data[[#This Row],[Fertility Rate All]],NV())","v":6.8879999999999999},{"$f":"IF(Control!$C$12,tab_xy_scatter_data[[#This Row],[Life Expectancy All]],NV())","v":52.231000000000002},{"$f":"IF(AND(Control!$C$6=tab_xy_scatter_data[[#This Row],[Region]],Control!$C$13),tab_xy_scatter_data[[#This Row],[Fertility Rate All]],NA())","v":{"$error":"#N/A"}},{"$f":"IF(AND(Control!$C$6=tab_xy_scatter_data[[#This Row],[Region]],Control!$C$13),tab_xy_scatter_data[[#This Row],[Life Expectancy All]],NA())","v":{"$error":"#N/A"}},{"$f":"INDEX(tab_data[Population],tab_xy_scatter_data[[#This Row],[Position]])","v":11744590}]
[null,"Suriname","Latin America + Caribbean",{"$f":"MATCH(tab_xy_scatter_data[[#This Row],[Country]]&\"|\"&Control!$C$9,tab_data[ID (Country|Year)],0)","v":10827},{"$f":"INDEX(tab_data[Fertility],tab_xy_scatter_data[[#This Row],[Position]])","v":5.6529999999999996},{"$f":"INDEX(tab_data[Life Expectancy],tab_xy_scatter_data[[#This Row],[Position]])","v":63.268000000000001},{"$f":"IF(Control!$C$12,tab_xy_scatter_data[[#This Row],[Fertility Rate All]],NV())","v":5.6529999999999996},{"$f":"IF(Control!$C$12,tab_xy_scatter_data[[#This Row],[Life Expectancy All]],NV())","v":63.268000000000001},{"$f":"IF(AND(Control!$C$6=tab_xy_scatter_data[[#This Row],[Region]],Control!$C$13),tab_xy_scatter_data[[#This Row],[Fertility Rate All]],NA())","v":{"$error":"#N/A"}},{"$f":"IF(AND(Control!$C$6=tab_xy_scatter_data[[#This Row],[Region]],Control!$C$13),tab_xy_scatter_data[[#This Row],[Life Expectancy All]],NA())","v":{"$error":"#N/A"}},{"$f":"INDEX(tab_data[Population],tab_xy_scatter_data[[#This Row],[Position]])","v":372297}]
[null,"Swaziland","Africa",{"$f":"MATCH(tab_xy_scatter_data[[#This Row],[Country]]&\"|\"&Control!$C$9,tab_data[ID (Country|Year)],0)","v":10900},{"$f":"INDEX(tab_data[Fertility],tab_xy_scatter_data[[#This Row],[Position]])","v":6.875},{"$f":"INDEX(tab_data[Life Expectancy],tab_xy_scatter_data[[#This Row],[Position]])","v":48.045000000000002},{"$f":"IF(Control!$C$12,tab_xy_scatter_data[[#This Row],[Fertility Rate All]],NV())","v":6.875},{"$f":"IF(Control!$C$12,tab_xy_scatter_data[[#This Row],[Life Expectancy All]],NV())","v":48.045000000000002},{"$f":"IF(AND(Control!$C$6=tab_xy_scatter_data[[#This Row],[Region]],Control!$C$13),tab_xy_scatter_data[[#This Row],[Fertility Rate All]],NA())","v":{"$error":"#N/A"}},{"$f":"IF(AND(Control!$C$6=tab_xy_scatter_data[[#This Row],[Region]],Control!$C$13),tab_xy_scatter_data[[#This Row],[Life Expectancy All]],NA())","v":{"$error":"#N/A"}},{"$f":"INDEX(tab_data[Population],tab_xy_scatter_data[[#This Row],[Position]])","v":445735}]
[null,"Sweden","Europe",{"$f":"MATCH(tab_xy_scatter_data[[#This Row],[Country]]&\"|\"&Control!$C$9,tab_data[ID (Country|Year)],0)","v":10956},{"$f":"INDEX(tab_data[Fertility],tab_xy_scatter_data[[#This Row],[Position]])","v":1.919},{"$f":"INDEX(tab_data[Life Expectancy],tab_xy_scatter_data[[#This Row],[Position]])","v":74.7},{"$f":"IF(Control!$C$12,tab_xy_scatter_data[[#This Row],[Fertility Rate All]],NV())","v":1.919},{"$f":"IF(Control!$C$12,tab_xy_scatter_data[[#This Row],[Life Expectancy All]],NV())","v":74.7},{"$f":"IF(AND(Control!$C$6=tab_xy_scatter_data[[#This Row],[Region]],Control!$C$13),tab_xy_scatter_data[[#This Row],[Fertility Rate All]],NA())","v":1.919},{"$f":"IF(AND(Control!$C$6=tab_xy_scatter_data[[#This Row],[Region]],Control!$C$13),tab_xy_scatter_data[[#This Row],[Life Expectancy All]],NA())","v":74.7},{"$f":"INDEX(tab_data[Population],tab_xy_scatter_data[[#This Row],[Position]])","v":8042839}]
[null,"Switzerland","Europe",{"$f":"MATCH(tab_xy_scatter_data[[#This Row],[Country]]&\"|\"&Control!$C$9,tab_data[ID (Country|Year)],0)","v":11019},{"$f":"INDEX(tab_data[Fertility],tab_xy_scatter_data[[#This Row],[Position]])","v":2.121},{"$f":"INDEX(tab_data[Life Expectancy],tab_xy_scatter_data[[#This Row],[Position]])","v":73.14},{"$f":"IF(Control!$C$12,tab_xy_scatter_data[[#This Row],[Fertility Rate All]],NV())","v":2.121},{"$f":"IF(Control!$C$12,tab_xy_scatter_data[[#This Row],[Life Expectancy All]],NV())","v":73.14},{"$f":"IF(AND(Control!$C$6=tab_xy_scatter_data[[#This Row],[Region]],Control!$C$13),tab_xy_scatter_data[[#This Row],[Fertility Rate All]],NA())","v":2.121},{"$f":"IF(AND(Control!$C$6=tab_xy_scatter_data[[#This Row],[Region]],Control!$C$13),tab_xy_scatter_data[[#This Row],[Life Expectancy All]],NA())","v":73.14},{"$f":"INDEX(tab_data[Population],tab_xy_scatter_data[[#This Row],[Position]])","v":6169124}]
[null,"Syria","West Asia",{"$f":"MATCH(tab_xy_scatter_data[[#This Row],[Country]]&\"|\"&Control!$C$9,tab_data[ID (Country|Year)],0)","v":11083},{"$f":"INDEX(tab_data[Fertility],tab_xy_scatter_data[[#This Row],[Position]])","v":7.5720000000000001},{"$f":"INDEX(tab_data[Life Expectancy],tab_xy_scatter_data[[#This Row],[Position]])","v":59.164000000000001},{"$f":"IF(Control!$C$12,tab_xy_scatter_data[[#This Row],[Fertility Rate All]],NV())","v":7.5720000000000001},{"$f":"IF(Control!$C$12,tab_xy_scatter_data[[#This Row],[Life Expectancy All]],NV())","v":59.164000000000001},{"$f":"IF(AND(Control!$C$6=tab_xy_scatter_data[[#This Row],[Region]],Control!$C$13),tab_xy_scatter_data[[#This Row],[Fertility Rate All]],NA())","v":{"$error":"#N/A"}},{"$f":"IF(AND(Control!$C$6=tab_xy_scatter_data[[#This Row],[Region]],Control!$C$13),tab_xy_scatter_data[[#This Row],[Life Expectancy All]],NA())","v":{"$error":"#N/A"}},{"$f":"INDEX(tab_data[Population],tab_xy_scatter_data[[#This Row],[Position]])","v":6368017}]
[null,"Taiwan","Asia + Pacific",{"$f":"MATCH(tab_xy_scatter_data[[#This Row],[Country]]&\"|\"&Control!$C$9,tab_data[ID (Country|Year)],0)","v":11147},{"$f":"INDEX(tab_data[Fertility],tab_xy_scatter_data[[#This Row],[Position]])","v":4.82},{"$f":"INDEX(tab_data[Life Expectancy],tab_xy_scatter_data[[#This Row],[Position]])","v":67.400000000000006},{"$f":"IF(Control!$C$12,tab_xy_scatter_data[[#This Row],[Fertility Rate All]],NV())","v":4.82},{"$f":"IF(Control!$C$12,tab_xy_scatter_data[[#This Row],[Life Expectancy All]],NV())","v":67.400000000000006},{"$f":"IF(AND(Control!$C$6=tab_xy_scatter_data[[#This Row],[Region]],Control!$C$13),tab_xy_scatter_data[[#This Row],[Fertility Rate All]],NA())","v":{"$error":"#N/A"}},{"$f":"IF(AND(Control!$C$6=tab_xy_scatter_data[[#This Row],[Region]],Control!$C$13),tab_xy_scatter_data[[#This Row],[Life Expectancy All]],NA())","v":{"$error":"#N/A"}},{"$f":"INDEX(tab_data[Population],tab_xy_scatter_data[[#This Row],[Position]])","v":13321000}]
[null,"Tajikistan","Asia + Pacific",{"$f":"MATCH(tab_xy_scatter_data[[#This Row],[Country]]&\"|\"&Control!$C$9,tab_data[ID (Country|Year)],0)","v":11211},{"$f":"INDEX(tab_data[Fertility],tab_xy_scatter_data[[#This Row],[Position]])","v":6.8780000000000001},{"$f":"INDEX(tab_data[Life Expectancy],tab_xy_scatter_data[[#This Row],[Position]])","v":60.127000000000002},{"$f":"IF(Control!$C$12,tab_xy_scatter_data[[#This Row],[Fertility Rate All]],NV())","v":6.8780000000000001},{"$f":"IF(Control!$C$12,tab_xy_scatter_data[[#This Row],[Life Expectancy All]],NV())","v":60.127000000000002},{"$f":"IF(AND(Control!$C$6=tab_xy_scatter_data[[#This Row],[Region]],Control!$C$13),tab_xy_scatter_data[[#This Row],[Fertility Rate All]],NA())","v":{"$error":"#N/A"}},{"$f":"IF(AND(Control!$C$6=tab_xy_scatter_data[[#This Row],[Region]],Control!$C$13),tab_xy_scatter_data[[#This Row],[Life Expectancy All]],NA())","v":{"$error":"#N/A"}},{"$f":"INDEX(tab_data[Population],tab_xy_scatter_data[[#This Row],[Position]])","v":2941501}]
[null,"Tanzania","Africa",{"$f":"MATCH(tab_xy_scatter_data[[#This Row],[Country]]&\"|\"&Control!$C$9,tab_data[ID (Country|Year)],0)","v":11275},{"$f":"INDEX(tab_data[Fertility],tab_xy_scatter_data[[#This Row],[Position]])","v":6.7709999999999999},{"$f":"INDEX(tab_data[Life Expectancy],tab_xy_scatter_data[[#This Row],[Position]])","v":46.713999999999999},{"$f":"IF(Control!$C$12,tab_xy_scatter_data[[#This Row],[Fertility Rate All]],NV())","v":6.7709999999999999},{"$f":"IF(Control!$C$12,tab_xy_scatter_data[[#This Row],[Life Expectancy All]],NV())","v":46.713999999999999},{"$f":"IF(AND(Control!$C$6=tab_xy_scatter_data[[#This Row],[Region]],Control!$C$13),tab_xy_scatter_data[[#This Row],[Fertility Rate All]],NA())","v":{"$error":"#N/A"}},{"$f":"IF(AND(Control!$C$6=tab_xy_scatter_data[[#This Row],[Region]],Control!$C$13),tab_xy_scatter_data[[#This Row],[Life Expectancy All]],NA())","v":{"$error":"#N/A"}},{"$f":"INDEX(tab_data[Population],tab_xy_scatter_data[[#This Row],[Position]])","v":13604523}]
[null,"Thailand","Asia + Pacific",{"$f":"MATCH(tab_xy_scatter_data[[#This Row],[Country]]&\"|\"&Control!$C$9,tab_data[ID (Country|Year)],0)","v":11339},{"$f":"INDEX(tab_data[Fertility],tab_xy_scatter_data[[#This Row],[Position]])","v":5.5949999999999998},{"$f":"INDEX(tab_data[Life Expectancy],tab_xy_scatter_data[[#This Row],[Position]])","v":59.518999999999998},{"$f":"IF(Control!$C$12,tab_xy_scatter_data[[#This Row],[Fertility Rate All]],NV())","v":5.5949999999999998},{"$f":"IF(Control!$C$12,tab_xy_scatter_data[[#This Row],[Life Expectancy All]],NV())","v":59.518999999999998},{"$f":"IF(AND(Control!$C$6=tab_xy_scatter_data[[#This Row],[Region]],Control!$C$13),tab_xy_scatter_data[[#This Row],[Fertility Rate All]],NA())","v":{"$error":"#N/A"}},{"$f":"IF(AND(Control!$C$6=tab_xy_scatter_data[[#This Row],[Region]],Control!$C$13),tab_xy_scatter_data[[#This Row],[Life Expectancy All]],NA())","v":{"$error":"#N/A"}},{"$f":"INDEX(tab_data[Population],tab_xy_scatter_data[[#This Row],[Position]])","v":36915397}]
[null,"Timor-Leste","Asia + Pacific",{"$f":"MATCH(tab_xy_scatter_data[[#This Row],[Country]]&\"|\"&Control!$C$9,tab_data[ID (Country|Year)],0)","v":11414},{"$f":"INDEX(tab_data[Fertility],tab_xy_scatter_data[[#This Row],[Position]])","v":5.9169999999999998},{"$f":"INDEX(tab_data[Life Expectancy],tab_xy_scatter_data[[#This Row],[Position]])","v":39.518000000000001},{"$f":"IF(Control!$C$12,tab_xy_scatter_data[[#This Row],[Fertility Rate All]],NV())","v":5.9169999999999998},{"$f":"IF(Control!$C$12,tab_xy_scatter_data[[#This Row],[Life Expectancy All]],NV())","v":39.518000000000001},{"$f":"IF(AND(Control!$C$6=tab_xy_scatter_data[[#This Row],[Region]],Control!$C$13),tab_xy_scatter_data[[#This Row],[Fertility Rate All]],NA())","v":{"$error":"#N/A"}},{"$f":"IF(AND(Control!$C$6=tab_xy_scatter_data[[#This Row],[Region]],Control!$C$13),tab_xy_scatter_data[[#This Row],[Life Expectancy All]],NA())","v":{"$error":"#N/A"}},{"$f":"INDEX(tab_data[Population],tab_xy_scatter_data[[#This Row],[Position]])","v":604382}]
[null,"Togo","Africa",{"$f":"MATCH(tab_xy_scatter_data[[#This Row],[Country]]&\"|\"&Control!$C$9,tab_data[ID (Country|Year)],0)","v":11467},{"$f":"INDEX(tab_data[Fertility],tab_xy_scatter_data[[#This Row],[Position]])","v":7.0839999999999996},{"$f":"INDEX(tab_data[Life Expectancy],tab_xy_scatter_data[[#This Row],[Position]])","v":46.567999999999998},{"$f":"IF(Control!$C$12,tab_xy_scatter_data[[#This Row],[Fertility Rate All]],NV())","v":7.0839999999999996},{"$f":"IF(Control!$C$12,tab_xy_scatter_data[[#This Row],[Life Expectancy All]],NV())","v":46.567999999999998},{"$f":"IF(AND(Control!$C$6=tab_xy_scatter_data[[#This Row],[Region]],Control!$C$13),tab_xy_scatter_data[[#This Row],[Fertility Rate All]],NA())","v":{"$error":"#N/A"}},{"$f":"IF(AND(Control!$C$6=tab_xy_scatter_data[[#This Row],[Region]],Control!$C$13),tab_xy_scatter_data[[#This Row],[Life Expectancy All]],NA())","v":{"$error":"#N/A"}},{"$f":"INDEX(tab_data[Population],tab_xy_scatter_data[[#This Row],[Position]])","v":2097273}]
[null,"Tonga","Asia + Pacific",{"$f":"MATCH(tab_xy_scatter_data[[#This Row],[Country]]&\"|\"&Control!$C$9,tab_data[ID (Country|Year)],0)","v":11531},{"$f":"INDEX(tab_data[Fertility],tab_xy_scatter_data[[#This Row],[Position]])","v":5.9409999999999998},{"$f":"INDEX(tab_data[Life Expectancy],tab_xy_scatter_data[[#This Row],[Position]])","v":64.876000000000005},{"$f":"IF(Control!$C$12,tab_xy_scatter_data[[#This Row],[Fertility Rate All]],NV())","v":5.9409999999999998},{"$f":"IF(Control!$C$12,tab_xy_scatter_data[[#This Row],[Life Expectancy All]],NV())","v":64.876000000000005},{"$f":"IF(AND(Control!$C$6=tab_xy_scatter_data[[#This Row],[Region]],Control!$C$13),tab_xy_scatter_data[[#This Row],[Fertility Rate All]],NA())","v":{"$error":"#N/A"}},{"$f":"IF(AND(Control!$C$6=tab_xy_scatter_data[[#This Row],[Region]],Control!$C$13),tab_xy_scatter_data[[#This Row],[Life Expectancy All]],NA())","v":{"$error":"#N/A"}},{"$f":"INDEX(tab_data[Population],tab_xy_scatter_data[[#This Row],[Position]])","v":84369}]
[null,"Trinidad and Tobago","Latin America + Caribbean",{"$f":"MATCH(tab_xy_scatter_data[[#This Row],[Country]]&\"|\"&Control!$C$9,tab_data[ID (Country|Year)],0)","v":11595},{"$f":"INDEX(tab_data[Fertility],tab_xy_scatter_data[[#This Row],[Position]])","v":3.5539999999999998},{"$f":"INDEX(tab_data[Life Expectancy],tab_xy_scatter_data[[#This Row],[Position]])","v":65.081000000000003},{"$f":"IF(Control!$C$12,tab_xy_scatter_data[[#This Row],[Fertility Rate All]],NV())","v":3.5539999999999998},{"$f":"IF(Control!$C$12,tab_xy_scatter_data[[#This Row],[Life Expectancy All]],NV())","v":65.081000000000003},{"$f":"IF(AND(Control!$C$6=tab_xy_scatter_data[[#This Row],[Region]],Control!$C$13),tab_xy_scatter_data[[#This Row],[Fertility Rate All]],NA())","v":{"$error":"#N/A"}},{"$f":"IF(AND(Control!$C$6=tab_xy_scatter_data[[#This Row],[Region]],Control!$C$13),tab_xy_scatter_data[[#This Row],[Life Expectancy All]],NA())","v":{"$error":"#N/A"}},{"$f":"INDEX(tab_data[Population],tab_xy_scatter_data[[#This Row],[Position]])","v":967658}]
[null,"Tunisia","Africa",{"$f":"MATCH(tab_xy_scatter_data[[#This Row],[Country]]&\"|\"&Control!$C$9,tab_data[ID (Country|Year)],0)","v":11659},{"$f":"INDEX(tab_data[Fertility],tab_xy_scatter_data[[#This Row],[Position]])","v":6.4379999999999997},{"$f":"INDEX(tab_data[Life Expectancy],tab_xy_scatter_data[[#This Row],[Position]])","v":51.133000000000003},{"$f":"IF(Control!$C$12,tab_xy_scatter_data[[#This Row],[Fertility Rate All]],NV())","v":6.4379999999999997},{"$f":"IF(Control!$C$12,tab_xy_scatter_data[[#This Row],[Life Expectancy All]],NV())","v":51.133000000000003},{"$f":"IF(AND(Control!$C$6=tab_xy_scatter_data[[#This Row],[Region]],Control!$C$13),tab_xy_scatter_data[[#This Row],[Fertility Rate All]],NA())","v":{"$error":"#N/A"}},{"$f":"IF(AND(Control!$C$6=tab_xy_scatter_data[[#This Row],[Region]],Control!$C$13),tab_xy_scatter_data[[#This Row],[Life Expectancy All]],NA())","v":{"$error":"#N/A"}},{"$f":"INDEX(tab_data[Population],tab_xy_scatter_data[[#This Row],[Position]])","v":5127001}]
[null,"Turkey","Europe",{"$f":"MATCH(tab_xy_scatter_data[[#This Row],[Country]]&\"|\"&Control!$C$9,tab_data[ID (Country|Year)],0)","v":11723},{"$f":"INDEX(tab_data[Fertility],tab_xy_scatter_data[[#This Row],[Position]])","v":5.5629999999999997},{"$f":"INDEX(tab_data[Life Expectancy],tab_xy_scatter_data[[#This Row],[Position]])","v":52.290999999999997},{"$f":"IF(Control!$C$12,tab_xy_scatter_data[[#This Row],[Fertility Rate All]],NV())","v":5.5629999999999997},{"$f":"IF(Control!$C$12,tab_xy_scatter_data[[#This Row],[Life Expectancy All]],NV())","v":52.290999999999997},{"$f":"IF(AND(Control!$C$6=tab_xy_scatter_data[[#This Row],[Region]],Control!$C$13),tab_xy_scatter_data[[#This Row],[Fertility Rate All]],NA())","v":5.5629999999999997},{"$f":"IF(AND(Control!$C$6=tab_xy_scatter_data[[#This Row],[Region]],Control!$C$13),tab_xy_scatter_data[[#This Row],[Life Expectancy All]],NA())","v":52.290999999999997},{"$f":"INDEX(tab_data[Population],tab_xy_scatter_data[[#This Row],[Position]])","v":35464196}]
[null,"Turkmenistan","Asia + Pacific",{"$f":"MATCH(tab_xy_scatter_data[[#This Row],[Country]]&\"|\"&Control!$C$9,tab_data[ID (Country|Year)],0)","v":11787},{"$f":"INDEX(tab_data[Fertility],tab_xy_scatter_data[[#This Row],[Position]])","v":6.3019999999999996},{"$f":"INDEX(tab_data[Life Expectancy],tab_xy_scatter_data[[#This Row],[Position]])","v":58.468000000000004},{"$f":"IF(Control!$C$12,tab_xy_scatter_data[[#This Row],[Fertility Rate All]],NV())","v":6.3019999999999996},{"$f":"IF(Control!$C$12,tab_xy_scatter_data[[#This Row],[Life Expectancy All]],NV())","v":58.468000000000004},{"$f":"IF(AND(Control!$C$6=tab_xy_scatter_data[[#This Row],[Region]],Control!$C$13),tab_xy_scatter_data[[#This Row],[Fertility Rate All]],NA())","v":{"$error":"#N/A"}},{"$f":"IF(AND(Control!$C$6=tab_xy_scatter_data[[#This Row],[Region]],Control!$C$13),tab_xy_scatter_data[[#This Row],[Life Expectancy All]],NA())","v":{"$error":"#N/A"}},{"$f":"INDEX(tab_data[Population],tab_xy_scatter_data[[#This Row],[Position]])","v":2188499}]
[null,"Uganda","Africa",{"$f":"MATCH(tab_xy_scatter_data[[#This Row],[Country]]&\"|\"&Control!$C$9,tab_data[ID (Country|Year)],0)","v":11865},{"$f":"INDEX(tab_data[Fertility],tab_xy_scatter_data[[#This Row],[Position]])","v":7.1150000000000002},{"$f":"INDEX(tab_data[Life Expectancy],tab_xy_scatter_data[[#This Row],[Position]])","v":48.825000000000003},{"$f":"IF(Control!$C$12,tab_xy_scatter_data[[#This Row],[Fertility Rate All]],NV())","v":7.1150000000000002},{"$f":"IF(Control!$C$12,tab_xy_scatter_data[[#This Row],[Life Expectancy All]],NV())","v":48.825000000000003},{"$f":"IF(AND(Control!$C$6=tab_xy_scatter_data[[#This Row],[Region]],Control!$C$13),tab_xy_scatter_data[[#This Row],[Fertility Rate All]],NA())","v":{"$error":"#N/A"}},{"$f":"IF(AND(Control!$C$6=tab_xy_scatter_data[[#This Row],[Region]],Control!$C$13),tab_xy_scatter_data[[#This Row],[Life Expectancy All]],NA())","v":{"$error":"#N/A"}},{"$f":"INDEX(tab_data[Population],tab_xy_scatter_data[[#This Row],[Position]])","v":9445932}]
[null,"Ukraine","Europe",{"$f":"MATCH(tab_xy_scatter_data[[#This Row],[Country]]&\"|\"&Control!$C$9,tab_data[ID (Country|Year)],0)","v":11942},{"$f":"INDEX(tab_data[Fertility],tab_xy_scatter_data[[#This Row],[Position]])","v":2.0470000000000002},{"$f":"INDEX(tab_data[Life Expectancy],tab_xy_scatter_data[[#This Row],[Position]])","v":70.87},{"$f":"IF(Control!$C$12,tab_xy_scatter_data[[#This Row],[Fertility Rate All]],NV())","v":2.0470000000000002},{"$f":"IF(Control!$C$12,tab_xy_scatter_data[[#This Row],[Life Expectancy All]],NV())","v":70.87},{"$f":"IF(AND(Control!$C$6=tab_xy_scatter_data[[#This Row],[Region]],Control!$C$13),tab_xy_scatter_data[[#This Row],[Fertility Rate All]],NA())","v":2.0470000000000002},{"$f":"IF(AND(Control!$C$6=tab_xy_scatter_data[[#This Row],[Region]],Control!$C$13),tab_xy_scatter_data[[#This Row],[Life Expectancy All]],NA())","v":70.87},{"$f":"INDEX(tab_data[Population],tab_xy_scatter_data[[#This Row],[Position]])","v":47316501}]
[null,"United Arab Emirates","West Asia",{"$f":"MATCH(tab_xy_scatter_data[[#This Row],[Country]]&\"|\"&Control!$C$9,tab_data[ID (Country|Year)],0)","v":11979},{"$f":"INDEX(tab_data[Fertility],tab_xy_scatter_data[[#This Row],[Position]])","v":6.6050000000000004},{"$f":"INDEX(tab_data[Life Expectancy],tab_xy_scatter_data[[#This Row],[Position]])","v":61.613999999999997},{"$f":"IF(Control!$C$12,tab_xy_scatter_data[[#This Row],[Fertility Rate All]],NV())","v":6.6050000000000004},{"$f":"IF(Control!$C$12,tab_xy_scatter_data[[#This Row],[Life Expectancy All]],NV())","v":61.613999999999997},{"$f":"IF(AND(Control!$C$6=tab_xy_scatter_data[[#This Row],[Region]],Control!$C$13),tab_xy_scatter_data[[#This Row],[Fertility Rate All]],NA())","v":{"$error":"#N/A"}},{"$f":"IF(AND(Control!$C$6=tab_xy_scatter_data[[#This Row],[Region]],Control!$C$13),tab_xy_scatter_data[[#This Row],[Life Expectancy All]],NA())","v":{"$error":"#N/A"}},{"$f":"INDEX(tab_data[Population],tab_xy_scatter_data[[#This Row],[Position]])","v":231754}]
[null,"United Kingdom","Europe",{"$f":"MATCH(tab_xy_scatter_data[[#This Row],[Country]]&\"|\"&Control!$C$9,tab_data[ID (Country|Year)],0)","v":12042},{"$f":"INDEX(tab_data[Fertility],tab_xy_scatter_data[[#This Row],[Position]])","v":2.294},{"$f":"INDEX(tab_data[Life Expectancy],tab_xy_scatter_data[[#This Row],[Position]])","v":72},{"$f":"IF(Control!$C$12,tab_xy_scatter_data[[#This Row],[Fertility Rate All]],NV())","v":2.294},{"$f":"IF(Control!$C$12,tab_xy_scatter_data[[#This Row],[Life Expectancy All]],NV())","v":72},{"$f":"IF(AND(Control!$C$6=tab_xy_scatter_data[[#This Row],[Region]],Control!$C$13),tab_xy_scatter_data[[#This Row],[Fertility Rate All]],NA())","v":2.294},{"$f":"IF(AND(Control!$C$6=tab_xy_scatter_data[[#This Row],[Region]],Control!$C$13),tab_xy_scatter_data[[#This Row],[Life Expectancy All]],NA())","v":72},{"$f":"INDEX(tab_data[Population],tab_xy_scatter_data[[#This Row],[Position]])","v":55645390}]
[null,"United States","North America",{"$f":"MATCH(tab_xy_scatter_data[[#This Row],[Country]]&\"|\"&Control!$C$9,tab_data[ID (Country|Year)],0)","v":12107},{"$f":"INDEX(tab_data[Fertility],tab_xy_scatter_data[[#This Row],[Position]])","v":2.4609999999999999},{"$f":"INDEX(tab_data[Life Expectancy],tab_xy_scatter_data[[#This Row],[Position]])","v":70.92},{"$f":"IF(Control!$C$12,tab_xy_scatter_data[[#This Row],[Fertility Rate All]],NV())","v":2.4609999999999999},{"$f":"IF(Control!$C$12,tab_xy_scatter_data[[#This Row],[Life Expectancy All]],NV())","v":70.92},{"$f":"IF(AND(Control!$C$6=tab_xy_scatter_data[[#This Row],[Region]],Control!$C$13),tab_xy_scatter_data[[#This Row],[Fertility Rate All]],NA())","v":{"$error":"#N/A"}},{"$f":"IF(AND(Control!$C$6=tab_xy_scatter_data[[#This Row],[Region]],Control!$C$13),tab_xy_scatter_data[[#This Row],[Life Expectancy All]],NA())","v":{"$error":"#N/A"}},{"$f":"INDEX(tab_data[Population],tab_xy_scatter_data[[#This Row],[Position]])","v":209463865}]
[null,"Uruguay","Latin America + Caribbean",{"$f":"MATCH(tab_xy_scatter_data[[#This Row],[Country]]&\"|\"&Control!$C$9,tab_data[ID (Country|Year)],0)","v":12171},{"$f":"INDEX(tab_data[Fertility],tab_xy_scatter_data[[#This Row],[Position]])","v":2.9020000000000001},{"$f":"INDEX(tab_data[Life Expectancy],tab_xy_scatter_data[[#This Row],[Position]])","v":68.617000000000004},{"$f":"IF(Control!$C$12,tab_xy_scatter_data[[#This Row],[Fertility Rate All]],NV())","v":2.9020000000000001},{"$f":"IF(Control!$C$12,tab_xy_scatter_data[[#This Row],[Life Expectancy All]],NV())","v":68.617000000000004},{"$f":"IF(AND(Control!$C$6=tab_xy_scatter_data[[#This Row],[Region]],Control!$C$13),tab_xy_scatter_data[[#This Row],[Fertility Rate All]],NA())","v":{"$error":"#N/A"}},{"$f":"IF(AND(Control!$C$6=tab_xy_scatter_data[[#This Row],[Region]],Control!$C$13),tab_xy_scatter_data[[#This Row],[Life Expectancy All]],NA())","v":{"$error":"#N/A"}},{"$f":"INDEX(tab_data[Population],tab_xy_scatter_data[[#This Row],[Position]])","v":2809117}]
[null,"Uzbekistan","Asia + Pacific",{"$f":"MATCH(tab_xy_scatter_data[[#This Row],[Country]]&\"|\"&Control!$C$9,tab_data[ID (Country|Year)],0)","v":12235},{"$f":"INDEX(tab_data[Fertility],tab_xy_scatter_data[[#This Row],[Position]])","v":6.492},{"$f":"INDEX(tab_data[Life Expectancy],tab_xy_scatter_data[[#This Row],[Position]])","v":62.963999999999999},{"$f":"IF(Control!$C$12,tab_xy_scatter_data[[#This Row],[Fertility Rate All]],NV())","v":6.492},{"$f":"IF(Control!$C$12,tab_xy_scatter_data[[#This Row],[Life Expectancy All]],NV())","v":62.963999999999999},{"$f":"IF(AND(Control!$C$6=tab_xy_scatter_data[[#This Row],[Region]],Control!$C$13),tab_xy_scatter_data[[#This Row],[Fertility Rate All]],NA())","v":{"$error":"#N/A"}},{"$f":"IF(AND(Control!$C$6=tab_xy_scatter_data[[#This Row],[Region]],Control!$C$13),tab_xy_scatter_data[[#This Row],[Life Expectancy All]],NA())","v":{"$error":"#N/A"}},{"$f":"INDEX(tab_data[Population],tab_xy_scatter_data[[#This Row],[Position]])","v":11972994}]
[null,"Vanuatu","Asia + Pacific",{"$f":"MATCH(tab_xy_scatter_data[[#This Row],[Country]]&\"|\"&Control!$C$9,tab_data[ID (Country|Year)],0)","v":12299},{"$f":"INDEX(tab_data[Fertility],tab_xy_scatter_data[[#This Row],[Position]])","v":6.2720000000000002},{"$f":"INDEX(tab_data[Life Expectancy],tab_xy_scatter_data[[#This Row],[Position]])","v":52.369},{"$f":"IF(Control!$C$12,tab_xy_scatter_data[[#This Row],[Fertility Rate All]],NV())","v":6.2720000000000002},{"$f":"IF(Control!$C$12,tab_xy_scatter_data[[#This Row],[Life Expectancy All]],NV())","v":52.369},{"$f":"IF(AND(Control!$C$6=tab_xy_scatter_data[[#This Row],[Region]],Control!$C$13),tab_xy_scatter_data[[#This Row],[Fertility Rate All]],NA())","v":{"$error":"#N/A"}},{"$f":"IF(AND(Control!$C$6=tab_xy_scatter_data[[#This Row],[Region]],Control!$C$13),tab_xy_scatter_data[[#This Row],[Life Expectancy All]],NA())","v":{"$error":"#N/A"}},{"$f":"INDEX(tab_data[Population],tab_xy_scatter_data[[#This Row],[Position]])","v":85393}]
[null,"Venezuela","Latin America + Caribbean",{"$f":"MATCH(tab_xy_scatter_data[[#This Row],[Country]]&\"|\"&Control!$C$9,tab_data[ID (Country|Year)],0)","v":12363},{"$f":"INDEX(tab_data[Fertility],tab_xy_scatter_data[[#This Row],[Position]])","v":5.4039999999999999},{"$f":"INDEX(tab_data[Life Expectancy],tab_xy_scatter_data[[#This Row],[Position]])","v":64.948999999999998},{"$f":"IF(Control!$C$12,tab_xy_scatter_data[[#This Row],[Fertility Rate All]],NV())","v":5.4039999999999999},{"$f":"IF(Control!$C$12,tab_xy_scatter_data[[#This Row],[Life Expectancy All]],NV())","v":64.948999999999998},{"$f":"IF(AND(Control!$C$6=tab_xy_scatter_data[[#This Row],[Region]],Control!$C$13),tab_xy_scatter_data[[#This Row],[Fertility Rate All]],NA())","v":{"$error":"#N/A"}},{"$f":"IF(AND(Control!$C$6=tab_xy_scatter_data[[#This Row],[Region]],Control!$C$13),tab_xy_scatter_data[[#This Row],[Life Expectancy All]],NA())","v":{"$error":"#N/A"}},{"$f":"INDEX(tab_data[Population],tab_xy_scatter_data[[#This Row],[Position]])","v":10680678}]
[null,"Vietnam","Asia + Pacific",{"$f":"MATCH(tab_xy_scatter_data[[#This Row],[Country]]&\"|\"&Control!$C$9,tab_data[ID (Country|Year)],0)","v":12421},{"$f":"INDEX(tab_data[Fertility],tab_xy_scatter_data[[#This Row],[Position]])","v":6.4649999999999999},{"$f":"INDEX(tab_data[Life Expectancy],tab_xy_scatter_data[[#This Row],[Position]])","v":59.594000000000001},{"$f":"IF(Control!$C$12,tab_xy_scatter_data[[#This Row],[Fertility Rate All]],NV())","v":6.4649999999999999},{"$f":"IF(Control!$C$12,tab_xy_scatter_data[[#This Row],[Life Expectancy All]],NV())","v":59.594000000000001},{"$f":"IF(AND(Control!$C$6=tab_xy_scatter_data[[#This Row],[Region]],Control!$C$13),tab_xy_scatter_data[[#This Row],[Fertility Rate All]],NA())","v":{"$error":"#N/A"}},{"$f":"IF(AND(Control!$C$6=tab_xy_scatter_data[[#This Row],[Region]],Control!$C$13),tab_xy_scatter_data[[#This Row],[Life Expectancy All]],NA())","v":{"$error":"#N/A"}},{"$f":"INDEX(tab_data[Population],tab_xy_scatter_data[[#This Row],[Position]])","v":44927973}]
[null,"Virgin Islands","North America",{"$f":"MATCH(tab_xy_scatter_data[[#This Row],[Country]]&\"|\"&Control!$C$9,tab_data[ID (Country|Year)],0)","v":12491},{"$f":"INDEX(tab_data[Fertility],tab_xy_scatter_data[[#This Row],[Position]])","v":5.1669999999999998},{"$f":"INDEX(tab_data[Life Expectancy],tab_xy_scatter_data[[#This Row],[Position]])","v":67.707999999999998},{"$f":"IF(Control!$C$12,tab_xy_scatter_data[[#This Row],[Fertility Rate All]],NV())","v":5.1669999999999998},{"$f":"IF(Control!$C$12,tab_xy_scatter_data[[#This Row],[Life Expectancy All]],NV())","v":67.707999999999998},{"$f":"IF(AND(Control!$C$6=tab_xy_scatter_data[[#This Row],[Region]],Control!$C$13),tab_xy_scatter_data[[#This Row],[Fertility Rate All]],NA())","v":{"$error":"#N/A"}},{"$f":"IF(AND(Control!$C$6=tab_xy_scatter_data[[#This Row],[Region]],Control!$C$13),tab_xy_scatter_data[[#This Row],[Life Expectancy All]],NA())","v":{"$error":"#N/A"}},{"$f":"INDEX(tab_data[Population],tab_xy_scatter_data[[#This Row],[Position]])","v":64070}]
[null,"West Bank and Gaza","West Asia",{"$f":"MATCH(tab_xy_scatter_data[[#This Row],[Country]]&\"|\"&Control!$C$9,tab_data[ID (Country|Year)],0)","v":12555},{"$f":"INDEX(tab_data[Fertility],tab_xy_scatter_data[[#This Row],[Position]])","v":7.8620000000000001},{"$f":"INDEX(tab_data[Life Expectancy],tab_xy_scatter_data[[#This Row],[Position]])","v":55.735999999999997},{"$f":"IF(Control!$C$12,tab_xy_scatter_data[[#This Row],[Fertility Rate All]],NV())","v":7.8620000000000001},{"$f":"IF(Control!$C$12,tab_xy_scatter_data[[#This Row],[Life Expectancy All]],NV())","v":55.735999999999997},{"$f":"IF(AND(Control!$C$6=tab_xy_scatter_data[[#This Row],[Region]],Control!$C$13),tab_xy_scatter_data[[#This Row],[Fertility Rate All]],NA())","v":{"$error":"#N/A"}},{"$f":"IF(AND(Control!$C$6=tab_xy_scatter_data[[#This Row],[Region]],Control!$C$13),tab_xy_scatter_data[[#This Row],[Life Expectancy All]],NA())","v":{"$error":"#N/A"}},{"$f":"INDEX(tab_data[Population],tab_xy_scatter_data[[#This Row],[Position]])","v":1124591}]
[null,"Western Sahara","Africa",{"$f":"MATCH(tab_xy_scatter_data[[#This Row],[Country]]&\"|\"&Control!$C$9,tab_data[ID (Country|Year)],0)","v":12619},{"$f":"INDEX(tab_data[Fertility],tab_xy_scatter_data[[#This Row],[Position]])","v":6.62},{"$f":"INDEX(tab_data[Life Expectancy],tab_xy_scatter_data[[#This Row],[Position]])","v":42.067},{"$f":"IF(Control!$C$12,tab_xy_scatter_data[[#This Row],[Fertility Rate All]],NV())","v":6.62},{"$f":"IF(Control!$C$12,tab_xy_scatter_data[[#This Row],[Life Expectancy All]],NV())","v":42.067},{"$f":"IF(AND(Control!$C$6=tab_xy_scatter_data[[#This Row],[Region]],Control!$C$13),tab_xy_scatter_data[[#This Row],[Fertility Rate All]],NA())","v":{"$error":"#N/A"}},{"$f":"IF(AND(Control!$C$6=tab_xy_scatter_data[[#This Row],[Region]],Control!$C$13),tab_xy_scatter_data[[#This Row],[Life Expectancy All]],NA())","v":{"$error":"#N/A"}},{"$f":"INDEX(tab_data[Population],tab_xy_scatter_data[[#This Row],[Position]])","v":76691}]
[null,"Yemen Republic","West Asia",{"$f":"MATCH(tab_xy_scatter_data[[#This Row],[Country]]&\"|\"&Control!$C$9,tab_data[ID (Country|Year)],0)","v":12683},{"$f":"INDEX(tab_data[Fertility],tab_xy_scatter_data[[#This Row],[Position]])","v":7.5419999999999998},{"$f":"INDEX(tab_data[Life Expectancy],tab_xy_scatter_data[[#This Row],[Position]])","v":41.176000000000002},{"$f":"IF(Control!$C$12,tab_xy_scatter_data[[#This Row],[Fertility Rate All]],NV())","v":7.5419999999999998},{"$f":"IF(Control!$C$12,tab_xy_scatter_data[[#This Row],[Life Expectancy All]],NV())","v":41.176000000000002},{"$f":"IF(AND(Control!$C$6=tab_xy_scatter_data[[#This Row],[Region]],Control!$C$13),tab_xy_scatter_data[[#This Row],[Fertility Rate All]],NA())","v":{"$error":"#N/A"}},{"$f":"IF(AND(Control!$C$6=tab_xy_scatter_data[[#This Row],[Region]],Control!$C$13),tab_xy_scatter_data[[#This Row],[Life Expectancy All]],NA())","v":{"$error":"#N/A"}},{"$f":"INDEX(tab_data[Population],tab_xy_scatter_data[[#This Row],[Position]])","v":6144992}]
[null,"Zambia","Africa",{"$f":"MATCH(tab_xy_scatter_data[[#This Row],[Country]]&\"|\"&Control!$C$9,tab_data[ID (Country|Year)],0)","v":12769},{"$f":"INDEX(tab_data[Fertility],tab_xy_scatter_data[[#This Row],[Position]])","v":7.4370000000000003},{"$f":"INDEX(tab_data[Life Expectancy],tab_xy_scatter_data[[#This Row],[Position]])","v":49.043999999999997},{"$f":"IF(Control!$C$12,tab_xy_scatter_data[[#This Row],[Fertility Rate All]],NV())","v":7.4370000000000003},{"$f":"IF(Control!$C$12,tab_xy_scatter_data[[#This Row],[Life Expectancy All]],NV())","v":49.043999999999997},{"$f":"IF(AND(Control!$C$6=tab_xy_scatter_data[[#This Row],[Region]],Control!$C$13),tab_xy_scatter_data[[#This Row],[Fertility Rate All]],NA())","v":{"$error":"#N/A"}},{"$f":"IF(AND(Control!$C$6=tab_xy_scatter_data[[#This Row],[Region]],Control!$C$13),tab_xy_scatter_data[[#This Row],[Life Expectancy All]],NA())","v":{"$error":"#N/A"}},{"$f":"INDEX(tab_data[Population],tab_xy_scatter_data[[#This Row],[Position]])","v":4138837}]
[null,"Zimbabwe","Africa",{"$f":"MATCH(tab_xy_scatter_data[[#This Row],[Country]]&\"|\"&Control!$C$9,tab_data[ID (Country|Year)],0)","v":12828},{"$f":"INDEX(tab_data[Fertility],tab_xy_scatter_data[[#This Row],[Position]])","v":7.4169999999999998},{"$f":"INDEX(tab_data[Life Expectancy],tab_xy_scatter_data[[#This Row],[Position]])","v":54.917999999999999},{"$f":"IF(Control!$C$12,tab_xy_scatter_data[[#This Row],[Fertility Rate All]],NV())","v":7.4169999999999998},{"$f":"IF(Control!$C$12,tab_xy_scatter_data[[#This Row],[Life Expectancy All]],NV())","v":54.917999999999999},{"$f":"IF(AND(Control!$C$6=tab_xy_scatter_data[[#This Row],[Region]],Control!$C$13),tab_xy_scatter_data[[#This Row],[Fertility Rate All]],NA())","v":{"$error":"#N/A"}},{"$f":"IF(AND(Control!$C$6=tab_xy_scatter_data[[#This Row],[Region]],Control!$C$13),tab_xy_scatter_data[[#This Row],[Life Expectancy All]],NA())","v":{"$error":"#N/A"}},{"$f":"INDEX(tab_data[Population],tab_xy_scatter_data[[#This Row],[Position]])","v":5206229}]

{"sheet":"Flags","index":4,"n_rows":204,"n_cols":3,"rows_kept":204,"cut":false,"hidden":false,"merged":[]}
[]
[null,"Flags"]
[]
[null,"Afghanistan"]
[null,"Albania"]
[null,"Algeria"]
[null,"Angola"]
[null,"Antigua and Barbuda"]
[null,"Argentina"]
[null,"Armenia"]
[null,"Aruba"]
[null,"Australia"]
[null,"Austria"]
[null,"Azerbaijan"]
[null,"Bahamas"]
[null,"Bahrain"]
[null,"Bangladesh"]
[null,"Barbados"]
[null,"Belarus"]
[null,"Belgium"]
[null,"Belize"]
[null,"Benin"]
[null,"Bhutan"]
[null,"Bolivia"]
[null,"Bosnia and Herzegovina"]
[null,"Botswana"]
[null,"Brazil"]
[null,"Brunei"]
[null,"Bulgaria"]
[null,"Burkina Faso"]
[null,"Burundi"]
[null,"Cambodia"]
[null,"Cameroon"]
[null,"Canada"]
[null,"Cape Verde"]
[null,"Central African Republic"]
[null,"Chad"]
[null,"Channel Islands"]
[null,"Chile"]
[null,"China"]
[null,"Colombia"]
[null,"Comoros"]
[null,"Congo Democratic Republic"]
[null,"Congo Republic"]
[null,"Costa Rica"]
[null,"Cote d'Ivoire"]
[null,"Croatia"]
[null,"Cuba"]
[null,"Cyprus"]
[null,"Czech Republic"]
[null,"Denmark"]
[null,"Djibouti"]
[null,"Dominican Republic"]
[null,"Ecuador"]
[null,"Egypt"]
[null,"El Salvador"]
[null,"Equatorial Guinea"]
[null,"Eritrea"]
[null,"Estonia"]
[null,"Ethiopia"]
[null,"Fiji"]
[null,"Finland"]
[null,"France"]
[null,"French Guiana"]
[null,"French Polynesia"]
[null,"Gabon"]
[null,"Gambia"]
[null,"Georgia"]
[null,"Germany"]
[null,"Ghana"]
[null,"Greece"]
[null,"Grenada"]
[null,"Guadeloupe"]
[null,"Guam"]
[null,"Guatemala"]
[null,"Guinea"]
[null,"Guinea-Bissau"]
[null,"Guyana"]
[null,"Haiti"]
[null,"Honduras"]
[null,"Hong Kong"]
[null,"Hungary"]
[null,"Iceland"]
[null,"India"]
[null,"Indonesia"]
[null,"Iran"]
[null,"Iraq"]
[null,"Ireland"]
[null,"Israel"]
[null,"Italy"]
[null,"Jamaica"]
[null,"Japan"]
[null,"Jordan"]
[null,"Kazakhstan"]
[null,"Kenya"]
[null,"Kiribati"]
[null,"Korea Democratic Republic"]
[null,"Korea Republic"]
[null,"Kuwait"]
[null,"Kyrgyzstan"]
[null,"La Reunion"]
[null,"Laos"]
[null,"Latvia"]
[null,"Lebanon"]
[null,"Lesotho"]
[null,"Liberia"]
[null,"Libya"]
[null,"Lithuania"]
[null,"Luxembourg"]
[null,"Macao"]
[null,"Macedonia"]
[null,"Madagascar"]
[null,"Malawi"]
[null,"Malaysia"]
[null,"Maldives"]
[null,"Mali"]
[null,"Malta"]
[null,"Martinique"]
[null,"Mauritania"]
[null,"Mauritius"]
[null,"Mayotte"]
[null,"Mexico"]
[null,"Micronesia Federated States of"]
[null,"Moldova"]
[null,"Mongolia"]
[null,"Montenegro"]
[null,"Morocco"]
[null,"Mozambique"]
[null,"Myanmar"]
[null,"Namibia"]
[null,"Nepal"]
[null,"Netherlands"]
[null,"Netherlands Antilles"]
[null,"New Caledonia"]
[null,"New Zealand"]
[null,"Nicaragua"]
[null,"Niger"]
[null,"Nigeria"]
[null,"Norway"]
[null,"Oman"]
[null,"Pakistan"]
[null,"Panama"]
[null,"Papua New Guinea"]
[null,"Paraguay"]
[null,"Peru"]
[null,"Philippines"]
[null,"Poland"]
[null,"Portugal"]
[null,"Puerto Rico"]
[null,"Qatar"]
[null,"Romania"]
[null,"Russia"]
[null,"Rwanda"]
[null,"Saint Lucia"]
[null,"Saint Vincent and the Grenadines"]
[null,"Samoa"]
[null,"Sao Tome and Principe"]
[null,"Saudi Arabia"]
[null,"Senegal"]
[null,"Serbia"]
[null,"Seychelles"]
[null,"Sierra Leone"]
[null,"Singapore"]
[null,"Slovakia"]
[null,"Slovenia"]
[null,"Solomon Islands"]
[null,"Somalia"]
[null,"South Africa"]
[null,"South Sudan"]
[null,"Spain"]
[null,"Sri Lanka"]
[null,"Sudan"]
[null,"Suriname"]
[null,"Swaziland"]
[null,"Sweden"]
[null,"Switzerland"]
[null,"Syria"]
[null,"Taiwan"]
[null,"Tajikistan"]
[null,"Tanzania"]
[null,"Thailand"]
[null,"Timor-Leste"]
[null,"Togo"]
[null,"Tonga"]
[null,"Trinidad and Tobago"]
[null,"Tunisia"]
[null,"Turkey"]
[null,"Turkmenistan"]
[null,"Uganda"]
[null,"Ukraine"]
[null,"United Arab Emirates"]
[null,"United Kingdom"]
[null,"United States"]
[null,"Uruguay"]
[null,"Uzbekistan"]
[null,"Vanuatu"]
[null,"Venezuela"]
[null,"Vietnam"]
[null,"Virgin Islands"]
[null,"West Bank and Gaza","not available"]
[null,"Western Sahara","not available"]
[null,"Yemen Republic"]
[null,"Zambia"]
[null,"Zimbabwe"]